{"text_format":"1","workbook":"xlsx","n_sheets":4,"sheets":["Anschriften","Auslosung","Ergebnis","Ergebnisspeicher"],"not_rendered":{"charts":0,"images":1,"macros":1,"external_links":0,"defined_names":3,"comments":0,"pivot_tables":0},"unopened":[],"bounds":{"document_bytes":16777216,"sheet_cells":100000,"rows_first":2000,"rows_last":500,"rows_between":2000,"halvings":0,"cell_chars":16384,"cell_head_chars":4096},"cells_cut":0,"cells_raw":0,"read":"whole","date_system":"1900"}

{"sheet":"Anschriften","index":0,"n_rows":73,"n_cols":10,"rows_kept":73,"cut":false,"hidden":false,"merged":[[9,0,9,1],[9,3,9,4],[9,5,9,7],[9,8,9,9]]}
[]
[]
["Landesverband 03 Niedersachsen und Bremen"]
[]
["VG",null,null,null,null,null,null,"Melde- und Änderungsliste LV 03 Pokal 2022"]
[]
["Bitte alle Felder vollständig ausfüllen. Keine Abkürzungen!!"]
[]
[null,null,null,null,null,null,null,"Seite 1"]
["EDV-Nr.",null,"Verein","Spiellokal",null,"Ansprechpartner",null,null,"Auslosung"]
["lfd-Nr.","LV.VG.VN","Mannschaftsname","Lokal","Adresse: Straße, H.Nr, PLZ Ort","Name, Vorname","email-Adresse","Telefon","Kennbuchst.","Gruppe"]
[]
[]
[]
[]
[]
[]
[]
[]
[]
[]
[]
[]
[]
[]
[]
[]
[]
[]
[]
[]
[]
[]
[]
[]
[]
[]
[]
[]
[]
[]
[]
[]
[]
[]
[]
[]
[]
[]
[]
[]
[]
[]
[]
[]
[{"$f":"IF(B56=\"\",\"\",A55+1)","v":""}]
[""]
[""]
[""]
[""]
[""]
[""]
[""]
[""]
[""]
[""]
[""]
[""]
[{"$f":"IF(B69=\"\",\"\",A68+1)","v":""}]
[{"$f":"IF(B70=\"\",\"\",A69+1)","v":""}]
[{"$f":"IF(B71=\"\",\"\",#REF!+1)","v":""}]
[{"$f":"IF(B72=\"\",\"\",A71+1)","v":""}]
[{"$f":"IF(B73=\"\",\"\",A72+1)","v":""}]

{"sheet":"Auslosung","index":1,"n_rows":26,"n_cols":20,"rows_kept":26,"cut":false,"hidden":true,"merged":[[0,0,0,19]]}
["Auslosung 1. Spieltag am Sonnabend 04.05.2019, Anfang 10.00 Uhr. 4 Serien a 36 Spiele.   "]
[]
[null,"Gruppe 1",null,"KM","KB",null,"Gruppe 2",null,{"$f":"$D3","v":"KM"},{"$f":"$E3","v":"KB"},null,"Gruppe 3",null,{"$f":"$D3","v":"KM"},{"$f":"$E3","v":"KB"},null,"Gruppe 4",null,{"$f":"$D3","v":"KM"},{"$f":"$E3","v":"KB"}]
[1,"SK Herrenhausen 1","03.30.005",0,"AC1",1,"TuS Davenstedt 1","03.30.019",0,"AE1",1,"TuS Davenstedt 3","03.30.019",0,"AE3",1,"Schaumburger Buben 1","03.30.057",0,"AI1"]
[2,"Zum Roten Hahn Rastede","03.39.011",162,"FB1",2,"Harten Lena Lemwerder","03.38.104",136,"EF1",2,"SG Stern","03.38.001",114,"EA1",2,"Müsselbuben Oldenburg II","03.39.007",145,"FA2"]
[3,"Skatgemeinschaft Limmer 1982","03.30.001",8,"AA1",3,"Kleeblatt Wunstorf","03.30.002",24,"AB1",3,"BSC HvF Schneverdingen","03.30.042",107,"AG1",3,"TuS Davenstedt 2","03.30.019",31,"AE2"]
[4,"Bremer Skatmusikanten","03.38.003",124,"EB1",4,"Tenever Buben","03.38.027",119,"EC1",4,"Die Hibiduriker","03.38.083",114,"ED1",4,"TSG Seckenhausen-Fahrenh.","03.38.111",104,"EG1"]
[5,"Karo As Nienburg","03.30.060",47,"AJ1",5,"Wietzetal Wietzendorf","03.30.045",93,"AH1",5,"Karo 10 Hassel","03.30.070",66,"AL1",5,"Karo 7 Hannover","03.30.018",42,"AD1"]
[null,"Gruppe 5",null,{"$f":"D$3","v":"KM"},{"$f":"E$3","v":"KB"},null,"Gruppe 6",null,{"$f":"I$3","v":"KM"},{"$f":"J$3","v":"KB"},null,"Gruppe 7",null,{"$f":"N$3","v":"KM"},{"$f":"O$3","v":"KB"},null,"Gruppe 8",null,{"$f":"S$3","v":"KM"},{"$f":"T$3","v":"KB"}]
[1,"Schaumburger Buben 2","03.30.057",0,"AI2",1,"Müsselbuben Oldenburg I","03.39.007",0,"FA1",1,"Müsselbuben Oldenburg III","03.39.007",0,"FA3",1,"SC 85 Braunschweig e.V. I","03.33.002",0,"CA1"]
[2,"SC 85 Braunschweig e.V. III","03.33.002",99,"CA3",2,"Skatfreunde Rosengarten","03.34.025",143,"DA1",2,"SC K & K","03.34.015",89,"DB1",2,"Schaumburger Buben 3","03.30.057",99,"AI3"]
[3,"SK Bordenau","03.30.028",40,"AF1",3,"FT 03 Emden","03.39.055",90,"FC1",3,"SV Petkum","03.39.060",90,"FD1",3,"SK Waldemar Dannenberg","03.31.018",122,"BB1"]
[4,"Müsselbuben Oldenburg IV","03.39.007",145,"FA4",4,"MTV Lüdingworth","03.34.018",95,"DC1",4,"SC Plan B Bremerhaven","03.38.091",61,"EE1",4,"SK Herrenhausen 2","03.30.005",82,"AC2"]
[5,"Langendammer Buben","03.30.062",42,"AK1",5,"Moorriemer Jungs","03.39.070",13,"FF1",5,"SF Schortens / Wilhelmshaven","03.39.062",51,"FE1",5,"Harzbuben Hattorf I","03.33.024",106,"CC1"]
[null,"Gruppe 9",null,{"$f":"D$3","v":"KM"},{"$f":"E$3","v":"KB"},null,null,null,{"$f":"I$3","v":"KM"},{"$f":"J$3","v":"KB"},null,null,null,{"$f":"N$3","v":"KM"},{"$f":"O$3","v":"KB"},null,null,null,{"$f":"S$3","v":"KM"},{"$f":"T$3","v":"KB"}]
[1,"SC 85 Braunschweig e.V. II","03.33.002",0,"CA2",1,null,null,null,null,1,null,null,null,null,1]
[2,"Celler Skatfreunde von 1982","03.31.001",53,"BA1",2,null,null,null,null,2,null,null,null,null,2]
[3,"Schaumburger Buben 4","03.30.057",99,"AI4",3,null,null,null,null,3,null,null,null,null,3]
[4,"Skat ohne Rauch Innerstetal I","03.33.007",47,"CB1",4,null,null,null,null,4,null,null,null,null,4]
[5,null,null,null,null,5,null,null,null,null,5,null,null,null,null,5]
[null,null,null,{"$f":"D$3","v":"KM"},{"$f":"E$3","v":"KB"},null,null,null,{"$f":"I$3","v":"KM"},{"$f":"J$3","v":"KB"},null,null,null,{"$f":"N$3","v":"KM"},{"$f":"O$3","v":"KB"},null,null,null,{"$f":"S$3","v":"KM"},{"$f":"T$3","v":"KB"}]
[1,null,null,null,null,1,null,null,null,null,1,null,null,null,null,1]
[2,null,null,null,null,2,null,null,null,null,2,null,null,null,null,2]
[3,null,null,null,null,3,null,null,null,null,3,null,null,null,null,3]
[4,null,null,null,null,4,null,null,null,null,4,null,null,null,null,4]
[5,null,null,null,null,5,null,null,null,null,5,null,null,null,null,5]

{"sheet":"Ergebnis","index":2,"n_rows":26,"n_cols":16,"rows_kept":26,"cut":false,"hidden":true,"merged":[[0,0,0,15],[21,13,21,15]]}
["Spielergebnis 1. Spieltag am Sonnabend 04.05.2019, Anfang 10.00 Uhr. 4 Serien a 36 Spiele.   "]
[]
[null,"Gruppe 1","LV.VG.VN","Ergebnis",null,"Gruppe 2",{"$f":"$C3","v":"LV.VG.VN"},"Ergebnis",null,"Gruppe 3",{"$f":"$C3","v":"LV.VG.VN"},"Ergebnis",null,"Gruppe 4",{"$f":"$C3","v":"LV.VG.VN"},"Ergebnis"]
[1,{"$f":"Auslosung!B4","v":"SK Herrenhausen 1"},{"$f":"Auslosung!C4","v":"03.30.005"},null,1,{"$f":"Auslosung!G4","v":"TuS Davenstedt 1"},{"$f":"Auslosung!H4","v":"03.30.019"},null,1,{"$f":"Auslosung!L4","v":"TuS Davenstedt 3"},{"$f":"Auslosung!M4","v":"03.30.019"},null,1,{"$f":"Auslosung!Q4","v":"Schaumburger Buben 1"},{"$f":"Auslosung!R4","v":"03.30.057"}]
[2,{"$f":"Auslosung!B5","v":"Zum Roten Hahn Rastede"},{"$f":"Auslosung!C5","v":"03.39.011"},null,2,{"$f":"Auslosung!G5","v":"Harten Lena Lemwerder"},{"$f":"Auslosung!H5","v":"03.38.104"},null,2,{"$f":"Auslosung!L5","v":"SG Stern"},{"$f":"Auslosung!M5","v":"03.38.001"},null,2,{"$f":"Auslosung!Q5","v":"Müsselbuben Oldenburg II"},{"$f":"Auslosung!R5","v":"03.39.007"}]
[3,{"$f":"Auslosung!B6","v":"Skatgemeinschaft Limmer 1982"},{"$f":"Auslosung!C6","v":"03.30.001"},null,3,{"$f":"Auslosung!G6","v":"Kleeblatt Wunstorf"},{"$f":"Auslosung!H6","v":"03.30.002"},null,3,{"$f":"Auslosung!L6","v":"BSC HvF Schneverdingen"},{"$f":"Auslosung!M6","v":"03.30.042"},null,3,{"$f":"Auslosung!Q6","v":"TuS Davenstedt 2"},{"$f":"Auslosung!R6","v":"03.30.019"}]
[4,{"$f":"Auslosung!B7","v":"Bremer Skatmusikanten"},{"$f":"Auslosung!C7","v":"03.38.003"},null,4,{"$f":"Auslosung!G7","v":"Tenever Buben"},{"$f":"Auslosung!H7","v":"03.38.027"},null,4,{"$f":"Auslosung!L7","v":"Die Hibiduriker"},{"$f":"Auslosung!M7","v":"03.38.083"},null,4,{"$f":"Auslosung!Q7","v":"TSG Seckenhausen-Fahrenh."},{"$f":"Auslosung!R7","v":"03.38.111"}]
[5,{"$f":"Auslosung!B8","v":"Karo As Nienburg"},{"$f":"Auslosung!C8","v":"03.30.060"},null,5,{"$f":"Auslosung!G8","v":"Wietzetal Wietzendorf"},{"$f":"Auslosung!H8","v":"03.30.045"},null,5,{"$f":"Auslosung!L8","v":"Karo 10 Hassel"},{"$f":"Auslosung!M8","v":"03.30.070"},null,5,{"$f":"Auslosung!Q8","v":"Karo 7 Hannover"},{"$f":"Auslosung!R8","v":"03.30.018"}]
[null,"Gruppe 5",{"$f":"C$3","v":"LV.VG.VN"},{"$f":"D$3","v":"Ergebnis"},null,"Gruppe 6",{"$f":"G$3","v":"LV.VG.VN"},{"$f":"H$3","v":"Ergebnis"},null,"Gruppe 7",{"$f":"K$3","v":"LV.VG.VN"},{"$f":"L$3","v":"Ergebnis"},null,"Gruppe 8",{"$f":"O$3","v":"LV.VG.VN"},{"$f":"P$3","v":"Ergebnis"}]
[1,{"$f":"Auslosung!B10","v":"Schaumburger Buben 2"},{"$f":"Auslosung!C10","v":"03.30.057"},null,1,{"$f":"Auslosung!G10","v":"Müsselbuben Oldenburg I"},{"$f":"Auslosung!H10","v":"03.39.007"},null,1,{"$f":"Auslosung!L10","v":"Müsselbuben Oldenburg III"},{"$f":"Auslosung!M10","v":"03.39.007"},null,1,{"$f":"Auslosung!Q10","v":"SC 85 Braunschweig e.V. I"},{"$f":"Auslosung!R10","v":"03.33.002"}]
[2,{"$f":"Auslosung!B11","v":"SC 85 Braunschweig e.V. III"},{"$f":"Auslosung!C11","v":"03.33.002"},null,2,{"$f":"Auslosung!G11","v":"Skatfreunde Rosengarten"},{"$f":"Auslosung!H11","v":"03.34.025"},null,2,{"$f":"Auslosung!L11","v":"SC K & K"},{"$f":"Auslosung!M11","v":"03.34.015"},null,2,{"$f":"Auslosung!Q11","v":"Schaumburger Buben 3"},{"$f":"Auslosung!R11","v":"03.30.057"}]
[3,{"$f":"Auslosung!B12","v":"SK Bordenau"},{"$f":"Auslosung!C12","v":"03.30.028"},null,3,{"$f":"Auslosung!G12","v":"FT 03 Emden"},{"$f":"Auslosung!H12","v":"03.39.055"},null,3,{"$f":"Auslosung!L12","v":"SV Petkum"},{"$f":"Auslosung!M12","v":"03.39.060"},null,3,{"$f":"Auslosung!Q12","v":"SK Waldemar Dannenberg"},{"$f":"Auslosung!R12","v":"03.31.018"}]
[4,{"$f":"Auslosung!B13","v":"Müsselbuben Oldenburg IV"},{"$f":"Auslosung!C13","v":"03.39.007"},null,4,{"$f":"Auslosung!G13","v":"MTV Lüdingworth"},{"$f":"Auslosung!H13","v":"03.34.018"},null,4,{"$f":"Auslosung!L13","v":"SC Plan B Bremerhaven"},{"$f":"Auslosung!M13","v":"03.38.091"},null,4,{"$f":"Auslosung!Q13","v":"SK Herrenhausen 2"},{"$f":"Auslosung!R13","v":"03.30.005"}]
[5,{"$f":"Auslosung!B14","v":"Langendammer Buben"},{"$f":"Auslosung!C14","v":"03.30.062"},null,5,{"$f":"Auslosung!G14","v":"Moorriemer Jungs"},{"$f":"Auslosung!H14","v":"03.39.070"},null,5,{"$f":"Auslosung!L14","v":"SF Schortens / Wilhelmshaven"},{"$f":"Auslosung!M14","v":"03.39.062"},null,5,{"$f":"Auslosung!Q14","v":"Harzbuben Hattorf I"},{"$f":"Auslosung!R14","v":"03.33.024"}]
[null,"Gruppe 9",{"$f":"C$3","v":"LV.VG.VN"},{"$f":"D$3","v":"Ergebnis"},null,"Gruppe 10",{"$f":"G$3","v":"LV.VG.VN"},{"$f":"H$3","v":"Ergebnis"},null,"Gruppe 11",{"$f":"K$3","v":"LV.VG.VN"},{"$f":"L$3","v":"Ergebnis"},null,"Gruppe 12",{"$f":"O$3","v":"LV.VG.VN"},{"$f":"P$3","v":"Ergebnis"}]
[1,{"$f":"Auslosung!B16","v":"SC 85 Braunschweig e.V. II"},{"$f":"Auslosung!C16","v":"03.33.002"},null,1,null,null,null,1,null,null,null,1]
[2,{"$f":"Auslosung!B17","v":"Celler Skatfreunde von 1982"},{"$f":"Auslosung!C17","v":"03.31.001"},null,2,null,null,null,2,null,null,null,2]
[3,{"$f":"Auslosung!B18","v":"Schaumburger Buben 4"},{"$f":"Auslosung!C18","v":"03.30.057"},null,3,null,null,null,3,null,null,null,3]
[4,{"$f":"Auslosung!B19","v":"Skat ohne Rauch Innerstetal I"},{"$f":"Auslosung!C19","v":"03.33.007"},null,4,null,null,null,4,null,null,null,4]
[5,null,null,null,5,null,null,null,5,null,null,null,5]
[null,"Gruppe 13",{"$f":"C$3","v":"LV.VG.VN"},{"$f":"D$3","v":"Ergebnis"}]
[1,null,null,null,null,null,null,null,null,null,null,null,null,"Legende:"]
[2,null,null,null,null,"Vorrunde:","44 Mannschaften",null,null,"8 Fünfer- und 1 Vierergruppen",null,null,null,"Die sechs besten Ersten (Heimrecht)"]
[3,null,null,null,null,"Zwischenrunde:","24 Mannschaften",null,null,"6 Vierergruppen",null,null,null,"Alle anderen Ersten und Zweiten jeder Gruppe"]
[4,null,null,null,null,"Endrunde:","12 Mannschaften",null,null,"1 Zwölfergruppe",null,null,null,"Die sechs besten Dritten der Fünfergruppen"]
[5,null,null,null,null,null,null,null,null,null,null,null,null,"Die nicht angetretenen Mannschaften (Strafgeld 50 €)"]

{"sheet":"Ergebnisspeicher","index":3,"n_rows":20,"n_cols":14,"rows_kept":20,"cut":false,"hidden":true,"merged":[]}
[0,0,0,0,0,0,0,0,0,0,0,0,0,0]
[0,0,0,0,0,0,0,0,0,0,0,0,0,0]
[0,0,0,0,0,0,0,0,0,0,0,0,0,0]
[0,0,0,0,0,0,0,0,0,0,0,0,0,0]
[0,0,0,0,0,0,0,0,0,0,0,0,0,0]
[0,0,0,0,0,0,0,0,0,0,0,0,0,0]
[0,0,0,0,0,0,0,0,0,0,0,0,0,0]
[0,0,0,0,0,0,0,0,0,0,0,0,0,0]
[0,0,0,0,0,0,0,0,0,0,0,0,0,0]
[0,0,0,0,0,0,0,0,0,0,0,0,0,0]
[0,0,0,0,0,0,0,0,0,0,0,0,0,0]
[0,0,0,0,0,0,0,0,0,0,0,0,0,0]
[0,0,0,0,0,0,0,0,0,0,0,0,0,0]
[0,0,0,0,0,0,0,0,0,0,0,0,0,0]
[0,0,0,0,0,0,0,0,0,0,0,0,0,0]
[0,0,0,0,0,0,0,0,0,0,0,0,0,0]
[0,0,0,0,0,0,0,0,0,0,0,0,0,0]
[0,0,0,0,0,0,0,0,0,0,0,0,0,0]
[0,0,0,0,0,0,0,0,0,0,0,0,0,0]
[0,0,0,0,0,0,0,0,0,0,0,0,0,0]