{"text_format":"1","workbook":"xlsx","n_sheets":2,"sheets":["Berechnung","Beamer"],"not_rendered":{"charts":0,"images":0,"macros":1,"external_links":1,"defined_names":2,"comments":0,"pivot_tables":0},"unopened":[],"bounds":{"document_bytes":16777216,"sheet_cells":100000,"rows_first":2000,"rows_last":500,"rows_between":2000,"halvings":0,"cell_chars":16384,"cell_head_chars":4096},"cells_cut":0,"cells_raw":0,"read":"whole","date_system":"1900"}

{"sheet":"Berechnung","index":0,"n_rows":29,"n_cols":9,"rows_kept":29,"cut":false,"hidden":false,"merged":[[0,1,0,8],[1,1,1,8],[2,1,2,8]]}
[null,"Deutscher Städte - Pokal"]
[]
[null,{"$f":"[1]Gesamtstand!$I$1","v":0}]
[null,"Platz","Stadt","L","Punkte","Spiel\nPunkte","Gewo.\nSpiele","Verl.\nSpiele","Gegner\nPunkte"]
[{"$f":"RANK(E5,E$5:E$16)+COUNTIF(E$5:E5,E5)-1","v":1},1,{"$f":"[1]Gesamtstand!C18","v":0},{"$f":"[1]Gesamtstand!J18","v":0},{"$f":"[1]Gesamtstand!D18","v":0},{"$f":"[1]Gesamtstand!E18","v":0},{"$f":"[1]Gesamtstand!F18","v":0},{"$f":"[1]Gesamtstand!G18","v":0},{"$f":"[1]Gesamtstand!H18","v":0}]
[{"$f":"RANK(E6,E$5:E$16)+COUNTIF(E$5:E6,E6)-1","v":2},2,{"$f":"[1]Gesamtstand!C19","v":0},{"$f":"[1]Gesamtstand!J19","v":0},{"$f":"[1]Gesamtstand!D19","v":0},{"$f":"[1]Gesamtstand!E19","v":0},{"$f":"[1]Gesamtstand!F19","v":0},{"$f":"[1]Gesamtstand!G19","v":0},{"$f":"[1]Gesamtstand!H19","v":0}]
[{"$f":"RANK(E7,E$5:E$16)+COUNTIF(E$5:E7,E7)-1","v":3},3,{"$f":"[1]Gesamtstand!C20","v":0},{"$f":"[1]Gesamtstand!J20","v":0},{"$f":"[1]Gesamtstand!D20","v":0},{"$f":"[1]Gesamtstand!E20","v":0},{"$f":"[1]Gesamtstand!F20","v":0},{"$f":"[1]Gesamtstand!G20","v":0},{"$f":"[1]Gesamtstand!H20","v":0}]
[{"$f":"RANK(E8,E$5:E$16)+COUNTIF(E$5:E8,E8)-1","v":4},4,{"$f":"[1]Gesamtstand!C21","v":0},{"$f":"[1]Gesamtstand!J21","v":0},{"$f":"[1]Gesamtstand!D21","v":0},{"$f":"[1]Gesamtstand!E21","v":0},{"$f":"[1]Gesamtstand!F21","v":0},{"$f":"[1]Gesamtstand!G21","v":0},{"$f":"[1]Gesamtstand!H21","v":0}]
[{"$f":"RANK(E9,E$5:E$16)+COUNTIF(E$5:E9,E9)-1","v":5},5,{"$f":"[1]Gesamtstand!C22","v":0},{"$f":"[1]Gesamtstand!J22","v":0},{"$f":"[1]Gesamtstand!D22","v":0},{"$f":"[1]Gesamtstand!E22","v":0},{"$f":"[1]Gesamtstand!F22","v":0},{"$f":"[1]Gesamtstand!G22","v":0},{"$f":"[1]Gesamtstand!H22","v":0}]
[{"$f":"RANK(E10,E$5:E$16)+COUNTIF(E$5:E10,E10)-1","v":6},6,{"$f":"[1]Gesamtstand!C23","v":0},{"$f":"[1]Gesamtstand!J23","v":0},{"$f":"[1]Gesamtstand!D23","v":0},{"$f":"[1]Gesamtstand!E23","v":0},{"$f":"[1]Gesamtstand!F23","v":0},{"$f":"[1]Gesamtstand!G23","v":0},{"$f":"[1]Gesamtstand!H23","v":0}]
[{"$f":"RANK(E11,E$5:E$16)+COUNTIF(E$5:E11,E11)-1","v":7},7,{"$f":"[1]Gesamtstand!C24","v":0},{"$f":"[1]Gesamtstand!J24","v":0},{"$f":"[1]Gesamtstand!D24","v":0},{"$f":"[1]Gesamtstand!E24","v":0},{"$f":"[1]Gesamtstand!F24","v":0},{"$f":"[1]Gesamtstand!G24","v":0},{"$f":"[1]Gesamtstand!H24","v":0}]
[{"$f":"RANK(E12,E$5:E$16)+COUNTIF(E$5:E12,E12)-1","v":8},8,{"$f":"[1]Gesamtstand!C25","v":0},{"$f":"[1]Gesamtstand!J25","v":0},{"$f":"[1]Gesamtstand!D25","v":0},{"$f":"[1]Gesamtstand!E25","v":0},{"$f":"[1]Gesamtstand!F25","v":0},{"$f":"[1]Gesamtstand!G25","v":0},{"$f":"[1]Gesamtstand!H25","v":0}]
[{"$f":"RANK(E13,E$5:E$16)+COUNTIF(E$5:E13,E13)-1","v":9},9,{"$f":"[1]Gesamtstand!C26","v":0},{"$f":"[1]Gesamtstand!J26","v":0},{"$f":"[1]Gesamtstand!D26","v":0},{"$f":"[1]Gesamtstand!E26","v":0},{"$f":"[1]Gesamtstand!F26","v":0},{"$f":"[1]Gesamtstand!G26","v":0},{"$f":"[1]Gesamtstand!H26","v":0}]
[{"$f":"RANK(E14,E$5:E$16)+COUNTIF(E$5:E14,E14)-1","v":10},10,{"$f":"[1]Gesamtstand!C27","v":0},{"$f":"[1]Gesamtstand!J27","v":0},{"$f":"[1]Gesamtstand!D27","v":0},{"$f":"[1]Gesamtstand!E27","v":0},{"$f":"[1]Gesamtstand!F27","v":0},{"$f":"[1]Gesamtstand!G27","v":0},{"$f":"[1]Gesamtstand!H27","v":0}]
[{"$f":"RANK(E15,E$5:E$16)+COUNTIF(E$5:E15,E15)-1","v":11},11,{"$f":"[1]Gesamtstand!C28","v":0},{"$f":"[1]Gesamtstand!J28","v":0},{"$f":"[1]Gesamtstand!D28","v":0},{"$f":"[1]Gesamtstand!E28","v":0},{"$f":"[1]Gesamtstand!F28","v":0},{"$f":"[1]Gesamtstand!G28","v":0},{"$f":"[1]Gesamtstand!H28","v":0}]
[{"$f":"RANK(E16,E$5:E$16)+COUNTIF(E$5:E16,E16)-1","v":12},12,{"$f":"[1]Gesamtstand!C29","v":0},{"$f":"[1]Gesamtstand!J29","v":0},{"$f":"[1]Gesamtstand!D29","v":0},{"$f":"[1]Gesamtstand!E29","v":0},{"$f":"[1]Gesamtstand!F29","v":0},{"$f":"[1]Gesamtstand!G29","v":0},{"$f":"[1]Gesamtstand!H29","v":0}]
[]
[1,{"$f":"VLOOKUP($A18,$A$5:$I$16,2,0)","v":1},{"$f":"VLOOKUP($A18,$A$5:$I$16,3,0)","v":0},{"$f":"VLOOKUP($A18,$A$5:$I$16,4,0)","v":0},{"$f":"VLOOKUP($A18,$A$5:$I$16,5,0)","v":0},{"$f":"VLOOKUP($A18,$A$5:$I$16,6,0)","v":0},{"$f":"VLOOKUP($A18,$A$5:$I$16,7,0)","v":0},{"$f":"VLOOKUP($A18,$A$5:$I$16,8,0)","v":0},{"$f":"VLOOKUP($A18,$A$5:$I$16,9,0)","v":0}]
[2,2,0,0,0,0,0,0,0]
[3,3,0,0,0,0,0,0,0]
[4,4,0,0,0,0,0,0,0]
[5,5,0,0,0,0,0,0,0]
[6,6,0,0,0,0,0,0,0]
[7,7,0,0,0,0,0,0,0]
[8,8,0,0,0,0,0,0,0]
[9,9,0,0,0,0,0,0,0]
[10,10,0,0,0,0,0,0,0]
[11,11,0,0,0,0,0,0,0]
[12,12,0,0,0,0,0,0,0]

{"sheet":"Beamer","index":1,"n_rows":17,"n_cols":8,"rows_kept":17,"cut":false,"hidden":false,"merged":[[1,0,1,7],[2,0,2,7],[3,0,3,7],[0,0,0,2],[0,3,0,5],[0,6,0,7]]}
["17:26:34",null,null,"Ende der Serie:",null,null,"12:00:00"]
["Deutscher Städte - Pokal"]
[{"$f":"[1]Startkarten!$A$9","v":"Ausrichtender Verein :  "}]
[{"$f":"\"Stand nach \"&[1]Gesamtstand!$J$1& \" von \"&[1]Eingabe!$Q$18&\" möglichen Spielen\"","v":"Stand nach 0 von 144 möglichen Spielen"}]
["Platz","Stadt","L","Punkte","Spiel\nPunkte","Gewo.\nSpiele","Verl.\nSpiele","Gegner\nPunkte"]
[1,{"$f":"Berechnung!C18","v":0},{"$f":"Berechnung!D18","v":0},{"$f":"Berechnung!E18","v":0},{"$f":"Berechnung!F18","v":0},{"$f":"Berechnung!G18","v":0},{"$f":"Berechnung!H18","v":0},{"$f":"Berechnung!I18","v":0}]
[2,{"$f":"Berechnung!C19","v":0},{"$f":"Berechnung!D19","v":0},{"$f":"Berechnung!E19","v":0},{"$f":"Berechnung!F19","v":0},{"$f":"Berechnung!G19","v":0},{"$f":"Berechnung!H19","v":0},{"$f":"Berechnung!I19","v":0}]
[3,{"$f":"Berechnung!C20","v":0},{"$f":"Berechnung!D20","v":0},{"$f":"Berechnung!E20","v":0},{"$f":"Berechnung!F20","v":0},{"$f":"Berechnung!G20","v":0},{"$f":"Berechnung!H20","v":0},{"$f":"Berechnung!I20","v":0}]
[4,{"$f":"Berechnung!C21","v":0},{"$f":"Berechnung!D21","v":0},{"$f":"Berechnung!E21","v":0},{"$f":"Berechnung!F21","v":0},{"$f":"Berechnung!G21","v":0},{"$f":"Berechnung!H21","v":0},{"$f":"Berechnung!I21","v":0}]
[5,{"$f":"Berechnung!C22","v":0},{"$f":"Berechnung!D22","v":0},{"$f":"Berechnung!E22","v":0},{"$f":"Berechnung!F22","v":0},{"$f":"Berechnung!G22","v":0},{"$f":"Berechnung!H22","v":0},{"$f":"Berechnung!I22","v":0}]
[6,{"$f":"Berechnung!C23","v":0},{"$f":"Berechnung!D23","v":0},{"$f":"Berechnung!E23","v":0},{"$f":"Berechnung!F23","v":0},{"$f":"Berechnung!G23","v":0},{"$f":"Berechnung!H23","v":0},{"$f":"Berechnung!I23","v":0}]
[7,{"$f":"Berechnung!C24","v":0},{"$f":"Berechnung!D24","v":0},{"$f":"Berechnung!E24","v":0},{"$f":"Berechnung!F24","v":0},{"$f":"Berechnung!G24","v":0},{"$f":"Berechnung!H24","v":0},{"$f":"Berechnung!I24","v":0}]
[8,{"$f":"Berechnung!C25","v":0},{"$f":"Berechnung!D25","v":0},{"$f":"Berechnung!E25","v":0},{"$f":"Berechnung!F25","v":0},{"$f":"Berechnung!G25","v":0},{"$f":"Berechnung!H25","v":0},{"$f":"Berechnung!I25","v":0}]
[9,{"$f":"Berechnung!C26","v":0},{"$f":"Berechnung!D26","v":0},{"$f":"Berechnung!E26","v":0},{"$f":"Berechnung!F26","v":0},{"$f":"Berechnung!G26","v":0},{"$f":"Berechnung!H26","v":0},{"$f":"Berechnung!I26","v":0}]
[10,{"$f":"Berechnung!C27","v":0},{"$f":"Berechnung!D27","v":0},{"$f":"Berechnung!E27","v":0},{"$f":"Berechnung!F27","v":0},{"$f":"Berechnung!G27","v":0},{"$f":"Berechnung!H27","v":0},{"$f":"Berechnung!I27","v":0}]
[11,{"$f":"Berechnung!C28","v":0},{"$f":"Berechnung!D28","v":0},{"$f":"Berechnung!E28","v":0},{"$f":"Berechnung!F28","v":0},{"$f":"Berechnung!G28","v":0},{"$f":"Berechnung!H28","v":0},{"$f":"Berechnung!I28","v":0}]
[12,{"$f":"Berechnung!C29","v":0},{"$f":"Berechnung!D29","v":0},{"$f":"Berechnung!E29","v":0},{"$f":"Berechnung!F29","v":0},{"$f":"Berechnung!G29","v":0},{"$f":"Berechnung!H29","v":0},{"$f":"Berechnung!I29","v":0}]