{"text_format":"1","workbook":"xlsx","n_sheets":18,"sheets":["StaKa E 6 S.","Eingabe Spielernamen","Eingabe 1-6","Ausgabe Einzel","Ausgabe Städte","Mixed-Paarungen","1. Serie","Listen (1.)","2. Serie","Listen (2.)","3. Serie","Listen (3.)","4. Serie","Listen (4.)","5. Serie","Listen (5.)","6. Serie","Listen (6.)"],"not_rendered":{"charts":0,"images":0,"macros":1,"external_links":0,"defined_names":30,"comments":2,"pivot_tables":0},"unopened":[],"bounds":{"document_bytes":16777216,"sheet_cells":100000,"rows_first":2000,"rows_last":500,"rows_between":2000,"halvings":0,"cell_chars":16384,"cell_head_chars":4096},"cells_cut":0,"cells_raw":0,"read":"whole","date_system":"1900"}

{"sheet":"StaKa E 6 S.","index":0,"n_rows":960,"n_cols":8,"rows_kept":960,"cut":false,"hidden":false,"merged":[[951,0,951,2],[954,0,954,2],[955,0,955,2],[958,0,958,2],[959,0,959,2],[935,0,935,2],[938,0,938,2],[939,0,939,2],[942,0,942,2],[943,0,943,2],[946,0,946,2],[946,3,946,6],[946,7,947,7],[947,0,947,2],[947,3,947,6],[921,0,921,2],[924,0,924,2],[925,0,925,2],[928,0,928,2],[929,0,929,2],[930,0,930,2],[930,3,930,6],[930,7,931,7],[931,0,931,2],[931,3,931,6],[905,0,905,2],[908,0,908,2],[909,0,909,2],[912,0,912,2],[913,0,913,2],[916,0,916,2],[916,3,916,6],[916,7,917,7],[917,0,917,2],[917,3,917,6],[891,0,891,2],[894,0,894,2],[895,0,895,2],[898,0,898,2],[899,0,899,2],[900,0,900,2],[900,3,900,6],[900,7,901,7],[901,0,901,2],[901,3,901,6],[875,0,875,2],[878,0,878,2],[879,0,879,2],[882,0,882,2],[883,0,883,2],[886,0,886,2],[886,3,886,6],[886,7,887,7],[887,0,887,2],[887,3,887,6],[861,0,861,2],[864,0,864,2],[865,0,865,2],[868,0,868,2],[869,0,869,2],[870,0,870,2],[870,3,870,6],[870,7,871,7],[871,0,871,2],[871,3,871,6],[845,0,845,2],[848,0,848,2],[849,0,849,2],[852,0,852,2],[853,0,853,2],[856,0,856,2],[856,3,856,6],[856,7,857,7],[857,0,857,2],[857,3,857,6],[831,0,831,2],[834,0,834,2],[835,0,835,2],[838,0,838,2],[839,0,839,2],[840,0,840,2],[840,3,840,6],[840,7,841,7],[841,0,841,2],[841,3,841,6],[815,0,815,2],[818,0,818,2],[819,0,819,2],[822,0,822,2],[823,0,823,2],[826,0,826,2],[826,3,826,6],[826,7,827,7],[827,0,827,2],[827,3,827,6],[801,0,801,2],[804,0,804,2],[805,0,805,2],[808,0,808,2],[809,0,809,2],[810,0,810,2],[810,3,810,6],[810,7,811,7],[811,0,811,2],[811,3,811,6],[785,0,785,2],[788,0,788,2],[789,0,789,2],[792,0,792,2],[793,0,793,2],[796,0,796,2],[796,3,796,6],[796,7,797,7],[797,0,797,2],[797,3,797,6],[771,0,771,2],[774,0,774,2],[775,0,775,2],[778,0,778,2],[779,0,779,2],[780,0,780,2],[780,3,780,6],[780,7,781,7],[781,0,781,2],[781,3,781,6],[755,0,755,2],[758,0,758,2],[759,0,759,2],[762,0,762,2],[763,0,763,2],[766,0,766,2],[766,3,766,6],[766,7,767,7],[767,0,767,2],[767,3,767,6],[741,0,741,2],[744,0,744,2],[745,0,745,2],[748,0,748,2],[749,0,749,2],[750,0,750,2],[750,3,750,6],[750,7,751,7],[751,0,751,2],[751,3,751,6],[725,0,725,2],[728,0,728,2],[729,0,729,2],[732,0,732,2],[733,0,733,2],[736,0,736,2],[736,3,736,6],[736,7,737,7],[737,0,737,2],[737,3,737,6],[711,0,711,2],[714,0,714,2],[715,0,715,2],[718,0,718,2],[719,0,719,2],[720,0,720,2],[720,3,720,6],[720,7,721,7],[721,0,721,2],[721,3,721,6],[695,0,695,2],[698,0,698,2],[699,0,699,2],[702,0,702,2],[703,0,703,2],[706,0,706,2],[706,3,706,6],[706,7,707,7],[707,0,707,2],[707,3,707,6],[681,0,681,2],[684,0,684,2],[685,0,685,2],[688,0,688,2],[689,0,689,2],[690,0,690,2],[690,3,690,6],[690,7,691,7],[691,0,691,2],[691,3,691,6],[665,0,665,2],[668,0,668,2],[669,0,669,2],[672,0,672,2],[673,0,673,2],[676,0,676,2],[676,3,676,6],[676,7,677,7],[677,0,677,2],[677,3,677,6],[651,0,651,2],[654,0,654,2],[655,0,655,2],[658,0,658,2],[659,0,659,2],[660,0,660,2],[660,3,660,6],[660,7,661,7],[661,0,661,2],[661,3,661,6],[635,0,635,2],[638,0,638,2],[639,0,639,2],[642,0,642,2],[643,0,643,2],[646,0,646,2],[646,3,646,6],[646,7,647,7],[647,0,647,2],[647,3,647,6],[621,0,621,2],[624,0,624,2],[625,0,625,2],[628,0,628,2],[629,0,629,2],[630,0,630,2],[630,3,630,6],[630,7,631,7],[631,0,631,2],[631,3,631,6],[605,0,605,2],[608,0,608,2],[609,0,609,2],[612,0,612,2],[613,0,613,2],[616,0,616,2],[616,3,616,6],[616,7,617,7],[617,0,617,2],[617,3,617,6],[591,0,591,2],[594,0,594,2],[595,0,595,2],[598,0,598,2],[599,0,599,2],[600,0,600,2],[600,3,600,6],[600,7,601,7],[601,0,601,2],[601,3,601,6],[575,0,575,2],[578,0,578,2],[579,0,579,2],[582,0,582,2],[583,0,583,2],[586,0,586,2],[586,3,586,6],[586,7,587,7],[587,0,587,2],[587,3,587,6],[561,0,561,2],[564,0,564,2],[565,0,565,2],[568,0,568,2],[569,0,569,2],[570,0,570,2],[570,3,570,6],[570,7,571,7],[571,0,571,2],[571,3,571,6],[545,0,545,2],[548,0,548,2],[549,0,549,2],[552,0,552,2],[553,0,553,2],[556,0,556,2],[556,3,556,6],[556,7,557,7],[557,0,557,2],[557,3,557,6],[531,0,531,2],[534,0,534,2],[535,0,535,2],[538,0,538,2],[539,0,539,2],[540,0,540,2],[540,3,540,6],[540,7,541,7],[541,0,541,2],[541,3,541,6],[515,0,515,2],[518,0,518,2],[519,0,519,2],[522,0,522,2],[523,0,523,2],[526,0,526,2],[526,3,526,6],[526,7,527,7],[527,0,527,2],[527,3,527,6],[501,0,501,2],[504,0,504,2],[505,0,505,2],[508,0,508,2],[509,0,509,2],[510,0,510,2],[510,3,510,6],[510,7,511,7],[511,0,511,2],[511,3,511,6],[485,0,485,2],[488,0,488,2],[489,0,489,2],[492,0,492,2],[493,0,493,2],[496,0,496,2],[496,3,496,6],[496,7,497,7],[497,0,497,2],[497,3,497,6],[471,0,471,2],[474,0,474,2],[475,0,475,2],[478,0,478,2],[479,0,479,2],[480,0,480,2],[480,3,480,6],[480,7,481,7],[481,0,481,2],[481,3,481,6],[455,0,455,2],[458,0,458,2],[459,0,459,2],[462,0,462,2],[463,0,463,2],[466,0,466,2],[466,3,466,6],[466,7,467,7],[467,0,467,2],[467,3,467,6],[444,0,444,2],[445,0,445,2],[448,0,448,2],[449,0,449,2],[450,0,450,2],[450,3,450,6],[450,7,451,7],[451,0,451,2],[451,3,451,6],[429,0,429,2],[432,0,432,2],[433,0,433,2],[436,0,436,2],[436,3,436,6],[436,7,437,7],[437,0,437,2],[437,3,437,6],[441,0,441,2],[411,0,411,2],[414,0,414,2],[415,0,415,2],[419,0,419,2],[420,0,420,2],[420,3,420,6],[420,7,421,7],[425,0,425,2],[428,0,428,2],[421,0,421,2],[421,3,421,6],[418,0,418,2],[360,7,361,7],[361,0,361,2],[361,3,361,6],[365,0,365,2],[368,0,368,2],[372,0,372,2],[369,0,369,2],[360,0,360,2],[360,3,360,6],[275,0,275,2],[278,0,278,2],[279,0,279,2],[283,0,283,2],[286,7,287,7],[287,0,287,2],[287,3,287,6],[294,0,294,2],[295,0,295,2],[282,0,282,2],[240,0,240,2],[240,3,240,6],[240,7,241,7],[241,0,241,2],[241,3,241,6],[245,0,245,2],[249,0,249,2],[253,0,253,2],[256,0,256,2],[256,3,256,6],[256,7,257,7],[257,3,257,6],[252,0,252,2],[257,0,257,2],[248,0,248,2],[90,7,91,7],[90,3,90,6],[90,0,90,2],[89,0,89,2],[88,0,88,2],[132,0,132,2],[106,3,106,6],[102,0,102,2],[107,3,107,6],[107,0,107,2],[106,7,107,7],[106,0,106,2],[103,0,103,2],[98,0,98,2],[406,0,406,2],[406,3,406,6],[406,7,407,7],[407,0,407,2],[407,3,407,6],[46,0,46,2],[46,3,46,6],[46,7,47,7],[47,0,47,2],[47,3,47,6],[51,0,51,2],[54,0,54,2],[55,0,55,2],[59,0,59,2],[58,0,58,2],[68,0,68,2],[65,0,65,2],[120,0,120,2],[120,3,120,6],[120,7,121,7],[121,3,121,6],[125,0,125,2],[129,0,129,2],[133,0,133,2],[403,0,403,2],[395,0,395,2],[398,0,398,2],[399,0,399,2],[402,0,402,2],[381,0,381,2],[385,0,385,2],[389,0,389,2],[390,0,390,2],[342,0,342,2],[343,0,343,2],[346,0,346,2],[346,3,346,6],[390,3,390,6],[390,7,391,7],[391,0,391,2],[391,3,391,6],[388,0,388,2],[384,0,384,2],[373,0,373,2],[354,0,354,2],[359,0,359,2],[358,0,358,2],[346,7,347,7],[347,0,347,2],[347,3,347,6],[351,0,351,2],[355,0,355,2],[376,0,376,2],[376,3,376,6],[376,7,377,7],[377,0,377,2],[377,3,377,6],[330,7,331,7],[331,0,331,2],[331,3,331,6],[338,0,338,2],[339,0,339,2],[325,0,325,2],[316,0,316,2],[324,0,324,2],[301,0,301,2],[301,3,301,6],[308,0,308,2],[309,0,309,2],[312,0,312,2],[313,0,313,2],[316,3,316,6],[316,7,317,7],[317,0,317,2],[317,3,317,6],[321,0,321,2],[335,0,335,2],[328,0,328,2],[329,0,329,2],[330,0,330,2],[330,3,330,6],[298,0,298,2],[299,0,299,2],[300,0,300,2],[300,3,300,6],[300,7,301,7],[305,0,305,2],[286,0,286,2],[286,3,286,6],[291,0,291,2],[268,0,268,2],[264,0,264,2],[261,0,261,2],[265,0,265,2],[269,0,269,2],[270,0,270,2],[270,3,270,6],[270,7,271,7],[271,0,271,2],[271,3,271,6],[234,0,234,2],[239,0,239,2],[226,0,226,2],[226,3,226,6],[226,7,227,7],[227,0,227,2],[227,3,227,6],[231,0,231,2],[235,0,235,2],[238,0,238,2],[218,0,218,2],[223,0,223,2],[208,0,208,2],[209,0,209,2],[210,0,210,2],[210,3,210,6],[210,7,211,7],[211,0,211,2],[211,3,211,6],[215,0,215,2],[219,0,219,2],[222,0,222,2],[205,0,205,2],[196,0,196,2],[192,0,192,2],[193,0,193,2],[196,3,196,6],[196,7,197,7],[197,0,197,2],[197,3,197,6],[201,0,201,2],[204,0,204,2],[189,0,189,2],[174,0,174,2],[175,0,175,2],[180,0,180,2],[178,0,178,2],[179,0,179,2],[180,3,180,6],[180,7,181,7],[181,0,181,2],[181,3,181,6],[185,0,185,2],[188,0,188,2],[166,0,166,2],[166,3,166,6],[171,0,171,2],[162,0,162,2],[158,0,158,2],[159,0,159,2],[163,0,163,2],[166,7,167,7],[167,0,167,2],[167,3,167,6],[149,0,149,2],[150,0,150,2],[150,3,150,6],[155,0,155,2],[141,0,141,2],[144,0,144,2],[145,0,145,2],[148,0,148,2],[150,7,151,7],[151,0,151,2],[151,3,151,6],[137,0,137,2],[118,0,118,2],[128,0,128,2],[119,0,119,2],[136,0,136,2],[136,3,136,6],[136,7,137,7],[137,3,137,6],[111,0,111,2],[115,0,115,2],[121,0,121,2],[114,0,114,2],[85,0,85,2],[84,0,84,2],[69,0,69,2],[81,0,81,2],[77,3,77,6],[77,0,77,2],[99,0,99,2],[95,0,95,2],[91,3,91,6],[91,0,91,2],[76,7,77,7],[76,3,76,6],[76,0,76,2],[73,0,73,2],[72,0,72,2],[60,0,60,2],[60,3,60,6],[60,7,61,7],[61,0,61,2],[61,3,61,6],[42,0,42,2],[43,0,43,2],[30,0,30,2],[30,3,30,6],[30,7,31,7],[31,0,31,2],[31,3,31,6],[39,0,39,2],[35,0,35,2],[38,0,38,2],[29,0,29,2],[0,0,0,2],[0,3,0,6],[0,7,1,7],[1,0,1,2],[1,3,1,6],[13,0,13,2],[5,0,5,2],[25,0,25,2],[28,0,28,2],[9,0,9,2],[8,0,8,2],[12,0,12,2],[21,0,21,2],[24,0,24,2],[16,0,16,2],[16,3,16,6],[16,7,17,7],[17,0,17,2],[17,3,17,6]]}
["Name, Vorname",null,null,{"$f":"IF(ISBLANK(H1),\" \",INDEX('Eingabe Spielernamen'!$F:$F,MATCH(H1,'Eingabe Spielernamen'!$B:$B,0))&\", \"&INDEX('Eingabe Spielernamen'!$G:$G,MATCH(H1,'Eingabe Spielernamen'!$B:$B,0)))","v":", "},null,null,null,101]
["Verein:",null,null,{"$f":"IF($H1<>0,INDEX('Eingabe Spielernamen'!A:A,MATCH(H1,'Eingabe Spielernamen'!B:B,)),\" \")","v":0}]
["Serie","Tisch","Platz","Spielpunkte","gew.","ver..","v.G.","Gesamtpunkte"]
[1,{"$f":"LEFT(H1,1)","v":"1"},1]
[2,{"$f":"B4+C4","v":2},{"$f":"C4+1","v":2}]
["Summe 1+2:"]
[3,{"$f":"B5+C5","v":4},{"$f":"C5+1","v":3}]
[4,{"$f":"B7+C7","v":7},{"$f":"C7+1","v":4}]
["Summe 3+4:"]
["Summe 1-4:"]
[5,{"$f":"B8+C8+1","v":12},2]
[6,{"$f":"RIGHT(H1,2)","v":"01"},{"$f":"LEFT(H1,1)","v":"1"}]
["Summe 5+6:"]
["Summe 1-6:"]
[null,"wenn weniger als 16 Tische entsprechend vorrücken!"]
[null,"wenn weniger als 16 Tische entsprechend vorrücken!"]
["Name, Vorname",null,null,{"$f":"IF(ISBLANK(H17),\" \",INDEX('Eingabe Spielernamen'!$F:$F,MATCH(H17,'Eingabe Spielernamen'!$B:$B,0))&\", \"&INDEX('Eingabe Spielernamen'!$G:$G,MATCH(H17,'Eingabe Spielernamen'!$B:$B,0)))","v":", "},null,null,null,{"$f":"H1+1","v":102}]
["Verein:",null,null,{"$f":"IF($H17<>0,INDEX('Eingabe Spielernamen'!A:A,MATCH(H17,'Eingabe Spielernamen'!B:B,)),\" \")","v":0}]
["Serie","Tisch","Platz","Spielpunkte","gew.","ver..","v.G.","Gesamtpunkte"]
[1,{"$f":"B4+1","v":2},{"$f":"C4","v":1}]
[2,{"$f":"B20+C20","v":3},{"$f":"C20+1","v":2}]
["Summe 1+2:"]
[3,{"$f":"B21+C21","v":5},{"$f":"C21+1","v":3}]
[4,{"$f":"B23+C23","v":8},{"$f":"C23+1","v":4}]
["Summe 3+4:"]
["Summe 1-4:"]
[5,{"$f":"B24+C24+1","v":13},2]
[6,{"$f":"RIGHT(H17,2)","v":"02"},{"$f":"LEFT(H17,1)","v":"1"}]
["Summe 5+6:"]
["Summe 1-6:"]
["Name, Vorname",null,null,{"$f":"IF(ISBLANK(H31),\" \",INDEX('Eingabe Spielernamen'!$F:$F,MATCH(H31,'Eingabe Spielernamen'!$B:$B,0))&\", \"&INDEX('Eingabe Spielernamen'!$G:$G,MATCH(H31,'Eingabe Spielernamen'!$B:$B,0)))","v":", "},null,null,null,{"$f":"H17+1","v":103}]
["Verein:",null,null,{"$f":"IF($H31<>0,INDEX('Eingabe Spielernamen'!A:A,MATCH(H31,'Eingabe Spielernamen'!B:B,)),\" \")","v":0}]
["Serie","Tisch","Platz","Spielpunkte","gew.","ver..","v.G.","Gesamtpunkte"]
[1,{"$f":"B20+1","v":3},{"$f":"C20","v":1}]
[2,{"$f":"B34+C34","v":4},{"$f":"C34+1","v":2}]
["Summe 1+2:"]
[3,{"$f":"B35+C35","v":6},{"$f":"C35+1","v":3}]
[4,{"$f":"B37+C37","v":9},{"$f":"C37+1","v":4}]
["Summe 3+4:"]
["Summe 1-4:"]
[5,{"$f":"B38+C38+1","v":14},2]
[6,{"$f":"RIGHT(H31,2)","v":"03"},{"$f":"LEFT(H31,1)","v":"1"}]
["Summe 5+6:"]
["Summe 1-6:"]
[null,"wenn weniger als 16 Tische entsprechend vorrücken!"]
[null,"wenn weniger als 16 Tische entsprechend vorrücken!"]
["Name, Vorname",null,null,{"$f":"IF(ISBLANK(H47),\" \",INDEX('Eingabe Spielernamen'!$F:$F,MATCH(H47,'Eingabe Spielernamen'!$B:$B,0))&\", \"&INDEX('Eingabe Spielernamen'!$G:$G,MATCH(H47,'Eingabe Spielernamen'!$B:$B,0)))","v":", "},null,null,null,{"$f":"H31+1","v":104}]
["Verein:",null,null,{"$f":"IF($H47<>0,INDEX('Eingabe Spielernamen'!A:A,MATCH(H47,'Eingabe Spielernamen'!B:B,)),\" \")","v":0}]
["Serie","Tisch","Platz","Spielpunkte","gew.","ver..","v.G.","Gesamtpunkte"]
[1,{"$f":"B34+1","v":4},{"$f":"C34","v":1}]
[2,{"$f":"B50+C50","v":5},{"$f":"C50+1","v":2}]
["Summe 1+2:"]
[3,{"$f":"B51+C51","v":7},{"$f":"C51+1","v":3}]
[4,{"$f":"B53+C53","v":10},{"$f":"C53+1","v":4}]
["Summe 3+4:"]
["Summe 1-4:"]
[5,{"$f":"B54+C54+1","v":15},2]
[6,{"$f":"RIGHT(H47,2)","v":"04"},{"$f":"LEFT(H47,1)","v":"1"}]
["Summe 5+6:"]
["Summe 1-6:"]
["Name, Vorname",null,null,{"$f":"IF(ISBLANK(H61),\" \",INDEX('Eingabe Spielernamen'!$F:$F,MATCH(H61,'Eingabe Spielernamen'!$B:$B,0))&\", \"&INDEX('Eingabe Spielernamen'!$G:$G,MATCH(H61,'Eingabe Spielernamen'!$B:$B,0)))","v":", "},null,null,null,{"$f":"H47+1","v":105}]
["Verein:",null,null,{"$f":"IF($H61<>0,INDEX('Eingabe Spielernamen'!A:A,MATCH(H61,'Eingabe Spielernamen'!B:B,)),\" \")","v":0}]
["Serie","Tisch","Platz","Spielpunkte","gew.","ver..","v.G.","Gesamtpunkte"]
[1,{"$f":"B50+1","v":5},{"$f":"C50","v":1}]
[2,{"$f":"B64+C64","v":6},{"$f":"C64+1","v":2}]
["Summe 1+2:"]
[3,{"$f":"B65+C65","v":8},{"$f":"C65+1","v":3}]
[4,{"$f":"B67+C67","v":11},{"$f":"C67+1","v":4}]
["Summe 3+4:"]
["Summe 1-4:"]
[5,{"$f":"B68+C68+1","v":16},2]
[6,{"$f":"RIGHT(H61,2)","v":"05"},{"$f":"LEFT(H61,1)","v":"1"}]
["Summe 5+6:"]
["Summe 1-6:"]
[null,"wenn weniger als 16 Tische entsprechend vorrücken!"]
[null,"wenn weniger als 16 Tische entsprechend vorrücken!"]
["Name, Vorname",null,null,{"$f":"IF(ISBLANK(H77),\" \",INDEX('Eingabe Spielernamen'!$F:$F,MATCH(H77,'Eingabe Spielernamen'!$B:$B,0))&\", \"&INDEX('Eingabe Spielernamen'!$G:$G,MATCH(H77,'Eingabe Spielernamen'!$B:$B,0)))","v":", "},null,null,null,{"$f":"H61+1","v":106}]
["Verein:",null,null,{"$f":"IF($H77<>0,INDEX('Eingabe Spielernamen'!A:A,MATCH(H77,'Eingabe Spielernamen'!B:B,)),\" \")","v":0}]
["Serie","Tisch","Platz","Spielpunkte","gew.","ver..","v.G.","Gesamtpunkte"]
[1,{"$f":"B64+1","v":6},{"$f":"C64","v":1}]
[2,{"$f":"B80+C80","v":7},{"$f":"C80+1","v":2}]
["Summe 1+2:"]
[3,{"$f":"B81+C81","v":9},{"$f":"C81+1","v":3}]
[4,{"$f":"B83+C83","v":12},{"$f":"C83+1","v":4}]
["Summe 3+4:"]
["Summe 1-4:"]
[5,{"$f":"B84+C84+1-16","v":1},2]
[6,{"$f":"RIGHT(H77,2)","v":"06"},{"$f":"LEFT(H77,1)","v":"1"}]
["Summe 5+6:"]
["Summe 1-6:"]
["Name, Vorname",null,null,{"$f":"IF(ISBLANK(H91),\" \",INDEX('Eingabe Spielernamen'!$F:$F,MATCH(H91,'Eingabe Spielernamen'!$B:$B,0))&\", \"&INDEX('Eingabe Spielernamen'!$G:$G,MATCH(H91,'Eingabe Spielernamen'!$B:$B,0)))","v":", "},null,null,null,{"$f":"H77+1","v":107}]
["Verein:",null,null,{"$f":"IF($H91<>0,INDEX('Eingabe Spielernamen'!A:A,MATCH(H91,'Eingabe Spielernamen'!B:B,)),\" \")","v":0}]
["Serie","Tisch","Platz","Spielpunkte","gew.","ver..","v.G.","Gesamtpunkte"]
[1,{"$f":"B80+1","v":7},{"$f":"C80","v":1}]
[2,{"$f":"B94+C94","v":8},{"$f":"C94+1","v":2}]
["Summe 1+2:"]
[3,{"$f":"B95+C95","v":10},{"$f":"C95+1","v":3}]
[4,{"$f":"B97+C97","v":13},{"$f":"C97+1","v":4}]
["Summe 3+4:"]
["Summe 1-4:"]
[5,{"$f":"B98+C98+1-16","v":2},2]
[6,{"$f":"RIGHT(H91,2)","v":"07"},{"$f":"LEFT(H91,1)","v":"1"}]
["Summe 5+6:"]
["Summe 1-6:"]
[null,"wenn weniger als 16 Tische entsprechend vorrücken!"]
[null,"wenn weniger als 16 Tische entsprechend vorrücken!"]
["Name, Vorname",null,null,{"$f":"IF(ISBLANK(H107),\" \",INDEX('Eingabe Spielernamen'!$F:$F,MATCH(H107,'Eingabe Spielernamen'!$B:$B,0))&\", \"&INDEX('Eingabe Spielernamen'!$G:$G,MATCH(H107,'Eingabe Spielernamen'!$B:$B,0)))","v":", "},null,null,null,{"$f":"H91+1","v":108}]
["Verein:",null,null,{"$f":"IF($H107<>0,INDEX('Eingabe Spielernamen'!A:A,MATCH(H107,'Eingabe Spielernamen'!B:B,)),\" \")","v":0}]
["Serie","Tisch","Platz","Spielpunkte","gew.","ver..","v.G.","Gesamtpunkte"]
[1,{"$f":"B94+1","v":8},{"$f":"C94","v":1}]
[2,{"$f":"B110+C110","v":9},{"$f":"C110+1","v":2}]
["Summe 1+2:"]
[3,{"$f":"B111+C111","v":11},{"$f":"C111+1","v":3}]
[4,{"$f":"B113+C113","v":14},{"$f":"C113+1","v":4}]
["Summe 3+4:"]
["Summe 1-4:"]
[5,{"$f":"B114+C114+1-16","v":3},2]
[6,{"$f":"RIGHT(H107,2)","v":"08"},{"$f":"LEFT(H107,1)","v":"1"}]
["Summe 5+6:"]
["Summe 1-6:"]
["Name, Vorname",null,null,{"$f":"IF(ISBLANK(H121),\" \",INDEX('Eingabe Spielernamen'!$F:$F,MATCH(H121,'Eingabe Spielernamen'!$B:$B,0))&\", \"&INDEX('Eingabe Spielernamen'!$G:$G,MATCH(H121,'Eingabe Spielernamen'!$B:$B,0)))","v":", "},null,null,null,{"$f":"H107+1","v":109}]
["Verein:",null,null,{"$f":"IF($H121<>0,INDEX('Eingabe Spielernamen'!A:A,MATCH(H121,'Eingabe Spielernamen'!B:B,)),\" \")","v":0}]
["Serie","Tisch","Platz","Spielpunkte","gew.","ver..","v.G.","Gesamtpunkte"]
[1,{"$f":"B110+1","v":9},{"$f":"C110","v":1}]
[2,{"$f":"B124+C124","v":10},{"$f":"C124+1","v":2}]
["Summe 1+2:"]
[3,{"$f":"B125+C125","v":12},{"$f":"C125+1","v":3}]
[4,{"$f":"B127+C127","v":15},{"$f":"C127+1","v":4}]
["Summe 3+4:"]
["Summe 1-4:"]
[5,{"$f":"B128+C128+1-16","v":4},2]
[6,{"$f":"RIGHT(H121,2)","v":"09"},{"$f":"LEFT(H121,1)","v":"1"}]
["Summe 5+6:"]
["Summe 1-6:"]
[null,"wenn weniger als 16 Tische entsprechend vorrücken!"]
[null,"wenn weniger als 16 Tische entsprechend vorrücken!"]
["Name, Vorname",null,null,{"$f":"IF(ISBLANK(H137),\" \",INDEX('Eingabe Spielernamen'!$F:$F,MATCH(H137,'Eingabe Spielernamen'!$B:$B,0))&\", \"&INDEX('Eingabe Spielernamen'!$G:$G,MATCH(H137,'Eingabe Spielernamen'!$B:$B,0)))","v":", "},null,null,null,{"$f":"H121+1","v":110}]
["Verein:",null,null,{"$f":"IF($H137<>0,INDEX('Eingabe Spielernamen'!A:A,MATCH(H137,'Eingabe Spielernamen'!B:B,)),\" \")","v":0}]
["Serie","Tisch","Platz","Spielpunkte","gew.","ver..","v.G.","Gesamtpunkte"]
[1,{"$f":"B124+1","v":10},{"$f":"C124","v":1}]
[2,{"$f":"B140+C140","v":11},{"$f":"C140+1","v":2}]
["Summe 1+2:"]
[3,{"$f":"B141+C141","v":13},{"$f":"C141+1","v":3}]
[4,{"$f":"B143+C143","v":16},{"$f":"C143+1","v":4}]
["Summe 3+4:"]
["Summe 1-4:"]
[5,{"$f":"B144+C144+1-16","v":5},2]
[6,{"$f":"RIGHT(H137,2)","v":"10"},{"$f":"LEFT(H137,1)","v":"1"}]
["Summe 5+6:"]
["Summe 1-6:"]
["Name, Vorname",null,null,{"$f":"IF(ISBLANK(H151),\" \",INDEX('Eingabe Spielernamen'!$F:$F,MATCH(H151,'Eingabe Spielernamen'!$B:$B,0))&\", \"&INDEX('Eingabe Spielernamen'!$G:$G,MATCH(H151,'Eingabe Spielernamen'!$B:$B,0)))","v":", "},null,null,null,{"$f":"H137+1","v":111}]
["Verein:",null,null,{"$f":"IF($H151<>0,INDEX('Eingabe Spielernamen'!A:A,MATCH(H151,'Eingabe Spielernamen'!B:B,)),\" \")","v":0}]
["Serie","Tisch","Platz","Spielpunkte","gew.","ver..","v.G.","Gesamtpunkte"]
[1,{"$f":"B140+1","v":11},{"$f":"C140","v":1}]
[2,{"$f":"B154+C154","v":12},{"$f":"C154+1","v":2}]
["Summe 1+2:"]
[3,{"$f":"B155+C155","v":14},{"$f":"C155+1","v":3}]
[4,{"$f":"B157+C157-16","v":1},{"$f":"C157+1","v":4}]
["Summe 3+4:"]
["Summe 1-4:"]
[5,{"$f":"B158+C158+1","v":6},2]
[6,{"$f":"RIGHT(H151,2)","v":"11"},{"$f":"LEFT(H151,1)","v":"1"}]
["Summe 5+6:"]
["Summe 1-6:"]
[null,"wenn weniger als 16 Tische entsprechend vorrücken!"]
[null,"wenn weniger als 16 Tische entsprechend vorrücken!"]
["Name, Vorname",null,null,{"$f":"IF(ISBLANK(H167),\" \",INDEX('Eingabe Spielernamen'!$F:$F,MATCH(H167,'Eingabe Spielernamen'!$B:$B,0))&\", \"&INDEX('Eingabe Spielernamen'!$G:$G,MATCH(H167,'Eingabe Spielernamen'!$B:$B,0)))","v":", "},null,null,null,{"$f":"H151+1","v":112}]
["Verein:",null,null,{"$f":"IF($H167<>0,INDEX('Eingabe Spielernamen'!A:A,MATCH(H167,'Eingabe Spielernamen'!B:B,)),\" \")","v":0}]
["Serie","Tisch","Platz","Spielpunkte","gew.","ver..","v.G.","Gesamtpunkte"]
[1,{"$f":"B154+1","v":12},{"$f":"C154","v":1}]
[2,{"$f":"B170+C170","v":13},{"$f":"C170+1","v":2}]
["Summe 1+2:"]
[3,{"$f":"B171+C171","v":15},{"$f":"C171+1","v":3}]
[4,{"$f":"B173+C173-16","v":2},{"$f":"C173+1","v":4}]
["Summe 3+4:"]
["Summe 1-4:"]
[5,{"$f":"B174+C174+1","v":7},2]
[6,{"$f":"RIGHT(H167,2)","v":"12"},{"$f":"LEFT(H167,1)","v":"1"}]
["Summe 5+6:"]
["Summe 1-6:"]
["Name, Vorname",null,null,{"$f":"IF(ISBLANK(H181),\" \",INDEX('Eingabe Spielernamen'!$F:$F,MATCH(H181,'Eingabe Spielernamen'!$B:$B,0))&\", \"&INDEX('Eingabe Spielernamen'!$G:$G,MATCH(H181,'Eingabe Spielernamen'!$B:$B,0)))","v":", "},null,null,null,{"$f":"H167+1","v":113}]
["Verein:",null,null,{"$f":"IF($H181<>0,INDEX('Eingabe Spielernamen'!A:A,MATCH(H181,'Eingabe Spielernamen'!B:B,)),\" \")","v":0}]
["Serie","Tisch","Platz","Spielpunkte","gew.","ver..","v.G.","Gesamtpunkte"]
[1,{"$f":"B170+1","v":13},{"$f":"C170","v":1}]
[2,{"$f":"B184+C184","v":14},{"$f":"C184+1","v":2}]
["Summe 1+2:"]
[3,{"$f":"B185+C185","v":16},{"$f":"C185+1","v":3}]
[4,{"$f":"B187+C187-16","v":3},{"$f":"C187+1","v":4}]
["Summe 3+4:"]
["Summe 1-4:"]
[5,{"$f":"B188+C188+1","v":8},2]
[6,{"$f":"RIGHT(H181,2)","v":"13"},{"$f":"LEFT(H181,1)","v":"1"}]
["Summe 5+6:"]
["Summe 1-6:"]
[null,"wenn weniger als 16 Tische entsprechend vorrücken!"]
[null,"wenn weniger als 16 Tische entsprechend vorrücken!"]
["Name, Vorname",null,null,{"$f":"IF(ISBLANK(H197),\" \",INDEX('Eingabe Spielernamen'!$F:$F,MATCH(H197,'Eingabe Spielernamen'!$B:$B,0))&\", \"&INDEX('Eingabe Spielernamen'!$G:$G,MATCH(H197,'Eingabe Spielernamen'!$B:$B,0)))","v":", "},null,null,null,{"$f":"H181+1","v":114}]
["Verein:",null,null,{"$f":"IF($H197<>0,INDEX('Eingabe Spielernamen'!A:A,MATCH(H197,'Eingabe Spielernamen'!B:B,)),\" \")","v":0}]
["Serie","Tisch","Platz","Spielpunkte","gew.","ver..","v.G.","Gesamtpunkte"]
[1,{"$f":"B184+1","v":14},{"$f":"C184","v":1}]
[2,{"$f":"B200+C200","v":15},{"$f":"C200+1","v":2}]
["Summe 1+2:"]
[3,{"$f":"B201+C201-16","v":1},{"$f":"C201+1","v":3}]
[4,{"$f":"B203+C203","v":4},{"$f":"C203+1","v":4}]
["Summe 3+4:"]
["Summe 1-4:"]
[5,{"$f":"B204+C204+1","v":9},2]
[6,{"$f":"RIGHT(H197,2)","v":"14"},{"$f":"LEFT(H197,1)","v":"1"}]
["Summe 5+6:"]
["Summe 1-6:"]
["Name, Vorname",null,null,{"$f":"IF(ISBLANK(H211),\" \",INDEX('Eingabe Spielernamen'!$F:$F,MATCH(H211,'Eingabe Spielernamen'!$B:$B,0))&\", \"&INDEX('Eingabe Spielernamen'!$G:$G,MATCH(H211,'Eingabe Spielernamen'!$B:$B,0)))","v":", "},null,null,null,{"$f":"H197+1","v":115}]
["Verein:",null,null,{"$f":"IF($H211<>0,INDEX('Eingabe Spielernamen'!A:A,MATCH(H211,'Eingabe Spielernamen'!B:B,)),\" \")","v":0}]
["Serie","Tisch","Platz","Spielpunkte","gew.","ver..","v.G.","Gesamtpunkte"]
[1,{"$f":"B200+1","v":15},{"$f":"C200","v":1}]
[2,{"$f":"B214+C214","v":16},{"$f":"C214+1","v":2}]
["Summe 1+2:"]
[3,{"$f":"B215+C215-16","v":2},{"$f":"C215+1","v":3}]
[4,{"$f":"B217+C217","v":5},{"$f":"C217+1","v":4}]
["Summe 3+4:"]
["Summe 1-4:"]
[5,{"$f":"B218+C218+1","v":10},2]
[6,{"$f":"RIGHT(H211,2)","v":"15"},{"$f":"LEFT(H211,1)","v":"1"}]
["Summe 5+6:"]
["Summe 1-6:"]
[null,"wenn weniger als 16 Tische entsprechend vorrücken!"]
[null,"wenn weniger als 16 Tische entsprechend vorrücken!"]
["Name, Vorname",null,null,{"$f":"IF(ISBLANK(H227),\" \",INDEX('Eingabe Spielernamen'!$F:$F,MATCH(H227,'Eingabe Spielernamen'!$B:$B,0))&\", \"&INDEX('Eingabe Spielernamen'!$G:$G,MATCH(H227,'Eingabe Spielernamen'!$B:$B,0)))","v":", "},null,null,null,{"$f":"H211+1","v":116}]
["Verein:",null,null,{"$f":"IF($H227<>0,INDEX('Eingabe Spielernamen'!A:A,MATCH(H227,'Eingabe Spielernamen'!B:B,)),\" \")","v":0}]
["Serie","Tisch","Platz","Spielpunkte","gew.","ver..","v.G.","Gesamtpunkte"]
[1,{"$f":"B214+1","v":16},{"$f":"C214","v":1}]
[2,{"$f":"B230+C230-16","v":1},{"$f":"C230+1","v":2}]
["Summe 1+2:"]
[3,{"$f":"B231+C231","v":3},{"$f":"C231+1","v":3}]
[4,{"$f":"B233+C233","v":6},{"$f":"C233+1","v":4}]
["Summe 3+4:"]
["Summe 1-4:"]
[5,{"$f":"B234+C234+1","v":11},2]
[6,{"$f":"RIGHT(H227,2)","v":"16"},{"$f":"LEFT(H227,1)","v":"1"}]
["Summe 5+6:"]
["Summe 1-6:"]
["Name, Vorname",null,null,{"$f":"IF(ISBLANK(H241),\" \",INDEX('Eingabe Spielernamen'!$F:$F,MATCH(H241,'Eingabe Spielernamen'!$B:$B,0))&\", \"&INDEX('Eingabe Spielernamen'!$G:$G,MATCH(H241,'Eingabe Spielernamen'!$B:$B,0)))","v":", "},null,null,null,201]
["Verein:",null,null,{"$f":"IF($H241<>0,INDEX('Eingabe Spielernamen'!A:A,MATCH(H241,'Eingabe Spielernamen'!B:B,)),\" \")","v":0}]
["Serie","Tisch","Platz","Spielpunkte","gew.","ver..","v.G.","Gesamtpunkte"]
[1,16,{"$f":"LEFT(H241,1)","v":"2"}]
[2,{"$f":"B244+C244-16","v":2},{"$f":"C244+1","v":3}]
["Summe 1+2:"]
[3,{"$f":"B245+C245","v":5},{"$f":"C245+1","v":4}]
[4,{"$f":"B247+C247+1","v":10},{"$f":"C247-3","v":1}]
["Summe 3+4:"]
["Summe 1-4:"]
[5,{"$f":"B248+C248+3","v":14},3]
[6,{"$f":"RIGHT(H241,2)","v":"01"},{"$f":"LEFT(H241,1)","v":"2"}]
["Summe 5+6:"]
["Summe 1-6:"]
[null,"wenn weniger als 16 Tische entsprechend vorrücken!"]
[null,"wenn weniger als 16 Tische entsprechend vorrücken!"]
["Name, Vorname",null,null,{"$f":"IF(ISBLANK(H257),\" \",INDEX('Eingabe Spielernamen'!$F:$F,MATCH(H257,'Eingabe Spielernamen'!$B:$B,0))&\", \"&INDEX('Eingabe Spielernamen'!$G:$G,MATCH(H257,'Eingabe Spielernamen'!$B:$B,0)))","v":", "},null,null,null,{"$f":"H241+1","v":202}]
["Verein:",null,null,{"$f":"IF($H257<>0,INDEX('Eingabe Spielernamen'!A:A,MATCH(H257,'Eingabe Spielernamen'!B:B,)),\" \")","v":0}]
["Serie","Tisch","Platz","Spielpunkte","gew.","ver..","v.G.","Gesamtpunkte"]
[1,{"$f":"B244+1-16","v":1},{"$f":"C244","v":"2"}]
[2,{"$f":"B260+C260","v":3},{"$f":"C260+1","v":3}]
["Summe 1+2:"]
[3,{"$f":"B261+C261","v":6},{"$f":"C261+1","v":4}]
[4,{"$f":"B263+C263+1","v":11},{"$f":"C263-3","v":1}]
["Summe 3+4:"]
["Summe 1-4:"]
[5,{"$f":"B264+C264+3","v":15},3]
[6,{"$f":"RIGHT(H257,2)","v":"02"},{"$f":"LEFT(H257,1)","v":"2"}]
["Summe 5+6:"]
["Summe 1-6:"]
["Name, Vorname",null,null,{"$f":"IF(ISBLANK(H271),\" \",INDEX('Eingabe Spielernamen'!$F:$F,MATCH(H271,'Eingabe Spielernamen'!$B:$B,0))&\", \"&INDEX('Eingabe Spielernamen'!$G:$G,MATCH(H271,'Eingabe Spielernamen'!$B:$B,0)))","v":", "},null,null,null,{"$f":"H257+1","v":203}]
["Verein:",null,null,{"$f":"IF($H271<>0,INDEX('Eingabe Spielernamen'!A:A,MATCH(H271,'Eingabe Spielernamen'!B:B,)),\" \")","v":0}]
["Serie","Tisch","Platz","Spielpunkte","gew.","ver..","v.G.","Gesamtpunkte"]
[1,{"$f":"B260+1","v":2},{"$f":"C260","v":"2"}]
[2,{"$f":"B274+C274","v":4},{"$f":"C274+1","v":3}]
["Summe 1+2:"]
[3,{"$f":"B275+C275","v":7},{"$f":"C275+1","v":4}]
[4,{"$f":"B277+C277+1","v":12},{"$f":"C277-3","v":1}]
["Summe 3+4:"]
["Summe 1-4:"]
[5,{"$f":"B278+C278+3","v":16},3]
[6,{"$f":"RIGHT(H271,2)","v":"03"},{"$f":"LEFT(H271,1)","v":"2"}]
["Summe 5+6:"]
["Summe 1-6:"]
[null,"wenn weniger als 16 Tische entsprechend vorrücken!"]
[null,"wenn weniger als 16 Tische entsprechend vorrücken!"]
["Name, Vorname",null,null,{"$f":"IF(ISBLANK(H287),\" \",INDEX('Eingabe Spielernamen'!$F:$F,MATCH(H287,'Eingabe Spielernamen'!$B:$B,0))&\", \"&INDEX('Eingabe Spielernamen'!$G:$G,MATCH(H287,'Eingabe Spielernamen'!$B:$B,0)))","v":", "},null,null,null,{"$f":"H271+1","v":204}]
["Verein:",null,null,{"$f":"IF($H287<>0,INDEX('Eingabe Spielernamen'!A:A,MATCH(H287,'Eingabe Spielernamen'!B:B,)),\" \")","v":0}]
["Serie","Tisch","Platz","Spielpunkte","gew.","ver..","v.G.","Gesamtpunkte"]
[1,{"$f":"B274+1","v":3},{"$f":"C274","v":"2"}]
[2,{"$f":"B290+C290","v":5},{"$f":"C290+1","v":3}]
["Summe 1+2:"]
[3,{"$f":"B291+C291","v":8},{"$f":"C291+1","v":4}]
[4,{"$f":"B293+C293+1","v":13},{"$f":"C293-3","v":1}]
["Summe 3+4:"]
["Summe 1-4:"]
[5,{"$f":"B294+C294+3-16","v":1},3]
[6,{"$f":"RIGHT(H287,2)","v":"04"},{"$f":"LEFT(H287,1)","v":"2"}]
["Summe 5+6:"]
["Summe 1-6:"]
["Name, Vorname",null,null,{"$f":"IF(ISBLANK(H301),\" \",INDEX('Eingabe Spielernamen'!$F:$F,MATCH(H301,'Eingabe Spielernamen'!$B:$B,0))&\", \"&INDEX('Eingabe Spielernamen'!$G:$G,MATCH(H301,'Eingabe Spielernamen'!$B:$B,0)))","v":", "},null,null,null,{"$f":"H287+1","v":205}]
["Verein:",null,null,{"$f":"IF($H301<>0,INDEX('Eingabe Spielernamen'!A:A,MATCH(H301,'Eingabe Spielernamen'!B:B,)),\" \")","v":0}]
["Serie","Tisch","Platz","Spielpunkte","gew.","ver..","v.G.","Gesamtpunkte"]
[1,{"$f":"B290+1","v":4},{"$f":"C290","v":"2"}]
[2,{"$f":"B304+C304","v":6},{"$f":"C304+1","v":3}]
["Summe 1+2:"]
[3,{"$f":"B305+C305","v":9},{"$f":"C305+1","v":4}]
[4,{"$f":"B307+C307+1","v":14},{"$f":"C307-3","v":1}]
["Summe 3+4:"]
["Summe 1-4:"]
[5,{"$f":"B308+C308+3-16","v":2},3]
[6,{"$f":"RIGHT(H301,2)","v":"05"},{"$f":"LEFT(H301,1)","v":"2"}]
["Summe 5+6:"]
["Summe 1-6:"]
[null,"wenn weniger als 16 Tische entsprechend vorrücken!"]
[null,"wenn weniger als 16 Tische entsprechend vorrücken!"]
["Name, Vorname",null,null,{"$f":"IF(ISBLANK(H317),\" \",INDEX('Eingabe Spielernamen'!$F:$F,MATCH(H317,'Eingabe Spielernamen'!$B:$B,0))&\", \"&INDEX('Eingabe Spielernamen'!$G:$G,MATCH(H317,'Eingabe Spielernamen'!$B:$B,0)))","v":", "},null,null,null,{"$f":"H301+1","v":206}]
["Verein:",null,null,{"$f":"IF($H317<>0,INDEX('Eingabe Spielernamen'!A:A,MATCH(H317,'Eingabe Spielernamen'!B:B,)),\" \")","v":0}]
["Serie","Tisch","Platz","Spielpunkte","gew.","ver..","v.G.","Gesamtpunkte"]
[1,{"$f":"B304+1","v":5},{"$f":"C304","v":"2"}]
[2,{"$f":"B320+C320","v":7},{"$f":"C320+1","v":3}]
["Summe 1+2:"]
[3,{"$f":"B321+C321","v":10},{"$f":"C321+1","v":4}]
[4,{"$f":"B323+C323+1","v":15},{"$f":"C323-3","v":1}]
["Summe 3+4:"]
["Summe 1-4:"]
[5,{"$f":"B324+C324+3-16","v":3},3]
[6,{"$f":"RIGHT(H317,2)","v":"06"},{"$f":"LEFT(H317,1)","v":"2"}]
["Summe 5+6:"]
["Summe 1-6:"]
["Name, Vorname",null,null,{"$f":"IF(ISBLANK(H331),\" \",INDEX('Eingabe Spielernamen'!$F:$F,MATCH(H331,'Eingabe Spielernamen'!$B:$B,0))&\", \"&INDEX('Eingabe Spielernamen'!$G:$G,MATCH(H331,'Eingabe Spielernamen'!$B:$B,0)))","v":", "},null,null,null,{"$f":"H317+1","v":207}]
["Verein:",null,null,{"$f":"IF($H331<>0,INDEX('Eingabe Spielernamen'!A:A,MATCH(H331,'Eingabe Spielernamen'!B:B,)),\" \")","v":0}]
["Serie","Tisch","Platz","Spielpunkte","gew.","ver..","v.G.","Gesamtpunkte"]
[1,{"$f":"B320+1","v":6},{"$f":"C320","v":"2"}]
[2,{"$f":"B334+C334","v":8},{"$f":"C334+1","v":3}]
["Summe 1+2:"]
[3,{"$f":"B335+C335","v":11},{"$f":"C335+1","v":4}]
[4,{"$f":"B337+C337+1","v":16},{"$f":"C337-3","v":1}]
["Summe 3+4:"]
["Summe 1-4:"]
[5,{"$f":"B338+C338+3-16","v":4},3]
[6,{"$f":"RIGHT(H331,2)","v":"07"},{"$f":"LEFT(H331,1)","v":"2"}]
["Summe 5+6:"]
["Summe 1-6:"]
[null,"wenn weniger als 16 Tische entsprechend vorrücken!"]
[null,"wenn weniger als 16 Tische entsprechend vorrücken!"]
["Name, Vorname",null,null,{"$f":"IF(ISBLANK(H347),\" \",INDEX('Eingabe Spielernamen'!$F:$F,MATCH(H347,'Eingabe Spielernamen'!$B:$B,0))&\", \"&INDEX('Eingabe Spielernamen'!$G:$G,MATCH(H347,'Eingabe Spielernamen'!$B:$B,0)))","v":", "},null,null,null,{"$f":"H331+1","v":208}]
["Verein:",null,null,{"$f":"IF($H347<>0,INDEX('Eingabe Spielernamen'!A:A,MATCH(H347,'Eingabe Spielernamen'!B:B,)),\" \")","v":0}]
["Serie","Tisch","Platz","Spielpunkte","gew.","ver..","v.G.","Gesamtpunkte"]
[1,{"$f":"B334+1","v":7},{"$f":"C334","v":"2"}]
[2,{"$f":"B350+C350","v":9},{"$f":"C350+1","v":3}]
["Summe 1+2:"]
[3,{"$f":"B351+C351","v":12},{"$f":"C351+1","v":4}]
[4,{"$f":"B353+C353+1-16","v":1},{"$f":"C353-3","v":1}]
["Summe 3+4:"]
["Summe 1-4:"]
[5,{"$f":"B354+C354+3","v":5},3]
[6,{"$f":"RIGHT(H347,2)","v":"08"},{"$f":"LEFT(H347,1)","v":"2"}]
["Summe 5+6:"]
["Summe 1-6:"]
["Name, Vorname",null,null,{"$f":"IF(ISBLANK(H361),\" \",INDEX('Eingabe Spielernamen'!$F:$F,MATCH(H361,'Eingabe Spielernamen'!$B:$B,0))&\", \"&INDEX('Eingabe Spielernamen'!$G:$G,MATCH(H361,'Eingabe Spielernamen'!$B:$B,0)))","v":", "},null,null,null,{"$f":"H347+1","v":209}]
["Verein:",null,null,{"$f":"IF($H361<>0,INDEX('Eingabe Spielernamen'!A:A,MATCH(H361,'Eingabe Spielernamen'!B:B,)),\" \")","v":0}]
["Serie","Tisch","Platz","Spielpunkte","gew.","ver..","v.G.","Gesamtpunkte"]
[1,{"$f":"B350+1","v":8},{"$f":"C350","v":"2"}]
[2,{"$f":"B364+C364","v":10},{"$f":"C364+1","v":3}]
["Summe 1+2:"]
[3,{"$f":"B365+C365","v":13},{"$f":"C365+1","v":4}]
[4,{"$f":"B367+C367+1-16","v":2},{"$f":"C367-3","v":1}]
["Summe 3+4:"]
["Summe 1-4:"]
[5,{"$f":"B368+C368+3","v":6},3]
[6,{"$f":"RIGHT(H361,2)","v":"09"},{"$f":"LEFT(H361,1)","v":"2"}]
["Summe 5+6:"]
["Summe 1-6:"]
[null,"wenn weniger als 16 Tische entsprechend vorrücken!"]
[null,"wenn weniger als 16 Tische entsprechend vorrücken!"]
["Name, Vorname",null,null,{"$f":"IF(ISBLANK(H377),\" \",INDEX('Eingabe Spielernamen'!$F:$F,MATCH(H377,'Eingabe Spielernamen'!$B:$B,0))&\", \"&INDEX('Eingabe Spielernamen'!$G:$G,MATCH(H377,'Eingabe Spielernamen'!$B:$B,0)))","v":", "},null,null,null,{"$f":"H361+1","v":210}]
["Verein:",null,null,{"$f":"IF($H377<>0,INDEX('Eingabe Spielernamen'!A:A,MATCH(H377,'Eingabe Spielernamen'!B:B,)),\" \")","v":0}]
["Serie","Tisch","Platz","Spielpunkte","gew.","ver..","v.G.","Gesamtpunkte"]
[1,{"$f":"B364+1","v":9},{"$f":"C364","v":"2"}]
[2,{"$f":"B380+C380","v":11},{"$f":"C380+1","v":3}]
["Summe 1+2:"]
[3,{"$f":"B381+C381","v":14},{"$f":"C381+1","v":4}]
[4,{"$f":"B383+C383+1-16","v":3},{"$f":"C383-3","v":1}]
["Summe 3+4:"]
["Summe 1-4:"]
[5,{"$f":"B384+C384+3","v":7},3]
[6,{"$f":"RIGHT(H377,2)","v":"10"},{"$f":"LEFT(H377,1)","v":"2"}]
["Summe 5+6:"]
["Summe 1-6:"]
["Name, Vorname",null,null,{"$f":"IF(ISBLANK(H391),\" \",INDEX('Eingabe Spielernamen'!$F:$F,MATCH(H391,'Eingabe Spielernamen'!$B:$B,0))&\", \"&INDEX('Eingabe Spielernamen'!$G:$G,MATCH(H391,'Eingabe Spielernamen'!$B:$B,0)))","v":", "},null,null,null,{"$f":"H377+1","v":211}]
["Verein:",null,null,{"$f":"IF($H391<>0,INDEX('Eingabe Spielernamen'!A:A,MATCH(H391,'Eingabe Spielernamen'!B:B,)),\" \")","v":0}]
["Serie","Tisch","Platz","Spielpunkte","gew.","ver..","v.G.","Gesamtpunkte"]
[1,{"$f":"B380+1","v":10},{"$f":"C380","v":"2"}]
[2,{"$f":"B394+C394","v":12},{"$f":"C394+1","v":3}]
["Summe 1+2:"]
[3,{"$f":"B395+C395","v":15},{"$f":"C395+1","v":4}]
[4,{"$f":"B397+C397+1-16","v":4},{"$f":"C397-3","v":1}]
["Summe 3+4:"]
["Summe 1-4:"]
[5,{"$f":"B398+C398+3","v":8},3]
[6,{"$f":"RIGHT(H391,2)","v":"11"},{"$f":"LEFT(H391,1)","v":"2"}]
["Summe 5+6:"]
["Summe 1-6:"]
[null,"wenn weniger als 16 Tische entsprechend vorrücken!"]
[null,"wenn weniger als 16 Tische entsprechend vorrücken!"]
["Name, Vorname",null,null,{"$f":"IF(ISBLANK(H407),\" \",INDEX('Eingabe Spielernamen'!$F:$F,MATCH(H407,'Eingabe Spielernamen'!$B:$B,0))&\", \"&INDEX('Eingabe Spielernamen'!$G:$G,MATCH(H407,'Eingabe Spielernamen'!$B:$B,0)))","v":", "},null,null,null,{"$f":"H391+1","v":212}]
["Verein:",null,null,{"$f":"IF($H407<>0,INDEX('Eingabe Spielernamen'!A:A,MATCH(H407,'Eingabe Spielernamen'!B:B,)),\" \")","v":0}]
["Serie","Tisch","Platz","Spielpunkte","gew.","ver..","v.G.","Gesamtpunkte"]
[1,{"$f":"B394+1","v":11},{"$f":"C394","v":"2"}]
[2,{"$f":"B410+C410","v":13},{"$f":"C410+1","v":3}]
["Summe 1+2:"]
[3,{"$f":"B411+C411","v":16},{"$f":"C411+1","v":4}]
[4,{"$f":"B413+C413+1-16","v":5},{"$f":"C413-3","v":1}]
["Summe 3+4:"]
["Summe 1-4:"]
[5,{"$f":"B414+C414+3","v":9},3]
[6,{"$f":"RIGHT(H407,2)","v":"12"},{"$f":"LEFT(H407,1)","v":"2"}]
["Summe 5+6:"]
["Summe 1-6:"]
["Name, Vorname",null,null,{"$f":"IF(ISBLANK(H421),\" \",INDEX('Eingabe Spielernamen'!$F:$F,MATCH(H421,'Eingabe Spielernamen'!$B:$B,0))&\", \"&INDEX('Eingabe Spielernamen'!$G:$G,MATCH(H421,'Eingabe Spielernamen'!$B:$B,0)))","v":", "},null,null,null,{"$f":"H407+1","v":213}]
["Verein:",null,null,{"$f":"IF($H421<>0,INDEX('Eingabe Spielernamen'!A:A,MATCH(H421,'Eingabe Spielernamen'!B:B,)),\" \")","v":0}]
["Serie","Tisch","Platz","Spielpunkte","gew.","ver..","v.G.","Gesamtpunkte"]
[1,{"$f":"B410+1","v":12},{"$f":"C410","v":"2"}]
[2,{"$f":"B424+C424","v":14},{"$f":"C424+1","v":3}]
["Summe 1+2:"]
[3,{"$f":"B425+C425-16","v":1},{"$f":"C425+1","v":4}]
[4,{"$f":"B427+C427+1","v":6},{"$f":"C427-3","v":1}]
["Summe 3+4:"]
["Summe 1-4:"]
[5,{"$f":"B428+C428+3","v":10},3]
[6,{"$f":"RIGHT(H421,2)","v":"13"},{"$f":"LEFT(H421,1)","v":"2"}]
["Summe 5+6:"]
["Summe 1-6:"]
[null,"wenn weniger als 16 Tische entsprechend vorrücken!"]
[null,"wenn weniger als 16 Tische entsprechend vorrücken!"]
["Name, Vorname",null,null,{"$f":"IF(ISBLANK(H437),\" \",INDEX('Eingabe Spielernamen'!$F:$F,MATCH(H437,'Eingabe Spielernamen'!$B:$B,0))&\", \"&INDEX('Eingabe Spielernamen'!$G:$G,MATCH(H437,'Eingabe Spielernamen'!$B:$B,0)))","v":", "},null,null,null,{"$f":"H421+1","v":214}]
["Verein:",null,null,{"$f":"IF($H437<>0,INDEX('Eingabe Spielernamen'!A:A,MATCH(H437,'Eingabe Spielernamen'!B:B,)),\" \")","v":0}]
["Serie","Tisch","Platz","Spielpunkte","gew.","ver..","v.G.","Gesamtpunkte"]
[1,{"$f":"B424+1","v":13},{"$f":"C424","v":"2"}]
[2,{"$f":"B440+C440","v":15},{"$f":"C440+1","v":3}]
["Summe 1+2:"]
[3,{"$f":"B441+C441-16","v":2},{"$f":"C441+1","v":4}]
[4,{"$f":"B443+C443+1","v":7},{"$f":"C443-3","v":1}]
["Summe 3+4:"]
["Summe 1-4:"]
[5,{"$f":"B444+C444+3","v":11},3]
[6,{"$f":"RIGHT(H437,2)","v":"14"},{"$f":"LEFT(H437,1)","v":"2"}]
["Summe 5+6:"]
["Summe 1-6:"]
["Name, Vorname",null,null,{"$f":"IF(ISBLANK(H451),\" \",INDEX('Eingabe Spielernamen'!$F:$F,MATCH(H451,'Eingabe Spielernamen'!$B:$B,0))&\", \"&INDEX('Eingabe Spielernamen'!$G:$G,MATCH(H451,'Eingabe Spielernamen'!$B:$B,0)))","v":", "},null,null,null,{"$f":"H437+1","v":215}]
["Verein:",null,null,{"$f":"IF($H451<>0,INDEX('Eingabe Spielernamen'!A:A,MATCH(H451,'Eingabe Spielernamen'!B:B,)),\" \")","v":0}]
["Serie","Tisch","Platz","Spielpunkte","gew.","ver..","v.G.","Gesamtpunkte"]
[1,{"$f":"B440+1","v":14},{"$f":"C440","v":"2"}]
[2,{"$f":"B454+C454","v":16},{"$f":"C454+1","v":3}]
["Summe 1+2:"]
[3,{"$f":"B455+C455-16","v":3},{"$f":"C455+1","v":4}]
[4,{"$f":"B457+C457+1","v":8},{"$f":"C457-3","v":1}]
["Summe 3+4:"]
["Summe 1-4:"]
[5,{"$f":"B458+C458+3","v":12},3]
[6,{"$f":"RIGHT(H451,2)","v":"15"},{"$f":"LEFT(H451,1)","v":"2"}]
["Summe 5+6:"]
["Summe 1-6:"]
[null,"wenn weniger als 16 Tische entsprechend vorrücken!"]
[null,"wenn weniger als 16 Tische entsprechend vorrücken!"]
["Name, Vorname",null,null,{"$f":"IF(ISBLANK(H467),\" \",INDEX('Eingabe Spielernamen'!$F:$F,MATCH(H467,'Eingabe Spielernamen'!$B:$B,0))&\", \"&INDEX('Eingabe Spielernamen'!$G:$G,MATCH(H467,'Eingabe Spielernamen'!$B:$B,0)))","v":", "},null,null,null,{"$f":"H451+1","v":216}]
["Verein:",null,null,{"$f":"IF($H467<>0,INDEX('Eingabe Spielernamen'!A:A,MATCH(H467,'Eingabe Spielernamen'!B:B,)),\" \")","v":0}]
["Serie","Tisch","Platz","Spielpunkte","gew.","ver..","v.G.","Gesamtpunkte"]
[1,{"$f":"B454+1","v":15},{"$f":"C454","v":"2"}]
[2,{"$f":"B470+C470-16","v":1},{"$f":"C470+1","v":3}]
["Summe 1+2:"]
[3,{"$f":"B471+C471","v":4},{"$f":"C471+1","v":4}]
[4,{"$f":"B473+C473+1","v":9},{"$f":"C473-3","v":1}]
["Summe 3+4:"]
["Summe 1-4:"]
[5,{"$f":"B474+C474+3","v":13},3]
[6,{"$f":"RIGHT(H467,2)","v":"16"},{"$f":"LEFT(H467,1)","v":"2"}]
["Summe 5+6:"]
["Summe 1-6:"]
["Name, Vorname",null,null,{"$f":"IF(ISBLANK(H481),\" \",INDEX('Eingabe Spielernamen'!$F:$F,MATCH(H481,'Eingabe Spielernamen'!$B:$B,0))&\", \"&INDEX('Eingabe Spielernamen'!$G:$G,MATCH(H481,'Eingabe Spielernamen'!$B:$B,0)))","v":", "},null,null,null,301]
["Verein:",null,null,{"$f":"IF($H481<>0,INDEX('Eingabe Spielernamen'!A:A,MATCH(H481,'Eingabe Spielernamen'!B:B,)),\" \")","v":0}]
["Serie","Tisch","Platz","Spielpunkte","gew.","ver..","v.G.","Gesamtpunkte"]
[1,15,{"$f":"LEFT(H481,1)","v":"3"}]
[2,{"$f":"B484+C484-16","v":2},{"$f":"C484+1","v":4}]
["Summe 1+2:"]
[3,{"$f":"B485+C485+1","v":7},{"$f":"C485-3","v":1}]
[4,{"$f":"B487+C487","v":8},{"$f":"C487+1","v":2}]
["Summe 3+4:"]
["Summe 1-4:"]
[5,{"$f":"B488+C488+4","v":14},4]
[6,{"$f":"RIGHT(H481,2)","v":"01"},{"$f":"LEFT(H481,1)","v":"3"}]
["Summe 5+6:"]
["Summe 1-6:"]
[null,"wenn weniger als 16 Tische entsprechend vorrücken!"]
[null,"wenn weniger als 16 Tische entsprechend vorrücken!"]
["Name, Vorname",null,null,{"$f":"IF(ISBLANK(H497),\" \",INDEX('Eingabe Spielernamen'!$F:$F,MATCH(H497,'Eingabe Spielernamen'!$B:$B,0))&\", \"&INDEX('Eingabe Spielernamen'!$G:$G,MATCH(H497,'Eingabe Spielernamen'!$B:$B,0)))","v":", "},null,null,null,{"$f":"H481+1","v":302}]
["Verein:",null,null,{"$f":"IF($H497<>0,INDEX('Eingabe Spielernamen'!A:A,MATCH(H497,'Eingabe Spielernamen'!B:B,)),\" \")","v":0}]
["Serie","Tisch","Platz","Spielpunkte","gew.","ver..","v.G.","Gesamtpunkte"]
[1,{"$f":"B484+1","v":16},{"$f":"C484","v":"3"}]
[2,{"$f":"B500+C500-16","v":3},{"$f":"C500+1","v":4}]
["Summe 1+2:"]
[3,{"$f":"B501+C501+1","v":8},{"$f":"C501-3","v":1}]
[4,{"$f":"B503+C503","v":9},{"$f":"C503+1","v":2}]
["Summe 3+4:"]
["Summe 1-4:"]
[5,{"$f":"B504+C504+4","v":15},4]
[6,{"$f":"RIGHT(H497,2)","v":"02"},{"$f":"LEFT(H497,1)","v":"3"}]
["Summe 5+6:"]
["Summe 1-6:"]
["Name, Vorname",null,null,{"$f":"IF(ISBLANK(H511),\" \",INDEX('Eingabe Spielernamen'!$F:$F,MATCH(H511,'Eingabe Spielernamen'!$B:$B,0))&\", \"&INDEX('Eingabe Spielernamen'!$G:$G,MATCH(H511,'Eingabe Spielernamen'!$B:$B,0)))","v":", "},null,null,null,{"$f":"H497+1","v":303}]
["Verein:",null,null,{"$f":"IF($H511<>0,INDEX('Eingabe Spielernamen'!A:A,MATCH(H511,'Eingabe Spielernamen'!B:B,)),\" \")","v":0}]
["Serie","Tisch","Platz","Spielpunkte","gew.","ver..","v.G.","Gesamtpunkte"]
[1,{"$f":"B500+1-16","v":1},{"$f":"C500","v":"3"}]
[2,{"$f":"B514+C514","v":4},{"$f":"C514+1","v":4}]
["Summe 1+2:"]
[3,{"$f":"B515+C515+1","v":9},{"$f":"C515-3","v":1}]
[4,{"$f":"B517+C517","v":10},{"$f":"C517+1","v":2}]
["Summe 3+4:"]
["Summe 1-4:"]
[5,{"$f":"B518+C518+4","v":16},4]
[6,{"$f":"RIGHT(H511,2)","v":"03"},{"$f":"LEFT(H511,1)","v":"3"}]
["Summe 5+6:"]
["Summe 1-6:"]
[null,"wenn weniger als 16 Tische entsprechend vorrücken!"]
[null,"wenn weniger als 16 Tische entsprechend vorrücken!"]
["Name, Vorname",null,null,{"$f":"IF(ISBLANK(H527),\" \",INDEX('Eingabe Spielernamen'!$F:$F,MATCH(H527,'Eingabe Spielernamen'!$B:$B,0))&\", \"&INDEX('Eingabe Spielernamen'!$G:$G,MATCH(H527,'Eingabe Spielernamen'!$B:$B,0)))","v":", "},null,null,null,{"$f":"H511+1","v":304}]
["Verein:",null,null,{"$f":"IF($H527<>0,INDEX('Eingabe Spielernamen'!A:A,MATCH(H527,'Eingabe Spielernamen'!B:B,)),\" \")","v":0}]
["Serie","Tisch","Platz","Spielpunkte","gew.","ver..","v.G.","Gesamtpunkte"]
[1,{"$f":"B514+1","v":2},{"$f":"C514","v":"3"}]
[2,{"$f":"B530+C530","v":5},{"$f":"C530+1","v":4}]
["Summe 1+2:"]
[3,{"$f":"B531+C531+1","v":10},{"$f":"C531-3","v":1}]
[4,{"$f":"B533+C533","v":11},{"$f":"C533+1","v":2}]
["Summe 3+4:"]
["Summe 1-4:"]
[5,{"$f":"B534+C534+4-16","v":1},4]
[6,{"$f":"RIGHT(H527,2)","v":"04"},{"$f":"LEFT(H527,1)","v":"3"}]
["Summe 5+6:"]
["Summe 1-6:"]
["Name, Vorname",null,null,{"$f":"IF(ISBLANK(H541),\" \",INDEX('Eingabe Spielernamen'!$F:$F,MATCH(H541,'Eingabe Spielernamen'!$B:$B,0))&\", \"&INDEX('Eingabe Spielernamen'!$G:$G,MATCH(H541,'Eingabe Spielernamen'!$B:$B,0)))","v":", "},null,null,null,{"$f":"H527+1","v":305}]
["Verein:",null,null,{"$f":"IF($H541<>0,INDEX('Eingabe Spielernamen'!A:A,MATCH(H541,'Eingabe Spielernamen'!B:B,)),\" \")","v":0}]
["Serie","Tisch","Platz","Spielpunkte","gew.","ver..","v.G.","Gesamtpunkte"]
[1,{"$f":"B530+1","v":3},{"$f":"C530","v":"3"}]
[2,{"$f":"B544+C544","v":6},{"$f":"C544+1","v":4}]
["Summe 1+2:"]
[3,{"$f":"B545+C545+1","v":11},{"$f":"C545-3","v":1}]
[4,{"$f":"B547+C547","v":12},{"$f":"C547+1","v":2}]
["Summe 3+4:"]
["Summe 1-4:"]
[5,{"$f":"B548+C548+4-16","v":2},4]
[6,{"$f":"RIGHT(H541,2)","v":"05"},{"$f":"LEFT(H541,1)","v":"3"}]
["Summe 5+6:"]
["Summe 1-6:"]
[null,"wenn weniger als 16 Tische entsprechend vorrücken!"]
[null,"wenn weniger als 16 Tische entsprechend vorrücken!"]
["Name, Vorname",null,null,{"$f":"IF(ISBLANK(H557),\" \",INDEX('Eingabe Spielernamen'!$F:$F,MATCH(H557,'Eingabe Spielernamen'!$B:$B,0))&\", \"&INDEX('Eingabe Spielernamen'!$G:$G,MATCH(H557,'Eingabe Spielernamen'!$B:$B,0)))","v":", "},null,null,null,{"$f":"H541+1","v":306}]
["Verein:",null,null,{"$f":"IF($H557<>0,INDEX('Eingabe Spielernamen'!A:A,MATCH(H557,'Eingabe Spielernamen'!B:B,)),\" \")","v":0}]
["Serie","Tisch","Platz","Spielpunkte","gew.","ver..","v.G.","Gesamtpunkte"]
[1,{"$f":"B544+1","v":4},{"$f":"C544","v":"3"}]
[2,{"$f":"B560+C560","v":7},{"$f":"C560+1","v":4}]
["Summe 1+2:"]
[3,{"$f":"B561+C561+1","v":12},{"$f":"C561-3","v":1}]
[4,{"$f":"B563+C563","v":13},{"$f":"C563+1","v":2}]
["Summe 3+4:"]
["Summe 1-4:"]
[5,{"$f":"B564+C564+4-16","v":3},4]
[6,{"$f":"RIGHT(H557,2)","v":"06"},{"$f":"LEFT(H557,1)","v":"3"}]
["Summe 5+6:"]
["Summe 1-6:"]
["Name, Vorname",null,null,{"$f":"IF(ISBLANK(H571),\" \",INDEX('Eingabe Spielernamen'!$F:$F,MATCH(H571,'Eingabe Spielernamen'!$B:$B,0))&\", \"&INDEX('Eingabe Spielernamen'!$G:$G,MATCH(H571,'Eingabe Spielernamen'!$B:$B,0)))","v":", "},null,null,null,{"$f":"H557+1","v":307}]
["Verein:",null,null,{"$f":"IF($H571<>0,INDEX('Eingabe Spielernamen'!A:A,MATCH(H571,'Eingabe Spielernamen'!B:B,)),\" \")","v":0}]
["Serie","Tisch","Platz","Spielpunkte","gew.","ver..","v.G.","Gesamtpunkte"]
[1,{"$f":"B560+1","v":5},{"$f":"C560","v":"3"}]
[2,{"$f":"B574+C574","v":8},{"$f":"C574+1","v":4}]
["Summe 1+2:"]
[3,{"$f":"B575+C575+1","v":13},{"$f":"C575-3","v":1}]
[4,{"$f":"B577+C577","v":14},{"$f":"C577+1","v":2}]
["Summe 3+4:"]
["Summe 1-4:"]
[5,{"$f":"B578+C578+4-16","v":4},4]
[6,{"$f":"RIGHT(H571,2)","v":"07"},{"$f":"LEFT(H571,1)","v":"3"}]
["Summe 5+6:"]
["Summe 1-6:"]
[null,"wenn weniger als 16 Tische entsprechend vorrücken!"]
[null,"wenn weniger als 16 Tische entsprechend vorrücken!"]
["Name, Vorname",null,null,{"$f":"IF(ISBLANK(H587),\" \",INDEX('Eingabe Spielernamen'!$F:$F,MATCH(H587,'Eingabe Spielernamen'!$B:$B,0))&\", \"&INDEX('Eingabe Spielernamen'!$G:$G,MATCH(H587,'Eingabe Spielernamen'!$B:$B,0)))","v":", "},null,null,null,{"$f":"H571+1","v":308}]
["Verein:",null,null,{"$f":"IF($H587<>0,INDEX('Eingabe Spielernamen'!A:A,MATCH(H587,'Eingabe Spielernamen'!B:B,)),\" \")","v":0}]
["Serie","Tisch","Platz","Spielpunkte","gew.","ver..","v.G.","Gesamtpunkte"]
[1,{"$f":"B574+1","v":6},{"$f":"C574","v":"3"}]
[2,{"$f":"B590+C590","v":9},{"$f":"C590+1","v":4}]
["Summe 1+2:"]
[3,{"$f":"B591+C591+1","v":14},{"$f":"C591-3","v":1}]
[4,{"$f":"B593+C593","v":15},{"$f":"C593+1","v":2}]
["Summe 3+4:"]
["Summe 1-4:"]
[5,{"$f":"B594+C594+4-16","v":5},4]
[6,{"$f":"RIGHT(H587,2)","v":"08"},{"$f":"LEFT(H587,1)","v":"3"}]
["Summe 5+6:"]
["Summe 1-6:"]
["Name, Vorname",null,null,{"$f":"IF(ISBLANK(H601),\" \",INDEX('Eingabe Spielernamen'!$F:$F,MATCH(H601,'Eingabe Spielernamen'!$B:$B,0))&\", \"&INDEX('Eingabe Spielernamen'!$G:$G,MATCH(H601,'Eingabe Spielernamen'!$B:$B,0)))","v":", "},null,null,null,{"$f":"H587+1","v":309}]
["Verein:",null,null,{"$f":"IF($H601<>0,INDEX('Eingabe Spielernamen'!A:A,MATCH(H601,'Eingabe Spielernamen'!B:B,)),\" \")","v":0}]
["Serie","Tisch","Platz","Spielpunkte","gew.","ver..","v.G.","Gesamtpunkte"]
[1,{"$f":"B590+1","v":7},{"$f":"C590","v":"3"}]
[2,{"$f":"B604+C604","v":10},{"$f":"C604+1","v":4}]
["Summe 1+2:"]
[3,{"$f":"B605+C605+1","v":15},{"$f":"C605-3","v":1}]
[4,{"$f":"B607+C607","v":16},{"$f":"C607+1","v":2}]
["Summe 3+4:"]
["Summe 1-4:"]
[5,{"$f":"B608+C608+4-16","v":6},4]
[6,{"$f":"RIGHT(H601,2)","v":"09"},{"$f":"LEFT(H601,1)","v":"3"}]
["Summe 5+6:"]
["Summe 1-6:"]
[null,"wenn weniger als 16 Tische entsprechend vorrücken!"]
[null,"wenn weniger als 16 Tische entsprechend vorrücken!"]
["Name, Vorname",null,null,{"$f":"IF(ISBLANK(H617),\" \",INDEX('Eingabe Spielernamen'!$F:$F,MATCH(H617,'Eingabe Spielernamen'!$B:$B,0))&\", \"&INDEX('Eingabe Spielernamen'!$G:$G,MATCH(H617,'Eingabe Spielernamen'!$B:$B,0)))","v":", "},null,null,null,{"$f":"H601+1","v":310}]
["Verein:",null,null,{"$f":"IF($H617<>0,INDEX('Eingabe Spielernamen'!A:A,MATCH(H617,'Eingabe Spielernamen'!B:B,)),\" \")","v":0}]
["Serie","Tisch","Platz","Spielpunkte","gew.","ver..","v.G.","Gesamtpunkte"]
[1,{"$f":"B604+1","v":8},{"$f":"C604","v":"3"}]
[2,{"$f":"B620+C620","v":11},{"$f":"C620+1","v":4}]
["Summe 1+2:"]
[3,{"$f":"B621+C621+1","v":16},{"$f":"C621-3","v":1}]
[4,{"$f":"B623+C623-16","v":1},{"$f":"C623+1","v":2}]
["Summe 3+4:"]
["Summe 1-4:"]
[5,{"$f":"B624+C624+4","v":7},4]
[6,{"$f":"RIGHT(H617,2)","v":"10"},{"$f":"LEFT(H617,1)","v":"3"}]
["Summe 5+6:"]
["Summe 1-6:"]
["Name, Vorname",null,null,{"$f":"IF(ISBLANK(H631),\" \",INDEX('Eingabe Spielernamen'!$F:$F,MATCH(H631,'Eingabe Spielernamen'!$B:$B,0))&\", \"&INDEX('Eingabe Spielernamen'!$G:$G,MATCH(H631,'Eingabe Spielernamen'!$B:$B,0)))","v":", "},null,null,null,{"$f":"H617+1","v":311}]
["Verein:",null,null,{"$f":"IF($H631<>0,INDEX('Eingabe Spielernamen'!A:A,MATCH(H631,'Eingabe Spielernamen'!B:B,)),\" \")","v":0}]
["Serie","Tisch","Platz","Spielpunkte","gew.","ver..","v.G.","Gesamtpunkte"]
[1,{"$f":"B620+1","v":9},{"$f":"C620","v":"3"}]
[2,{"$f":"B634+C634","v":12},{"$f":"C634+1","v":4}]
["Summe 1+2:"]
[3,{"$f":"B635+C635+1-16","v":1},{"$f":"C635-3","v":1}]
[4,{"$f":"B637+C637","v":2},{"$f":"C637+1","v":2}]
["Summe 3+4:"]
["Summe 1-4:"]
[5,{"$f":"B638+C638+4","v":8},4]
[6,{"$f":"RIGHT(H631,2)","v":"11"},{"$f":"LEFT(H631,1)","v":"3"}]
["Summe 5+6:"]
["Summe 1-6:"]
[null,"wenn weniger als 16 Tische entsprechend vorrücken!"]
[null,"wenn weniger als 16 Tische entsprechend vorrücken!"]
["Name, Vorname",null,null,{"$f":"IF(ISBLANK(H647),\" \",INDEX('Eingabe Spielernamen'!$F:$F,MATCH(H647,'Eingabe Spielernamen'!$B:$B,0))&\", \"&INDEX('Eingabe Spielernamen'!$G:$G,MATCH(H647,'Eingabe Spielernamen'!$B:$B,0)))","v":", "},null,null,null,{"$f":"H631+1","v":312}]
["Verein:",null,null,{"$f":"IF($H647<>0,INDEX('Eingabe Spielernamen'!A:A,MATCH(H647,'Eingabe Spielernamen'!B:B,)),\" \")","v":0}]
["Serie","Tisch","Platz","Spielpunkte","gew.","ver..","v.G.","Gesamtpunkte"]
[1,{"$f":"B634+1","v":10},{"$f":"C634","v":"3"}]
[2,{"$f":"B650+C650","v":13},{"$f":"C650+1","v":4}]
["Summe 1+2:"]
[3,{"$f":"B651+C651+1-16","v":2},{"$f":"C651-3","v":1}]
[4,{"$f":"B653+C653","v":3},{"$f":"C653+1","v":2}]
["Summe 3+4:"]
["Summe 1-4:"]
[5,{"$f":"B654+C654+4","v":9},4]
[6,{"$f":"RIGHT(H647,2)","v":"12"},{"$f":"LEFT(H647,1)","v":"3"}]
["Summe 5+6:"]
["Summe 1-6:"]
["Name, Vorname",null,null,{"$f":"IF(ISBLANK(H661),\" \",INDEX('Eingabe Spielernamen'!$F:$F,MATCH(H661,'Eingabe Spielernamen'!$B:$B,0))&\", \"&INDEX('Eingabe Spielernamen'!$G:$G,MATCH(H661,'Eingabe Spielernamen'!$B:$B,0)))","v":", "},null,null,null,{"$f":"H647+1","v":313}]
["Verein:",null,null,{"$f":"IF($H661<>0,INDEX('Eingabe Spielernamen'!A:A,MATCH(H661,'Eingabe Spielernamen'!B:B,)),\" \")","v":0}]
["Serie","Tisch","Platz","Spielpunkte","gew.","ver..","v.G.","Gesamtpunkte"]
[1,{"$f":"B650+1","v":11},{"$f":"C650","v":"3"}]
[2,{"$f":"B664+C664","v":14},{"$f":"C664+1","v":4}]
["Summe 1+2:"]
[3,{"$f":"B665+C665+1-16","v":3},{"$f":"C665-3","v":1}]
[4,{"$f":"B667+C667","v":4},{"$f":"C667+1","v":2}]
["Summe 3+4:"]
["Summe 1-4:"]
[5,{"$f":"B668+C668+4","v":10},4]
[6,{"$f":"RIGHT(H661,2)","v":"13"},{"$f":"LEFT(H661,1)","v":"3"}]
["Summe 5+6:"]
["Summe 1-6:"]
[null,"wenn weniger als 16 Tische entsprechend vorrücken!"]
[null,"wenn weniger als 16 Tische entsprechend vorrücken!"]
["Name, Vorname",null,null,{"$f":"IF(ISBLANK(H677),\" \",INDEX('Eingabe Spielernamen'!$F:$F,MATCH(H677,'Eingabe Spielernamen'!$B:$B,0))&\", \"&INDEX('Eingabe Spielernamen'!$G:$G,MATCH(H677,'Eingabe Spielernamen'!$B:$B,0)))","v":", "},null,null,null,{"$f":"H661+1","v":314}]
["Verein:",null,null,{"$f":"IF($H677<>0,INDEX('Eingabe Spielernamen'!A:A,MATCH(H677,'Eingabe Spielernamen'!B:B,)),\" \")","v":0}]
["Serie","Tisch","Platz","Spielpunkte","gew.","ver..","v.G.","Gesamtpunkte"]
[1,{"$f":"B664+1","v":12},{"$f":"C664","v":"3"}]
[2,{"$f":"B680+C680","v":15},{"$f":"C680+1","v":4}]
["Summe 1+2:"]
[3,{"$f":"B681+C681+1-16","v":4},{"$f":"C681-3","v":1}]
[4,{"$f":"B683+C683","v":5},{"$f":"C683+1","v":2}]
["Summe 3+4:"]
["Summe 1-4:"]
[5,{"$f":"B684+C684+4","v":11},4]
[6,{"$f":"RIGHT(H677,2)","v":"14"},{"$f":"LEFT(H677,1)","v":"3"}]
["Summe 5+6:"]
["Summe 1-6:"]
["Name, Vorname",null,null,{"$f":"IF(ISBLANK(H691),\" \",INDEX('Eingabe Spielernamen'!$F:$F,MATCH(H691,'Eingabe Spielernamen'!$B:$B,0))&\", \"&INDEX('Eingabe Spielernamen'!$G:$G,MATCH(H691,'Eingabe Spielernamen'!$B:$B,0)))","v":", "},null,null,null,{"$f":"H677+1","v":315}]
["Verein:",null,null,{"$f":"IF($H691<>0,INDEX('Eingabe Spielernamen'!A:A,MATCH(H691,'Eingabe Spielernamen'!B:B,)),\" \")","v":0}]
["Serie","Tisch","Platz","Spielpunkte","gew.","ver..","v.G.","Gesamtpunkte"]
[1,{"$f":"B680+1","v":13},{"$f":"C680","v":"3"}]
[2,{"$f":"B694+C694","v":16},{"$f":"C694+1","v":4}]
["Summe 1+2:"]
[3,{"$f":"B695+C695+1-16","v":5},{"$f":"C695-3","v":1}]
[4,{"$f":"B697+C697","v":6},{"$f":"C697+1","v":2}]
["Summe 3+4:"]
["Summe 1-4:"]
[5,{"$f":"B698+C698+4","v":12},4]
[6,{"$f":"RIGHT(H691,2)","v":"15"},{"$f":"LEFT(H691,1)","v":"3"}]
["Summe 5+6:"]
["Summe 1-6:"]
[null,"wenn weniger als 16 Tische entsprechend vorrücken!"]
[null,"wenn weniger als 16 Tische entsprechend vorrücken!"]
["Name, Vorname",null,null,{"$f":"IF(ISBLANK(H707),\" \",INDEX('Eingabe Spielernamen'!$F:$F,MATCH(H707,'Eingabe Spielernamen'!$B:$B,0))&\", \"&INDEX('Eingabe Spielernamen'!$G:$G,MATCH(H707,'Eingabe Spielernamen'!$B:$B,0)))","v":", "},null,null,null,{"$f":"H691+1","v":316}]
["Verein:",null,null,{"$f":"IF($H707<>0,INDEX('Eingabe Spielernamen'!A:A,MATCH(H707,'Eingabe Spielernamen'!B:B,)),\" \")","v":0}]
["Serie","Tisch","Platz","Spielpunkte","gew.","ver..","v.G.","Gesamtpunkte"]
[1,{"$f":"B694+1","v":14},{"$f":"C694","v":"3"}]
[2,{"$f":"B710+C710-16","v":1},{"$f":"C710+1","v":4}]
["Summe 1+2:"]
[3,{"$f":"B711+C711+1","v":6},{"$f":"C711-3","v":1}]
[4,{"$f":"B713+C713","v":7},{"$f":"C713+1","v":2}]
["Summe 3+4:"]
["Summe 1-4:"]
[5,{"$f":"B714+C714+4","v":13},4]
[6,{"$f":"RIGHT(H707,2)","v":"16"},{"$f":"LEFT(H707,1)","v":"3"}]
["Summe 5+6:"]
["Summe 1-6:"]
["Name, Vorname",null,null,{"$f":"IF(ISBLANK(H721),\" \",INDEX('Eingabe Spielernamen'!$F:$F,MATCH(H721,'Eingabe Spielernamen'!$B:$B,0))&\", \"&INDEX('Eingabe Spielernamen'!$G:$G,MATCH(H721,'Eingabe Spielernamen'!$B:$B,0)))","v":", "},null,null,null,401]
["Verein:",null,null,{"$f":"IF($H721<>0,INDEX('Eingabe Spielernamen'!A:A,MATCH(H721,'Eingabe Spielernamen'!B:B,)),\" \")","v":0}]
["Serie","Tisch","Platz","Spielpunkte","gew.","ver..","v.G.","Gesamtpunkte"]
[1,14,{"$f":"LEFT(H721,1)","v":"4"}]
[2,{"$f":"B724+C724+1-16","v":3},{"$f":"C724-3","v":1}]
["Summe 1+2:"]
[3,{"$f":"B725+C725","v":4},{"$f":"C725+1","v":2}]
[4,{"$f":"B727+C727","v":6},{"$f":"C727+1","v":3}]
["Summe 3+4:"]
["Summe 1-4:"]
[5,{"$f":"B728+C728+6","v":15},1]
[6,{"$f":"RIGHT(H721,2)","v":"01"},{"$f":"LEFT(H721,1)","v":"4"}]
["Summe 5+6:"]
["Summe 1-6:"]
[null,"wenn weniger als 16 Tische entsprechend vorrücken!"]
[null,"wenn weniger als 16 Tische entsprechend vorrücken!"]
["Name, Vorname",null,null,{"$f":"IF(ISBLANK(H737),\" \",INDEX('Eingabe Spielernamen'!$F:$F,MATCH(H737,'Eingabe Spielernamen'!$B:$B,0))&\", \"&INDEX('Eingabe Spielernamen'!$G:$G,MATCH(H737,'Eingabe Spielernamen'!$B:$B,0)))","v":", "},null,null,null,{"$f":"H721+1","v":402}]
["Verein:",null,null,{"$f":"IF($H737<>0,INDEX('Eingabe Spielernamen'!A:A,MATCH(H737,'Eingabe Spielernamen'!B:B,)),\" \")","v":0}]
["Serie","Tisch","Platz","Spielpunkte","gew.","ver..","v.G.","Gesamtpunkte"]
[1,{"$f":"B724+1","v":15},{"$f":"LEFT(H737,1)","v":"4"}]
[2,{"$f":"B740+C740+1-16","v":4},{"$f":"C740-3","v":1}]
["Summe 1+2:"]
[3,{"$f":"B741+C741","v":5},{"$f":"C741+1","v":2}]
[4,{"$f":"B743+C743","v":7},{"$f":"C743+1","v":3}]
["Summe 3+4:"]
["Summe 1-4:"]
[5,{"$f":"B744+C744+6","v":16},1]
[6,{"$f":"RIGHT(H737,2)","v":"02"},{"$f":"LEFT(H737,1)","v":"4"}]
["Summe 5+6:"]
["Summe 1-6:"]
["Name, Vorname",null,null,{"$f":"IF(ISBLANK(H751),\" \",INDEX('Eingabe Spielernamen'!$F:$F,MATCH(H751,'Eingabe Spielernamen'!$B:$B,0))&\", \"&INDEX('Eingabe Spielernamen'!$G:$G,MATCH(H751,'Eingabe Spielernamen'!$B:$B,0)))","v":", "},null,null,null,{"$f":"H737+1","v":403}]
["Verein:",null,null,{"$f":"IF($H751<>0,INDEX('Eingabe Spielernamen'!A:A,MATCH(H751,'Eingabe Spielernamen'!B:B,)),\" \")","v":0}]
["Serie","Tisch","Platz","Spielpunkte","gew.","ver..","v.G.","Gesamtpunkte"]
[1,{"$f":"B740+1","v":16},{"$f":"LEFT(H751,1)","v":"4"}]
[2,{"$f":"B754+C754+1-16","v":5},{"$f":"C754-3","v":1}]
["Summe 1+2:"]
[3,{"$f":"B755+C755","v":6},{"$f":"C755+1","v":2}]
[4,{"$f":"B757+C757","v":8},{"$f":"C757+1","v":3}]
["Summe 3+4:"]
["Summe 1-4:"]
[5,{"$f":"B758+C758+6-16","v":1},1]
[6,{"$f":"RIGHT(H751,2)","v":"03"},{"$f":"LEFT(H751,1)","v":"4"}]
["Summe 5+6:"]
["Summe 1-6:"]
[null,"wenn weniger als 16 Tische entsprechend vorrücken!"]
[null,"wenn weniger als 16 Tische entsprechend vorrücken!"]
["Name, Vorname",null,null,{"$f":"IF(ISBLANK(H767),\" \",INDEX('Eingabe Spielernamen'!$F:$F,MATCH(H767,'Eingabe Spielernamen'!$B:$B,0))&\", \"&INDEX('Eingabe Spielernamen'!$G:$G,MATCH(H767,'Eingabe Spielernamen'!$B:$B,0)))","v":", "},null,null,null,{"$f":"H751+1","v":404}]
["Verein:",null,null,{"$f":"IF($H767<>0,INDEX('Eingabe Spielernamen'!A:A,MATCH(H767,'Eingabe Spielernamen'!B:B,)),\" \")","v":0}]
["Serie","Tisch","Platz","Spielpunkte","gew.","ver..","v.G.","Gesamtpunkte"]
[1,{"$f":"B754+1-16","v":1},{"$f":"LEFT(H767,1)","v":"4"}]
[2,{"$f":"B770+C770+1","v":6},{"$f":"C770-3","v":1}]
["Summe 1+2:"]
[3,{"$f":"B771+C771","v":7},{"$f":"C771+1","v":2}]
[4,{"$f":"B773+C773","v":9},{"$f":"C773+1","v":3}]
["Summe 3+4:"]
["Summe 1-4:"]
[5,{"$f":"B774+C774+6-16","v":2},1]
[6,{"$f":"RIGHT(H767,2)","v":"04"},{"$f":"LEFT(H767,1)","v":"4"}]
["Summe 5+6:"]
["Summe 1-6:"]
["Name, Vorname",null,null,{"$f":"IF(ISBLANK(H781),\" \",INDEX('Eingabe Spielernamen'!$F:$F,MATCH(H781,'Eingabe Spielernamen'!$B:$B,0))&\", \"&INDEX('Eingabe Spielernamen'!$G:$G,MATCH(H781,'Eingabe Spielernamen'!$B:$B,0)))","v":", "},null,null,null,{"$f":"H767+1","v":405}]
["Verein:",null,null,{"$f":"IF($H781<>0,INDEX('Eingabe Spielernamen'!A:A,MATCH(H781,'Eingabe Spielernamen'!B:B,)),\" \")","v":0}]
["Serie","Tisch","Platz","Spielpunkte","gew.","ver..","v.G.","Gesamtpunkte"]
[1,{"$f":"B770+1","v":2},{"$f":"LEFT(H781,1)","v":"4"}]
[2,{"$f":"B784+C784+1","v":7},{"$f":"C784-3","v":1}]
["Summe 1+2:"]
[3,{"$f":"B785+C785","v":8},{"$f":"C785+1","v":2}]
[4,{"$f":"B787+C787","v":10},{"$f":"C787+1","v":3}]
["Summe 3+4:"]
["Summe 1-4:"]
[5,{"$f":"B788+C788+6-16","v":3},1]
[6,{"$f":"RIGHT(H781,2)","v":"05"},{"$f":"LEFT(H781,1)","v":"4"}]
["Summe 5+6:"]
["Summe 1-6:"]
[null,"wenn weniger als 16 Tische entsprechend vorrücken!"]
[null,"wenn weniger als 16 Tische entsprechend vorrücken!"]
["Name, Vorname",null,null,{"$f":"IF(ISBLANK(H797),\" \",INDEX('Eingabe Spielernamen'!$F:$F,MATCH(H797,'Eingabe Spielernamen'!$B:$B,0))&\", \"&INDEX('Eingabe Spielernamen'!$G:$G,MATCH(H797,'Eingabe Spielernamen'!$B:$B,0)))","v":", "},null,null,null,{"$f":"H781+1","v":406}]
["Verein:",null,null,{"$f":"IF($H797<>0,INDEX('Eingabe Spielernamen'!A:A,MATCH(H797,'Eingabe Spielernamen'!B:B,)),\" \")","v":0}]
["Serie","Tisch","Platz","Spielpunkte","gew.","ver..","v.G.","Gesamtpunkte"]
[1,{"$f":"B784+1","v":3},{"$f":"LEFT(H797,1)","v":"4"}]
[2,{"$f":"B800+C800+1","v":8},{"$f":"C800-3","v":1}]
["Summe 1+2:"]
[3,{"$f":"B801+C801","v":9},{"$f":"C801+1","v":2}]
[4,{"$f":"B803+C803","v":11},{"$f":"C803+1","v":3}]
["Summe 3+4:"]
["Summe 1-4:"]
[5,{"$f":"B804+C804+6-16","v":4},1]
[6,{"$f":"RIGHT(H797,2)","v":"06"},{"$f":"LEFT(H797,1)","v":"4"}]
["Summe 5+6:"]
["Summe 1-6:"]
["Name, Vorname",null,null,{"$f":"IF(ISBLANK(H811),\" \",INDEX('Eingabe Spielernamen'!$F:$F,MATCH(H811,'Eingabe Spielernamen'!$B:$B,0))&\", \"&INDEX('Eingabe Spielernamen'!$G:$G,MATCH(H811,'Eingabe Spielernamen'!$B:$B,0)))","v":", "},null,null,null,{"$f":"H797+1","v":407}]
["Verein:",null,null,{"$f":"IF($H811<>0,INDEX('Eingabe Spielernamen'!A:A,MATCH(H811,'Eingabe Spielernamen'!B:B,)),\" \")","v":0}]
["Serie","Tisch","Platz","Spielpunkte","gew.","ver..","v.G.","Gesamtpunkte"]
[1,{"$f":"B800+1","v":4},{"$f":"LEFT(H811,1)","v":"4"}]
[2,{"$f":"B814+C814+1","v":9},{"$f":"C814-3","v":1}]
["Summe 1+2:"]
[3,{"$f":"B815+C815","v":10},{"$f":"C815+1","v":2}]
[4,{"$f":"B817+C817","v":12},{"$f":"C817+1","v":3}]
["Summe 3+4:"]
["Summe 1-4:"]
[5,{"$f":"B818+C818+6-16","v":5},1]
[6,{"$f":"RIGHT(H811,2)","v":"07"},{"$f":"LEFT(H811,1)","v":"4"}]
["Summe 5+6:"]
["Summe 1-6:"]
[null,"wenn weniger als 16 Tische entsprechend vorrücken!"]
[null,"wenn weniger als 16 Tische entsprechend vorrücken!"]
["Name, Vorname",null,null,{"$f":"IF(ISBLANK(H827),\" \",INDEX('Eingabe Spielernamen'!$F:$F,MATCH(H827,'Eingabe Spielernamen'!$B:$B,0))&\", \"&INDEX('Eingabe Spielernamen'!$G:$G,MATCH(H827,'Eingabe Spielernamen'!$B:$B,0)))","v":", "},null,null,null,{"$f":"H811+1","v":408}]
["Verein:",null,null,{"$f":"IF($H827<>0,INDEX('Eingabe Spielernamen'!A:A,MATCH(H827,'Eingabe Spielernamen'!B:B,)),\" \")","v":0}]
["Serie","Tisch","Platz","Spielpunkte","gew.","ver..","v.G.","Gesamtpunkte"]
[1,{"$f":"B814+1","v":5},{"$f":"LEFT(H827,1)","v":"4"}]
[2,{"$f":"B830+C830+1","v":10},{"$f":"C830-3","v":1}]
["Summe 1+2:"]
[3,{"$f":"B831+C831","v":11},{"$f":"C831+1","v":2}]
[4,{"$f":"B833+C833","v":13},{"$f":"C833+1","v":3}]
["Summe 3+4:"]
["Summe 1-4:"]
[5,{"$f":"B834+C834+6-16","v":6},1]
[6,{"$f":"RIGHT(H827,2)","v":"08"},{"$f":"LEFT(H827,1)","v":"4"}]
["Summe 5+6:"]
["Summe 1-6:"]
["Name, Vorname",null,null,{"$f":"IF(ISBLANK(H841),\" \",INDEX('Eingabe Spielernamen'!$F:$F,MATCH(H841,'Eingabe Spielernamen'!$B:$B,0))&\", \"&INDEX('Eingabe Spielernamen'!$G:$G,MATCH(H841,'Eingabe Spielernamen'!$B:$B,0)))","v":", "},null,null,null,{"$f":"H827+1","v":409}]
["Verein:",null,null,{"$f":"IF($H841<>0,INDEX('Eingabe Spielernamen'!A:A,MATCH(H841,'Eingabe Spielernamen'!B:B,)),\" \")","v":0}]
["Serie","Tisch","Platz","Spielpunkte","gew.","ver..","v.G.","Gesamtpunkte"]
[1,{"$f":"B830+1","v":6},{"$f":"LEFT(H841,1)","v":"4"}]
[2,{"$f":"B844+C844+1","v":11},{"$f":"C844-3","v":1}]
["Summe 1+2:"]
[3,{"$f":"B845+C845","v":12},{"$f":"C845+1","v":2}]
[4,{"$f":"B847+C847","v":14},{"$f":"C847+1","v":3}]
["Summe 3+4:"]
["Summe 1-4:"]
[5,{"$f":"B848+C848+6-16","v":7},1]
[6,{"$f":"RIGHT(H841,2)","v":"09"},{"$f":"LEFT(H841,1)","v":"4"}]
["Summe 5+6:"]
["Summe 1-6:"]
[null,"wenn weniger als 16 Tische entsprechend vorrücken!"]
[null,"wenn weniger als 16 Tische entsprechend vorrücken!"]
["Name, Vorname",null,null,{"$f":"IF(ISBLANK(H857),\" \",INDEX('Eingabe Spielernamen'!$F:$F,MATCH(H857,'Eingabe Spielernamen'!$B:$B,0))&\", \"&INDEX('Eingabe Spielernamen'!$G:$G,MATCH(H857,'Eingabe Spielernamen'!$B:$B,0)))","v":", "},null,null,null,{"$f":"H841+1","v":410}]
["Verein:",null,null,{"$f":"IF($H857<>0,INDEX('Eingabe Spielernamen'!A:A,MATCH(H857,'Eingabe Spielernamen'!B:B,)),\" \")","v":0}]
["Serie","Tisch","Platz","Spielpunkte","gew.","ver..","v.G.","Gesamtpunkte"]
[1,{"$f":"B844+1","v":7},{"$f":"LEFT(H857,1)","v":"4"}]
[2,{"$f":"B860+C860+1","v":12},{"$f":"C860-3","v":1}]
["Summe 1+2:"]
[3,{"$f":"B861+C861","v":13},{"$f":"C861+1","v":2}]
[4,{"$f":"B863+C863","v":15},{"$f":"C863+1","v":3}]
["Summe 3+4:"]
["Summe 1-4:"]
[5,{"$f":"B864+C864+6-16","v":8},1]
[6,{"$f":"RIGHT(H857,2)","v":"10"},{"$f":"LEFT(H857,1)","v":"4"}]
["Summe 5+6:"]
["Summe 1-6:"]
["Name, Vorname",null,null,{"$f":"IF(ISBLANK(H871),\" \",INDEX('Eingabe Spielernamen'!$F:$F,MATCH(H871,'Eingabe Spielernamen'!$B:$B,0))&\", \"&INDEX('Eingabe Spielernamen'!$G:$G,MATCH(H871,'Eingabe Spielernamen'!$B:$B,0)))","v":", "},null,null,null,{"$f":"H857+1","v":411}]
["Verein:",null,null,{"$f":"IF($H871<>0,INDEX('Eingabe Spielernamen'!A:A,MATCH(H871,'Eingabe Spielernamen'!B:B,)),\" \")","v":0}]
["Serie","Tisch","Platz","Spielpunkte","gew.","ver..","v.G.","Gesamtpunkte"]
[1,{"$f":"B860+1","v":8},{"$f":"LEFT(H871,1)","v":"4"}]
[2,{"$f":"B874+C874+1","v":13},{"$f":"C874-3","v":1}]
["Summe 1+2:"]
[3,{"$f":"B875+C875","v":14},{"$f":"C875+1","v":2}]
[4,{"$f":"B877+C877","v":16},{"$f":"C877+1","v":3}]
["Summe 3+4:"]
["Summe 1-4:"]
[5,{"$f":"B878+C878+6-16","v":9},1]
[6,{"$f":"RIGHT(H871,2)","v":"11"},{"$f":"LEFT(H871,1)","v":"4"}]
["Summe 5+6:"]
["Summe 1-6:"]
[null,"wenn weniger als 16 Tische entsprechend vorrücken!"]
[null,"wenn weniger als 16 Tische entsprechend vorrücken!"]
["Name, Vorname",null,null,{"$f":"IF(ISBLANK(H887),\" \",INDEX('Eingabe Spielernamen'!$F:$F,MATCH(H887,'Eingabe Spielernamen'!$B:$B,0))&\", \"&INDEX('Eingabe Spielernamen'!$G:$G,MATCH(H887,'Eingabe Spielernamen'!$B:$B,0)))","v":", "},null,null,null,{"$f":"H871+1","v":412}]
["Verein:",null,null,{"$f":"IF($H887<>0,INDEX('Eingabe Spielernamen'!A:A,MATCH(H887,'Eingabe Spielernamen'!B:B,)),\" \")","v":0}]
["Serie","Tisch","Platz","Spielpunkte","gew.","ver..","v.G.","Gesamtpunkte"]
[1,{"$f":"B874+1","v":9},{"$f":"LEFT(H887,1)","v":"4"}]
[2,{"$f":"B890+C890+1","v":14},{"$f":"C890-3","v":1}]
["Summe 1+2:"]
[3,{"$f":"B891+C891","v":15},{"$f":"C891+1","v":2}]
[4,{"$f":"B893+C893-16","v":1},{"$f":"C893+1","v":3}]
["Summe 3+4:"]
["Summe 1-4:"]
[5,{"$f":"B894+C894+6","v":10},1]
[6,{"$f":"RIGHT(H887,2)","v":"12"},{"$f":"LEFT(H887,1)","v":"4"}]
["Summe 5+6:"]
["Summe 1-6:"]
["Name, Vorname",null,null,{"$f":"IF(ISBLANK(H901),\" \",INDEX('Eingabe Spielernamen'!$F:$F,MATCH(H901,'Eingabe Spielernamen'!$B:$B,0))&\", \"&INDEX('Eingabe Spielernamen'!$G:$G,MATCH(H901,'Eingabe Spielernamen'!$B:$B,0)))","v":", "},null,null,null,{"$f":"H887+1","v":413}]
["Verein:",null,null,{"$f":"IF($H901<>0,INDEX('Eingabe Spielernamen'!A:A,MATCH(H901,'Eingabe Spielernamen'!B:B,)),\" \")","v":0}]
["Serie","Tisch","Platz","Spielpunkte","gew.","ver..","v.G.","Gesamtpunkte"]
[1,{"$f":"B890+1","v":10},{"$f":"LEFT(H901,1)","v":"4"}]
[2,{"$f":"B904+C904+1","v":15},{"$f":"C904-3","v":1}]
["Summe 1+2:"]
[3,{"$f":"B905+C905","v":16},{"$f":"C905+1","v":2}]
[4,{"$f":"B907+C907-16","v":2},{"$f":"C907+1","v":3}]
["Summe 3+4:"]
["Summe 1-4:"]
[5,{"$f":"B908+C908+6","v":11},1]
[6,{"$f":"RIGHT(H901,2)","v":"13"},{"$f":"LEFT(H901,1)","v":"4"}]
["Summe 5+6:"]
["Summe 1-6:"]
[null,"wenn weniger als 16 Tische entsprechend vorrücken!"]
[null,"wenn weniger als 16 Tische entsprechend vorrücken!"]
["Name, Vorname",null,null,{"$f":"IF(ISBLANK(H917),\" \",INDEX('Eingabe Spielernamen'!$F:$F,MATCH(H917,'Eingabe Spielernamen'!$B:$B,0))&\", \"&INDEX('Eingabe Spielernamen'!$G:$G,MATCH(H917,'Eingabe Spielernamen'!$B:$B,0)))","v":", "},null,null,null,{"$f":"H901+1","v":414}]
["Verein:",null,null,{"$f":"IF($H917<>0,INDEX('Eingabe Spielernamen'!A:A,MATCH(H917,'Eingabe Spielernamen'!B:B,)),\" \")","v":0}]
["Serie","Tisch","Platz","Spielpunkte","gew.","ver..","v.G.","Gesamtpunkte"]
[1,{"$f":"B904+1","v":11},{"$f":"LEFT(H917,1)","v":"4"}]
[2,{"$f":"B920+C920+1","v":16},{"$f":"C920-3","v":1}]
["Summe 1+2:"]
[3,{"$f":"B921+C921-16","v":1},{"$f":"C921+1","v":2}]
[4,{"$f":"B923+C923","v":3},{"$f":"C923+1","v":3}]
["Summe 3+4:"]
["Summe 1-4:"]
[5,{"$f":"B924+C924+6","v":12},1]
[6,{"$f":"RIGHT(H917,2)","v":"14"},{"$f":"LEFT(H917,1)","v":"4"}]
["Summe 5+6:"]
["Summe 1-6:"]
["Name, Vorname",null,null,{"$f":"IF(ISBLANK(H931),\" \",INDEX('Eingabe Spielernamen'!$F:$F,MATCH(H931,'Eingabe Spielernamen'!$B:$B,0))&\", \"&INDEX('Eingabe Spielernamen'!$G:$G,MATCH(H931,'Eingabe Spielernamen'!$B:$B,0)))","v":", "},null,null,null,{"$f":"H917+1","v":415}]
["Verein:",null,null,{"$f":"IF($H931<>0,INDEX('Eingabe Spielernamen'!A:A,MATCH(H931,'Eingabe Spielernamen'!B:B,)),\" \")","v":0}]
["Serie","Tisch","Platz","Spielpunkte","gew.","ver..","v.G.","Gesamtpunkte"]
[1,{"$f":"B920+1","v":12},{"$f":"LEFT(H931,1)","v":"4"}]
[2,{"$f":"B934+C934+1-16","v":1},{"$f":"C934-3","v":1}]
["Summe 1+2:"]
[3,{"$f":"B935+C935","v":2},{"$f":"C935+1","v":2}]
[4,{"$f":"B937+C937","v":4},{"$f":"C937+1","v":3}]
["Summe 3+4:"]
["Summe 1-4:"]
[5,{"$f":"B938+C938+6","v":13},1]
[6,{"$f":"RIGHT(H931,2)","v":"15"},{"$f":"LEFT(H931,1)","v":"4"}]
["Summe 5+6:"]
["Summe 1-6:"]
[null,"wenn weniger als 16 Tische entsprechend vorrücken!"]
[null,"wenn weniger als 16 Tische entsprechend vorrücken!"]
["Name, Vorname",null,null,{"$f":"IF(ISBLANK(H947),\" \",INDEX('Eingabe Spielernamen'!$F:$F,MATCH(H947,'Eingabe Spielernamen'!$B:$B,0))&\", \"&INDEX('Eingabe Spielernamen'!$G:$G,MATCH(H947,'Eingabe Spielernamen'!$B:$B,0)))","v":", "},null,null,null,{"$f":"H931+1","v":416}]
["Verein:",null,null,{"$f":"IF($H947<>0,INDEX('Eingabe Spielernamen'!A:A,MATCH(H947,'Eingabe Spielernamen'!B:B,)),\" \")","v":0}]
["Serie","Tisch","Platz","Spielpunkte","gew.","ver..","v.G.","Gesamtpunkte"]
[1,{"$f":"B934+1","v":13},{"$f":"LEFT(H947,1)","v":"4"}]
[2,{"$f":"B950+C950+1-16","v":2},{"$f":"C950-3","v":1}]
["Summe 1+2:"]
[3,{"$f":"B951+C951","v":3},{"$f":"C951+1","v":2}]
[4,{"$f":"B953+C953","v":5},{"$f":"C953+1","v":3}]
["Summe 3+4:"]
["Summe 1-4:"]
[5,{"$f":"B954+C954+6","v":14},1]
[6,{"$f":"RIGHT(H947,2)","v":"16"},{"$f":"LEFT(H947,1)","v":"4"}]
["Summe 5+6:"]
["Summe 1-6:"]

{"sheet":"Eingabe Spielernamen","index":1,"n_rows":74,"n_cols":18,"rows_kept":74,"cut":false,"hidden":false,"merged":[]}
["Summen aller Delegationen:",null,{"$f":"$C23+$C40+$C57+$C74","v":44},{"$f":"$D23+$D40+$D57+$D74","v":44},{"$f":"$E23+$E40+$E57+$E74","v":44},null,null,{"$f":"$H23+$H40+$H57+$H74","v":0},{"$f":"$I23+$I40+$I57+$I74","v":0},{"$f":"$J23+$J40+$J57+$J74","v":0},{"$f":"$K23+$K40+$K57+$K74","v":0},{"$f":"$L23+$L40+$L57+$L74","v":0},{"$f":"$M23+$M40+$M57+$M74","v":0},{"$f":"$N23+$N40+$N57+$N74","v":0},{"$f":"$O23+$O40+$O57+$O74","v":0},{"$f":"$P23+$P40+$P57+$P74","v":0},{"$f":"$Q23+$Q40+$Q57+$Q74","v":0},{"$f":"$R23+$R40+$R57+$R74","v":0}]
["Startgelder Einzel-Preisskat:",null,{"$f":"C1*10","v":440},{"$f":"D1*10","v":440},440]
["Eingaben nur in den \"bunten\" Feldern möglich!",null,null,null,null,null,"Vier - Städte - Turnier",2020,null,null,null,null,null,null,"Copyright:","Hans A. Knobbe",null,"2019-06-12"]
["Delegation","Start-","Einzel-Preissakt",null,null,"Name","Vorname","1. Serie","2. Serie","Summe","3. Serie","4. Serie","Summe","Summe","5. Serie","6. Serie","Summe","Summe"]
[null,null,"\"Freiwillig\"",null,null,null,null,null,null,"1. + 2.",null,null,"3. + 4.","1. - 4.",null,null,"5. + 6.","1. - 6. Serie"]
["2020-05-29","Nummer","1. Tag","2. Tag","3. Tag",null,null,{"$f":"A6","v":"2020-05-29"},{"$f":"A6","v":"2020-05-29"},null,{"$f":"A6+1","v":"2020-05-30"},{"$f":"A6+1","v":"2020-05-30"},null,null,{"$f":"A6+2","v":"2020-05-31"},{"$f":"A6+2","v":"2020-05-31"}]
[null,101,"x","x","x",null,null,{"$f":"SUMIF('Eingabe 1-6'!B$13:B$212,B7,'Eingabe 1-6'!J$13:J$212)","v":0},{"$f":"SUMIF('Eingabe 1-6'!N$13:N$212,B7,'Eingabe 1-6'!V$13:V$212)","v":0},{"$f":"H7+I7","v":0},{"$f":"SUMIF('Eingabe 1-6'!Z$13:Z$212,B7,'Eingabe 1-6'!AH$13:AH$212)","v":0},{"$f":"SUMIF('Eingabe 1-6'!AL$13:AL$212,B7,'Eingabe 1-6'!AT$13:AT$212)","v":0},{"$f":"K7+L7","v":0},{"$f":"J7+M7","v":0},{"$f":"SUMIF('Eingabe 1-6'!AX$13:AX$212,B7,'Eingabe 1-6'!BF$13:BF$212)","v":0},{"$f":"SUMIF('Eingabe 1-6'!BJ$13:BJ$212,B7,'Eingabe 1-6'!BR$13:BR$212)","v":0},{"$f":"O7+P7","v":0},{"$f":"N7+Q7","v":0}]
[{"$f":"A7","v":0},102,"x","x","x",null,null,{"$f":"SUMIF('Eingabe 1-6'!B$13:B$212,B8,'Eingabe 1-6'!J$13:J$212)","v":0},{"$f":"SUMIF('Eingabe 1-6'!N$13:N$212,B8,'Eingabe 1-6'!V$13:V$212)","v":0},{"$f":"H8+I8","v":0},{"$f":"SUMIF('Eingabe 1-6'!Z$13:Z$212,B8,'Eingabe 1-6'!AH$13:AH$212)","v":0},{"$f":"SUMIF('Eingabe 1-6'!AL$13:AL$212,B8,'Eingabe 1-6'!AT$13:AT$212)","v":0},{"$f":"K8+L8","v":0},{"$f":"J8+M8","v":0},{"$f":"SUMIF('Eingabe 1-6'!AX$13:AX$212,B8,'Eingabe 1-6'!BF$13:BF$212)","v":0},{"$f":"SUMIF('Eingabe 1-6'!BJ$13:BJ$212,B8,'Eingabe 1-6'!BR$13:BR$212)","v":0},{"$f":"O8+P8","v":0},{"$f":"N8+Q8","v":0}]
[{"$f":"A8","v":0},103,"x","x","x",null,null,{"$f":"SUMIF('Eingabe 1-6'!B$13:B$212,B9,'Eingabe 1-6'!J$13:J$212)","v":0},{"$f":"SUMIF('Eingabe 1-6'!N$13:N$212,B9,'Eingabe 1-6'!V$13:V$212)","v":0},0,{"$f":"SUMIF('Eingabe 1-6'!Z$13:Z$212,B9,'Eingabe 1-6'!AH$13:AH$212)","v":0},{"$f":"SUMIF('Eingabe 1-6'!AL$13:AL$212,B9,'Eingabe 1-6'!AT$13:AT$212)","v":0},0,0,{"$f":"SUMIF('Eingabe 1-6'!AX$13:AX$212,B9,'Eingabe 1-6'!BF$13:BF$212)","v":0},{"$f":"SUMIF('Eingabe 1-6'!BJ$13:BJ$212,B9,'Eingabe 1-6'!BR$13:BR$212)","v":0},0,0]
[0,104,"x","x","x",null,null,{"$f":"SUMIF('Eingabe 1-6'!B$13:B$212,B10,'Eingabe 1-6'!J$13:J$212)","v":0},{"$f":"SUMIF('Eingabe 1-6'!N$13:N$212,B10,'Eingabe 1-6'!V$13:V$212)","v":0},0,{"$f":"SUMIF('Eingabe 1-6'!Z$13:Z$212,B10,'Eingabe 1-6'!AH$13:AH$212)","v":0},{"$f":"SUMIF('Eingabe 1-6'!AL$13:AL$212,B10,'Eingabe 1-6'!AT$13:AT$212)","v":0},0,0,{"$f":"SUMIF('Eingabe 1-6'!AX$13:AX$212,B10,'Eingabe 1-6'!BF$13:BF$212)","v":0},{"$f":"SUMIF('Eingabe 1-6'!BJ$13:BJ$212,B10,'Eingabe 1-6'!BR$13:BR$212)","v":0},0,0]
[0,105,"x","x","x",null,null,{"$f":"SUMIF('Eingabe 1-6'!B$13:B$212,B11,'Eingabe 1-6'!J$13:J$212)","v":0},{"$f":"SUMIF('Eingabe 1-6'!N$13:N$212,B11,'Eingabe 1-6'!V$13:V$212)","v":0},0,{"$f":"SUMIF('Eingabe 1-6'!Z$13:Z$212,B11,'Eingabe 1-6'!AH$13:AH$212)","v":0},{"$f":"SUMIF('Eingabe 1-6'!AL$13:AL$212,B11,'Eingabe 1-6'!AT$13:AT$212)","v":0},0,0,{"$f":"SUMIF('Eingabe 1-6'!AX$13:AX$212,B11,'Eingabe 1-6'!BF$13:BF$212)","v":0},{"$f":"SUMIF('Eingabe 1-6'!BJ$13:BJ$212,B11,'Eingabe 1-6'!BR$13:BR$212)","v":0},0,0]
[0,106,"x","x","x",null,null,{"$f":"SUMIF('Eingabe 1-6'!B$13:B$212,B12,'Eingabe 1-6'!J$13:J$212)","v":0},{"$f":"SUMIF('Eingabe 1-6'!N$13:N$212,B12,'Eingabe 1-6'!V$13:V$212)","v":0},0,{"$f":"SUMIF('Eingabe 1-6'!Z$13:Z$212,B12,'Eingabe 1-6'!AH$13:AH$212)","v":0},{"$f":"SUMIF('Eingabe 1-6'!AL$13:AL$212,B12,'Eingabe 1-6'!AT$13:AT$212)","v":0},0,0,{"$f":"SUMIF('Eingabe 1-6'!AX$13:AX$212,B12,'Eingabe 1-6'!BF$13:BF$212)","v":0},{"$f":"SUMIF('Eingabe 1-6'!BJ$13:BJ$212,B12,'Eingabe 1-6'!BR$13:BR$212)","v":0},0,0]
[0,107,"x","x","x",null,null,{"$f":"SUMIF('Eingabe 1-6'!B$13:B$212,B13,'Eingabe 1-6'!J$13:J$212)","v":0},{"$f":"SUMIF('Eingabe 1-6'!N$13:N$212,B13,'Eingabe 1-6'!V$13:V$212)","v":0},0,{"$f":"SUMIF('Eingabe 1-6'!Z$13:Z$212,B13,'Eingabe 1-6'!AH$13:AH$212)","v":0},{"$f":"SUMIF('Eingabe 1-6'!AL$13:AL$212,B13,'Eingabe 1-6'!AT$13:AT$212)","v":0},0,0,{"$f":"SUMIF('Eingabe 1-6'!AX$13:AX$212,B13,'Eingabe 1-6'!BF$13:BF$212)","v":0},{"$f":"SUMIF('Eingabe 1-6'!BJ$13:BJ$212,B13,'Eingabe 1-6'!BR$13:BR$212)","v":0},0,0]
[0,108,"x","x","x",null,null,{"$f":"SUMIF('Eingabe 1-6'!B$13:B$212,B14,'Eingabe 1-6'!J$13:J$212)","v":0},{"$f":"SUMIF('Eingabe 1-6'!N$13:N$212,B14,'Eingabe 1-6'!V$13:V$212)","v":0},0,{"$f":"SUMIF('Eingabe 1-6'!Z$13:Z$212,B14,'Eingabe 1-6'!AH$13:AH$212)","v":0},{"$f":"SUMIF('Eingabe 1-6'!AL$13:AL$212,B14,'Eingabe 1-6'!AT$13:AT$212)","v":0},0,0,{"$f":"SUMIF('Eingabe 1-6'!AX$13:AX$212,B14,'Eingabe 1-6'!BF$13:BF$212)","v":0},{"$f":"SUMIF('Eingabe 1-6'!BJ$13:BJ$212,B14,'Eingabe 1-6'!BR$13:BR$212)","v":0},0,0]
[0,109,"x","x","x",null,null,{"$f":"SUMIF('Eingabe 1-6'!B$13:B$212,B15,'Eingabe 1-6'!J$13:J$212)","v":0},{"$f":"SUMIF('Eingabe 1-6'!N$13:N$212,B15,'Eingabe 1-6'!V$13:V$212)","v":0},0,{"$f":"SUMIF('Eingabe 1-6'!Z$13:Z$212,B15,'Eingabe 1-6'!AH$13:AH$212)","v":0},{"$f":"SUMIF('Eingabe 1-6'!AL$13:AL$212,B15,'Eingabe 1-6'!AT$13:AT$212)","v":0},0,0,{"$f":"SUMIF('Eingabe 1-6'!AX$13:AX$212,B15,'Eingabe 1-6'!BF$13:BF$212)","v":0},{"$f":"SUMIF('Eingabe 1-6'!BJ$13:BJ$212,B15,'Eingabe 1-6'!BR$13:BR$212)","v":0},0,0]
[0,110,"x","x","x",null,null,{"$f":"SUMIF('Eingabe 1-6'!B$13:B$212,B16,'Eingabe 1-6'!J$13:J$212)","v":0},{"$f":"SUMIF('Eingabe 1-6'!N$13:N$212,B16,'Eingabe 1-6'!V$13:V$212)","v":0},0,{"$f":"SUMIF('Eingabe 1-6'!Z$13:Z$212,B16,'Eingabe 1-6'!AH$13:AH$212)","v":0},{"$f":"SUMIF('Eingabe 1-6'!AL$13:AL$212,B16,'Eingabe 1-6'!AT$13:AT$212)","v":0},0,0,{"$f":"SUMIF('Eingabe 1-6'!AX$13:AX$212,B16,'Eingabe 1-6'!BF$13:BF$212)","v":0},{"$f":"SUMIF('Eingabe 1-6'!BJ$13:BJ$212,B16,'Eingabe 1-6'!BR$13:BR$212)","v":0},0,0]
[0,111,"x","x","x",null,null,{"$f":"SUMIF('Eingabe 1-6'!B$13:B$212,B17,'Eingabe 1-6'!J$13:J$212)","v":0},{"$f":"SUMIF('Eingabe 1-6'!N$13:N$212,B17,'Eingabe 1-6'!V$13:V$212)","v":0},0,{"$f":"SUMIF('Eingabe 1-6'!Z$13:Z$212,B17,'Eingabe 1-6'!AH$13:AH$212)","v":0},{"$f":"SUMIF('Eingabe 1-6'!AL$13:AL$212,B17,'Eingabe 1-6'!AT$13:AT$212)","v":0},0,0,{"$f":"SUMIF('Eingabe 1-6'!AX$13:AX$212,B17,'Eingabe 1-6'!BF$13:BF$212)","v":0},{"$f":"SUMIF('Eingabe 1-6'!BJ$13:BJ$212,B17,'Eingabe 1-6'!BR$13:BR$212)","v":0},0,0]
[0,112,null,null,null,null,null,{"$f":"SUMIF('Eingabe 1-6'!B$13:B$212,B18,'Eingabe 1-6'!J$13:J$212)","v":0},{"$f":"SUMIF('Eingabe 1-6'!N$13:N$212,B18,'Eingabe 1-6'!V$13:V$212)","v":0},0,{"$f":"SUMIF('Eingabe 1-6'!Z$13:Z$212,B18,'Eingabe 1-6'!AH$13:AH$212)","v":0},{"$f":"SUMIF('Eingabe 1-6'!AL$13:AL$212,B18,'Eingabe 1-6'!AT$13:AT$212)","v":0},0,0,{"$f":"SUMIF('Eingabe 1-6'!AX$13:AX$212,B18,'Eingabe 1-6'!BF$13:BF$212)","v":0},{"$f":"SUMIF('Eingabe 1-6'!BJ$13:BJ$212,B18,'Eingabe 1-6'!BR$13:BR$212)","v":0},0,0]
[0,113,null,null,null,null,null,{"$f":"SUMIF('Eingabe 1-6'!B$13:B$212,B19,'Eingabe 1-6'!J$13:J$212)","v":0},{"$f":"SUMIF('Eingabe 1-6'!N$13:N$212,B19,'Eingabe 1-6'!V$13:V$212)","v":0},0,{"$f":"SUMIF('Eingabe 1-6'!Z$13:Z$212,B19,'Eingabe 1-6'!AH$13:AH$212)","v":0},{"$f":"SUMIF('Eingabe 1-6'!AL$13:AL$212,B19,'Eingabe 1-6'!AT$13:AT$212)","v":0},0,0,{"$f":"SUMIF('Eingabe 1-6'!AX$13:AX$212,B19,'Eingabe 1-6'!BF$13:BF$212)","v":0},{"$f":"SUMIF('Eingabe 1-6'!BJ$13:BJ$212,B19,'Eingabe 1-6'!BR$13:BR$212)","v":0},0,0]
[0,114,null,null,null,null,null,{"$f":"SUMIF('Eingabe 1-6'!B$13:B$212,B20,'Eingabe 1-6'!J$13:J$212)","v":0},{"$f":"SUMIF('Eingabe 1-6'!N$13:N$212,B20,'Eingabe 1-6'!V$13:V$212)","v":0},0,{"$f":"SUMIF('Eingabe 1-6'!Z$13:Z$212,B20,'Eingabe 1-6'!AH$13:AH$212)","v":0},{"$f":"SUMIF('Eingabe 1-6'!AL$13:AL$212,B20,'Eingabe 1-6'!AT$13:AT$212)","v":0},0,0,{"$f":"SUMIF('Eingabe 1-6'!AX$13:AX$212,B20,'Eingabe 1-6'!BF$13:BF$212)","v":0},{"$f":"SUMIF('Eingabe 1-6'!BJ$13:BJ$212,B20,'Eingabe 1-6'!BR$13:BR$212)","v":0},0,0]
[0,115,null,null,null,null,null,{"$f":"SUMIF('Eingabe 1-6'!B$13:B$212,B21,'Eingabe 1-6'!J$13:J$212)","v":0},{"$f":"SUMIF('Eingabe 1-6'!N$13:N$212,B21,'Eingabe 1-6'!V$13:V$212)","v":0},0,{"$f":"SUMIF('Eingabe 1-6'!Z$13:Z$212,B21,'Eingabe 1-6'!AH$13:AH$212)","v":0},{"$f":"SUMIF('Eingabe 1-6'!AL$13:AL$212,B21,'Eingabe 1-6'!AT$13:AT$212)","v":0},0,0,{"$f":"SUMIF('Eingabe 1-6'!AX$13:AX$212,B21,'Eingabe 1-6'!BF$13:BF$212)","v":0},{"$f":"SUMIF('Eingabe 1-6'!BJ$13:BJ$212,B21,'Eingabe 1-6'!BR$13:BR$212)","v":0},0,0]
[0,116,null,null,null,null,null,{"$f":"SUMIF('Eingabe 1-6'!B$13:B$212,B22,'Eingabe 1-6'!J$13:J$212)","v":0},{"$f":"SUMIF('Eingabe 1-6'!N$13:N$212,B22,'Eingabe 1-6'!V$13:V$212)","v":0},0,{"$f":"SUMIF('Eingabe 1-6'!Z$13:Z$212,B22,'Eingabe 1-6'!AH$13:AH$212)","v":0},{"$f":"SUMIF('Eingabe 1-6'!AL$13:AL$212,B22,'Eingabe 1-6'!AT$13:AT$212)","v":0},0,0,{"$f":"SUMIF('Eingabe 1-6'!AX$13:AX$212,B22,'Eingabe 1-6'!BF$13:BF$212)","v":0},{"$f":"SUMIF('Eingabe 1-6'!BJ$13:BJ$212,B22,'Eingabe 1-6'!BR$13:BR$212)","v":0},0,0]
[{"$f":"A7","v":0},"Summe",{"$f":"COUNTA(C7:C22)","v":11},{"$f":"COUNTA(D7:D22)","v":11},{"$f":"COUNTA(E7:E22)","v":11},null,null,{"$f":"SUM(H7:H22)","v":0},0,0,0,0,0,{"$f":"J23+M23","v":0},{"$f":"SUM(O7:O22)","v":0},{"$f":"SUM(P7:P22)","v":0},{"$f":"SUM(Q7:Q22)","v":0},{"$f":"SUM(R7:R22)","v":0}]
[null,201,"x","x","x",null,null,{"$f":"SUMIF('Eingabe 1-6'!B$13:B$212,B24,'Eingabe 1-6'!J$13:J$212)","v":0},{"$f":"SUMIF('Eingabe 1-6'!N$13:N$212,B24,'Eingabe 1-6'!V$13:V$212)","v":0},{"$f":"H24+I24","v":0},{"$f":"SUMIF('Eingabe 1-6'!Z$13:Z$212,B24,'Eingabe 1-6'!AH$13:AH$212)","v":0},{"$f":"SUMIF('Eingabe 1-6'!AL$13:AL$212,B24,'Eingabe 1-6'!AT$13:AT$212)","v":0},{"$f":"K24+L24","v":0},0,{"$f":"SUMIF('Eingabe 1-6'!AX$13:AX$212,B24,'Eingabe 1-6'!BF$13:BF$212)","v":0},{"$f":"SUMIF('Eingabe 1-6'!BJ$13:BJ$212,B24,'Eingabe 1-6'!BR$13:BR$212)","v":0},{"$f":"O24+P24","v":0},{"$f":"N24+Q24","v":0}]
[{"$f":"A24","v":0},202,"x","x","x",null,null,{"$f":"SUMIF('Eingabe 1-6'!B$13:B$212,B25,'Eingabe 1-6'!J$13:J$212)","v":0},{"$f":"SUMIF('Eingabe 1-6'!N$13:N$212,B25,'Eingabe 1-6'!V$13:V$212)","v":0},0,{"$f":"SUMIF('Eingabe 1-6'!Z$13:Z$212,B25,'Eingabe 1-6'!AH$13:AH$212)","v":0},{"$f":"SUMIF('Eingabe 1-6'!AL$13:AL$212,B25,'Eingabe 1-6'!AT$13:AT$212)","v":0},0,0,{"$f":"SUMIF('Eingabe 1-6'!AX$13:AX$212,B25,'Eingabe 1-6'!BF$13:BF$212)","v":0},{"$f":"SUMIF('Eingabe 1-6'!BJ$13:BJ$212,B25,'Eingabe 1-6'!BR$13:BR$212)","v":0},0,0]
[{"$f":"A25","v":0},203,"x","x","x",null,null,{"$f":"SUMIF('Eingabe 1-6'!B$13:B$212,B26,'Eingabe 1-6'!J$13:J$212)","v":0},{"$f":"SUMIF('Eingabe 1-6'!N$13:N$212,B26,'Eingabe 1-6'!V$13:V$212)","v":0},0,{"$f":"SUMIF('Eingabe 1-6'!Z$13:Z$212,B26,'Eingabe 1-6'!AH$13:AH$212)","v":0},{"$f":"SUMIF('Eingabe 1-6'!AL$13:AL$212,B26,'Eingabe 1-6'!AT$13:AT$212)","v":0},0,0,{"$f":"SUMIF('Eingabe 1-6'!AX$13:AX$212,B26,'Eingabe 1-6'!BF$13:BF$212)","v":0},{"$f":"SUMIF('Eingabe 1-6'!BJ$13:BJ$212,B26,'Eingabe 1-6'!BR$13:BR$212)","v":0},0,0]
[0,204,"x","x","x",null,null,{"$f":"SUMIF('Eingabe 1-6'!B$13:B$212,B27,'Eingabe 1-6'!J$13:J$212)","v":0},{"$f":"SUMIF('Eingabe 1-6'!N$13:N$212,B27,'Eingabe 1-6'!V$13:V$212)","v":0},0,{"$f":"SUMIF('Eingabe 1-6'!Z$13:Z$212,B27,'Eingabe 1-6'!AH$13:AH$212)","v":0},{"$f":"SUMIF('Eingabe 1-6'!AL$13:AL$212,B27,'Eingabe 1-6'!AT$13:AT$212)","v":0},0,0,{"$f":"SUMIF('Eingabe 1-6'!AX$13:AX$212,B27,'Eingabe 1-6'!BF$13:BF$212)","v":0},{"$f":"SUMIF('Eingabe 1-6'!BJ$13:BJ$212,B27,'Eingabe 1-6'!BR$13:BR$212)","v":0},0,0]
[0,205,"x","x","x",null,null,{"$f":"SUMIF('Eingabe 1-6'!B$13:B$212,B28,'Eingabe 1-6'!J$13:J$212)","v":0},{"$f":"SUMIF('Eingabe 1-6'!N$13:N$212,B28,'Eingabe 1-6'!V$13:V$212)","v":0},0,{"$f":"SUMIF('Eingabe 1-6'!Z$13:Z$212,B28,'Eingabe 1-6'!AH$13:AH$212)","v":0},{"$f":"SUMIF('Eingabe 1-6'!AL$13:AL$212,B28,'Eingabe 1-6'!AT$13:AT$212)","v":0},0,0,{"$f":"SUMIF('Eingabe 1-6'!AX$13:AX$212,B28,'Eingabe 1-6'!BF$13:BF$212)","v":0},{"$f":"SUMIF('Eingabe 1-6'!BJ$13:BJ$212,B28,'Eingabe 1-6'!BR$13:BR$212)","v":0},0,0]
[0,206,"x","x","x",null,null,{"$f":"SUMIF('Eingabe 1-6'!B$13:B$212,B29,'Eingabe 1-6'!J$13:J$212)","v":0},{"$f":"SUMIF('Eingabe 1-6'!N$13:N$212,B29,'Eingabe 1-6'!V$13:V$212)","v":0},0,{"$f":"SUMIF('Eingabe 1-6'!Z$13:Z$212,B29,'Eingabe 1-6'!AH$13:AH$212)","v":0},{"$f":"SUMIF('Eingabe 1-6'!AL$13:AL$212,B29,'Eingabe 1-6'!AT$13:AT$212)","v":0},0,0,{"$f":"SUMIF('Eingabe 1-6'!AX$13:AX$212,B29,'Eingabe 1-6'!BF$13:BF$212)","v":0},{"$f":"SUMIF('Eingabe 1-6'!BJ$13:BJ$212,B29,'Eingabe 1-6'!BR$13:BR$212)","v":0},0,0]
[0,207,"x","x","x",null,null,{"$f":"SUMIF('Eingabe 1-6'!B$13:B$212,B30,'Eingabe 1-6'!J$13:J$212)","v":0},{"$f":"SUMIF('Eingabe 1-6'!N$13:N$212,B30,'Eingabe 1-6'!V$13:V$212)","v":0},0,{"$f":"SUMIF('Eingabe 1-6'!Z$13:Z$212,B30,'Eingabe 1-6'!AH$13:AH$212)","v":0},{"$f":"SUMIF('Eingabe 1-6'!AL$13:AL$212,B30,'Eingabe 1-6'!AT$13:AT$212)","v":0},0,0,{"$f":"SUMIF('Eingabe 1-6'!AX$13:AX$212,B30,'Eingabe 1-6'!BF$13:BF$212)","v":0},{"$f":"SUMIF('Eingabe 1-6'!BJ$13:BJ$212,B30,'Eingabe 1-6'!BR$13:BR$212)","v":0},0,0]
[0,208,"x","x","x",null,null,{"$f":"SUMIF('Eingabe 1-6'!B$13:B$212,B31,'Eingabe 1-6'!J$13:J$212)","v":0},{"$f":"SUMIF('Eingabe 1-6'!N$13:N$212,B31,'Eingabe 1-6'!V$13:V$212)","v":0},0,{"$f":"SUMIF('Eingabe 1-6'!Z$13:Z$212,B31,'Eingabe 1-6'!AH$13:AH$212)","v":0},{"$f":"SUMIF('Eingabe 1-6'!AL$13:AL$212,B31,'Eingabe 1-6'!AT$13:AT$212)","v":0},0,0,{"$f":"SUMIF('Eingabe 1-6'!AX$13:AX$212,B31,'Eingabe 1-6'!BF$13:BF$212)","v":0},{"$f":"SUMIF('Eingabe 1-6'!BJ$13:BJ$212,B31,'Eingabe 1-6'!BR$13:BR$212)","v":0},0,0]
[0,209,"x","x","x",null,null,{"$f":"SUMIF('Eingabe 1-6'!B$13:B$212,B32,'Eingabe 1-6'!J$13:J$212)","v":0},{"$f":"SUMIF('Eingabe 1-6'!N$13:N$212,B32,'Eingabe 1-6'!V$13:V$212)","v":0},0,{"$f":"SUMIF('Eingabe 1-6'!Z$13:Z$212,B32,'Eingabe 1-6'!AH$13:AH$212)","v":0},{"$f":"SUMIF('Eingabe 1-6'!AL$13:AL$212,B32,'Eingabe 1-6'!AT$13:AT$212)","v":0},0,0,{"$f":"SUMIF('Eingabe 1-6'!AX$13:AX$212,B32,'Eingabe 1-6'!BF$13:BF$212)","v":0},{"$f":"SUMIF('Eingabe 1-6'!BJ$13:BJ$212,B32,'Eingabe 1-6'!BR$13:BR$212)","v":0},0,0]
[0,210,"x","x","x",null,null,{"$f":"SUMIF('Eingabe 1-6'!B$13:B$212,B33,'Eingabe 1-6'!J$13:J$212)","v":0},{"$f":"SUMIF('Eingabe 1-6'!N$13:N$212,B33,'Eingabe 1-6'!V$13:V$212)","v":0},0,{"$f":"SUMIF('Eingabe 1-6'!Z$13:Z$212,B33,'Eingabe 1-6'!AH$13:AH$212)","v":0},{"$f":"SUMIF('Eingabe 1-6'!AL$13:AL$212,B33,'Eingabe 1-6'!AT$13:AT$212)","v":0},0,0,{"$f":"SUMIF('Eingabe 1-6'!AX$13:AX$212,B33,'Eingabe 1-6'!BF$13:BF$212)","v":0},{"$f":"SUMIF('Eingabe 1-6'!BJ$13:BJ$212,B33,'Eingabe 1-6'!BR$13:BR$212)","v":0},0,0]
[0,211,"x","x","x",null,null,{"$f":"SUMIF('Eingabe 1-6'!B$13:B$212,B34,'Eingabe 1-6'!J$13:J$212)","v":0},{"$f":"SUMIF('Eingabe 1-6'!N$13:N$212,B34,'Eingabe 1-6'!V$13:V$212)","v":0},0,{"$f":"SUMIF('Eingabe 1-6'!Z$13:Z$212,B34,'Eingabe 1-6'!AH$13:AH$212)","v":0},{"$f":"SUMIF('Eingabe 1-6'!AL$13:AL$212,B34,'Eingabe 1-6'!AT$13:AT$212)","v":0},0,0,{"$f":"SUMIF('Eingabe 1-6'!AX$13:AX$212,B34,'Eingabe 1-6'!BF$13:BF$212)","v":0},{"$f":"SUMIF('Eingabe 1-6'!BJ$13:BJ$212,B34,'Eingabe 1-6'!BR$13:BR$212)","v":0},0,0]
[0,212,null,null,null,null,null,{"$f":"SUMIF('Eingabe 1-6'!B$13:B$212,B35,'Eingabe 1-6'!J$13:J$212)","v":0},{"$f":"SUMIF('Eingabe 1-6'!N$13:N$212,B35,'Eingabe 1-6'!V$13:V$212)","v":0},0,{"$f":"SUMIF('Eingabe 1-6'!Z$13:Z$212,B35,'Eingabe 1-6'!AH$13:AH$212)","v":0},{"$f":"SUMIF('Eingabe 1-6'!AL$13:AL$212,B35,'Eingabe 1-6'!AT$13:AT$212)","v":0},0,0,{"$f":"SUMIF('Eingabe 1-6'!AX$13:AX$212,B35,'Eingabe 1-6'!BF$13:BF$212)","v":0},{"$f":"SUMIF('Eingabe 1-6'!BJ$13:BJ$212,B35,'Eingabe 1-6'!BR$13:BR$212)","v":0},0,0]
[0,213,null,null,null,null,null,{"$f":"SUMIF('Eingabe 1-6'!B$13:B$212,B36,'Eingabe 1-6'!J$13:J$212)","v":0},{"$f":"SUMIF('Eingabe 1-6'!N$13:N$212,B36,'Eingabe 1-6'!V$13:V$212)","v":0},0,{"$f":"SUMIF('Eingabe 1-6'!Z$13:Z$212,B36,'Eingabe 1-6'!AH$13:AH$212)","v":0},{"$f":"SUMIF('Eingabe 1-6'!AL$13:AL$212,B36,'Eingabe 1-6'!AT$13:AT$212)","v":0},0,0,{"$f":"SUMIF('Eingabe 1-6'!AX$13:AX$212,B36,'Eingabe 1-6'!BF$13:BF$212)","v":0},{"$f":"SUMIF('Eingabe 1-6'!BJ$13:BJ$212,B36,'Eingabe 1-6'!BR$13:BR$212)","v":0},0,0]
[0,214,null,null,null,null,null,{"$f":"SUMIF('Eingabe 1-6'!B$13:B$212,B37,'Eingabe 1-6'!J$13:J$212)","v":0},{"$f":"SUMIF('Eingabe 1-6'!N$13:N$212,B37,'Eingabe 1-6'!V$13:V$212)","v":0},0,{"$f":"SUMIF('Eingabe 1-6'!Z$13:Z$212,B37,'Eingabe 1-6'!AH$13:AH$212)","v":0},{"$f":"SUMIF('Eingabe 1-6'!AL$13:AL$212,B37,'Eingabe 1-6'!AT$13:AT$212)","v":0},0,0,{"$f":"SUMIF('Eingabe 1-6'!AX$13:AX$212,B37,'Eingabe 1-6'!BF$13:BF$212)","v":0},{"$f":"SUMIF('Eingabe 1-6'!BJ$13:BJ$212,B37,'Eingabe 1-6'!BR$13:BR$212)","v":0},0,0]
[0,215,null,null,null,null,null,{"$f":"SUMIF('Eingabe 1-6'!B$13:B$212,B38,'Eingabe 1-6'!J$13:J$212)","v":0},{"$f":"SUMIF('Eingabe 1-6'!N$13:N$212,B38,'Eingabe 1-6'!V$13:V$212)","v":0},0,{"$f":"SUMIF('Eingabe 1-6'!Z$13:Z$212,B38,'Eingabe 1-6'!AH$13:AH$212)","v":0},{"$f":"SUMIF('Eingabe 1-6'!AL$13:AL$212,B38,'Eingabe 1-6'!AT$13:AT$212)","v":0},0,0,{"$f":"SUMIF('Eingabe 1-6'!AX$13:AX$212,B38,'Eingabe 1-6'!BF$13:BF$212)","v":0},{"$f":"SUMIF('Eingabe 1-6'!BJ$13:BJ$212,B38,'Eingabe 1-6'!BR$13:BR$212)","v":0},0,0]
[0,216,null,null,null,null,null,{"$f":"SUMIF('Eingabe 1-6'!B$13:B$212,B39,'Eingabe 1-6'!J$13:J$212)","v":0},{"$f":"SUMIF('Eingabe 1-6'!N$13:N$212,B39,'Eingabe 1-6'!V$13:V$212)","v":0},0,{"$f":"SUMIF('Eingabe 1-6'!Z$13:Z$212,B39,'Eingabe 1-6'!AH$13:AH$212)","v":0},{"$f":"SUMIF('Eingabe 1-6'!AL$13:AL$212,B39,'Eingabe 1-6'!AT$13:AT$212)","v":0},0,0,{"$f":"SUMIF('Eingabe 1-6'!AX$13:AX$212,B39,'Eingabe 1-6'!BF$13:BF$212)","v":0},{"$f":"SUMIF('Eingabe 1-6'!BJ$13:BJ$212,B39,'Eingabe 1-6'!BR$13:BR$212)","v":0},0,0]
[{"$f":"A24","v":0},"Summe",{"$f":"COUNTA(C24:C39)","v":11},{"$f":"COUNTA(D24:D39)","v":11},11,null,null,{"$f":"SUM(H24:H39)","v":0},0,0,0,0,0,0,0,0,0,0]
[null,301,"x","x","x",null,null,{"$f":"SUMIF('Eingabe 1-6'!B$13:B$212,B41,'Eingabe 1-6'!J$13:J$212)","v":0},{"$f":"SUMIF('Eingabe 1-6'!N$13:N$212,B41,'Eingabe 1-6'!V$13:V$212)","v":0},{"$f":"H41+I41","v":0},{"$f":"SUMIF('Eingabe 1-6'!Z$13:Z$212,B41,'Eingabe 1-6'!AH$13:AH$212)","v":0},{"$f":"SUMIF('Eingabe 1-6'!AL$13:AL$212,B41,'Eingabe 1-6'!AT$13:AT$212)","v":0},{"$f":"K41+L41","v":0},{"$f":"J41+M41","v":0},{"$f":"SUMIF('Eingabe 1-6'!AX$13:AX$212,B41,'Eingabe 1-6'!BF$13:BF$212)","v":0},{"$f":"SUMIF('Eingabe 1-6'!BJ$13:BJ$212,B41,'Eingabe 1-6'!BR$13:BR$212)","v":0},{"$f":"O41+P41","v":0},{"$f":"N41+Q41","v":0}]
[{"$f":"A41","v":0},302,"x","x","x",null,null,{"$f":"SUMIF('Eingabe 1-6'!B$13:B$212,B42,'Eingabe 1-6'!J$13:J$212)","v":0},{"$f":"SUMIF('Eingabe 1-6'!N$13:N$212,B42,'Eingabe 1-6'!V$13:V$212)","v":0},0,{"$f":"SUMIF('Eingabe 1-6'!Z$13:Z$212,B42,'Eingabe 1-6'!AH$13:AH$212)","v":0},{"$f":"SUMIF('Eingabe 1-6'!AL$13:AL$212,B42,'Eingabe 1-6'!AT$13:AT$212)","v":0},0,0,{"$f":"SUMIF('Eingabe 1-6'!AX$13:AX$212,B42,'Eingabe 1-6'!BF$13:BF$212)","v":0},{"$f":"SUMIF('Eingabe 1-6'!BJ$13:BJ$212,B42,'Eingabe 1-6'!BR$13:BR$212)","v":0},0,0]
[{"$f":"A42","v":0},303,"x","x","x",null,null,{"$f":"SUMIF('Eingabe 1-6'!B$13:B$212,B43,'Eingabe 1-6'!J$13:J$212)","v":0},{"$f":"SUMIF('Eingabe 1-6'!N$13:N$212,B43,'Eingabe 1-6'!V$13:V$212)","v":0},0,{"$f":"SUMIF('Eingabe 1-6'!Z$13:Z$212,B43,'Eingabe 1-6'!AH$13:AH$212)","v":0},{"$f":"SUMIF('Eingabe 1-6'!AL$13:AL$212,B43,'Eingabe 1-6'!AT$13:AT$212)","v":0},0,0,{"$f":"SUMIF('Eingabe 1-6'!AX$13:AX$212,B43,'Eingabe 1-6'!BF$13:BF$212)","v":0},{"$f":"SUMIF('Eingabe 1-6'!BJ$13:BJ$212,B43,'Eingabe 1-6'!BR$13:BR$212)","v":0},0,0]
[0,304,"x","x","x",null,null,{"$f":"SUMIF('Eingabe 1-6'!B$13:B$212,B44,'Eingabe 1-6'!J$13:J$212)","v":0},{"$f":"SUMIF('Eingabe 1-6'!N$13:N$212,B44,'Eingabe 1-6'!V$13:V$212)","v":0},0,{"$f":"SUMIF('Eingabe 1-6'!Z$13:Z$212,B44,'Eingabe 1-6'!AH$13:AH$212)","v":0},{"$f":"SUMIF('Eingabe 1-6'!AL$13:AL$212,B44,'Eingabe 1-6'!AT$13:AT$212)","v":0},0,0,{"$f":"SUMIF('Eingabe 1-6'!AX$13:AX$212,B44,'Eingabe 1-6'!BF$13:BF$212)","v":0},{"$f":"SUMIF('Eingabe 1-6'!BJ$13:BJ$212,B44,'Eingabe 1-6'!BR$13:BR$212)","v":0},0,0]
[0,305,"x","x","x",null,null,{"$f":"SUMIF('Eingabe 1-6'!B$13:B$212,B45,'Eingabe 1-6'!J$13:J$212)","v":0},{"$f":"SUMIF('Eingabe 1-6'!N$13:N$212,B45,'Eingabe 1-6'!V$13:V$212)","v":0},0,{"$f":"SUMIF('Eingabe 1-6'!Z$13:Z$212,B45,'Eingabe 1-6'!AH$13:AH$212)","v":0},{"$f":"SUMIF('Eingabe 1-6'!AL$13:AL$212,B45,'Eingabe 1-6'!AT$13:AT$212)","v":0},0,0,{"$f":"SUMIF('Eingabe 1-6'!AX$13:AX$212,B45,'Eingabe 1-6'!BF$13:BF$212)","v":0},{"$f":"SUMIF('Eingabe 1-6'!BJ$13:BJ$212,B45,'Eingabe 1-6'!BR$13:BR$212)","v":0},0,0]
[0,306,"x","x","x",null,null,{"$f":"SUMIF('Eingabe 1-6'!B$13:B$212,B46,'Eingabe 1-6'!J$13:J$212)","v":0},{"$f":"SUMIF('Eingabe 1-6'!N$13:N$212,B46,'Eingabe 1-6'!V$13:V$212)","v":0},0,{"$f":"SUMIF('Eingabe 1-6'!Z$13:Z$212,B46,'Eingabe 1-6'!AH$13:AH$212)","v":0},{"$f":"SUMIF('Eingabe 1-6'!AL$13:AL$212,B46,'Eingabe 1-6'!AT$13:AT$212)","v":0},0,0,{"$f":"SUMIF('Eingabe 1-6'!AX$13:AX$212,B46,'Eingabe 1-6'!BF$13:BF$212)","v":0},{"$f":"SUMIF('Eingabe 1-6'!BJ$13:BJ$212,B46,'Eingabe 1-6'!BR$13:BR$212)","v":0},0,0]
[0,307,"x","x","x",null,null,{"$f":"SUMIF('Eingabe 1-6'!B$13:B$212,B47,'Eingabe 1-6'!J$13:J$212)","v":0},{"$f":"SUMIF('Eingabe 1-6'!N$13:N$212,B47,'Eingabe 1-6'!V$13:V$212)","v":0},0,{"$f":"SUMIF('Eingabe 1-6'!Z$13:Z$212,B47,'Eingabe 1-6'!AH$13:AH$212)","v":0},{"$f":"SUMIF('Eingabe 1-6'!AL$13:AL$212,B47,'Eingabe 1-6'!AT$13:AT$212)","v":0},0,0,{"$f":"SUMIF('Eingabe 1-6'!AX$13:AX$212,B47,'Eingabe 1-6'!BF$13:BF$212)","v":0},{"$f":"SUMIF('Eingabe 1-6'!BJ$13:BJ$212,B47,'Eingabe 1-6'!BR$13:BR$212)","v":0},0,0]
[0,308,"x","x","x",null,null,{"$f":"SUMIF('Eingabe 1-6'!B$13:B$212,B48,'Eingabe 1-6'!J$13:J$212)","v":0},{"$f":"SUMIF('Eingabe 1-6'!N$13:N$212,B48,'Eingabe 1-6'!V$13:V$212)","v":0},0,{"$f":"SUMIF('Eingabe 1-6'!Z$13:Z$212,B48,'Eingabe 1-6'!AH$13:AH$212)","v":0},{"$f":"SUMIF('Eingabe 1-6'!AL$13:AL$212,B48,'Eingabe 1-6'!AT$13:AT$212)","v":0},0,0,{"$f":"SUMIF('Eingabe 1-6'!AX$13:AX$212,B48,'Eingabe 1-6'!BF$13:BF$212)","v":0},{"$f":"SUMIF('Eingabe 1-6'!BJ$13:BJ$212,B48,'Eingabe 1-6'!BR$13:BR$212)","v":0},0,0]
[0,309,"x","x","x",null,null,{"$f":"SUMIF('Eingabe 1-6'!B$13:B$212,B49,'Eingabe 1-6'!J$13:J$212)","v":0},{"$f":"SUMIF('Eingabe 1-6'!N$13:N$212,B49,'Eingabe 1-6'!V$13:V$212)","v":0},0,{"$f":"SUMIF('Eingabe 1-6'!Z$13:Z$212,B49,'Eingabe 1-6'!AH$13:AH$212)","v":0},{"$f":"SUMIF('Eingabe 1-6'!AL$13:AL$212,B49,'Eingabe 1-6'!AT$13:AT$212)","v":0},0,0,{"$f":"SUMIF('Eingabe 1-6'!AX$13:AX$212,B49,'Eingabe 1-6'!BF$13:BF$212)","v":0},{"$f":"SUMIF('Eingabe 1-6'!BJ$13:BJ$212,B49,'Eingabe 1-6'!BR$13:BR$212)","v":0},0,0]
[0,310,"x","x","x",null,null,{"$f":"SUMIF('Eingabe 1-6'!B$13:B$212,B50,'Eingabe 1-6'!J$13:J$212)","v":0},{"$f":"SUMIF('Eingabe 1-6'!N$13:N$212,B50,'Eingabe 1-6'!V$13:V$212)","v":0},0,{"$f":"SUMIF('Eingabe 1-6'!Z$13:Z$212,B50,'Eingabe 1-6'!AH$13:AH$212)","v":0},{"$f":"SUMIF('Eingabe 1-6'!AL$13:AL$212,B50,'Eingabe 1-6'!AT$13:AT$212)","v":0},0,0,{"$f":"SUMIF('Eingabe 1-6'!AX$13:AX$212,B50,'Eingabe 1-6'!BF$13:BF$212)","v":0},{"$f":"SUMIF('Eingabe 1-6'!BJ$13:BJ$212,B50,'Eingabe 1-6'!BR$13:BR$212)","v":0},0,0]
[0,311,"x","x","x",null,null,{"$f":"SUMIF('Eingabe 1-6'!B$13:B$212,B51,'Eingabe 1-6'!J$13:J$212)","v":0},{"$f":"SUMIF('Eingabe 1-6'!N$13:N$212,B51,'Eingabe 1-6'!V$13:V$212)","v":0},0,{"$f":"SUMIF('Eingabe 1-6'!Z$13:Z$212,B51,'Eingabe 1-6'!AH$13:AH$212)","v":0},{"$f":"SUMIF('Eingabe 1-6'!AL$13:AL$212,B51,'Eingabe 1-6'!AT$13:AT$212)","v":0},0,0,{"$f":"SUMIF('Eingabe 1-6'!AX$13:AX$212,B51,'Eingabe 1-6'!BF$13:BF$212)","v":0},{"$f":"SUMIF('Eingabe 1-6'!BJ$13:BJ$212,B51,'Eingabe 1-6'!BR$13:BR$212)","v":0},0,0]
[0,312,null,null,null,null,null,{"$f":"SUMIF('Eingabe 1-6'!B$13:B$212,B52,'Eingabe 1-6'!J$13:J$212)","v":0},{"$f":"SUMIF('Eingabe 1-6'!N$13:N$212,B52,'Eingabe 1-6'!V$13:V$212)","v":0},0,{"$f":"SUMIF('Eingabe 1-6'!Z$13:Z$212,B52,'Eingabe 1-6'!AH$13:AH$212)","v":0},{"$f":"SUMIF('Eingabe 1-6'!AL$13:AL$212,B52,'Eingabe 1-6'!AT$13:AT$212)","v":0},0,0,{"$f":"SUMIF('Eingabe 1-6'!AX$13:AX$212,B52,'Eingabe 1-6'!BF$13:BF$212)","v":0},{"$f":"SUMIF('Eingabe 1-6'!BJ$13:BJ$212,B52,'Eingabe 1-6'!BR$13:BR$212)","v":0},0,0]
[0,313,null,null,null,null,null,{"$f":"SUMIF('Eingabe 1-6'!B$13:B$212,B53,'Eingabe 1-6'!J$13:J$212)","v":0},{"$f":"SUMIF('Eingabe 1-6'!N$13:N$212,B53,'Eingabe 1-6'!V$13:V$212)","v":0},0,{"$f":"SUMIF('Eingabe 1-6'!Z$13:Z$212,B53,'Eingabe 1-6'!AH$13:AH$212)","v":0},{"$f":"SUMIF('Eingabe 1-6'!AL$13:AL$212,B53,'Eingabe 1-6'!AT$13:AT$212)","v":0},0,0,{"$f":"SUMIF('Eingabe 1-6'!AX$13:AX$212,B53,'Eingabe 1-6'!BF$13:BF$212)","v":0},{"$f":"SUMIF('Eingabe 1-6'!BJ$13:BJ$212,B53,'Eingabe 1-6'!BR$13:BR$212)","v":0},0,0]
[0,314,null,null,null,null,null,{"$f":"SUMIF('Eingabe 1-6'!B$13:B$212,B54,'Eingabe 1-6'!J$13:J$212)","v":0},{"$f":"SUMIF('Eingabe 1-6'!N$13:N$212,B54,'Eingabe 1-6'!V$13:V$212)","v":0},0,{"$f":"SUMIF('Eingabe 1-6'!Z$13:Z$212,B54,'Eingabe 1-6'!AH$13:AH$212)","v":0},{"$f":"SUMIF('Eingabe 1-6'!AL$13:AL$212,B54,'Eingabe 1-6'!AT$13:AT$212)","v":0},0,0,{"$f":"SUMIF('Eingabe 1-6'!AX$13:AX$212,B54,'Eingabe 1-6'!BF$13:BF$212)","v":0},{"$f":"SUMIF('Eingabe 1-6'!BJ$13:BJ$212,B54,'Eingabe 1-6'!BR$13:BR$212)","v":0},0,0]
[0,315,null,null,null,null,null,{"$f":"SUMIF('Eingabe 1-6'!B$13:B$212,B55,'Eingabe 1-6'!J$13:J$212)","v":0},{"$f":"SUMIF('Eingabe 1-6'!N$13:N$212,B55,'Eingabe 1-6'!V$13:V$212)","v":0},0,{"$f":"SUMIF('Eingabe 1-6'!Z$13:Z$212,B55,'Eingabe 1-6'!AH$13:AH$212)","v":0},{"$f":"SUMIF('Eingabe 1-6'!AL$13:AL$212,B55,'Eingabe 1-6'!AT$13:AT$212)","v":0},0,0,{"$f":"SUMIF('Eingabe 1-6'!AX$13:AX$212,B55,'Eingabe 1-6'!BF$13:BF$212)","v":0},{"$f":"SUMIF('Eingabe 1-6'!BJ$13:BJ$212,B55,'Eingabe 1-6'!BR$13:BR$212)","v":0},0,0]
[0,316,null,null,null,null,null,{"$f":"SUMIF('Eingabe 1-6'!B$13:B$212,B56,'Eingabe 1-6'!J$13:J$212)","v":0},{"$f":"SUMIF('Eingabe 1-6'!N$13:N$212,B56,'Eingabe 1-6'!V$13:V$212)","v":0},0,{"$f":"SUMIF('Eingabe 1-6'!Z$13:Z$212,B56,'Eingabe 1-6'!AH$13:AH$212)","v":0},{"$f":"SUMIF('Eingabe 1-6'!AL$13:AL$212,B56,'Eingabe 1-6'!AT$13:AT$212)","v":0},0,0,{"$f":"SUMIF('Eingabe 1-6'!AX$13:AX$212,B56,'Eingabe 1-6'!BF$13:BF$212)","v":0},{"$f":"SUMIF('Eingabe 1-6'!BJ$13:BJ$212,B56,'Eingabe 1-6'!BR$13:BR$212)","v":0},0,0]
[{"$f":"A41","v":0},"Summe",{"$f":"COUNTA(C41:C56)","v":11},{"$f":"COUNTA(D41:D56)","v":11},11,null,null,{"$f":"SUM(H41:H56)","v":0},0,0,0,0,0,0,0,0,0,0]
[null,401,"x","x","x",null,null,{"$f":"SUMIF('Eingabe 1-6'!B$13:B$212,B58,'Eingabe 1-6'!J$13:J$212)","v":0},{"$f":"SUMIF('Eingabe 1-6'!N$13:N$212,B58,'Eingabe 1-6'!V$13:V$212)","v":0},{"$f":"H58+I58","v":0},{"$f":"SUMIF('Eingabe 1-6'!Z$13:Z$212,B58,'Eingabe 1-6'!AH$13:AH$212)","v":0},{"$f":"SUMIF('Eingabe 1-6'!AL$13:AL$212,B58,'Eingabe 1-6'!AT$13:AT$212)","v":0},{"$f":"K58+L58","v":0},{"$f":"J58+M58","v":0},{"$f":"SUMIF('Eingabe 1-6'!AX$13:AX$212,B58,'Eingabe 1-6'!BF$13:BF$212)","v":0},{"$f":"SUMIF('Eingabe 1-6'!BJ$13:BJ$212,B58,'Eingabe 1-6'!BR$13:BR$212)","v":0},{"$f":"O58+P58","v":0},{"$f":"N58+Q58","v":0}]
[{"$f":"A58","v":0},402,"x","x","x",null,null,{"$f":"SUMIF('Eingabe 1-6'!B$13:B$212,B59,'Eingabe 1-6'!J$13:J$212)","v":0},{"$f":"SUMIF('Eingabe 1-6'!N$13:N$212,B59,'Eingabe 1-6'!V$13:V$212)","v":0},{"$f":"H59+I59","v":0},{"$f":"SUMIF('Eingabe 1-6'!Z$13:Z$212,B59,'Eingabe 1-6'!AH$13:AH$212)","v":0},{"$f":"SUMIF('Eingabe 1-6'!AL$13:AL$212,B59,'Eingabe 1-6'!AT$13:AT$212)","v":0},{"$f":"K59+L59","v":0},{"$f":"J59+M59","v":0},{"$f":"SUMIF('Eingabe 1-6'!AX$13:AX$212,B59,'Eingabe 1-6'!BF$13:BF$212)","v":0},{"$f":"SUMIF('Eingabe 1-6'!BJ$13:BJ$212,B59,'Eingabe 1-6'!BR$13:BR$212)","v":0},{"$f":"O59+P59","v":0},{"$f":"N59+Q59","v":0}]
[{"$f":"A59","v":0},403,"x","x","x",null,null,{"$f":"SUMIF('Eingabe 1-6'!B$13:B$212,B60,'Eingabe 1-6'!J$13:J$212)","v":0},{"$f":"SUMIF('Eingabe 1-6'!N$13:N$212,B60,'Eingabe 1-6'!V$13:V$212)","v":0},0,{"$f":"SUMIF('Eingabe 1-6'!Z$13:Z$212,B60,'Eingabe 1-6'!AH$13:AH$212)","v":0},{"$f":"SUMIF('Eingabe 1-6'!AL$13:AL$212,B60,'Eingabe 1-6'!AT$13:AT$212)","v":0},0,0,{"$f":"SUMIF('Eingabe 1-6'!AX$13:AX$212,B60,'Eingabe 1-6'!BF$13:BF$212)","v":0},{"$f":"SUMIF('Eingabe 1-6'!BJ$13:BJ$212,B60,'Eingabe 1-6'!BR$13:BR$212)","v":0},0,0]
[0,404,"x","x","x",null,null,{"$f":"SUMIF('Eingabe 1-6'!B$13:B$212,B61,'Eingabe 1-6'!J$13:J$212)","v":0},{"$f":"SUMIF('Eingabe 1-6'!N$13:N$212,B61,'Eingabe 1-6'!V$13:V$212)","v":0},0,{"$f":"SUMIF('Eingabe 1-6'!Z$13:Z$212,B61,'Eingabe 1-6'!AH$13:AH$212)","v":0},{"$f":"SUMIF('Eingabe 1-6'!AL$13:AL$212,B61,'Eingabe 1-6'!AT$13:AT$212)","v":0},0,0,{"$f":"SUMIF('Eingabe 1-6'!AX$13:AX$212,B61,'Eingabe 1-6'!BF$13:BF$212)","v":0},{"$f":"SUMIF('Eingabe 1-6'!BJ$13:BJ$212,B61,'Eingabe 1-6'!BR$13:BR$212)","v":0},0,0]
[0,405,"x","x","x",null,null,{"$f":"SUMIF('Eingabe 1-6'!B$13:B$212,B62,'Eingabe 1-6'!J$13:J$212)","v":0},{"$f":"SUMIF('Eingabe 1-6'!N$13:N$212,B62,'Eingabe 1-6'!V$13:V$212)","v":0},0,{"$f":"SUMIF('Eingabe 1-6'!Z$13:Z$212,B62,'Eingabe 1-6'!AH$13:AH$212)","v":0},{"$f":"SUMIF('Eingabe 1-6'!AL$13:AL$212,B62,'Eingabe 1-6'!AT$13:AT$212)","v":0},0,0,{"$f":"SUMIF('Eingabe 1-6'!AX$13:AX$212,B62,'Eingabe 1-6'!BF$13:BF$212)","v":0},{"$f":"SUMIF('Eingabe 1-6'!BJ$13:BJ$212,B62,'Eingabe 1-6'!BR$13:BR$212)","v":0},0,0]
[0,406,"x","x","x",null,null,{"$f":"SUMIF('Eingabe 1-6'!B$13:B$212,B63,'Eingabe 1-6'!J$13:J$212)","v":0},{"$f":"SUMIF('Eingabe 1-6'!N$13:N$212,B63,'Eingabe 1-6'!V$13:V$212)","v":0},0,{"$f":"SUMIF('Eingabe 1-6'!Z$13:Z$212,B63,'Eingabe 1-6'!AH$13:AH$212)","v":0},{"$f":"SUMIF('Eingabe 1-6'!AL$13:AL$212,B63,'Eingabe 1-6'!AT$13:AT$212)","v":0},0,0,{"$f":"SUMIF('Eingabe 1-6'!AX$13:AX$212,B63,'Eingabe 1-6'!BF$13:BF$212)","v":0},{"$f":"SUMIF('Eingabe 1-6'!BJ$13:BJ$212,B63,'Eingabe 1-6'!BR$13:BR$212)","v":0},0,0]
[0,407,"x","x","x",null,null,{"$f":"SUMIF('Eingabe 1-6'!B$13:B$212,B64,'Eingabe 1-6'!J$13:J$212)","v":0},{"$f":"SUMIF('Eingabe 1-6'!N$13:N$212,B64,'Eingabe 1-6'!V$13:V$212)","v":0},0,{"$f":"SUMIF('Eingabe 1-6'!Z$13:Z$212,B64,'Eingabe 1-6'!AH$13:AH$212)","v":0},{"$f":"SUMIF('Eingabe 1-6'!AL$13:AL$212,B64,'Eingabe 1-6'!AT$13:AT$212)","v":0},0,0,{"$f":"SUMIF('Eingabe 1-6'!AX$13:AX$212,B64,'Eingabe 1-6'!BF$13:BF$212)","v":0},{"$f":"SUMIF('Eingabe 1-6'!BJ$13:BJ$212,B64,'Eingabe 1-6'!BR$13:BR$212)","v":0},0,0]
[0,408,"x","x","x",null,null,{"$f":"SUMIF('Eingabe 1-6'!B$13:B$212,B65,'Eingabe 1-6'!J$13:J$212)","v":0},{"$f":"SUMIF('Eingabe 1-6'!N$13:N$212,B65,'Eingabe 1-6'!V$13:V$212)","v":0},0,{"$f":"SUMIF('Eingabe 1-6'!Z$13:Z$212,B65,'Eingabe 1-6'!AH$13:AH$212)","v":0},{"$f":"SUMIF('Eingabe 1-6'!AL$13:AL$212,B65,'Eingabe 1-6'!AT$13:AT$212)","v":0},0,0,{"$f":"SUMIF('Eingabe 1-6'!AX$13:AX$212,B65,'Eingabe 1-6'!BF$13:BF$212)","v":0},{"$f":"SUMIF('Eingabe 1-6'!BJ$13:BJ$212,B65,'Eingabe 1-6'!BR$13:BR$212)","v":0},0,0]
[0,409,"x","x","x",null,null,{"$f":"SUMIF('Eingabe 1-6'!B$13:B$212,B66,'Eingabe 1-6'!J$13:J$212)","v":0},{"$f":"SUMIF('Eingabe 1-6'!N$13:N$212,B66,'Eingabe 1-6'!V$13:V$212)","v":0},0,{"$f":"SUMIF('Eingabe 1-6'!Z$13:Z$212,B66,'Eingabe 1-6'!AH$13:AH$212)","v":0},{"$f":"SUMIF('Eingabe 1-6'!AL$13:AL$212,B66,'Eingabe 1-6'!AT$13:AT$212)","v":0},0,0,{"$f":"SUMIF('Eingabe 1-6'!AX$13:AX$212,B66,'Eingabe 1-6'!BF$13:BF$212)","v":0},{"$f":"SUMIF('Eingabe 1-6'!BJ$13:BJ$212,B66,'Eingabe 1-6'!BR$13:BR$212)","v":0},0,0]
[0,410,"x","x","x",null,null,{"$f":"SUMIF('Eingabe 1-6'!B$13:B$212,B67,'Eingabe 1-6'!J$13:J$212)","v":0},{"$f":"SUMIF('Eingabe 1-6'!N$13:N$212,B67,'Eingabe 1-6'!V$13:V$212)","v":0},0,{"$f":"SUMIF('Eingabe 1-6'!Z$13:Z$212,B67,'Eingabe 1-6'!AH$13:AH$212)","v":0},{"$f":"SUMIF('Eingabe 1-6'!AL$13:AL$212,B67,'Eingabe 1-6'!AT$13:AT$212)","v":0},0,0,{"$f":"SUMIF('Eingabe 1-6'!AX$13:AX$212,B67,'Eingabe 1-6'!BF$13:BF$212)","v":0},{"$f":"SUMIF('Eingabe 1-6'!BJ$13:BJ$212,B67,'Eingabe 1-6'!BR$13:BR$212)","v":0},0,0]
[0,411,"x","x","x",null,null,{"$f":"SUMIF('Eingabe 1-6'!B$13:B$212,B68,'Eingabe 1-6'!J$13:J$212)","v":0},{"$f":"SUMIF('Eingabe 1-6'!N$13:N$212,B68,'Eingabe 1-6'!V$13:V$212)","v":0},0,{"$f":"SUMIF('Eingabe 1-6'!Z$13:Z$212,B68,'Eingabe 1-6'!AH$13:AH$212)","v":0},{"$f":"SUMIF('Eingabe 1-6'!AL$13:AL$212,B68,'Eingabe 1-6'!AT$13:AT$212)","v":0},0,0,{"$f":"SUMIF('Eingabe 1-6'!AX$13:AX$212,B68,'Eingabe 1-6'!BF$13:BF$212)","v":0},{"$f":"SUMIF('Eingabe 1-6'!BJ$13:BJ$212,B68,'Eingabe 1-6'!BR$13:BR$212)","v":0},0,0]
[0,412,null,null,null,null,null,{"$f":"SUMIF('Eingabe 1-6'!B$13:B$212,B69,'Eingabe 1-6'!J$13:J$212)","v":0},{"$f":"SUMIF('Eingabe 1-6'!N$13:N$212,B69,'Eingabe 1-6'!V$13:V$212)","v":0},0,{"$f":"SUMIF('Eingabe 1-6'!Z$13:Z$212,B69,'Eingabe 1-6'!AH$13:AH$212)","v":0},{"$f":"SUMIF('Eingabe 1-6'!AL$13:AL$212,B69,'Eingabe 1-6'!AT$13:AT$212)","v":0},0,0,{"$f":"SUMIF('Eingabe 1-6'!AX$13:AX$212,B69,'Eingabe 1-6'!BF$13:BF$212)","v":0},{"$f":"SUMIF('Eingabe 1-6'!BJ$13:BJ$212,B69,'Eingabe 1-6'!BR$13:BR$212)","v":0},0,0]
[0,413,null,null,null,null,null,{"$f":"SUMIF('Eingabe 1-6'!B$13:B$212,B70,'Eingabe 1-6'!J$13:J$212)","v":0},{"$f":"SUMIF('Eingabe 1-6'!N$13:N$212,B70,'Eingabe 1-6'!V$13:V$212)","v":0},0,{"$f":"SUMIF('Eingabe 1-6'!Z$13:Z$212,B70,'Eingabe 1-6'!AH$13:AH$212)","v":0},{"$f":"SUMIF('Eingabe 1-6'!AL$13:AL$212,B70,'Eingabe 1-6'!AT$13:AT$212)","v":0},0,0,{"$f":"SUMIF('Eingabe 1-6'!AX$13:AX$212,B70,'Eingabe 1-6'!BF$13:BF$212)","v":0},{"$f":"SUMIF('Eingabe 1-6'!BJ$13:BJ$212,B70,'Eingabe 1-6'!BR$13:BR$212)","v":0},0,0]
[0,414,null,null,null,null,null,{"$f":"SUMIF('Eingabe 1-6'!B$13:B$212,B71,'Eingabe 1-6'!J$13:J$212)","v":0},{"$f":"SUMIF('Eingabe 1-6'!N$13:N$212,B71,'Eingabe 1-6'!V$13:V$212)","v":0},0,{"$f":"SUMIF('Eingabe 1-6'!Z$13:Z$212,B71,'Eingabe 1-6'!AH$13:AH$212)","v":0},{"$f":"SUMIF('Eingabe 1-6'!AL$13:AL$212,B71,'Eingabe 1-6'!AT$13:AT$212)","v":0},0,0,{"$f":"SUMIF('Eingabe 1-6'!AX$13:AX$212,B71,'Eingabe 1-6'!BF$13:BF$212)","v":0},{"$f":"SUMIF('Eingabe 1-6'!BJ$13:BJ$212,B71,'Eingabe 1-6'!BR$13:BR$212)","v":0},0,0]
[0,415,null,null,null,null,null,{"$f":"SUMIF('Eingabe 1-6'!B$13:B$212,B72,'Eingabe 1-6'!J$13:J$212)","v":0},{"$f":"SUMIF('Eingabe 1-6'!N$13:N$212,B72,'Eingabe 1-6'!V$13:V$212)","v":0},0,{"$f":"SUMIF('Eingabe 1-6'!Z$13:Z$212,B72,'Eingabe 1-6'!AH$13:AH$212)","v":0},{"$f":"SUMIF('Eingabe 1-6'!AL$13:AL$212,B72,'Eingabe 1-6'!AT$13:AT$212)","v":0},0,0,{"$f":"SUMIF('Eingabe 1-6'!AX$13:AX$212,B72,'Eingabe 1-6'!BF$13:BF$212)","v":0},{"$f":"SUMIF('Eingabe 1-6'!BJ$13:BJ$212,B72,'Eingabe 1-6'!BR$13:BR$212)","v":0},0,0]
[0,416,null,null,null,null,null,{"$f":"SUMIF('Eingabe 1-6'!B$13:B$212,B73,'Eingabe 1-6'!J$13:J$212)","v":0},{"$f":"SUMIF('Eingabe 1-6'!N$13:N$212,B73,'Eingabe 1-6'!V$13:V$212)","v":0},0,{"$f":"SUMIF('Eingabe 1-6'!Z$13:Z$212,B73,'Eingabe 1-6'!AH$13:AH$212)","v":0},{"$f":"SUMIF('Eingabe 1-6'!AL$13:AL$212,B73,'Eingabe 1-6'!AT$13:AT$212)","v":0},0,0,{"$f":"SUMIF('Eingabe 1-6'!AX$13:AX$212,B73,'Eingabe 1-6'!BF$13:BF$212)","v":0},{"$f":"SUMIF('Eingabe 1-6'!BJ$13:BJ$212,B73,'Eingabe 1-6'!BR$13:BR$212)","v":0},0,0]
[{"$f":"A58","v":0},"Summe",{"$f":"COUNTA(C58:C73)","v":11},{"$f":"COUNTA(D58:D73)","v":11},11,null,null,{"$f":"SUM(H58:H73)","v":0},0,0,0,0,0,{"$f":"SUM(N58:N73)","v":0},0,0,0,0]

{"sheet":"Eingabe 1-6","index":2,"n_rows":78,"n_cols":122,"rows_kept":78,"cut":false,"hidden":false,"merged":[[6,71,9,71],[0,53,10,53],[0,65,10,65],[6,56,9,58],[6,59,9,59],[6,68,9,70],[0,5,10,5],[0,17,10,17],[0,29,10,29],[6,35,9,35],[6,47,9,47],[6,23,9,23],[6,11,9,11],[0,41,10,41],[6,8,9,10],[6,20,9,22],[6,32,9,34],[6,44,9,46]]}
[null,1,11,null,null,"Eingabe der Tischnummern :",null,null,null,null,null,null,null,1,11,null,null,"Eingabe der Tischnummern :",null,null,null,null,null,null,null,1,11,null,null,"Eingabe der Tischnummern :",null,null,null,null,null,null,null,1,11,null,null,"Eingabe der Tischnummern :",null,null,null,null,null,null,null,1,11,null,null,"Eingabe der Tischnummern :",null,null,null,null,null,null,null,1,11,null,null,"Eingabe der Tischnummern :",null,null,null,null,null,null,null,null,null,null,null,null,null,null,null,1,11]
[null,2,12,null,null,null,null,null,null,null,null,null,null,2,12,null,null,null,null,null,null,null,null,null,null,2,12,null,null,null,null,null,null,null,null,null,null,2,12,null,null,null,null,null,null,null,null,null,null,2,12,null,null,null,null,null,null,null,null,null,null,2,12,null,null,null,null,null,null,null,null,null,null,null,null,null,null,null,null,null,null,2,12]
[null,3,13,null,null,null,null,null,null,null,null,null,null,3,13,null,null,null,null,null,null,null,null,null,null,3,13,null,null,null,null,null,null,null,null,null,null,3,13,null,null,null,null,null,null,null,null,null,null,3,13,null,null,null,null,null,null,null,null,null,null,3,13,null,null,null,null,null,null,null,null,null,null,null,null,null,null,null,null,null,null,3,13]
[null,4,14,null,null,null,null,null,null,null,null,null,null,4,14,null,null,null,null,null,null,null,null,null,null,4,14,null,null,null,null,null,null,null,null,null,null,4,14,null,null,null,null,null,null,null,null,null,null,4,14,null,null,null,null,null,null,null,null,null,null,4,14,null,null,null,null,null,null,null,null,null,null,null,null,null,null,null,null,null,null,4,14]
[null,5,15,null,null,null,null,null,null,null,null,null,null,5,15,null,null,null,null,null,null,null,null,null,null,5,15,null,null,null,null,null,null,null,null,null,null,5,15,null,null,null,null,null,null,null,null,null,null,5,15,null,null,null,null,null,null,null,null,null,null,5,15,null,null,null,null,null,null,null,null,null,null,null,null,null,null,null,null,null,null,5,15]
[null,6,16,null,null,null,null,null,null,null,null,null,null,6,16,null,null,null,null,null,null,null,null,null,null,6,16,null,null,null,null,null,null,null,null,null,null,6,16,null,null,null,null,null,null,null,null,null,null,6,16,null,null,null,null,null,null,null,null,null,null,6,16,null,null,null,null,null,null,null,null,null,null,null,null,null,null,null,null,null,null,6,16]
[null,7,17,null,null,null,null,null,"Umsetzungen bitte in der jeweilige Serie in Spalte C vornehmen!",null,null,{"$f":"COUNT(F13:F76)-48","v":0},null,7,17,null,null,null,null,null,"Umsetzungen bitte in der jeweilige Serie in Spalte C vornehmen!",null,null,{"$f":"COUNT(R13:R76)-48","v":0},null,7,17,null,null,null,null,null,"Umsetzungen bitte in der jeweilige Serie in Spalte C vornehmen!",null,null,{"$f":"COUNT(AD13:AD76)-48","v":0},null,7,17,null,null,null,null,null,"Umsetzungen bitte in der jeweilige Serie in Spalte C vornehmen!",null,null,{"$f":"COUNT(AP13:AP76)-48","v":0},null,7,17,null,null,null,null,null,"Umsetzungen bitte in der jeweilige Serie in Spalte C vornehmen!",null,null,{"$f":"COUNT(BB13:BB76)-48","v":0},null,7,17,null,null,null,null,null,"Umsetzungen bitte in der jeweilige Serie in Spalte C vornehmen!",null,null,{"$f":"COUNT(BN13:BN76)-48","v":0},null,null,null,null,null,null,null,null,null,7,17]
[null,8,18,null,null,null,null,null,null,null,null,null,null,8,18,null,null,null,null,null,null,null,null,null,null,8,18,null,null,null,null,null,null,null,null,null,null,8,18,null,null,null,null,null,null,null,null,null,null,8,18,null,null,null,null,null,null,null,null,null,null,8,18,null,null,null,null,null,null,null,null,null,null,null,null,null,null,null,null,null,null,8,18]
[null,9,19,null,null,null,null,null,null,null,null,null,null,9,19,null,null,null,null,null,null,null,null,null,null,9,19,null,null,null,null,null,null,null,null,null,null,9,19,null,null,null,null,null,null,null,null,null,null,9,19,null,null,null,null,null,null,null,null,null,null,9,19,null,null,null,null,null,null,null,null,null,null,null,null,null,null,null,null,null,null,9,19]
[null,10,20,null,null,null,null,null,null,null,null,null,null,10,20,null,null,null,null,null,null,null,null,null,null,10,20,null,null,null,null,null,null,null,null,null,null,10,20,null,null,null,null,null,null,null,null,null,null,10,20,null,null,null,null,null,null,null,null,null,null,10,20,null,null,null,null,null,null,null,null,null,null,null,null,null,null,null,null,null,null,10,20]
[null,"1. Serie",null,null,null,null,{"$f":"COUNT(F13:F76)-48&\" Tische eingegeben\"","v":"0 Tische eingegeben"},null,null,null,null,{"$f":"SUM(L13:L76)","v":0},null,"2. Serie",null,null,null,null,{"$f":"COUNT(R13:R76)-48&\" Tische eingegeben\"","v":"0 Tische eingegeben"},null,null,null,null,{"$f":"SUM(X13:X76)","v":0},null,"3. Serie",null,null,null,null,{"$f":"COUNT(AD13:AD76)-48&\" Tische eingegeben\"","v":"0 Tische eingegeben"},null,null,null,null,{"$f":"SUM(AJ13:AJ76)","v":0},null,"4. Serie",null,null,null,null,{"$f":"COUNT(AP13:AP76)-48&\" Tische eingegeben\"","v":"0 Tische eingegeben"},null,null,null,null,{"$f":"SUM(AV13:AV76)","v":0},null,"5. Serie",null,null,null,null,{"$f":"COUNT(BB13:BB76)-48&\" Tische eingegeben\"","v":"0 Tische eingegeben"},null,null,null,null,{"$f":"SUM(BH13:BH76)","v":0},null,"6. Serie",null,null,null,null,{"$f":"COUNT(BN13:BN76)-48&\" Tische eingegeben\"","v":"0 Tische eingegeben"},null,null,null,null,{"$f":"SUM(BT13:BT76)","v":0},"Abrechnung:",{"$f":"BV12-BV21","v":0},null,null,null,null,null,null,"1.Serie",null,null,null,null,"2.Serie",null,null,null,null,"3.Serie",null,null,null,null,"4.Serie",null,null,null,null,"5.Serie",null,null,null,null,"6.Serie"]
[null,"Nr.","Spielername",null,null,"Tisch","Sp.P.","gew.","verl.","Punkte vorab","Kontr.","Verl-Geld",null,"Nr.","Spielername",null,null,"Tisch","Sp.P.","gew.","verl.","Punkte vorab","Kontr.","Verl-Geld",null,"Nr.","Spielername",null,null,"Tisch","Sp.P.","gew.","verl.","Punkte vorab","Kontr.","Verl-Geld",null,"Nr.","Spielername",null,null,"Tisch","Sp.P.","gew.","verl.","Punkte vorab","Kontr.","Verl-Geld",null,"Nr.","Spielername",null,null,"Tisch","Sp.P.","gew.","verl.","Punkte vorab","Kontr.","Verl-Geld",null,"Nr.","Spielername",null,null,"Tisch","Sp.P.","gew.","verl.","Punkte vorab","Kontr.","Verl-Geld","Einnahmen:",{"$f":"BV13+BV14+BV15+BV16+BV17+BV18","v":0},null,null,null,null,null,null,"Tisch","1.Sp.","2.Sp.","3.Sp.","4.Sp.","Tisch","1.Sp.","2.Sp.","3.Sp.","4.Sp.","Tisch","1.Sp.","2.Sp.","3.Sp.","4.Sp.","Tisch","1.Sp.","2.Sp.","3.Sp.","4.Sp.","Tisch","1.Sp.","2.Sp.","3.Sp.","4.Sp.","Tisch","1.Sp.","2.Sp.","3.Sp.","4.Sp.","Tisch","1.Serie","2.Serie","3.Serie","4.Serie","5.Serie","6.Serie"]
[{"$f":"IF(COUNTIF(B$13:B13,B13)>1,\"X\",\"\")","v":""},{"$f":"IF(ISBLANK(F13),\" \",INDEX(CD:CD,MATCH(F13,CC:CC,0)))","v":" "},{"$f":"IF(ISBLANK(F13),\" \",INDEX('Eingabe Spielernamen'!$F:$F,MATCH(B13,'Eingabe Spielernamen'!$B:$B,0))&\", \"&INDEX('Eingabe Spielernamen'!$G:$G,MATCH(B13,'Eingabe Spielernamen'!$B:$B,0)))","v":" "},null,null,null,null,null,null,null,{"$f":"IF(ISBLANK(G13),\" \",G13+(H13-I13)*50+IF(COUNT(G13:G16)=3,(I14+I15+I16)*40,(I14+I15+I16)*30))","v":" "},{"$f":"IF(I13<4,I13*1,IF(I13>3,I13*1))","v":0},{"$f":"IF(COUNTIF(N$13:N13,N13)>1,\"X\",\"\")","v":""},{"$f":"IF(ISBLANK(R13),\" \",INDEX(CI:CI,MATCH(R13,CH:CH,0)))","v":" "},{"$f":"IF(ISBLANK(R13),\" \",INDEX('Eingabe Spielernamen'!$F:$F,MATCH(N13,'Eingabe Spielernamen'!$B:$B,0))&\", \"&INDEX('Eingabe Spielernamen'!$G:$G,MATCH(N13,'Eingabe Spielernamen'!$B:$B,0)))","v":" "},null,null,null,null,null,null,null,{"$f":"IF(ISBLANK(S13),\" \",S13+(T13-U13)*50+IF(COUNT(S13:S16)=3,(U14+U15+U16)*40,(U14+U15+U16)*30))","v":" "},{"$f":"IF(U13<4,U13*1,IF(U13>3,U13*1))","v":0},{"$f":"IF(COUNTIF(Z$13:Z13,Z13)>1,\"X\",\"\")","v":""},{"$f":"IF(ISBLANK(AD13),\" \",INDEX(CN:CN,MATCH(AD13,CM:CM,0)))","v":" "},{"$f":"IF(ISBLANK(AD13),\" \",INDEX('Eingabe Spielernamen'!$F:$F,MATCH(Z13,'Eingabe Spielernamen'!$B:$B,0))&\", \"&INDEX('Eingabe Spielernamen'!$G:$G,MATCH(Z13,'Eingabe Spielernamen'!$B:$B,0)))","v":" "},null,null,null,null,null,null,null,{"$f":"IF(ISBLANK(AE13),\" \",AE13+(AF13-AG13)*50+IF(COUNT(AE13:AE16)=3,(AG14+AG15+AG16)*40,(AG14+AG15+AG16)*30))","v":" "},{"$f":"IF(AG13<4,AG13*1,IF(AG13>3,AG13*1))","v":0},{"$f":"IF(COUNTIF(AL$13:AL13,AL13)>1,\"X\",\"\")","v":""},{"$f":"IF(ISBLANK(AP13),\" \",INDEX(CS:CS,MATCH(AP13,CR:CR,0)))","v":" "},{"$f":"IF(ISBLANK(AP13),\" \",INDEX('Eingabe Spielernamen'!$F:$F,MATCH(AL13,'Eingabe Spielernamen'!$B:$B,0))&\", \"&INDEX('Eingabe Spielernamen'!$G:$G,MATCH(AL13,'Eingabe Spielernamen'!$B:$B,0)))","v":" "},null,null,null,null,null,null,null,{"$f":"IF(ISBLANK(AQ13),\" \",AQ13+(AR13-AS13)*50+IF(COUNT(AQ13:AQ16)=3,(AS14+AS15+AS16)*40,(AS14+AS15+AS16)*30))","v":" "},{"$f":"IF(AS13<4,AS13*1,IF(AS13>3,AS13*1))","v":0},{"$f":"IF(COUNTIF(AX$13:AX13,AX13)>1,\"X\",\"\")","v":""},{"$f":"IF(ISBLANK(BB13),\" \",INDEX(CX:CX,MATCH(BB13,CW:CW,0)))","v":" "},{"$f":"IF(ISBLANK(BB13),\" \",INDEX('Eingabe Spielernamen'!$F:$F,MATCH(AX13,'Eingabe Spielernamen'!$B:$B,0))&\", \"&INDEX('Eingabe Spielernamen'!$G:$G,MATCH(AX13,'Eingabe Spielernamen'!$B:$B,0)))","v":" "},null,null,null,null,null,null,null,{"$f":"IF(ISBLANK(BC13),\" \",BC13+(BD13-BE13)*50+IF(COUNT(BC13:BC16)=3,(BE14+BE15+BE16)*40,(BE14+BE15+BE16)*30))","v":" "},{"$f":"IF(BE13<4,BE13*1,IF(BE13>3,BE13*1))","v":0},{"$f":"IF(COUNTIF(BJ$13:BJ13,BJ13)>1,\"X\",\"\")","v":""},{"$f":"IF(ISBLANK(BN13),\" \",INDEX(DC:DC,MATCH(BN13,DB:DB,0)))","v":" "},{"$f":"IF(ISBLANK(BN13),\" \",INDEX('Eingabe Spielernamen'!$F:$F,MATCH(BJ13,'Eingabe Spielernamen'!$B:$B,0))&\", \"&INDEX('Eingabe Spielernamen'!$G:$G,MATCH(BJ13,'Eingabe Spielernamen'!$B:$B,0)))","v":" "},null,null,null,null,null,null,null,{"$f":"IF(ISBLANK(BO13),\" \",BO13+(BP13-BQ13)*50+IF(COUNT(BO13:BO16)=3,(BQ14+BQ15+BQ16)*40,(BQ14+BQ15+BQ16)*30))","v":" "},{"$f":"IF(BQ13<4,BQ13*1,IF(BQ13>3,BQ13*1))","v":0},{"$f":"B11","v":"1. Serie"},{"$f":"L11","v":0},{"$f":"SUM(L13:L16)","v":0},{"$f":"SUM(X13:X16)","v":0},{"$f":"SUM(AJ13:AJ16)","v":0},{"$f":"SUM(AV13:AV16)","v":0},{"$f":"SUM(BH13:BH16)","v":0},{"$f":"SUM(BT13:BT16)","v":0},1,{"$f":"'1. Serie'!$C2","v":101},{"$f":"'1. Serie'!$C3","v":202},{"$f":"'1. Serie'!$C4","v":303},{"$f":"'1. Serie'!$C5","v":404},1,{"$f":"'2. Serie'!$C2","v":101},{"$f":"'2. Serie'!$C3","v":202},{"$f":"'2. Serie'!$C4","v":303},{"$f":"'2. Serie'!$C5","v":404},1,{"$f":"'3. Serie'!$C2","v":101},{"$f":"'3. Serie'!$C3","v":202},{"$f":"'3. Serie'!$C4","v":303},{"$f":"'3. Serie'!$C5","v":404},1,{"$f":"'4. Serie'!$C2","v":101},{"$f":"'4. Serie'!$C3","v":202},{"$f":"'4. Serie'!$C4","v":303},{"$f":"'4. Serie'!$C5","v":404},1,{"$f":"'5. Serie'!$C2","v":403},{"$f":"'5. Serie'!$C3","v":106},{"$f":"'5. Serie'!$C4","v":205},{"$f":"'5. Serie'!$C5","v":304},1,{"$f":"'6. Serie'!$C2","v":101},{"$f":"'6. Serie'!$C3","v":201},{"$f":"'6. Serie'!$C4","v":301},{"$f":"'6. Serie'!$C5","v":401},1,{"$f":"F13","v":0},{"$f":"R13","v":0},{"$f":"AD13","v":0},{"$f":"AP13","v":0},{"$f":"BB13","v":0},{"$f":"BN13","v":0},null,{"$f":"K13","v":" "},{"$f":"W13","v":" "},{"$f":"AI13","v":" "},{"$f":"AU13","v":" "}]
[{"$f":"IF(COUNTIF(B$13:B14,B14)>1,\"X\",\"\")","v":"X"},{"$f":"IF(ISBLANK(F13),\" \",INDEX(CE:CE,MATCH(F13,CC:CC,0)))","v":" "},{"$f":"IF(ISBLANK(F14),\" \",INDEX('Eingabe Spielernamen'!$F:$F,MATCH(B14,'Eingabe Spielernamen'!$B:$B,0))&\", \"&INDEX('Eingabe Spielernamen'!$G:$G,MATCH(B14,'Eingabe Spielernamen'!$B:$B,0)))","v":{"$error":"#N/A"}},null,null,{"$f":"F13","v":0},null,null,null,null,{"$f":"IF(ISBLANK(G14),\" \",G14+(H14-I14)*50+IF(COUNT(G13:G16)=3,(I13+I15+I16)*40,(I13+I15+I16)*30))","v":" "},0,{"$f":"IF(COUNTIF(N$13:N14,N14)>1,\"X\",\"\")","v":"X"},{"$f":"IF(ISBLANK(R13),\" \",INDEX(CJ:CJ,MATCH(R13,CH:CH,0)))","v":" "},{"$f":"IF(ISBLANK(R14),\" \",INDEX('Eingabe Spielernamen'!$F:$F,MATCH(N14,'Eingabe Spielernamen'!$B:$B,0))&\", \"&INDEX('Eingabe Spielernamen'!$G:$G,MATCH(N14,'Eingabe Spielernamen'!$B:$B,0)))","v":{"$error":"#N/A"}},null,null,{"$f":"R13","v":0},null,null,null,null,{"$f":"IF(ISBLANK(S14),\" \",S14+(T14-U14)*50+IF(COUNT(S13:S16)=3,(U13+U15+U16)*40,(U13+U15+U16)*30))","v":" "},0,{"$f":"IF(COUNTIF(Z$13:Z14,Z14)>1,\"X\",\"\")","v":"X"},{"$f":"IF(ISBLANK(AD13),\" \",INDEX(CO:CO,MATCH(AD13,CM:CM,0)))","v":" "},{"$f":"IF(ISBLANK(AD14),\" \",INDEX('Eingabe Spielernamen'!$F:$F,MATCH(Z14,'Eingabe Spielernamen'!$B:$B,0))&\", \"&INDEX('Eingabe Spielernamen'!$G:$G,MATCH(Z14,'Eingabe Spielernamen'!$B:$B,0)))","v":{"$error":"#N/A"}},null,null,{"$f":"AD13","v":0},null,null,null,null,{"$f":"IF(ISBLANK(AE14),\" \",AE14+(AF14-AG14)*50+IF(COUNT(AE13:AE16)=3,(AG13+AG15+AG16)*40,(AG13+AG15+AG16)*30))","v":" "},0,{"$f":"IF(COUNTIF(AL$13:AL14,AL14)>1,\"X\",\"\")","v":"X"},{"$f":"IF(ISBLANK(AP13),\" \",INDEX(CT:CT,MATCH(AP13,CR:CR,0)))","v":" "},{"$f":"IF(ISBLANK(AP14),\" \",INDEX('Eingabe Spielernamen'!$F:$F,MATCH(AL14,'Eingabe Spielernamen'!$B:$B,0))&\", \"&INDEX('Eingabe Spielernamen'!$G:$G,MATCH(AL14,'Eingabe Spielernamen'!$B:$B,0)))","v":{"$error":"#N/A"}},null,null,{"$f":"AP13","v":0},null,null,null,null,{"$f":"IF(ISBLANK(AQ14),\" \",AQ14+(AR14-AS14)*50+IF(COUNT(AQ13:AQ16)=3,(AS13+AS15+AS16)*40,(AS13+AS15+AS16)*30))","v":" "},0,{"$f":"IF(COUNTIF(AX$13:AX14,AX14)>1,\"X\",\"\")","v":"X"},{"$f":"IF(ISBLANK(BB13),\" \",INDEX(CY:CY,MATCH(BB13,CW:CW,0)))","v":" "},{"$f":"IF(ISBLANK(BB14),\" \",INDEX('Eingabe Spielernamen'!$F:$F,MATCH(AX14,'Eingabe Spielernamen'!$B:$B,0))&\", \"&INDEX('Eingabe Spielernamen'!$G:$G,MATCH(AX14,'Eingabe Spielernamen'!$B:$B,0)))","v":{"$error":"#N/A"}},null,null,{"$f":"BB13","v":0},null,null,null,null,{"$f":"IF(ISBLANK(BC14),\" \",BC14+(BD14-BE14)*50+IF(COUNT(BC13:BC16)=3,(BE13+BE15+BE16)*40,(BE13+BE15+BE16)*30))","v":" "},0,{"$f":"IF(COUNTIF(BJ$13:BJ14,BJ14)>1,\"X\",\"\")","v":"X"},{"$f":"IF(ISBLANK(BN13),\" \",INDEX(DD:DD,MATCH(BN13,DB:DB,0)))","v":" "},{"$f":"IF(ISBLANK(BN14),\" \",INDEX('Eingabe Spielernamen'!$F:$F,MATCH(BJ14,'Eingabe Spielernamen'!$B:$B,0))&\", \"&INDEX('Eingabe Spielernamen'!$G:$G,MATCH(BJ14,'Eingabe Spielernamen'!$B:$B,0)))","v":{"$error":"#N/A"}},null,null,{"$f":"BN13","v":0},null,null,null,null,{"$f":"IF(ISBLANK(BO14),\" \",BO14+(BP14-BQ14)*50+IF(COUNT(BO13:BO16)=3,(BQ13+BQ15+BQ16)*40,(BQ13+BQ15+BQ16)*30))","v":" "},0,{"$f":"N11","v":"2. Serie"},{"$f":"X11","v":0},null,null,null,null,null,null,2,{"$f":"'1. Serie'!$C6","v":102},{"$f":"'1. Serie'!$C7","v":203},{"$f":"'1. Serie'!$C8","v":304},{"$f":"'1. Serie'!$C9","v":405},2,{"$f":"'2. Serie'!$C6","v":102},{"$f":"'2. Serie'!$C7","v":203},{"$f":"'2. Serie'!$C8","v":304},{"$f":"'2. Serie'!$C9","v":405},2,{"$f":"'3. Serie'!$C6","v":102},{"$f":"'3. Serie'!$C7","v":203},{"$f":"'3. Serie'!$C8","v":304},{"$f":"'3. Serie'!$C9","v":405},2,{"$f":"'4. Serie'!$C6","v":102},{"$f":"'4. Serie'!$C7","v":203},{"$f":"'4. Serie'!$C8","v":304},{"$f":"'4. Serie'!$C9","v":405},2,{"$f":"'5. Serie'!$C6","v":404},{"$f":"'5. Serie'!$C7","v":107},{"$f":"'5. Serie'!$C8","v":206},{"$f":"'5. Serie'!$C9","v":305},2,{"$f":"'6. Serie'!$C6","v":102},{"$f":"'6. Serie'!$C7","v":202},{"$f":"'6. Serie'!$C8","v":302},{"$f":"'6. Serie'!$C9","v":402},2,{"$f":"F17","v":0},{"$f":"R17","v":0},{"$f":"AD17","v":0},{"$f":"AP17","v":0},{"$f":"BB17","v":0},{"$f":"BN17","v":0}]
[{"$f":"IF(COUNTIF(B$13:B15,B15)>1,\"X\",\"\")","v":"X"},{"$f":"IF(ISBLANK(F13),\" \",INDEX(CF:CF,MATCH(F13,CC:CC,0)))","v":" "},{"$f":"IF(ISBLANK(F15),\" \",INDEX('Eingabe Spielernamen'!$F:$F,MATCH(B15,'Eingabe Spielernamen'!$B:$B,0))&\", \"&INDEX('Eingabe Spielernamen'!$G:$G,MATCH(B15,'Eingabe Spielernamen'!$B:$B,0)))","v":{"$error":"#N/A"}},null,null,{"$f":"F13","v":0},null,null,null,null,{"$f":"IF(ISBLANK(G15),\" \",G15+(H15-I15)*50+IF(COUNT(G13:G16)=3,(I13+I14+I16)*40,(I13+I14+I16)*30))","v":" "},0,{"$f":"IF(COUNTIF(N$13:N15,N15)>1,\"X\",\"\")","v":"X"},{"$f":"IF(ISBLANK(R13),\" \",INDEX(CK:CK,MATCH(R13,CH:CH,0)))","v":" "},{"$f":"IF(ISBLANK(R15),\" \",INDEX('Eingabe Spielernamen'!$F:$F,MATCH(N15,'Eingabe Spielernamen'!$B:$B,0))&\", \"&INDEX('Eingabe Spielernamen'!$G:$G,MATCH(N15,'Eingabe Spielernamen'!$B:$B,0)))","v":{"$error":"#N/A"}},null,null,{"$f":"R13","v":0},null,null,null,null,{"$f":"IF(ISBLANK(S15),\" \",S15+(T15-U15)*50+IF(COUNT(S13:S16)=3,(U13+U14+U16)*40,(U13+U14+U16)*30))","v":" "},0,{"$f":"IF(COUNTIF(Z$13:Z15,Z15)>1,\"X\",\"\")","v":"X"},{"$f":"IF(ISBLANK(AD13),\" \",INDEX(CP:CP,MATCH(AD13,CM:CM,0)))","v":" "},{"$f":"IF(ISBLANK(AD15),\" \",INDEX('Eingabe Spielernamen'!$F:$F,MATCH(Z15,'Eingabe Spielernamen'!$B:$B,0))&\", \"&INDEX('Eingabe Spielernamen'!$G:$G,MATCH(Z15,'Eingabe Spielernamen'!$B:$B,0)))","v":{"$error":"#N/A"}},null,null,{"$f":"AD13","v":0},null,null,null,null,{"$f":"IF(ISBLANK(AE15),\" \",AE15+(AF15-AG15)*50+IF(COUNT(AE13:AE16)=3,(AG13+AG14+AG16)*40,(AG13+AG14+AG16)*30))","v":" "},0,{"$f":"IF(COUNTIF(AL$13:AL15,AL15)>1,\"X\",\"\")","v":"X"},{"$f":"IF(ISBLANK(AP13),\" \",INDEX(CU:CU,MATCH(AP13,CR:CR,0)))","v":" "},{"$f":"IF(ISBLANK(AP15),\" \",INDEX('Eingabe Spielernamen'!$F:$F,MATCH(AL15,'Eingabe Spielernamen'!$B:$B,0))&\", \"&INDEX('Eingabe Spielernamen'!$G:$G,MATCH(AL15,'Eingabe Spielernamen'!$B:$B,0)))","v":{"$error":"#N/A"}},null,null,{"$f":"AP13","v":0},null,null,null,null,{"$f":"IF(ISBLANK(AQ15),\" \",AQ15+(AR15-AS15)*50+IF(COUNT(AQ13:AQ16)=3,(AS13+AS14+AS16)*40,(AS13+AS14+AS16)*30))","v":" "},0,{"$f":"IF(COUNTIF(AX$13:AX15,AX15)>1,\"X\",\"\")","v":"X"},{"$f":"IF(ISBLANK(BB13),\" \",INDEX(CZ:CZ,MATCH(BB13,CW:CW,0)))","v":" "},{"$f":"IF(ISBLANK(BB15),\" \",INDEX('Eingabe Spielernamen'!$F:$F,MATCH(AX15,'Eingabe Spielernamen'!$B:$B,0))&\", \"&INDEX('Eingabe Spielernamen'!$G:$G,MATCH(AX15,'Eingabe Spielernamen'!$B:$B,0)))","v":{"$error":"#N/A"}},null,null,{"$f":"BB13","v":0},null,null,null,null,{"$f":"IF(ISBLANK(BC15),\" \",BC15+(BD15-BE15)*50+IF(COUNT(BC13:BC16)=3,(BE13+BE14+BE16)*40,(BE13+BE14+BE16)*30))","v":" "},0,{"$f":"IF(COUNTIF(BJ$13:BJ15,BJ15)>1,\"X\",\"\")","v":"X"},{"$f":"IF(ISBLANK(BN13),\" \",INDEX(DE:DE,MATCH(BN13,DB:DB,0)))","v":" "},{"$f":"IF(ISBLANK(BN15),\" \",INDEX('Eingabe Spielernamen'!$F:$F,MATCH(BJ15,'Eingabe Spielernamen'!$B:$B,0))&\", \"&INDEX('Eingabe Spielernamen'!$G:$G,MATCH(BJ15,'Eingabe Spielernamen'!$B:$B,0)))","v":{"$error":"#N/A"}},null,null,{"$f":"BN13","v":0},null,null,null,null,{"$f":"IF(ISBLANK(BO15),\" \",BO15+(BP15-BQ15)*50+IF(COUNT(BO13:BO16)=3,(BQ13+BQ14+BQ16)*40,(BQ13+BQ14+BQ16)*30))","v":" "},0,{"$f":"Z11","v":"3. Serie"},{"$f":"AJ11","v":0},null,null,null,null,null,null,3,{"$f":"'1. Serie'!$C10","v":103},{"$f":"'1. Serie'!$C11","v":204},{"$f":"'1. Serie'!$C12","v":305},{"$f":"'1. Serie'!$C13","v":406},3,{"$f":"'2. Serie'!$C10","v":103},{"$f":"'2. Serie'!$C11","v":204},{"$f":"'2. Serie'!$C12","v":305},{"$f":"'2. Serie'!$C13","v":406},3,{"$f":"'3. Serie'!$C10","v":103},{"$f":"'3. Serie'!$C11","v":204},{"$f":"'3. Serie'!$C12","v":305},{"$f":"'3. Serie'!$C13","v":406},3,{"$f":"'4. Serie'!$C10","v":103},{"$f":"'4. Serie'!$C11","v":204},{"$f":"'4. Serie'!$C12","v":305},{"$f":"'4. Serie'!$C13","v":406},3,{"$f":"'5. Serie'!$C10","v":405},{"$f":"'5. Serie'!$C11","v":108},{"$f":"'5. Serie'!$C12","v":207},{"$f":"'5. Serie'!$C13","v":306},3,{"$f":"'6. Serie'!$C10","v":103},{"$f":"'6. Serie'!$C11","v":203},{"$f":"'6. Serie'!$C12","v":303},{"$f":"'6. Serie'!$C13","v":403},3,{"$f":"F21","v":0},{"$f":"R21","v":0},{"$f":"AD21","v":0},{"$f":"AP21","v":0},{"$f":"BB21","v":0},{"$f":"BN21","v":0}]
[{"$f":"IF(COUNTIF(B$13:B16,B16)>1,\"X\",\"\")","v":"X"},{"$f":"IF(ISBLANK(F13),\" \",INDEX(CG:CG,MATCH(F13,CC:CC,0)))","v":" "},{"$f":"IF(ISBLANK(F16),\" \",INDEX('Eingabe Spielernamen'!$F:$F,MATCH(B16,'Eingabe Spielernamen'!$B:$B,0))&\", \"&INDEX('Eingabe Spielernamen'!$G:$G,MATCH(B16,'Eingabe Spielernamen'!$B:$B,0)))","v":{"$error":"#N/A"}},null,null,{"$f":"F13","v":0},null,null,null,null,{"$f":"IF(ISBLANK(G16),\" \",G16+(H16-I16)*50+IF(COUNT(G13:G16)=3,(I13+I14+I15)*40,(I13+I14+I15)*30))","v":" "},0,{"$f":"IF(COUNTIF(N$13:N16,N16)>1,\"X\",\"\")","v":"X"},{"$f":"IF(ISBLANK(R13),\" \",INDEX(CL:CL,MATCH(R13,CH:CH,0)))","v":" "},{"$f":"IF(ISBLANK(R16),\" \",INDEX('Eingabe Spielernamen'!$F:$F,MATCH(N16,'Eingabe Spielernamen'!$B:$B,0))&\", \"&INDEX('Eingabe Spielernamen'!$G:$G,MATCH(N16,'Eingabe Spielernamen'!$B:$B,0)))","v":{"$error":"#N/A"}},null,null,{"$f":"R13","v":0},null,null,null,null,{"$f":"IF(ISBLANK(S16),\" \",S16+(T16-U16)*50+IF(COUNT(S13:S16)=3,(U13+U14+U15)*40,(U13+U14+U15)*30))","v":" "},0,{"$f":"IF(COUNTIF(Z$13:Z16,Z16)>1,\"X\",\"\")","v":"X"},{"$f":"IF(ISBLANK(AD13),\" \",INDEX(CQ:CQ,MATCH(AD13,CM:CM,0)))","v":" "},{"$f":"IF(ISBLANK(AD16),\" \",INDEX('Eingabe Spielernamen'!$F:$F,MATCH(Z16,'Eingabe Spielernamen'!$B:$B,0))&\", \"&INDEX('Eingabe Spielernamen'!$G:$G,MATCH(Z16,'Eingabe Spielernamen'!$B:$B,0)))","v":{"$error":"#N/A"}},null,null,{"$f":"AD13","v":0},null,null,null,null,{"$f":"IF(ISBLANK(AE16),\" \",AE16+(AF16-AG16)*50+IF(COUNT(AE13:AE16)=3,(AG13+AG14+AG15)*40,(AG13+AG14+AG15)*30))","v":" "},0,{"$f":"IF(COUNTIF(AL$13:AL16,AL16)>1,\"X\",\"\")","v":"X"},{"$f":"IF(ISBLANK(AP13),\" \",INDEX(CV:CV,MATCH(AP13,CR:CR,0)))","v":" "},{"$f":"IF(ISBLANK(AP16),\" \",INDEX('Eingabe Spielernamen'!$F:$F,MATCH(AL16,'Eingabe Spielernamen'!$B:$B,0))&\", \"&INDEX('Eingabe Spielernamen'!$G:$G,MATCH(AL16,'Eingabe Spielernamen'!$B:$B,0)))","v":{"$error":"#N/A"}},null,null,{"$f":"AP13","v":0},null,null,null,null,{"$f":"IF(ISBLANK(AQ16),\" \",AQ16+(AR16-AS16)*50+IF(COUNT(AQ13:AQ16)=3,(AS13+AS14+AS15)*40,(AS13+AS14+AS15)*30))","v":" "},0,{"$f":"IF(COUNTIF(AX$13:AX16,AX16)>1,\"X\",\"\")","v":"X"},{"$f":"IF(ISBLANK(BB13),\" \",INDEX(DA:DA,MATCH(BB13,CW:CW,0)))","v":" "},{"$f":"IF(ISBLANK(BB16),\" \",INDEX('Eingabe Spielernamen'!$F:$F,MATCH(AX16,'Eingabe Spielernamen'!$B:$B,0))&\", \"&INDEX('Eingabe Spielernamen'!$G:$G,MATCH(AX16,'Eingabe Spielernamen'!$B:$B,0)))","v":{"$error":"#N/A"}},null,null,{"$f":"BB13","v":0},null,null,null,null,{"$f":"IF(ISBLANK(BC16),\" \",BC16+(BD16-BE16)*50+IF(COUNT(BC13:BC16)=3,(BE13+BE14+BE15)*40,(BE13+BE14+BE15)*30))","v":" "},0,{"$f":"IF(COUNTIF(BJ$13:BJ16,BJ16)>1,\"X\",\"\")","v":"X"},{"$f":"IF(ISBLANK(BN13),\" \",INDEX(DF:DF,MATCH(BN13,DB:DB,0)))","v":" "},{"$f":"IF(ISBLANK(BN16),\" \",INDEX('Eingabe Spielernamen'!$F:$F,MATCH(BJ16,'Eingabe Spielernamen'!$B:$B,0))&\", \"&INDEX('Eingabe Spielernamen'!$G:$G,MATCH(BJ16,'Eingabe Spielernamen'!$B:$B,0)))","v":{"$error":"#N/A"}},null,null,{"$f":"BN13","v":0},null,null,null,null,{"$f":"IF(ISBLANK(BO16),\" \",BO16+(BP16-BQ16)*50+IF(COUNT(BO13:BO16)=3,(BQ13+BQ14+BQ15)*40,(BQ13+BQ14+BQ15)*30))","v":" "},0,{"$f":"AL11","v":"4. Serie"},{"$f":"AV11","v":0},null,null,null,null,null,null,4,{"$f":"'1. Serie'!$C14","v":104},{"$f":"'1. Serie'!$C15","v":205},{"$f":"'1. Serie'!$C16","v":306},{"$f":"'1. Serie'!$C17","v":407},4,{"$f":"'2. Serie'!$C14","v":104},{"$f":"'2. Serie'!$C15","v":205},{"$f":"'2. Serie'!$C16","v":306},{"$f":"'2. Serie'!$C17","v":407},4,{"$f":"'3. Serie'!$C14","v":104},{"$f":"'3. Serie'!$C15","v":205},{"$f":"'3. Serie'!$C16","v":306},{"$f":"'3. Serie'!$C17","v":407},4,{"$f":"'4. Serie'!$C14","v":104},{"$f":"'4. Serie'!$C15","v":205},{"$f":"'4. Serie'!$C16","v":306},{"$f":"'4. Serie'!$C17","v":407},4,{"$f":"'5. Serie'!$C14","v":406},{"$f":"'5. Serie'!$C15","v":109},{"$f":"'5. Serie'!$C16","v":208},{"$f":"'5. Serie'!$C17","v":307},4,{"$f":"'6. Serie'!$C14","v":104},{"$f":"'6. Serie'!$C15","v":204},{"$f":"'6. Serie'!$C16","v":304},{"$f":"'6. Serie'!$C17","v":404},4,{"$f":"F25","v":0},{"$f":"R25","v":0},{"$f":"AD25","v":0},{"$f":"AP25","v":0},{"$f":"BB25","v":0},{"$f":"BN25","v":0}]
[{"$f":"IF(COUNTIF(B$13:B17,B17)>1,\"X\",\"\")","v":"X"},{"$f":"IF(ISBLANK(F17),\" \",INDEX(CD:CD,MATCH(F17,CC:CC,0)))","v":" "},{"$f":"IF(ISBLANK(F17),\" \",INDEX('Eingabe Spielernamen'!$F:$F,MATCH(B17,'Eingabe Spielernamen'!$B:$B,0))&\", \"&INDEX('Eingabe Spielernamen'!$G:$G,MATCH(B17,'Eingabe Spielernamen'!$B:$B,0)))","v":" "},null,null,null,null,null,null,null,{"$f":"IF(ISBLANK(G17),\" \",G17+(H17-I17)*50+IF(COUNT(G17:G20)=3,(I18+I19+I20)*40,(I18+I19+I20)*30))","v":" "},0,{"$f":"IF(COUNTIF(N$13:N17,N17)>1,\"X\",\"\")","v":"X"},{"$f":"IF(ISBLANK(R17),\" \",INDEX(CI:CI,MATCH(R17,CH:CH,0)))","v":" "},{"$f":"IF(ISBLANK(R17),\" \",INDEX('Eingabe Spielernamen'!$F:$F,MATCH(N17,'Eingabe Spielernamen'!$B:$B,0))&\", \"&INDEX('Eingabe Spielernamen'!$G:$G,MATCH(N17,'Eingabe Spielernamen'!$B:$B,0)))","v":" "},null,null,null,null,null,null,null,{"$f":"IF(ISBLANK(S17),\" \",S17+(T17-U17)*50+IF(COUNT(S17:S20)=3,(U18+U19+U20)*40,(U18+U19+U20)*30))","v":" "},0,{"$f":"IF(COUNTIF(Z$13:Z17,Z17)>1,\"X\",\"\")","v":"X"},{"$f":"IF(ISBLANK(AD17),\" \",INDEX(CN:CN,MATCH(AD17,CM:CM,0)))","v":" "},{"$f":"IF(ISBLANK(AD17),\" \",INDEX('Eingabe Spielernamen'!$F:$F,MATCH(Z17,'Eingabe Spielernamen'!$B:$B,0))&\", \"&INDEX('Eingabe Spielernamen'!$G:$G,MATCH(Z17,'Eingabe Spielernamen'!$B:$B,0)))","v":" "},null,null,null,null,null,null,null,{"$f":"IF(ISBLANK(AE17),\" \",AE17+(AF17-AG17)*50+IF(COUNT(AE17:AE20)=3,(AG18+AG19+AG20)*40,(AG18+AG19+AG20)*30))","v":" "},0,{"$f":"IF(COUNTIF(AL$13:AL17,AL17)>1,\"X\",\"\")","v":"X"},{"$f":"IF(ISBLANK(AP17),\" \",INDEX(CS:CS,MATCH(AP17,CR:CR,0)))","v":" "},{"$f":"IF(ISBLANK(AP17),\" \",INDEX('Eingabe Spielernamen'!$F:$F,MATCH(AL17,'Eingabe Spielernamen'!$B:$B,0))&\", \"&INDEX('Eingabe Spielernamen'!$G:$G,MATCH(AL17,'Eingabe Spielernamen'!$B:$B,0)))","v":" "},null,null,null,null,null,null,null,{"$f":"IF(ISBLANK(AQ17),\" \",AQ17+(AR17-AS17)*50+IF(COUNT(AQ17:AQ20)=3,(AS18+AS19+AS20)*40,(AS18+AS19+AS20)*30))","v":" "},0,{"$f":"IF(COUNTIF(AX$13:AX17,AX17)>1,\"X\",\"\")","v":"X"},{"$f":"IF(ISBLANK(BB17),\" \",INDEX(CX:CX,MATCH(BB17,CW:CW,0)))","v":" "},{"$f":"IF(ISBLANK(BB17),\" \",INDEX('Eingabe Spielernamen'!$F:$F,MATCH(AX17,'Eingabe Spielernamen'!$B:$B,0))&\", \"&INDEX('Eingabe Spielernamen'!$G:$G,MATCH(AX17,'Eingabe Spielernamen'!$B:$B,0)))","v":" "},null,null,null,null,null,null,null,{"$f":"IF(ISBLANK(BC17),\" \",BC17+(BD17-BE17)*50+IF(COUNT(BC17:BC20)=3,(BE18+BE19+BE20)*40,(BE18+BE19+BE20)*30))","v":" "},0,{"$f":"IF(COUNTIF(BJ$13:BJ17,BJ17)>1,\"X\",\"\")","v":"X"},{"$f":"IF(ISBLANK(BN17),\" \",INDEX(DC:DC,MATCH(BN17,DB:DB,0)))","v":" "},{"$f":"IF(ISBLANK(BN17),\" \",INDEX('Eingabe Spielernamen'!$F:$F,MATCH(BJ17,'Eingabe Spielernamen'!$B:$B,0))&\", \"&INDEX('Eingabe Spielernamen'!$G:$G,MATCH(BJ17,'Eingabe Spielernamen'!$B:$B,0)))","v":" "},null,null,null,null,null,null,null,{"$f":"IF(ISBLANK(BO17),\" \",BO17+(BP17-BQ17)*50+IF(COUNT(BO17:BO20)=3,(BQ18+BQ19+BQ20)*40,(BQ18+BQ19+BQ20)*30))","v":" "},0,{"$f":"AX11","v":"5. Serie"},{"$f":"BH11","v":0},{"$f":"SUM(L17:L20)","v":0},{"$f":"SUM(X17:X20)","v":0},{"$f":"SUM(AJ17:AJ20)","v":0},{"$f":"SUM(AV17:AV20)","v":0},{"$f":"SUM(BH17:BH20)","v":0},{"$f":"SUM(BT17:BT20)","v":0},5,{"$f":"'1. Serie'!$C18","v":105},{"$f":"'1. Serie'!$C19","v":206},{"$f":"'1. Serie'!$C20","v":307},{"$f":"'1. Serie'!$C21","v":408},5,{"$f":"'2. Serie'!$C18","v":105},{"$f":"'2. Serie'!$C19","v":206},{"$f":"'2. Serie'!$C20","v":307},{"$f":"'2. Serie'!$C21","v":408},5,{"$f":"'3. Serie'!$C18","v":105},{"$f":"'3. Serie'!$C19","v":206},{"$f":"'3. Serie'!$C20","v":307},{"$f":"'3. Serie'!$C21","v":408},5,{"$f":"'4. Serie'!$C18","v":105},{"$f":"'4. Serie'!$C19","v":206},{"$f":"'4. Serie'!$C20","v":307},{"$f":"'4. Serie'!$C21","v":408},5,{"$f":"'5. Serie'!$C18","v":407},{"$f":"'5. Serie'!$C19","v":110},{"$f":"'5. Serie'!$C20","v":209},{"$f":"'5. Serie'!$C21","v":308},5,{"$f":"'6. Serie'!$C18","v":105},{"$f":"'6. Serie'!$C19","v":205},{"$f":"'6. Serie'!$C20","v":305},{"$f":"'6. Serie'!$C21","v":405},5,{"$f":"F29","v":0},{"$f":"R29","v":0},{"$f":"AD29","v":0},{"$f":"AP29","v":0},{"$f":"BB29","v":0},{"$f":"BN29","v":0}]
[{"$f":"IF(COUNTIF(B$13:B18,B18)>1,\"X\",\"\")","v":"X"},{"$f":"IF(ISBLANK(F17),\" \",INDEX(CE:CE,MATCH(F17,CC:CC,0)))","v":" "},{"$f":"IF(ISBLANK(F18),\" \",INDEX('Eingabe Spielernamen'!$F:$F,MATCH(B18,'Eingabe Spielernamen'!$B:$B,0))&\", \"&INDEX('Eingabe Spielernamen'!$G:$G,MATCH(B18,'Eingabe Spielernamen'!$B:$B,0)))","v":{"$error":"#N/A"}},null,null,{"$f":"F17","v":0},null,null,null,null,{"$f":"IF(ISBLANK(G18),\" \",G18+(H18-I18)*50+IF(COUNT(G17:G20)=3,(I17+I19+I20)*40,(I17+I19+I20)*30))","v":" "},0,{"$f":"IF(COUNTIF(N$13:N18,N18)>1,\"X\",\"\")","v":"X"},{"$f":"IF(ISBLANK(R17),\" \",INDEX(CJ:CJ,MATCH(R17,CH:CH,0)))","v":" "},{"$f":"IF(ISBLANK(R18),\" \",INDEX('Eingabe Spielernamen'!$F:$F,MATCH(N18,'Eingabe Spielernamen'!$B:$B,0))&\", \"&INDEX('Eingabe Spielernamen'!$G:$G,MATCH(N18,'Eingabe Spielernamen'!$B:$B,0)))","v":{"$error":"#N/A"}},null,null,{"$f":"R17","v":0},null,null,null,null,{"$f":"IF(ISBLANK(S18),\" \",S18+(T18-U18)*50+IF(COUNT(S17:S20)=3,(U17+U19+U20)*40,(U17+U19+U20)*30))","v":" "},0,{"$f":"IF(COUNTIF(Z$13:Z18,Z18)>1,\"X\",\"\")","v":"X"},{"$f":"IF(ISBLANK(AD17),\" \",INDEX(CO:CO,MATCH(AD17,CM:CM,0)))","v":" "},{"$f":"IF(ISBLANK(AD18),\" \",INDEX('Eingabe Spielernamen'!$F:$F,MATCH(Z18,'Eingabe Spielernamen'!$B:$B,0))&\", \"&INDEX('Eingabe Spielernamen'!$G:$G,MATCH(Z18,'Eingabe Spielernamen'!$B:$B,0)))","v":{"$error":"#N/A"}},null,null,{"$f":"AD17","v":0},null,null,null,null,{"$f":"IF(ISBLANK(AE18),\" \",AE18+(AF18-AG18)*50+IF(COUNT(AE17:AE20)=3,(AG17+AG19+AG20)*40,(AG17+AG19+AG20)*30))","v":" "},0,{"$f":"IF(COUNTIF(AL$13:AL18,AL18)>1,\"X\",\"\")","v":"X"},{"$f":"IF(ISBLANK(AP17),\" \",INDEX(CT:CT,MATCH(AP17,CR:CR,0)))","v":" "},{"$f":"IF(ISBLANK(AP18),\" \",INDEX('Eingabe Spielernamen'!$F:$F,MATCH(AL18,'Eingabe Spielernamen'!$B:$B,0))&\", \"&INDEX('Eingabe Spielernamen'!$G:$G,MATCH(AL18,'Eingabe Spielernamen'!$B:$B,0)))","v":{"$error":"#N/A"}},null,null,{"$f":"AP17","v":0},null,null,null,null,{"$f":"IF(ISBLANK(AQ18),\" \",AQ18+(AR18-AS18)*50+IF(COUNT(AQ17:AQ20)=3,(AS17+AS19+AS20)*40,(AS17+AS19+AS20)*30))","v":" "},0,{"$f":"IF(COUNTIF(AX$13:AX18,AX18)>1,\"X\",\"\")","v":"X"},{"$f":"IF(ISBLANK(BB17),\" \",INDEX(CY:CY,MATCH(BB17,CW:CW,0)))","v":" "},{"$f":"IF(ISBLANK(BB18),\" \",INDEX('Eingabe Spielernamen'!$F:$F,MATCH(AX18,'Eingabe Spielernamen'!$B:$B,0))&\", \"&INDEX('Eingabe Spielernamen'!$G:$G,MATCH(AX18,'Eingabe Spielernamen'!$B:$B,0)))","v":{"$error":"#N/A"}},null,null,{"$f":"BB17","v":0},null,null,null,null,{"$f":"IF(ISBLANK(BC18),\" \",BC18+(BD18-BE18)*50+IF(COUNT(BC17:BC20)=3,(BE17+BE19+BE20)*40,(BE17+BE19+BE20)*30))","v":" "},0,{"$f":"IF(COUNTIF(BJ$13:BJ18,BJ18)>1,\"X\",\"\")","v":"X"},{"$f":"IF(ISBLANK(BN17),\" \",INDEX(DD:DD,MATCH(BN17,DB:DB,0)))","v":" "},{"$f":"IF(ISBLANK(BN18),\" \",INDEX('Eingabe Spielernamen'!$F:$F,MATCH(BJ18,'Eingabe Spielernamen'!$B:$B,0))&\", \"&INDEX('Eingabe Spielernamen'!$G:$G,MATCH(BJ18,'Eingabe Spielernamen'!$B:$B,0)))","v":{"$error":"#N/A"}},null,null,{"$f":"BN17","v":0},null,null,null,null,{"$f":"IF(ISBLANK(BO18),\" \",BO18+(BP18-BQ18)*50+IF(COUNT(BO17:BO20)=3,(BQ17+BQ19+BQ20)*40,(BQ17+BQ19+BQ20)*30))","v":" "},0,{"$f":"BJ11","v":"6. Serie"},{"$f":"BT11","v":0},null,null,null,null,null,null,6,{"$f":"'1. Serie'!$C22","v":106},{"$f":"'1. Serie'!$C23","v":207},{"$f":"'1. Serie'!$C24","v":308},{"$f":"'1. Serie'!$C25","v":409},6,{"$f":"'2. Serie'!$C22","v":106},{"$f":"'2. Serie'!$C23","v":207},{"$f":"'2. Serie'!$C24","v":308},{"$f":"'2. Serie'!$C25","v":409},6,{"$f":"'3. Serie'!$C22","v":106},{"$f":"'3. Serie'!$C23","v":207},{"$f":"'3. Serie'!$C24","v":308},{"$f":"'3. Serie'!$C25","v":409},6,{"$f":"'4. Serie'!$C22","v":106},{"$f":"'4. Serie'!$C23","v":207},{"$f":"'4. Serie'!$C24","v":308},{"$f":"'4. Serie'!$C25","v":409},6,{"$f":"'5. Serie'!$C22","v":408},{"$f":"'5. Serie'!$C23","v":111},{"$f":"'5. Serie'!$C24","v":210},{"$f":"'5. Serie'!$C25","v":309},6,{"$f":"'6. Serie'!$C22","v":106},{"$f":"'6. Serie'!$C23","v":206},{"$f":"'6. Serie'!$C24","v":306},{"$f":"'6. Serie'!$C25","v":406},6,{"$f":"F33","v":0},{"$f":"R33","v":0},{"$f":"AD33","v":0},{"$f":"AP33","v":0},{"$f":"BB33","v":0},{"$f":"BN33","v":0}]
[{"$f":"IF(COUNTIF(B$13:B19,B19)>1,\"X\",\"\")","v":"X"},{"$f":"IF(ISBLANK(F17),\" \",INDEX(CF:CF,MATCH(F17,CC:CC,0)))","v":" "},{"$f":"IF(ISBLANK(F19),\" \",INDEX('Eingabe Spielernamen'!$F:$F,MATCH(B19,'Eingabe Spielernamen'!$B:$B,0))&\", \"&INDEX('Eingabe Spielernamen'!$G:$G,MATCH(B19,'Eingabe Spielernamen'!$B:$B,0)))","v":{"$error":"#N/A"}},null,null,{"$f":"F17","v":0},null,null,null,null,{"$f":"IF(ISBLANK(G19),\" \",G19+(H19-I19)*50+IF(COUNT(G17:G20)=3,(I17+I18+I20)*40,(I17+I18+I20)*30))","v":" "},0,{"$f":"IF(COUNTIF(N$13:N19,N19)>1,\"X\",\"\")","v":"X"},{"$f":"IF(ISBLANK(R17),\" \",INDEX(CK:CK,MATCH(R17,CH:CH,0)))","v":" "},{"$f":"IF(ISBLANK(R19),\" \",INDEX('Eingabe Spielernamen'!$F:$F,MATCH(N19,'Eingabe Spielernamen'!$B:$B,0))&\", \"&INDEX('Eingabe Spielernamen'!$G:$G,MATCH(N19,'Eingabe Spielernamen'!$B:$B,0)))","v":{"$error":"#N/A"}},null,null,{"$f":"R17","v":0},null,null,null,null,{"$f":"IF(ISBLANK(S19),\" \",S19+(T19-U19)*50+IF(COUNT(S17:S20)=3,(U17+U18+U20)*40,(U17+U18+U20)*30))","v":" "},0,{"$f":"IF(COUNTIF(Z$13:Z19,Z19)>1,\"X\",\"\")","v":"X"},{"$f":"IF(ISBLANK(AD17),\" \",INDEX(CP:CP,MATCH(AD17,CM:CM,0)))","v":" "},{"$f":"IF(ISBLANK(AD19),\" \",INDEX('Eingabe Spielernamen'!$F:$F,MATCH(Z19,'Eingabe Spielernamen'!$B:$B,0))&\", \"&INDEX('Eingabe Spielernamen'!$G:$G,MATCH(Z19,'Eingabe Spielernamen'!$B:$B,0)))","v":{"$error":"#N/A"}},null,null,{"$f":"AD17","v":0},null,null,null,null,{"$f":"IF(ISBLANK(AE19),\" \",AE19+(AF19-AG19)*50+IF(COUNT(AE17:AE20)=3,(AG17+AG18+AG20)*40,(AG17+AG18+AG20)*30))","v":" "},0,{"$f":"IF(COUNTIF(AL$13:AL19,AL19)>1,\"X\",\"\")","v":"X"},{"$f":"IF(ISBLANK(AP17),\" \",INDEX(CU:CU,MATCH(AP17,CR:CR,0)))","v":" "},{"$f":"IF(ISBLANK(AP19),\" \",INDEX('Eingabe Spielernamen'!$F:$F,MATCH(AL19,'Eingabe Spielernamen'!$B:$B,0))&\", \"&INDEX('Eingabe Spielernamen'!$G:$G,MATCH(AL19,'Eingabe Spielernamen'!$B:$B,0)))","v":{"$error":"#N/A"}},null,null,{"$f":"AP17","v":0},null,null,null,null,{"$f":"IF(ISBLANK(AQ19),\" \",AQ19+(AR19-AS19)*50+IF(COUNT(AQ17:AQ20)=3,(AS17+AS18+AS20)*40,(AS17+AS18+AS20)*30))","v":" "},0,{"$f":"IF(COUNTIF(AX$13:AX19,AX19)>1,\"X\",\"\")","v":"X"},{"$f":"IF(ISBLANK(BB17),\" \",INDEX(CZ:CZ,MATCH(BB17,CW:CW,0)))","v":" "},{"$f":"IF(ISBLANK(BB19),\" \",INDEX('Eingabe Spielernamen'!$F:$F,MATCH(AX19,'Eingabe Spielernamen'!$B:$B,0))&\", \"&INDEX('Eingabe Spielernamen'!$G:$G,MATCH(AX19,'Eingabe Spielernamen'!$B:$B,0)))","v":{"$error":"#N/A"}},null,null,{"$f":"BB17","v":0},null,null,null,null,{"$f":"IF(ISBLANK(BC19),\" \",BC19+(BD19-BE19)*50+IF(COUNT(BC17:BC20)=3,(BE17+BE18+BE20)*40,(BE17+BE18+BE20)*30))","v":" "},0,{"$f":"IF(COUNTIF(BJ$13:BJ19,BJ19)>1,\"X\",\"\")","v":"X"},{"$f":"IF(ISBLANK(BN17),\" \",INDEX(DE:DE,MATCH(BN17,DB:DB,0)))","v":" "},{"$f":"IF(ISBLANK(BN19),\" \",INDEX('Eingabe Spielernamen'!$F:$F,MATCH(BJ19,'Eingabe Spielernamen'!$B:$B,0))&\", \"&INDEX('Eingabe Spielernamen'!$G:$G,MATCH(BJ19,'Eingabe Spielernamen'!$B:$B,0)))","v":{"$error":"#N/A"}},null,null,{"$f":"BN17","v":0},null,null,null,null,{"$f":"IF(ISBLANK(BO19),\" \",BO19+(BP19-BQ19)*50+IF(COUNT(BO17:BO20)=3,(BQ17+BQ18+BQ20)*40,(BQ17+BQ18+BQ20)*30))","v":" "},0,null,null,null,null,null,null,null,null,7,{"$f":"'1. Serie'!$C26","v":107},{"$f":"'1. Serie'!$C27","v":208},{"$f":"'1. Serie'!$C28","v":309},{"$f":"'1. Serie'!$C29","v":410},7,{"$f":"'2. Serie'!$C26","v":107},{"$f":"'2. Serie'!$C27","v":208},{"$f":"'2. Serie'!$C28","v":309},{"$f":"'2. Serie'!$C29","v":410},7,{"$f":"'3. Serie'!$C26","v":107},{"$f":"'3. Serie'!$C27","v":208},{"$f":"'3. Serie'!$C28","v":309},{"$f":"'3. Serie'!$C29","v":410},7,{"$f":"'4. Serie'!$C26","v":107},{"$f":"'4. Serie'!$C27","v":208},{"$f":"'4. Serie'!$C28","v":309},{"$f":"'4. Serie'!$C29","v":410},7,{"$f":"'5. Serie'!$C26","v":409},{"$f":"'5. Serie'!$C27","v":112},{"$f":"'5. Serie'!$C28","v":211},{"$f":"'5. Serie'!$C29","v":310},7,{"$f":"'6. Serie'!$C26","v":107},{"$f":"'6. Serie'!$C27","v":207},{"$f":"'6. Serie'!$C28","v":307},{"$f":"'6. Serie'!$C29","v":407},7,{"$f":"F37","v":0},{"$f":"R37","v":0},{"$f":"AD37","v":0},{"$f":"AP37","v":0},{"$f":"BB37","v":0},{"$f":"BN37","v":0}]
[{"$f":"IF(COUNTIF(B$13:B20,B20)>1,\"X\",\"\")","v":"X"},{"$f":"IF(ISBLANK(F17),\" \",INDEX(CG:CG,MATCH(F17,CC:CC,0)))","v":" "},{"$f":"IF(ISBLANK(F20),\" \",INDEX('Eingabe Spielernamen'!$F:$F,MATCH(B20,'Eingabe Spielernamen'!$B:$B,0))&\", \"&INDEX('Eingabe Spielernamen'!$G:$G,MATCH(B20,'Eingabe Spielernamen'!$B:$B,0)))","v":{"$error":"#N/A"}},null,null,{"$f":"F17","v":0},null,null,null,null,{"$f":"IF(ISBLANK(G20),\" \",G20+(H20-I20)*50+IF(COUNT(G17:G20)=3,(I17+I18+I19)*40,(I17+I18+I19)*30))","v":" "},0,{"$f":"IF(COUNTIF(N$13:N20,N20)>1,\"X\",\"\")","v":"X"},{"$f":"IF(ISBLANK(R17),\" \",INDEX(CL:CL,MATCH(R17,CH:CH,0)))","v":" "},{"$f":"IF(ISBLANK(R20),\" \",INDEX('Eingabe Spielernamen'!$F:$F,MATCH(N20,'Eingabe Spielernamen'!$B:$B,0))&\", \"&INDEX('Eingabe Spielernamen'!$G:$G,MATCH(N20,'Eingabe Spielernamen'!$B:$B,0)))","v":{"$error":"#N/A"}},null,null,{"$f":"R17","v":0},null,null,null,null,{"$f":"IF(ISBLANK(S20),\" \",S20+(T20-U20)*50+IF(COUNT(S17:S20)=3,(U17+U18+U19)*40,(U17+U18+U19)*30))","v":" "},0,{"$f":"IF(COUNTIF(Z$13:Z20,Z20)>1,\"X\",\"\")","v":"X"},{"$f":"IF(ISBLANK(AD17),\" \",INDEX(CQ:CQ,MATCH(AD17,CM:CM,0)))","v":" "},{"$f":"IF(ISBLANK(AD20),\" \",INDEX('Eingabe Spielernamen'!$F:$F,MATCH(Z20,'Eingabe Spielernamen'!$B:$B,0))&\", \"&INDEX('Eingabe Spielernamen'!$G:$G,MATCH(Z20,'Eingabe Spielernamen'!$B:$B,0)))","v":{"$error":"#N/A"}},null,null,{"$f":"AD17","v":0},null,null,null,null,{"$f":"IF(ISBLANK(AE20),\" \",AE20+(AF20-AG20)*50+IF(COUNT(AE17:AE20)=3,(AG17+AG18+AG19)*40,(AG17+AG18+AG19)*30))","v":" "},0,{"$f":"IF(COUNTIF(AL$13:AL20,AL20)>1,\"X\",\"\")","v":"X"},{"$f":"IF(ISBLANK(AP17),\" \",INDEX(CV:CV,MATCH(AP17,CR:CR,0)))","v":" "},{"$f":"IF(ISBLANK(AP20),\" \",INDEX('Eingabe Spielernamen'!$F:$F,MATCH(AL20,'Eingabe Spielernamen'!$B:$B,0))&\", \"&INDEX('Eingabe Spielernamen'!$G:$G,MATCH(AL20,'Eingabe Spielernamen'!$B:$B,0)))","v":{"$error":"#N/A"}},null,null,{"$f":"AP17","v":0},null,null,null,null,{"$f":"IF(ISBLANK(AQ20),\" \",AQ20+(AR20-AS20)*50+IF(COUNT(AQ17:AQ20)=3,(AS17+AS18+AS19)*40,(AS17+AS18+AS19)*30))","v":" "},0,{"$f":"IF(COUNTIF(AX$13:AX20,AX20)>1,\"X\",\"\")","v":"X"},{"$f":"IF(ISBLANK(BB17),\" \",INDEX(DA:DA,MATCH(BB17,CW:CW,0)))","v":" "},{"$f":"IF(ISBLANK(BB20),\" \",INDEX('Eingabe Spielernamen'!$F:$F,MATCH(AX20,'Eingabe Spielernamen'!$B:$B,0))&\", \"&INDEX('Eingabe Spielernamen'!$G:$G,MATCH(AX20,'Eingabe Spielernamen'!$B:$B,0)))","v":{"$error":"#N/A"}},null,null,{"$f":"BB17","v":0},null,null,null,null,{"$f":"IF(ISBLANK(BC20),\" \",BC20+(BD20-BE20)*50+IF(COUNT(BC17:BC20)=3,(BE17+BE18+BE19)*40,(BE17+BE18+BE19)*30))","v":" "},0,{"$f":"IF(COUNTIF(BJ$13:BJ20,BJ20)>1,\"X\",\"\")","v":"X"},{"$f":"IF(ISBLANK(BN17),\" \",INDEX(DF:DF,MATCH(BN17,DB:DB,0)))","v":" "},{"$f":"IF(ISBLANK(BN20),\" \",INDEX('Eingabe Spielernamen'!$F:$F,MATCH(BJ20,'Eingabe Spielernamen'!$B:$B,0))&\", \"&INDEX('Eingabe Spielernamen'!$G:$G,MATCH(BJ20,'Eingabe Spielernamen'!$B:$B,0)))","v":{"$error":"#N/A"}},null,null,{"$f":"BN17","v":0},null,null,null,null,{"$f":"IF(ISBLANK(BO20),\" \",BO20+(BP20-BQ20)*50+IF(COUNT(BO17:BO20)=3,(BQ17+BQ18+BQ19)*40,(BQ17+BQ18+BQ19)*30))","v":" "},0,null,null,null,null,null,null,null,null,8,{"$f":"'1. Serie'!$C30","v":108},{"$f":"'1. Serie'!$C31","v":209},{"$f":"'1. Serie'!$C32","v":310},{"$f":"'1. Serie'!$C33","v":411},8,{"$f":"'2. Serie'!$C30","v":108},{"$f":"'2. Serie'!$C31","v":209},{"$f":"'2. Serie'!$C32","v":310},{"$f":"'2. Serie'!$C33","v":411},8,{"$f":"'3. Serie'!$C30","v":108},{"$f":"'3. Serie'!$C31","v":209},{"$f":"'3. Serie'!$C32","v":310},{"$f":"'3. Serie'!$C33","v":411},8,{"$f":"'4. Serie'!$C30","v":108},{"$f":"'4. Serie'!$C31","v":209},{"$f":"'4. Serie'!$C32","v":310},{"$f":"'4. Serie'!$C33","v":411},8,{"$f":"'5. Serie'!$C30","v":410},{"$f":"'5. Serie'!$C31","v":113},{"$f":"'5. Serie'!$C32","v":212},{"$f":"'5. Serie'!$C33","v":311},8,{"$f":"'6. Serie'!$C30","v":108},{"$f":"'6. Serie'!$C31","v":208},{"$f":"'6. Serie'!$C32","v":308},{"$f":"'6. Serie'!$C33","v":408},8,{"$f":"F41","v":0},{"$f":"R41","v":0},{"$f":"AD41","v":0},{"$f":"AP41","v":0},{"$f":"BB41","v":0},{"$f":"BN41","v":0}]
[{"$f":"IF(COUNTIF(B$13:B21,B21)>1,\"X\",\"\")","v":"X"},{"$f":"IF(ISBLANK(F21),\" \",INDEX(CD:CD,MATCH(F21,CC:CC,0)))","v":" "},{"$f":"IF(ISBLANK(F21),\" \",INDEX('Eingabe Spielernamen'!$F:$F,MATCH(B21,'Eingabe Spielernamen'!$B:$B,0))&\", \"&INDEX('Eingabe Spielernamen'!$G:$G,MATCH(B21,'Eingabe Spielernamen'!$B:$B,0)))","v":" "},null,null,null,null,null,null,null,{"$f":"IF(ISBLANK(G21),\" \",G21+(H21-I21)*50+IF(COUNT(G21:G24)=3,(I22+I23+I24)*40,(I22+I23+I24)*30))","v":" "},0,{"$f":"IF(COUNTIF(N$13:N21,N21)>1,\"X\",\"\")","v":"X"},{"$f":"IF(ISBLANK(R21),\" \",INDEX(CI:CI,MATCH(R21,CH:CH,0)))","v":" "},{"$f":"IF(ISBLANK(R21),\" \",INDEX('Eingabe Spielernamen'!$F:$F,MATCH(N21,'Eingabe Spielernamen'!$B:$B,0))&\", \"&INDEX('Eingabe Spielernamen'!$G:$G,MATCH(N21,'Eingabe Spielernamen'!$B:$B,0)))","v":" "},null,null,null,null,null,null,null,{"$f":"IF(ISBLANK(S21),\" \",S21+(T21-U21)*50+IF(COUNT(S21:S24)=3,(U22+U23+U24)*40,(U22+U23+U24)*30))","v":" "},0,{"$f":"IF(COUNTIF(Z$13:Z21,Z21)>1,\"X\",\"\")","v":"X"},{"$f":"IF(ISBLANK(AD21),\" \",INDEX(CN:CN,MATCH(AD21,CM:CM,0)))","v":" "},{"$f":"IF(ISBLANK(AD21),\" \",INDEX('Eingabe Spielernamen'!$F:$F,MATCH(Z21,'Eingabe Spielernamen'!$B:$B,0))&\", \"&INDEX('Eingabe Spielernamen'!$G:$G,MATCH(Z21,'Eingabe Spielernamen'!$B:$B,0)))","v":" "},null,null,null,null,null,null,null,{"$f":"IF(ISBLANK(AE21),\" \",AE21+(AF21-AG21)*50+IF(COUNT(AE21:AE24)=3,(AG22+AG23+AG24)*40,(AG22+AG23+AG24)*30))","v":" "},0,{"$f":"IF(COUNTIF(AL$13:AL21,AL21)>1,\"X\",\"\")","v":"X"},{"$f":"IF(ISBLANK(AP21),\" \",INDEX(CS:CS,MATCH(AP21,CR:CR,0)))","v":" "},{"$f":"IF(ISBLANK(AP21),\" \",INDEX('Eingabe Spielernamen'!$F:$F,MATCH(AL21,'Eingabe Spielernamen'!$B:$B,0))&\", \"&INDEX('Eingabe Spielernamen'!$G:$G,MATCH(AL21,'Eingabe Spielernamen'!$B:$B,0)))","v":" "},null,null,null,null,null,null,null,{"$f":"IF(ISBLANK(AQ21),\" \",AQ21+(AR21-AS21)*50+IF(COUNT(AQ21:AQ24)=3,(AS22+AS23+AS24)*40,(AS22+AS23+AS24)*30))","v":" "},0,{"$f":"IF(COUNTIF(AX$13:AX21,AX21)>1,\"X\",\"\")","v":"X"},{"$f":"IF(ISBLANK(BB21),\" \",INDEX(CX:CX,MATCH(BB21,CW:CW,0)))","v":" "},{"$f":"IF(ISBLANK(BB21),\" \",INDEX('Eingabe Spielernamen'!$F:$F,MATCH(AX21,'Eingabe Spielernamen'!$B:$B,0))&\", \"&INDEX('Eingabe Spielernamen'!$G:$G,MATCH(AX21,'Eingabe Spielernamen'!$B:$B,0)))","v":" "},null,null,null,null,null,null,null,{"$f":"IF(ISBLANK(BC21),\" \",BC21+(BD21-BE21)*50+IF(COUNT(BC21:BC24)=3,(BE22+BE23+BE24)*40,(BE22+BE23+BE24)*30))","v":" "},0,{"$f":"IF(COUNTIF(BJ$13:BJ21,BJ21)>1,\"X\",\"\")","v":"X"},{"$f":"IF(ISBLANK(BN21),\" \",INDEX(DC:DC,MATCH(BN21,DB:DB,0)))","v":" "},{"$f":"IF(ISBLANK(BN21),\" \",INDEX('Eingabe Spielernamen'!$F:$F,MATCH(BJ21,'Eingabe Spielernamen'!$B:$B,0))&\", \"&INDEX('Eingabe Spielernamen'!$G:$G,MATCH(BJ21,'Eingabe Spielernamen'!$B:$B,0)))","v":" "},null,null,null,null,null,null,null,{"$f":"IF(ISBLANK(BO21),\" \",BO21+(BP21-BQ21)*50+IF(COUNT(BO21:BO24)=3,(BQ22+BQ23+BQ24)*40,(BQ22+BQ23+BQ24)*30))","v":" "},0,"Ausgaben:",{"$f":"BV22+BV23+BV24+BV25+BV26+BV27+BV28+BV29+BV30","v":0},{"$f":"SUM(L21:L24)","v":0},{"$f":"SUM(X21:X24)","v":0},{"$f":"SUM(AJ21:AJ24)","v":0},{"$f":"SUM(AV21:AV24)","v":0},{"$f":"SUM(BH21:BH24)","v":0},{"$f":"SUM(BT21:BT24)","v":0},9,{"$f":"'1. Serie'!$C34","v":109},{"$f":"'1. Serie'!$C35","v":210},{"$f":"'1. Serie'!$C36","v":311},{"$f":"'1. Serie'!$C37","v":412},9,{"$f":"'2. Serie'!$C34","v":109},{"$f":"'2. Serie'!$C35","v":210},{"$f":"'2. Serie'!$C36","v":311},{"$f":"'2. Serie'!$C37","v":412},9,{"$f":"'3. Serie'!$C34","v":109},{"$f":"'3. Serie'!$C35","v":210},{"$f":"'3. Serie'!$C36","v":311},{"$f":"'3. Serie'!$C37","v":412},9,{"$f":"'4. Serie'!$C34","v":109},{"$f":"'4. Serie'!$C35","v":210},{"$f":"'4. Serie'!$C36","v":311},{"$f":"'4. Serie'!$C37","v":412},9,{"$f":"'5. Serie'!$C34","v":411},{"$f":"'5. Serie'!$C35","v":114},{"$f":"'5. Serie'!$C36","v":213},{"$f":"'5. Serie'!$C37","v":312},9,{"$f":"'6. Serie'!$C34","v":109},{"$f":"'6. Serie'!$C35","v":209},{"$f":"'6. Serie'!$C36","v":309},{"$f":"'6. Serie'!$C37","v":409},9,{"$f":"F45","v":0},{"$f":"R45","v":0},{"$f":"AD45","v":0},{"$f":"AP45","v":0},{"$f":"BB45","v":0},{"$f":"BN45","v":0}]
[{"$f":"IF(COUNTIF(B$13:B22,B22)>1,\"X\",\"\")","v":"X"},{"$f":"IF(ISBLANK(F21),\" \",INDEX(CE:CE,MATCH(F21,CC:CC,0)))","v":" "},{"$f":"IF(ISBLANK(F22),\" \",INDEX('Eingabe Spielernamen'!$F:$F,MATCH(B22,'Eingabe Spielernamen'!$B:$B,0))&\", \"&INDEX('Eingabe Spielernamen'!$G:$G,MATCH(B22,'Eingabe Spielernamen'!$B:$B,0)))","v":{"$error":"#N/A"}},null,null,{"$f":"F21","v":0},null,null,null,null,{"$f":"IF(ISBLANK(G22),\" \",G22+(H22-I22)*50+IF(COUNT(G21:G24)=3,(I21+I23+I24)*40,(I21+I23+I24)*30))","v":" "},0,{"$f":"IF(COUNTIF(N$13:N22,N22)>1,\"X\",\"\")","v":"X"},{"$f":"IF(ISBLANK(R21),\" \",INDEX(CJ:CJ,MATCH(R21,CH:CH,0)))","v":" "},{"$f":"IF(ISBLANK(R22),\" \",INDEX('Eingabe Spielernamen'!$F:$F,MATCH(N22,'Eingabe Spielernamen'!$B:$B,0))&\", \"&INDEX('Eingabe Spielernamen'!$G:$G,MATCH(N22,'Eingabe Spielernamen'!$B:$B,0)))","v":{"$error":"#N/A"}},null,null,{"$f":"R21","v":0},null,null,null,null,{"$f":"IF(ISBLANK(S22),\" \",S22+(T22-U22)*50+IF(COUNT(S21:S24)=3,(U21+U23+U24)*40,(U21+U23+U24)*30))","v":" "},0,{"$f":"IF(COUNTIF(Z$13:Z22,Z22)>1,\"X\",\"\")","v":"X"},{"$f":"IF(ISBLANK(AD21),\" \",INDEX(CO:CO,MATCH(AD21,CM:CM,0)))","v":" "},{"$f":"IF(ISBLANK(AD22),\" \",INDEX('Eingabe Spielernamen'!$F:$F,MATCH(Z22,'Eingabe Spielernamen'!$B:$B,0))&\", \"&INDEX('Eingabe Spielernamen'!$G:$G,MATCH(Z22,'Eingabe Spielernamen'!$B:$B,0)))","v":{"$error":"#N/A"}},null,null,{"$f":"AD21","v":0},null,null,null,null,{"$f":"IF(ISBLANK(AE22),\" \",AE22+(AF22-AG22)*50+IF(COUNT(AE21:AE24)=3,(AG21+AG23+AG24)*40,(AG21+AG23+AG24)*30))","v":" "},0,{"$f":"IF(COUNTIF(AL$13:AL22,AL22)>1,\"X\",\"\")","v":"X"},{"$f":"IF(ISBLANK(AP21),\" \",INDEX(CT:CT,MATCH(AP21,CR:CR,0)))","v":" "},{"$f":"IF(ISBLANK(AP22),\" \",INDEX('Eingabe Spielernamen'!$F:$F,MATCH(AL22,'Eingabe Spielernamen'!$B:$B,0))&\", \"&INDEX('Eingabe Spielernamen'!$G:$G,MATCH(AL22,'Eingabe Spielernamen'!$B:$B,0)))","v":{"$error":"#N/A"}},null,null,{"$f":"AP21","v":0},null,null,null,null,{"$f":"IF(ISBLANK(AQ22),\" \",AQ22+(AR22-AS22)*50+IF(COUNT(AQ21:AQ24)=3,(AS21+AS23+AS24)*40,(AS21+AS23+AS24)*30))","v":" "},0,{"$f":"IF(COUNTIF(AX$13:AX22,AX22)>1,\"X\",\"\")","v":"X"},{"$f":"IF(ISBLANK(BB21),\" \",INDEX(CY:CY,MATCH(BB21,CW:CW,0)))","v":" "},{"$f":"IF(ISBLANK(BB22),\" \",INDEX('Eingabe Spielernamen'!$F:$F,MATCH(AX22,'Eingabe Spielernamen'!$B:$B,0))&\", \"&INDEX('Eingabe Spielernamen'!$G:$G,MATCH(AX22,'Eingabe Spielernamen'!$B:$B,0)))","v":{"$error":"#N/A"}},null,null,{"$f":"BB21","v":0},null,null,null,null,{"$f":"IF(ISBLANK(BC22),\" \",BC22+(BD22-BE22)*50+IF(COUNT(BC21:BC24)=3,(BE21+BE23+BE24)*40,(BE21+BE23+BE24)*30))","v":" "},0,{"$f":"IF(COUNTIF(BJ$13:BJ22,BJ22)>1,\"X\",\"\")","v":"X"},{"$f":"IF(ISBLANK(BN21),\" \",INDEX(DD:DD,MATCH(BN21,DB:DB,0)))","v":" "},{"$f":"IF(ISBLANK(BN22),\" \",INDEX('Eingabe Spielernamen'!$F:$F,MATCH(BJ22,'Eingabe Spielernamen'!$B:$B,0))&\", \"&INDEX('Eingabe Spielernamen'!$G:$G,MATCH(BJ22,'Eingabe Spielernamen'!$B:$B,0)))","v":{"$error":"#N/A"}},null,null,{"$f":"BN21","v":0},null,null,null,null,{"$f":"IF(ISBLANK(BO22),\" \",BO22+(BP22-BQ22)*50+IF(COUNT(BO21:BO24)=3,(BQ21+BQ23+BQ24)*40,(BQ21+BQ23+BQ24)*30))","v":" "},0,"Helfer",null,null,null,null,null,null,null,10,{"$f":"'1. Serie'!$C38","v":110},{"$f":"'1. Serie'!$C39","v":211},{"$f":"'1. Serie'!$C40","v":312},{"$f":"'1. Serie'!$C41","v":413},10,{"$f":"'2. Serie'!$C38","v":110},{"$f":"'2. Serie'!$C39","v":211},{"$f":"'2. Serie'!$C40","v":312},{"$f":"'2. Serie'!$C41","v":413},10,{"$f":"'3. Serie'!$C38","v":110},{"$f":"'3. Serie'!$C39","v":211},{"$f":"'3. Serie'!$C40","v":312},{"$f":"'3. Serie'!$C41","v":413},10,{"$f":"'4. Serie'!$C38","v":110},{"$f":"'4. Serie'!$C39","v":211},{"$f":"'4. Serie'!$C40","v":312},{"$f":"'4. Serie'!$C41","v":413},10,{"$f":"'5. Serie'!$C38","v":412},{"$f":"'5. Serie'!$C39","v":115},{"$f":"'5. Serie'!$C40","v":214},{"$f":"'5. Serie'!$C41","v":313},10,{"$f":"'6. Serie'!$C38","v":110},{"$f":"'6. Serie'!$C39","v":210},{"$f":"'6. Serie'!$C40","v":310},{"$f":"'6. Serie'!$C41","v":410},10,{"$f":"F49","v":0},{"$f":"R49","v":0},{"$f":"AD49","v":0},{"$f":"AP49","v":0},{"$f":"BB49","v":0},{"$f":"BN49","v":0}]
[{"$f":"IF(COUNTIF(B$13:B23,B23)>1,\"X\",\"\")","v":"X"},{"$f":"IF(ISBLANK(F21),\" \",INDEX(CF:CF,MATCH(F21,CC:CC,0)))","v":" "},{"$f":"IF(ISBLANK(F23),\" \",INDEX('Eingabe Spielernamen'!$F:$F,MATCH(B23,'Eingabe Spielernamen'!$B:$B,0))&\", \"&INDEX('Eingabe Spielernamen'!$G:$G,MATCH(B23,'Eingabe Spielernamen'!$B:$B,0)))","v":{"$error":"#N/A"}},null,null,{"$f":"F21","v":0},null,null,null,null,{"$f":"IF(ISBLANK(G23),\" \",G23+(H23-I23)*50+IF(COUNT(G21:G24)=3,(I21+I22+I24)*40,(I21+I22+I24)*30))","v":" "},0,{"$f":"IF(COUNTIF(N$13:N23,N23)>1,\"X\",\"\")","v":"X"},{"$f":"IF(ISBLANK(R21),\" \",INDEX(CK:CK,MATCH(R21,CH:CH,0)))","v":" "},{"$f":"IF(ISBLANK(R23),\" \",INDEX('Eingabe Spielernamen'!$F:$F,MATCH(N23,'Eingabe Spielernamen'!$B:$B,0))&\", \"&INDEX('Eingabe Spielernamen'!$G:$G,MATCH(N23,'Eingabe Spielernamen'!$B:$B,0)))","v":{"$error":"#N/A"}},null,null,{"$f":"R21","v":0},null,null,null,null,{"$f":"IF(ISBLANK(S23),\" \",S23+(T23-U23)*50+IF(COUNT(S21:S24)=3,(U21+U22+U24)*40,(U21+U22+U24)*30))","v":" "},0,{"$f":"IF(COUNTIF(Z$13:Z23,Z23)>1,\"X\",\"\")","v":"X"},{"$f":"IF(ISBLANK(AD21),\" \",INDEX(CP:CP,MATCH(AD21,CM:CM,0)))","v":" "},{"$f":"IF(ISBLANK(AD23),\" \",INDEX('Eingabe Spielernamen'!$F:$F,MATCH(Z23,'Eingabe Spielernamen'!$B:$B,0))&\", \"&INDEX('Eingabe Spielernamen'!$G:$G,MATCH(Z23,'Eingabe Spielernamen'!$B:$B,0)))","v":{"$error":"#N/A"}},null,null,{"$f":"AD21","v":0},null,null,null,null,{"$f":"IF(ISBLANK(AE23),\" \",AE23+(AF23-AG23)*50+IF(COUNT(AE21:AE24)=3,(AG21+AG22+AG24)*40,(AG21+AG22+AG24)*30))","v":" "},0,{"$f":"IF(COUNTIF(AL$13:AL23,AL23)>1,\"X\",\"\")","v":"X"},{"$f":"IF(ISBLANK(AP21),\" \",INDEX(CU:CU,MATCH(AP21,CR:CR,0)))","v":" "},{"$f":"IF(ISBLANK(AP23),\" \",INDEX('Eingabe Spielernamen'!$F:$F,MATCH(AL23,'Eingabe Spielernamen'!$B:$B,0))&\", \"&INDEX('Eingabe Spielernamen'!$G:$G,MATCH(AL23,'Eingabe Spielernamen'!$B:$B,0)))","v":{"$error":"#N/A"}},null,null,{"$f":"AP21","v":0},null,null,null,null,{"$f":"IF(ISBLANK(AQ23),\" \",AQ23+(AR23-AS23)*50+IF(COUNT(AQ21:AQ24)=3,(AS21+AS22+AS24)*40,(AS21+AS22+AS24)*30))","v":" "},0,{"$f":"IF(COUNTIF(AX$13:AX23,AX23)>1,\"X\",\"\")","v":"X"},{"$f":"IF(ISBLANK(BB21),\" \",INDEX(CZ:CZ,MATCH(BB21,CW:CW,0)))","v":" "},{"$f":"IF(ISBLANK(BB23),\" \",INDEX('Eingabe Spielernamen'!$F:$F,MATCH(AX23,'Eingabe Spielernamen'!$B:$B,0))&\", \"&INDEX('Eingabe Spielernamen'!$G:$G,MATCH(AX23,'Eingabe Spielernamen'!$B:$B,0)))","v":{"$error":"#N/A"}},null,null,{"$f":"BB21","v":0},null,null,null,null,{"$f":"IF(ISBLANK(BC23),\" \",BC23+(BD23-BE23)*50+IF(COUNT(BC21:BC24)=3,(BE21+BE22+BE24)*40,(BE21+BE22+BE24)*30))","v":" "},0,{"$f":"IF(COUNTIF(BJ$13:BJ23,BJ23)>1,\"X\",\"\")","v":"X"},{"$f":"IF(ISBLANK(BN21),\" \",INDEX(DE:DE,MATCH(BN21,DB:DB,0)))","v":" "},{"$f":"IF(ISBLANK(BN23),\" \",INDEX('Eingabe Spielernamen'!$F:$F,MATCH(BJ23,'Eingabe Spielernamen'!$B:$B,0))&\", \"&INDEX('Eingabe Spielernamen'!$G:$G,MATCH(BJ23,'Eingabe Spielernamen'!$B:$B,0)))","v":{"$error":"#N/A"}},null,null,{"$f":"BN21","v":0},null,null,null,null,{"$f":"IF(ISBLANK(BO23),\" \",BO23+(BP23-BQ23)*50+IF(COUNT(BO21:BO24)=3,(BQ21+BQ22+BQ24)*40,(BQ21+BQ22+BQ24)*30))","v":" "},0,"Helfer",null,null,null,null,null,null,null,11,{"$f":"'1. Serie'!$C42","v":111},{"$f":"'1. Serie'!$C43","v":212},{"$f":"'1. Serie'!$C44","v":313},{"$f":"'1. Serie'!$C45","v":414},11,{"$f":"'2. Serie'!$C42","v":111},{"$f":"'2. Serie'!$C43","v":212},{"$f":"'2. Serie'!$C44","v":313},{"$f":"'2. Serie'!$C45","v":414},11,{"$f":"'3. Serie'!$C42","v":111},{"$f":"'3. Serie'!$C43","v":212},{"$f":"'3. Serie'!$C44","v":313},{"$f":"'3. Serie'!$C45","v":414},11,{"$f":"'4. Serie'!$C42","v":111},{"$f":"'4. Serie'!$C43","v":212},{"$f":"'4. Serie'!$C44","v":313},{"$f":"'4. Serie'!$C45","v":414},11,{"$f":"'5. Serie'!$C42","v":413},{"$f":"'5. Serie'!$C43","v":116},{"$f":"'5. Serie'!$C44","v":215},{"$f":"'5. Serie'!$C45","v":314},11,{"$f":"'6. Serie'!$C42","v":111},{"$f":"'6. Serie'!$C43","v":211},{"$f":"'6. Serie'!$C44","v":311},{"$f":"'6. Serie'!$C45","v":411},11,{"$f":"F53","v":0},{"$f":"R53","v":0},{"$f":"AD53","v":0},{"$f":"AP53","v":0},{"$f":"BB53","v":0},{"$f":"BN53","v":0}]
[{"$f":"IF(COUNTIF(B$13:B24,B24)>1,\"X\",\"\")","v":"X"},{"$f":"IF(ISBLANK(F21),\" \",INDEX(CG:CG,MATCH(F21,CC:CC,0)))","v":" "},{"$f":"IF(ISBLANK(F24),\" \",INDEX('Eingabe Spielernamen'!$F:$F,MATCH(B24,'Eingabe Spielernamen'!$B:$B,0))&\", \"&INDEX('Eingabe Spielernamen'!$G:$G,MATCH(B24,'Eingabe Spielernamen'!$B:$B,0)))","v":{"$error":"#N/A"}},null,null,{"$f":"F21","v":0},null,null,null,null,{"$f":"IF(ISBLANK(G24),\" \",G24+(H24-I24)*50+IF(COUNT(G21:G24)=3,(I21+I22+I23)*40,(I21+I22+I23)*30))","v":" "},0,{"$f":"IF(COUNTIF(N$13:N24,N24)>1,\"X\",\"\")","v":"X"},{"$f":"IF(ISBLANK(R21),\" \",INDEX(CL:CL,MATCH(R21,CH:CH,0)))","v":" "},{"$f":"IF(ISBLANK(R24),\" \",INDEX('Eingabe Spielernamen'!$F:$F,MATCH(N24,'Eingabe Spielernamen'!$B:$B,0))&\", \"&INDEX('Eingabe Spielernamen'!$G:$G,MATCH(N24,'Eingabe Spielernamen'!$B:$B,0)))","v":{"$error":"#N/A"}},null,null,{"$f":"R21","v":0},null,null,null,null,{"$f":"IF(ISBLANK(S24),\" \",S24+(T24-U24)*50+IF(COUNT(S21:S24)=3,(U21+U22+U23)*40,(U21+U22+U23)*30))","v":" "},0,{"$f":"IF(COUNTIF(Z$13:Z24,Z24)>1,\"X\",\"\")","v":"X"},{"$f":"IF(ISBLANK(AD21),\" \",INDEX(CQ:CQ,MATCH(AD21,CM:CM,0)))","v":" "},{"$f":"IF(ISBLANK(AD24),\" \",INDEX('Eingabe Spielernamen'!$F:$F,MATCH(Z24,'Eingabe Spielernamen'!$B:$B,0))&\", \"&INDEX('Eingabe Spielernamen'!$G:$G,MATCH(Z24,'Eingabe Spielernamen'!$B:$B,0)))","v":{"$error":"#N/A"}},null,null,{"$f":"AD21","v":0},null,null,null,null,{"$f":"IF(ISBLANK(AE24),\" \",AE24+(AF24-AG24)*50+IF(COUNT(AE21:AE24)=3,(AG21+AG22+AG23)*40,(AG21+AG22+AG23)*30))","v":" "},0,{"$f":"IF(COUNTIF(AL$13:AL24,AL24)>1,\"X\",\"\")","v":"X"},{"$f":"IF(ISBLANK(AP21),\" \",INDEX(CV:CV,MATCH(AP21,CR:CR,0)))","v":" "},{"$f":"IF(ISBLANK(AP24),\" \",INDEX('Eingabe Spielernamen'!$F:$F,MATCH(AL24,'Eingabe Spielernamen'!$B:$B,0))&\", \"&INDEX('Eingabe Spielernamen'!$G:$G,MATCH(AL24,'Eingabe Spielernamen'!$B:$B,0)))","v":{"$error":"#N/A"}},null,null,{"$f":"AP21","v":0},null,null,null,null,{"$f":"IF(ISBLANK(AQ24),\" \",AQ24+(AR24-AS24)*50+IF(COUNT(AQ21:AQ24)=3,(AS21+AS22+AS23)*40,(AS21+AS22+AS23)*30))","v":" "},0,{"$f":"IF(COUNTIF(AX$13:AX24,AX24)>1,\"X\",\"\")","v":"X"},{"$f":"IF(ISBLANK(BB21),\" \",INDEX(DA:DA,MATCH(BB21,CW:CW,0)))","v":" "},{"$f":"IF(ISBLANK(BB24),\" \",INDEX('Eingabe Spielernamen'!$F:$F,MATCH(AX24,'Eingabe Spielernamen'!$B:$B,0))&\", \"&INDEX('Eingabe Spielernamen'!$G:$G,MATCH(AX24,'Eingabe Spielernamen'!$B:$B,0)))","v":{"$error":"#N/A"}},null,null,{"$f":"BB21","v":0},null,null,null,null,{"$f":"IF(ISBLANK(BC24),\" \",BC24+(BD24-BE24)*50+IF(COUNT(BC21:BC24)=3,(BE21+BE22+BE23)*40,(BE21+BE22+BE23)*30))","v":" "},0,{"$f":"IF(COUNTIF(BJ$13:BJ24,BJ24)>1,\"X\",\"\")","v":"X"},{"$f":"IF(ISBLANK(BN21),\" \",INDEX(DF:DF,MATCH(BN21,DB:DB,0)))","v":" "},{"$f":"IF(ISBLANK(BN24),\" \",INDEX('Eingabe Spielernamen'!$F:$F,MATCH(BJ24,'Eingabe Spielernamen'!$B:$B,0))&\", \"&INDEX('Eingabe Spielernamen'!$G:$G,MATCH(BJ24,'Eingabe Spielernamen'!$B:$B,0)))","v":{"$error":"#N/A"}},null,null,{"$f":"BN21","v":0},null,null,null,null,{"$f":"IF(ISBLANK(BO24),\" \",BO24+(BP24-BQ24)*50+IF(COUNT(BO21:BO24)=3,(BQ21+BQ22+BQ23)*40,(BQ21+BQ22+BQ23)*30))","v":" "},0,"Helfer",null,null,null,null,null,null,null,12,{"$f":"'1. Serie'!$C46","v":112},{"$f":"'1. Serie'!$C47","v":213},{"$f":"'1. Serie'!$C48","v":314},{"$f":"'1. Serie'!$C49","v":415},12,{"$f":"'2. Serie'!$C46","v":112},{"$f":"'2. Serie'!$C47","v":213},{"$f":"'2. Serie'!$C48","v":314},{"$f":"'2. Serie'!$C49","v":415},12,{"$f":"'3. Serie'!$C46","v":112},{"$f":"'3. Serie'!$C47","v":213},{"$f":"'3. Serie'!$C48","v":314},{"$f":"'3. Serie'!$C49","v":415},12,{"$f":"'4. Serie'!$C46","v":112},{"$f":"'4. Serie'!$C47","v":213},{"$f":"'4. Serie'!$C48","v":314},{"$f":"'4. Serie'!$C49","v":415},12,{"$f":"'5. Serie'!$C46","v":414},{"$f":"'5. Serie'!$C47","v":101},{"$f":"'5. Serie'!$C48","v":216},{"$f":"'5. Serie'!$C49","v":315},12,{"$f":"'6. Serie'!$C46","v":112},{"$f":"'6. Serie'!$C47","v":212},{"$f":"'6. Serie'!$C48","v":312},{"$f":"'6. Serie'!$C49","v":412},12,{"$f":"F57","v":0},{"$f":"R57","v":0},{"$f":"AD57","v":0},{"$f":"AP57","v":0},{"$f":"BB57","v":0},{"$f":"BN57","v":0}]
[{"$f":"IF(COUNTIF(B$13:B25,B25)>1,\"X\",\"\")","v":"X"},{"$f":"IF(ISBLANK(F25),\" \",INDEX(CD:CD,MATCH(F25,CC:CC,0)))","v":" "},{"$f":"IF(ISBLANK(F25),\" \",INDEX('Eingabe Spielernamen'!$F:$F,MATCH(B25,'Eingabe Spielernamen'!$B:$B,0))&\", \"&INDEX('Eingabe Spielernamen'!$G:$G,MATCH(B25,'Eingabe Spielernamen'!$B:$B,0)))","v":" "},null,null,null,null,null,null,null,{"$f":"IF(ISBLANK(G25),\" \",G25+(H25-I25)*50+IF(COUNT(G25:G28)=3,(I26+I27+I28)*40,(I26+I27+I28)*30))","v":" "},0,{"$f":"IF(COUNTIF(N$13:N25,N25)>1,\"X\",\"\")","v":"X"},{"$f":"IF(ISBLANK(R25),\" \",INDEX(CI:CI,MATCH(R25,CH:CH,0)))","v":" "},{"$f":"IF(ISBLANK(R25),\" \",INDEX('Eingabe Spielernamen'!$F:$F,MATCH(N25,'Eingabe Spielernamen'!$B:$B,0))&\", \"&INDEX('Eingabe Spielernamen'!$G:$G,MATCH(N25,'Eingabe Spielernamen'!$B:$B,0)))","v":" "},null,null,null,null,null,null,null,{"$f":"IF(ISBLANK(S25),\" \",S25+(T25-U25)*50+IF(COUNT(S25:S28)=3,(U26+U27+U28)*40,(U26+U27+U28)*30))","v":" "},0,{"$f":"IF(COUNTIF(Z$13:Z25,Z25)>1,\"X\",\"\")","v":"X"},{"$f":"IF(ISBLANK(AD25),\" \",INDEX(CN:CN,MATCH(AD25,CM:CM,0)))","v":" "},{"$f":"IF(ISBLANK(AD25),\" \",INDEX('Eingabe Spielernamen'!$F:$F,MATCH(Z25,'Eingabe Spielernamen'!$B:$B,0))&\", \"&INDEX('Eingabe Spielernamen'!$G:$G,MATCH(Z25,'Eingabe Spielernamen'!$B:$B,0)))","v":" "},null,null,null,null,null,null,null,{"$f":"IF(ISBLANK(AE25),\" \",AE25+(AF25-AG25)*50+IF(COUNT(AE25:AE28)=3,(AG26+AG27+AG28)*40,(AG26+AG27+AG28)*30))","v":" "},0,{"$f":"IF(COUNTIF(AL$13:AL25,AL25)>1,\"X\",\"\")","v":"X"},{"$f":"IF(ISBLANK(AP25),\" \",INDEX(CS:CS,MATCH(AP25,CR:CR,0)))","v":" "},{"$f":"IF(ISBLANK(AP25),\" \",INDEX('Eingabe Spielernamen'!$F:$F,MATCH(AL25,'Eingabe Spielernamen'!$B:$B,0))&\", \"&INDEX('Eingabe Spielernamen'!$G:$G,MATCH(AL25,'Eingabe Spielernamen'!$B:$B,0)))","v":" "},null,null,null,null,null,null,null,{"$f":"IF(ISBLANK(AQ25),\" \",AQ25+(AR25-AS25)*50+IF(COUNT(AQ25:AQ28)=3,(AS26+AS27+AS28)*40,(AS26+AS27+AS28)*30))","v":" "},0,{"$f":"IF(COUNTIF(AX$13:AX25,AX25)>1,\"X\",\"\")","v":"X"},{"$f":"IF(ISBLANK(BB25),\" \",INDEX(CX:CX,MATCH(BB25,CW:CW,0)))","v":" "},{"$f":"IF(ISBLANK(BB25),\" \",INDEX('Eingabe Spielernamen'!$F:$F,MATCH(AX25,'Eingabe Spielernamen'!$B:$B,0))&\", \"&INDEX('Eingabe Spielernamen'!$G:$G,MATCH(AX25,'Eingabe Spielernamen'!$B:$B,0)))","v":" "},null,null,null,null,null,null,null,{"$f":"IF(ISBLANK(BC25),\" \",BC25+(BD25-BE25)*50+IF(COUNT(BC25:BC28)=3,(BE26+BE27+BE28)*40,(BE26+BE27+BE28)*30))","v":" "},0,{"$f":"IF(COUNTIF(BJ$13:BJ25,BJ25)>1,\"X\",\"\")","v":"X"},{"$f":"IF(ISBLANK(BN25),\" \",INDEX(DC:DC,MATCH(BN25,DB:DB,0)))","v":" "},{"$f":"IF(ISBLANK(BN25),\" \",INDEX('Eingabe Spielernamen'!$F:$F,MATCH(BJ25,'Eingabe Spielernamen'!$B:$B,0))&\", \"&INDEX('Eingabe Spielernamen'!$G:$G,MATCH(BJ25,'Eingabe Spielernamen'!$B:$B,0)))","v":" "},null,null,null,null,null,null,null,{"$f":"IF(ISBLANK(BO25),\" \",BO25+(BP25-BQ25)*50+IF(COUNT(BO25:BO28)=3,(BQ26+BQ27+BQ28)*40,(BQ26+BQ27+BQ28)*30))","v":" "},0,"Helfer",null,{"$f":"SUM(L25:L28)","v":0},{"$f":"SUM(X25:X28)","v":0},{"$f":"SUM(AJ25:AJ28)","v":0},{"$f":"SUM(AV25:AV28)","v":0},{"$f":"SUM(BH25:BH28)","v":0},{"$f":"SUM(BT25:BT28)","v":0},13,{"$f":"'1. Serie'!$C50","v":113},{"$f":"'1. Serie'!$C51","v":214},{"$f":"'1. Serie'!$C52","v":315},{"$f":"'1. Serie'!$C53","v":416},13,{"$f":"'2. Serie'!$C50","v":113},{"$f":"'2. Serie'!$C51","v":214},{"$f":"'2. Serie'!$C52","v":315},{"$f":"'2. Serie'!$C53","v":416},13,{"$f":"'3. Serie'!$C50","v":113},{"$f":"'3. Serie'!$C51","v":214},{"$f":"'3. Serie'!$C52","v":315},{"$f":"'3. Serie'!$C53","v":416},13,{"$f":"'4. Serie'!$C50","v":113},{"$f":"'4. Serie'!$C51","v":214},{"$f":"'4. Serie'!$C52","v":315},{"$f":"'4. Serie'!$C53","v":416},13,{"$f":"'5. Serie'!$C50","v":415},{"$f":"'5. Serie'!$C51","v":102},{"$f":"'5. Serie'!$C52","v":201},{"$f":"'5. Serie'!$C53","v":316},13,{"$f":"'6. Serie'!$C50","v":113},{"$f":"'6. Serie'!$C51","v":213},{"$f":"'6. Serie'!$C52","v":313},{"$f":"'6. Serie'!$C53","v":413},13,{"$f":"F61","v":0},{"$f":"R61","v":0},{"$f":"AD61","v":0},{"$f":"AP61","v":0},{"$f":"BB61","v":0},{"$f":"BN61","v":0}]
[{"$f":"IF(COUNTIF(B$13:B26,B26)>1,\"X\",\"\")","v":"X"},{"$f":"IF(ISBLANK(F25),\" \",INDEX(CE:CE,MATCH(F25,CC:CC,0)))","v":" "},{"$f":"IF(ISBLANK(F26),\" \",INDEX('Eingabe Spielernamen'!$F:$F,MATCH(B26,'Eingabe Spielernamen'!$B:$B,0))&\", \"&INDEX('Eingabe Spielernamen'!$G:$G,MATCH(B26,'Eingabe Spielernamen'!$B:$B,0)))","v":{"$error":"#N/A"}},null,null,{"$f":"F25","v":0},null,null,null,null,{"$f":"IF(ISBLANK(G26),\" \",G26+(H26-I26)*50+IF(COUNT(G25:G28)=3,(I25+I27+I28)*40,(I25+I27+I28)*30))","v":" "},0,{"$f":"IF(COUNTIF(N$13:N26,N26)>1,\"X\",\"\")","v":"X"},{"$f":"IF(ISBLANK(R25),\" \",INDEX(CJ:CJ,MATCH(R25,CH:CH,0)))","v":" "},{"$f":"IF(ISBLANK(R26),\" \",INDEX('Eingabe Spielernamen'!$F:$F,MATCH(N26,'Eingabe Spielernamen'!$B:$B,0))&\", \"&INDEX('Eingabe Spielernamen'!$G:$G,MATCH(N26,'Eingabe Spielernamen'!$B:$B,0)))","v":{"$error":"#N/A"}},null,null,{"$f":"R25","v":0},null,null,null,null,{"$f":"IF(ISBLANK(S26),\" \",S26+(T26-U26)*50+IF(COUNT(S25:S28)=3,(U25+U27+U28)*40,(U25+U27+U28)*30))","v":" "},0,{"$f":"IF(COUNTIF(Z$13:Z26,Z26)>1,\"X\",\"\")","v":"X"},{"$f":"IF(ISBLANK(AD25),\" \",INDEX(CO:CO,MATCH(AD25,CM:CM,0)))","v":" "},{"$f":"IF(ISBLANK(AD26),\" \",INDEX('Eingabe Spielernamen'!$F:$F,MATCH(Z26,'Eingabe Spielernamen'!$B:$B,0))&\", \"&INDEX('Eingabe Spielernamen'!$G:$G,MATCH(Z26,'Eingabe Spielernamen'!$B:$B,0)))","v":{"$error":"#N/A"}},null,null,{"$f":"AD25","v":0},null,null,null,null,{"$f":"IF(ISBLANK(AE26),\" \",AE26+(AF26-AG26)*50+IF(COUNT(AE25:AE28)=3,(AG25+AG27+AG28)*40,(AG25+AG27+AG28)*30))","v":" "},0,{"$f":"IF(COUNTIF(AL$13:AL26,AL26)>1,\"X\",\"\")","v":"X"},{"$f":"IF(ISBLANK(AP25),\" \",INDEX(CT:CT,MATCH(AP25,CR:CR,0)))","v":" "},{"$f":"IF(ISBLANK(AP26),\" \",INDEX('Eingabe Spielernamen'!$F:$F,MATCH(AL26,'Eingabe Spielernamen'!$B:$B,0))&\", \"&INDEX('Eingabe Spielernamen'!$G:$G,MATCH(AL26,'Eingabe Spielernamen'!$B:$B,0)))","v":{"$error":"#N/A"}},null,null,{"$f":"AP25","v":0},null,null,null,null,{"$f":"IF(ISBLANK(AQ26),\" \",AQ26+(AR26-AS26)*50+IF(COUNT(AQ25:AQ28)=3,(AS25+AS27+AS28)*40,(AS25+AS27+AS28)*30))","v":" "},0,{"$f":"IF(COUNTIF(AX$13:AX26,AX26)>1,\"X\",\"\")","v":"X"},{"$f":"IF(ISBLANK(BB25),\" \",INDEX(CY:CY,MATCH(BB25,CW:CW,0)))","v":" "},{"$f":"IF(ISBLANK(BB26),\" \",INDEX('Eingabe Spielernamen'!$F:$F,MATCH(AX26,'Eingabe Spielernamen'!$B:$B,0))&\", \"&INDEX('Eingabe Spielernamen'!$G:$G,MATCH(AX26,'Eingabe Spielernamen'!$B:$B,0)))","v":{"$error":"#N/A"}},null,null,{"$f":"BB25","v":0},null,null,null,null,{"$f":"IF(ISBLANK(BC26),\" \",BC26+(BD26-BE26)*50+IF(COUNT(BC25:BC28)=3,(BE25+BE27+BE28)*40,(BE25+BE27+BE28)*30))","v":" "},0,{"$f":"IF(COUNTIF(BJ$13:BJ26,BJ26)>1,\"X\",\"\")","v":"X"},{"$f":"IF(ISBLANK(BN25),\" \",INDEX(DD:DD,MATCH(BN25,DB:DB,0)))","v":" "},{"$f":"IF(ISBLANK(BN26),\" \",INDEX('Eingabe Spielernamen'!$F:$F,MATCH(BJ26,'Eingabe Spielernamen'!$B:$B,0))&\", \"&INDEX('Eingabe Spielernamen'!$G:$G,MATCH(BJ26,'Eingabe Spielernamen'!$B:$B,0)))","v":{"$error":"#N/A"}},null,null,{"$f":"BN25","v":0},null,null,null,null,{"$f":"IF(ISBLANK(BO26),\" \",BO26+(BP26-BQ26)*50+IF(COUNT(BO25:BO28)=3,(BQ25+BQ27+BQ28)*40,(BQ25+BQ27+BQ28)*30))","v":" "},0,"Helfer",null,null,null,null,null,null,null,14,{"$f":"'1. Serie'!$C54","v":114},{"$f":"'1. Serie'!$C55","v":215},{"$f":"'1. Serie'!$C56","v":316},{"$f":"'1. Serie'!$C57","v":401},14,{"$f":"'2. Serie'!$C54","v":114},{"$f":"'2. Serie'!$C55","v":215},{"$f":"'2. Serie'!$C56","v":316},{"$f":"'2. Serie'!$C57","v":401},14,{"$f":"'3. Serie'!$C54","v":114},{"$f":"'3. Serie'!$C55","v":215},{"$f":"'3. Serie'!$C56","v":316},{"$f":"'3. Serie'!$C57","v":401},14,{"$f":"'4. Serie'!$C54","v":114},{"$f":"'4. Serie'!$C55","v":215},{"$f":"'4. Serie'!$C56","v":316},{"$f":"'4. Serie'!$C57","v":401},14,{"$f":"'5. Serie'!$C54","v":416},{"$f":"'5. Serie'!$C55","v":103},{"$f":"'5. Serie'!$C56","v":202},{"$f":"'5. Serie'!$C57","v":301},14,{"$f":"'6. Serie'!$C54","v":114},{"$f":"'6. Serie'!$C55","v":214},{"$f":"'6. Serie'!$C56","v":314},{"$f":"'6. Serie'!$C57","v":414},14,{"$f":"F65","v":0},{"$f":"R65","v":0},{"$f":"AD65","v":0},{"$f":"AP65","v":0},{"$f":"BB65","v":0},{"$f":"BN65","v":0}]
[{"$f":"IF(COUNTIF(B$13:B27,B27)>1,\"X\",\"\")","v":"X"},{"$f":"IF(ISBLANK(F25),\" \",INDEX(CF:CF,MATCH(F25,CC:CC,0)))","v":" "},{"$f":"IF(ISBLANK(F27),\" \",INDEX('Eingabe Spielernamen'!$F:$F,MATCH(B27,'Eingabe Spielernamen'!$B:$B,0))&\", \"&INDEX('Eingabe Spielernamen'!$G:$G,MATCH(B27,'Eingabe Spielernamen'!$B:$B,0)))","v":{"$error":"#N/A"}},null,null,{"$f":"F25","v":0},null,null,null,null,{"$f":"IF(ISBLANK(G27),\" \",G27+(H27-I27)*50+IF(COUNT(G25:G28)=3,(I25+I26+I28)*40,(I25+I26+I28)*30))","v":" "},0,{"$f":"IF(COUNTIF(N$13:N27,N27)>1,\"X\",\"\")","v":"X"},{"$f":"IF(ISBLANK(R25),\" \",INDEX(CK:CK,MATCH(R25,CH:CH,0)))","v":" "},{"$f":"IF(ISBLANK(R27),\" \",INDEX('Eingabe Spielernamen'!$F:$F,MATCH(N27,'Eingabe Spielernamen'!$B:$B,0))&\", \"&INDEX('Eingabe Spielernamen'!$G:$G,MATCH(N27,'Eingabe Spielernamen'!$B:$B,0)))","v":{"$error":"#N/A"}},null,null,{"$f":"R25","v":0},null,null,null,null,{"$f":"IF(ISBLANK(S27),\" \",S27+(T27-U27)*50+IF(COUNT(S25:S28)=3,(U25+U26+U28)*40,(U25+U26+U28)*30))","v":" "},0,{"$f":"IF(COUNTIF(Z$13:Z27,Z27)>1,\"X\",\"\")","v":"X"},{"$f":"IF(ISBLANK(AD25),\" \",INDEX(CP:CP,MATCH(AD25,CM:CM,0)))","v":" "},{"$f":"IF(ISBLANK(AD27),\" \",INDEX('Eingabe Spielernamen'!$F:$F,MATCH(Z27,'Eingabe Spielernamen'!$B:$B,0))&\", \"&INDEX('Eingabe Spielernamen'!$G:$G,MATCH(Z27,'Eingabe Spielernamen'!$B:$B,0)))","v":{"$error":"#N/A"}},null,null,{"$f":"AD25","v":0},null,null,null,null,{"$f":"IF(ISBLANK(AE27),\" \",AE27+(AF27-AG27)*50+IF(COUNT(AE25:AE28)=3,(AG25+AG26+AG28)*40,(AG25+AG26+AG28)*30))","v":" "},0,{"$f":"IF(COUNTIF(AL$13:AL27,AL27)>1,\"X\",\"\")","v":"X"},{"$f":"IF(ISBLANK(AP25),\" \",INDEX(CU:CU,MATCH(AP25,CR:CR,0)))","v":" "},{"$f":"IF(ISBLANK(AP27),\" \",INDEX('Eingabe Spielernamen'!$F:$F,MATCH(AL27,'Eingabe Spielernamen'!$B:$B,0))&\", \"&INDEX('Eingabe Spielernamen'!$G:$G,MATCH(AL27,'Eingabe Spielernamen'!$B:$B,0)))","v":{"$error":"#N/A"}},null,null,{"$f":"AP25","v":0},null,null,null,null,{"$f":"IF(ISBLANK(AQ27),\" \",AQ27+(AR27-AS27)*50+IF(COUNT(AQ25:AQ28)=3,(AS25+AS26+AS28)*40,(AS25+AS26+AS28)*30))","v":" "},0,{"$f":"IF(COUNTIF(AX$13:AX27,AX27)>1,\"X\",\"\")","v":"X"},{"$f":"IF(ISBLANK(BB25),\" \",INDEX(CZ:CZ,MATCH(BB25,CW:CW,0)))","v":" "},{"$f":"IF(ISBLANK(BB27),\" \",INDEX('Eingabe Spielernamen'!$F:$F,MATCH(AX27,'Eingabe Spielernamen'!$B:$B,0))&\", \"&INDEX('Eingabe Spielernamen'!$G:$G,MATCH(AX27,'Eingabe Spielernamen'!$B:$B,0)))","v":{"$error":"#N/A"}},null,null,{"$f":"BB25","v":0},null,null,null,null,{"$f":"IF(ISBLANK(BC27),\" \",BC27+(BD27-BE27)*50+IF(COUNT(BC25:BC28)=3,(BE25+BE26+BE28)*40,(BE25+BE26+BE28)*30))","v":" "},0,{"$f":"IF(COUNTIF(BJ$13:BJ27,BJ27)>1,\"X\",\"\")","v":"X"},{"$f":"IF(ISBLANK(BN25),\" \",INDEX(DE:DE,MATCH(BN25,DB:DB,0)))","v":" "},{"$f":"IF(ISBLANK(BN27),\" \",INDEX('Eingabe Spielernamen'!$F:$F,MATCH(BJ27,'Eingabe Spielernamen'!$B:$B,0))&\", \"&INDEX('Eingabe Spielernamen'!$G:$G,MATCH(BJ27,'Eingabe Spielernamen'!$B:$B,0)))","v":{"$error":"#N/A"}},null,null,{"$f":"BN25","v":0},null,null,null,null,{"$f":"IF(ISBLANK(BO27),\" \",BO27+(BP27-BQ27)*50+IF(COUNT(BO25:BO28)=3,(BQ25+BQ26+BQ28)*40,(BQ25+BQ26+BQ28)*30))","v":" "},0,"Helfer",null,null,null,null,null,null,null,15,{"$f":"'1. Serie'!$C58","v":115},{"$f":"'1. Serie'!$C59","v":216},{"$f":"'1. Serie'!$C60","v":301},{"$f":"'1. Serie'!$C61","v":402},15,{"$f":"'2. Serie'!$C58","v":115},{"$f":"'2. Serie'!$C59","v":216},{"$f":"'2. Serie'!$C60","v":301},{"$f":"'2. Serie'!$C61","v":402},15,{"$f":"'3. Serie'!$C58","v":115},{"$f":"'3. Serie'!$C59","v":216},{"$f":"'3. Serie'!$C60","v":301},{"$f":"'3. Serie'!$C61","v":402},15,{"$f":"'4. Serie'!$C58","v":115},{"$f":"'4. Serie'!$C59","v":216},{"$f":"'4. Serie'!$C60","v":301},{"$f":"'4. Serie'!$C61","v":402},15,{"$f":"'5. Serie'!$C58","v":401},{"$f":"'5. Serie'!$C59","v":104},{"$f":"'5. Serie'!$C60","v":203},{"$f":"'5. Serie'!$C61","v":302},15,{"$f":"'6. Serie'!$C58","v":115},{"$f":"'6. Serie'!$C59","v":215},{"$f":"'6. Serie'!$C60","v":315},{"$f":"'6. Serie'!$C61","v":415},15,{"$f":"F69","v":0},{"$f":"R69","v":0},{"$f":"AD69","v":0},{"$f":"AP69","v":0},{"$f":"BB69","v":0},{"$f":"BN69","v":0}]
[{"$f":"IF(COUNTIF(B$13:B28,B28)>1,\"X\",\"\")","v":"X"},{"$f":"IF(ISBLANK(F25),\" \",INDEX(CG:CG,MATCH(F25,CC:CC,0)))","v":" "},{"$f":"IF(ISBLANK(F28),\" \",INDEX('Eingabe Spielernamen'!$F:$F,MATCH(B28,'Eingabe Spielernamen'!$B:$B,0))&\", \"&INDEX('Eingabe Spielernamen'!$G:$G,MATCH(B28,'Eingabe Spielernamen'!$B:$B,0)))","v":{"$error":"#N/A"}},null,null,{"$f":"F25","v":0},null,null,null,null,{"$f":"IF(ISBLANK(G28),\" \",G28+(H28-I28)*50+IF(COUNT(G25:G28)=3,(I25+I26+I27)*40,(I25+I26+I27)*30))","v":" "},0,{"$f":"IF(COUNTIF(N$13:N28,N28)>1,\"X\",\"\")","v":"X"},{"$f":"IF(ISBLANK(R25),\" \",INDEX(CL:CL,MATCH(R25,CH:CH,0)))","v":" "},{"$f":"IF(ISBLANK(R28),\" \",INDEX('Eingabe Spielernamen'!$F:$F,MATCH(N28,'Eingabe Spielernamen'!$B:$B,0))&\", \"&INDEX('Eingabe Spielernamen'!$G:$G,MATCH(N28,'Eingabe Spielernamen'!$B:$B,0)))","v":{"$error":"#N/A"}},null,null,{"$f":"R25","v":0},null,null,null,null,{"$f":"IF(ISBLANK(S28),\" \",S28+(T28-U28)*50+IF(COUNT(S25:S28)=3,(U25+U26+U27)*40,(U25+U26+U27)*30))","v":" "},0,{"$f":"IF(COUNTIF(Z$13:Z28,Z28)>1,\"X\",\"\")","v":"X"},{"$f":"IF(ISBLANK(AD25),\" \",INDEX(CQ:CQ,MATCH(AD25,CM:CM,0)))","v":" "},{"$f":"IF(ISBLANK(AD28),\" \",INDEX('Eingabe Spielernamen'!$F:$F,MATCH(Z28,'Eingabe Spielernamen'!$B:$B,0))&\", \"&INDEX('Eingabe Spielernamen'!$G:$G,MATCH(Z28,'Eingabe Spielernamen'!$B:$B,0)))","v":{"$error":"#N/A"}},null,null,{"$f":"AD25","v":0},null,null,null,null,{"$f":"IF(ISBLANK(AE28),\" \",AE28+(AF28-AG28)*50+IF(COUNT(AE25:AE28)=3,(AG25+AG26+AG27)*40,(AG25+AG26+AG27)*30))","v":" "},0,{"$f":"IF(COUNTIF(AL$13:AL28,AL28)>1,\"X\",\"\")","v":"X"},{"$f":"IF(ISBLANK(AP25),\" \",INDEX(CV:CV,MATCH(AP25,CR:CR,0)))","v":" "},{"$f":"IF(ISBLANK(AP28),\" \",INDEX('Eingabe Spielernamen'!$F:$F,MATCH(AL28,'Eingabe Spielernamen'!$B:$B,0))&\", \"&INDEX('Eingabe Spielernamen'!$G:$G,MATCH(AL28,'Eingabe Spielernamen'!$B:$B,0)))","v":{"$error":"#N/A"}},null,null,{"$f":"AP25","v":0},null,null,null,null,{"$f":"IF(ISBLANK(AQ28),\" \",AQ28+(AR28-AS28)*50+IF(COUNT(AQ25:AQ28)=3,(AS25+AS26+AS27)*40,(AS25+AS26+AS27)*30))","v":" "},0,{"$f":"IF(COUNTIF(AX$13:AX28,AX28)>1,\"X\",\"\")","v":"X"},{"$f":"IF(ISBLANK(BB25),\" \",INDEX(DA:DA,MATCH(BB25,CW:CW,0)))","v":" "},{"$f":"IF(ISBLANK(BB28),\" \",INDEX('Eingabe Spielernamen'!$F:$F,MATCH(AX28,'Eingabe Spielernamen'!$B:$B,0))&\", \"&INDEX('Eingabe Spielernamen'!$G:$G,MATCH(AX28,'Eingabe Spielernamen'!$B:$B,0)))","v":{"$error":"#N/A"}},null,null,{"$f":"BB25","v":0},null,null,null,null,{"$f":"IF(ISBLANK(BC28),\" \",BC28+(BD28-BE28)*50+IF(COUNT(BC25:BC28)=3,(BE25+BE26+BE27)*40,(BE25+BE26+BE27)*30))","v":" "},0,{"$f":"IF(COUNTIF(BJ$13:BJ28,BJ28)>1,\"X\",\"\")","v":"X"},{"$f":"IF(ISBLANK(BN25),\" \",INDEX(DF:DF,MATCH(BN25,DB:DB,0)))","v":" "},{"$f":"IF(ISBLANK(BN28),\" \",INDEX('Eingabe Spielernamen'!$F:$F,MATCH(BJ28,'Eingabe Spielernamen'!$B:$B,0))&\", \"&INDEX('Eingabe Spielernamen'!$G:$G,MATCH(BJ28,'Eingabe Spielernamen'!$B:$B,0)))","v":{"$error":"#N/A"}},null,null,{"$f":"BN25","v":0},null,null,null,null,{"$f":"IF(ISBLANK(BO28),\" \",BO28+(BP28-BQ28)*50+IF(COUNT(BO25:BO28)=3,(BQ25+BQ26+BQ27)*40,(BQ25+BQ26+BQ27)*30))","v":" "},0,"sonstiges",null,null,null,null,null,null,null,16,{"$f":"'1. Serie'!$C62","v":116},{"$f":"'1. Serie'!$C63","v":201},{"$f":"'1. Serie'!$C64","v":302},{"$f":"'1. Serie'!$C65","v":403},16,{"$f":"'2. Serie'!$C62","v":116},{"$f":"'2. Serie'!$C63","v":201},{"$f":"'2. Serie'!$C64","v":302},{"$f":"'2. Serie'!$C65","v":403},16,{"$f":"'3. Serie'!$C62","v":116},{"$f":"'3. Serie'!$C63","v":201},{"$f":"'3. Serie'!$C64","v":302},{"$f":"'3. Serie'!$C65","v":403},16,{"$f":"'4. Serie'!$C62","v":116},{"$f":"'4. Serie'!$C63","v":201},{"$f":"'4. Serie'!$C64","v":302},{"$f":"'4. Serie'!$C65","v":403},16,{"$f":"'5. Serie'!$C62","v":402},{"$f":"'5. Serie'!$C63","v":105},{"$f":"'5. Serie'!$C64","v":204},{"$f":"'5. Serie'!$C65","v":303},16,{"$f":"'6. Serie'!$C62","v":116},{"$f":"'6. Serie'!$C63","v":216},{"$f":"'6. Serie'!$C64","v":316},{"$f":"'6. Serie'!$C65","v":416},16,{"$f":"F73","v":0},{"$f":"R73","v":0},{"$f":"AD73","v":0},{"$f":"AP73","v":0},{"$f":"BB73","v":0},{"$f":"BN73","v":0}]
[{"$f":"IF(COUNTIF(B$13:B29,B29)>1,\"X\",\"\")","v":"X"},{"$f":"IF(ISBLANK(F29),\" \",INDEX(CD:CD,MATCH(F29,CC:CC,0)))","v":" "},{"$f":"IF(ISBLANK(F29),\" \",INDEX('Eingabe Spielernamen'!$F:$F,MATCH(B29,'Eingabe Spielernamen'!$B:$B,0))&\", \"&INDEX('Eingabe Spielernamen'!$G:$G,MATCH(B29,'Eingabe Spielernamen'!$B:$B,0)))","v":" "},null,null,null,null,null,null,null,{"$f":"IF(ISBLANK(G29),\" \",G29+(H29-I29)*50+IF(COUNT(G29:G32)=3,(I30+I31+I32)*40,(I30+I31+I32)*30))","v":" "},0,{"$f":"IF(COUNTIF(N$13:N29,N29)>1,\"X\",\"\")","v":"X"},{"$f":"IF(ISBLANK(R29),\" \",INDEX(CI:CI,MATCH(R29,CH:CH,0)))","v":" "},{"$f":"IF(ISBLANK(R29),\" \",INDEX('Eingabe Spielernamen'!$F:$F,MATCH(N29,'Eingabe Spielernamen'!$B:$B,0))&\", \"&INDEX('Eingabe Spielernamen'!$G:$G,MATCH(N29,'Eingabe Spielernamen'!$B:$B,0)))","v":" "},null,null,null,null,null,null,null,{"$f":"IF(ISBLANK(S29),\" \",S29+(T29-U29)*50+IF(COUNT(S29:S32)=3,(U30+U31+U32)*40,(U30+U31+U32)*30))","v":" "},0,{"$f":"IF(COUNTIF(Z$13:Z29,Z29)>1,\"X\",\"\")","v":"X"},{"$f":"IF(ISBLANK(AD29),\" \",INDEX(CN:CN,MATCH(AD29,CM:CM,0)))","v":" "},{"$f":"IF(ISBLANK(AD29),\" \",INDEX('Eingabe Spielernamen'!$F:$F,MATCH(Z29,'Eingabe Spielernamen'!$B:$B,0))&\", \"&INDEX('Eingabe Spielernamen'!$G:$G,MATCH(Z29,'Eingabe Spielernamen'!$B:$B,0)))","v":" "},null,null,null,null,null,null,null,{"$f":"IF(ISBLANK(AE29),\" \",AE29+(AF29-AG29)*50+IF(COUNT(AE29:AE32)=3,(AG30+AG31+AG32)*40,(AG30+AG31+AG32)*30))","v":" "},0,{"$f":"IF(COUNTIF(AL$13:AL29,AL29)>1,\"X\",\"\")","v":"X"},{"$f":"IF(ISBLANK(AP29),\" \",INDEX(CS:CS,MATCH(AP29,CR:CR,0)))","v":" "},{"$f":"IF(ISBLANK(AP29),\" \",INDEX('Eingabe Spielernamen'!$F:$F,MATCH(AL29,'Eingabe Spielernamen'!$B:$B,0))&\", \"&INDEX('Eingabe Spielernamen'!$G:$G,MATCH(AL29,'Eingabe Spielernamen'!$B:$B,0)))","v":" "},null,null,null,null,null,null,null,{"$f":"IF(ISBLANK(AQ29),\" \",AQ29+(AR29-AS29)*50+IF(COUNT(AQ29:AQ32)=3,(AS30+AS31+AS32)*40,(AS30+AS31+AS32)*30))","v":" "},0,{"$f":"IF(COUNTIF(AX$13:AX29,AX29)>1,\"X\",\"\")","v":"X"},{"$f":"IF(ISBLANK(BB29),\" \",INDEX(CX:CX,MATCH(BB29,CW:CW,0)))","v":" "},{"$f":"IF(ISBLANK(BB29),\" \",INDEX('Eingabe Spielernamen'!$F:$F,MATCH(AX29,'Eingabe Spielernamen'!$B:$B,0))&\", \"&INDEX('Eingabe Spielernamen'!$G:$G,MATCH(AX29,'Eingabe Spielernamen'!$B:$B,0)))","v":" "},null,null,null,null,null,null,null,{"$f":"IF(ISBLANK(BC29),\" \",BC29+(BD29-BE29)*50+IF(COUNT(BC29:BC32)=3,(BE30+BE31+BE32)*40,(BE30+BE31+BE32)*30))","v":" "},0,{"$f":"IF(COUNTIF(BJ$13:BJ29,BJ29)>1,\"X\",\"\")","v":"X"},{"$f":"IF(ISBLANK(BN29),\" \",INDEX(DC:DC,MATCH(BN29,DB:DB,0)))","v":" "},{"$f":"IF(ISBLANK(BN29),\" \",INDEX('Eingabe Spielernamen'!$F:$F,MATCH(BJ29,'Eingabe Spielernamen'!$B:$B,0))&\", \"&INDEX('Eingabe Spielernamen'!$G:$G,MATCH(BJ29,'Eingabe Spielernamen'!$B:$B,0)))","v":" "},null,null,null,null,null,null,null,{"$f":"IF(ISBLANK(BO29),\" \",BO29+(BP29-BQ29)*50+IF(COUNT(BO29:BO32)=3,(BQ30+BQ31+BQ32)*40,(BQ30+BQ31+BQ32)*30))","v":" "},0,"sonstiges",null,{"$f":"SUM(L29:L32)","v":0},{"$f":"SUM(X29:X32)","v":0},{"$f":"SUM(AJ29:AJ32)","v":0},{"$f":"SUM(AV29:AV32)","v":0},{"$f":"SUM(BH29:BH32)","v":0},{"$f":"SUM(BT29:BT32)","v":0}]
[{"$f":"IF(COUNTIF(B$13:B30,B30)>1,\"X\",\"\")","v":"X"},{"$f":"IF(ISBLANK(F29),\" \",INDEX(CE:CE,MATCH(F29,CC:CC,0)))","v":" "},{"$f":"IF(ISBLANK(F30),\" \",INDEX('Eingabe Spielernamen'!$F:$F,MATCH(B30,'Eingabe Spielernamen'!$B:$B,0))&\", \"&INDEX('Eingabe Spielernamen'!$G:$G,MATCH(B30,'Eingabe Spielernamen'!$B:$B,0)))","v":{"$error":"#N/A"}},null,null,{"$f":"F29","v":0},null,null,null,null,{"$f":"IF(ISBLANK(G30),\" \",G30+(H30-I30)*50+IF(COUNT(G29:G32)=3,(I29+I31+I32)*40,(I29+I31+I32)*30))","v":" "},0,{"$f":"IF(COUNTIF(N$13:N30,N30)>1,\"X\",\"\")","v":"X"},{"$f":"IF(ISBLANK(R29),\" \",INDEX(CJ:CJ,MATCH(R29,CH:CH,0)))","v":" "},{"$f":"IF(ISBLANK(R30),\" \",INDEX('Eingabe Spielernamen'!$F:$F,MATCH(N30,'Eingabe Spielernamen'!$B:$B,0))&\", \"&INDEX('Eingabe Spielernamen'!$G:$G,MATCH(N30,'Eingabe Spielernamen'!$B:$B,0)))","v":{"$error":"#N/A"}},null,null,{"$f":"R29","v":0},null,null,null,null,{"$f":"IF(ISBLANK(S30),\" \",S30+(T30-U30)*50+IF(COUNT(S29:S32)=3,(U29+U31+U32)*40,(U29+U31+U32)*30))","v":" "},0,{"$f":"IF(COUNTIF(Z$13:Z30,Z30)>1,\"X\",\"\")","v":"X"},{"$f":"IF(ISBLANK(AD29),\" \",INDEX(CO:CO,MATCH(AD29,CM:CM,0)))","v":" "},{"$f":"IF(ISBLANK(AD30),\" \",INDEX('Eingabe Spielernamen'!$F:$F,MATCH(Z30,'Eingabe Spielernamen'!$B:$B,0))&\", \"&INDEX('Eingabe Spielernamen'!$G:$G,MATCH(Z30,'Eingabe Spielernamen'!$B:$B,0)))","v":{"$error":"#N/A"}},null,null,{"$f":"AD29","v":0},null,null,null,null,{"$f":"IF(ISBLANK(AE30),\" \",AE30+(AF30-AG30)*50+IF(COUNT(AE29:AE32)=3,(AG29+AG31+AG32)*40,(AG29+AG31+AG32)*30))","v":" "},0,{"$f":"IF(COUNTIF(AL$13:AL30,AL30)>1,\"X\",\"\")","v":"X"},{"$f":"IF(ISBLANK(AP29),\" \",INDEX(CT:CT,MATCH(AP29,CR:CR,0)))","v":" "},{"$f":"IF(ISBLANK(AP30),\" \",INDEX('Eingabe Spielernamen'!$F:$F,MATCH(AL30,'Eingabe Spielernamen'!$B:$B,0))&\", \"&INDEX('Eingabe Spielernamen'!$G:$G,MATCH(AL30,'Eingabe Spielernamen'!$B:$B,0)))","v":{"$error":"#N/A"}},null,null,{"$f":"AP29","v":0},null,null,null,null,{"$f":"IF(ISBLANK(AQ30),\" \",AQ30+(AR30-AS30)*50+IF(COUNT(AQ29:AQ32)=3,(AS29+AS31+AS32)*40,(AS29+AS31+AS32)*30))","v":" "},0,{"$f":"IF(COUNTIF(AX$13:AX30,AX30)>1,\"X\",\"\")","v":"X"},{"$f":"IF(ISBLANK(BB29),\" \",INDEX(CY:CY,MATCH(BB29,CW:CW,0)))","v":" "},{"$f":"IF(ISBLANK(BB30),\" \",INDEX('Eingabe Spielernamen'!$F:$F,MATCH(AX30,'Eingabe Spielernamen'!$B:$B,0))&\", \"&INDEX('Eingabe Spielernamen'!$G:$G,MATCH(AX30,'Eingabe Spielernamen'!$B:$B,0)))","v":{"$error":"#N/A"}},null,null,{"$f":"BB29","v":0},null,null,null,null,{"$f":"IF(ISBLANK(BC30),\" \",BC30+(BD30-BE30)*50+IF(COUNT(BC29:BC32)=3,(BE29+BE31+BE32)*40,(BE29+BE31+BE32)*30))","v":" "},0,{"$f":"IF(COUNTIF(BJ$13:BJ30,BJ30)>1,\"X\",\"\")","v":"X"},{"$f":"IF(ISBLANK(BN29),\" \",INDEX(DD:DD,MATCH(BN29,DB:DB,0)))","v":" "},{"$f":"IF(ISBLANK(BN30),\" \",INDEX('Eingabe Spielernamen'!$F:$F,MATCH(BJ30,'Eingabe Spielernamen'!$B:$B,0))&\", \"&INDEX('Eingabe Spielernamen'!$G:$G,MATCH(BJ30,'Eingabe Spielernamen'!$B:$B,0)))","v":{"$error":"#N/A"}},null,null,{"$f":"BN29","v":0},null,null,null,null,{"$f":"IF(ISBLANK(BO30),\" \",BO30+(BP30-BQ30)*50+IF(COUNT(BO29:BO32)=3,(BQ29+BQ31+BQ32)*40,(BQ29+BQ31+BQ32)*30))","v":" "},0,"sonstiges"]
[{"$f":"IF(COUNTIF(B$13:B31,B31)>1,\"X\",\"\")","v":"X"},{"$f":"IF(ISBLANK(F29),\" \",INDEX(CF:CF,MATCH(F29,CC:CC,0)))","v":" "},{"$f":"IF(ISBLANK(F31),\" \",INDEX('Eingabe Spielernamen'!$F:$F,MATCH(B31,'Eingabe Spielernamen'!$B:$B,0))&\", \"&INDEX('Eingabe Spielernamen'!$G:$G,MATCH(B31,'Eingabe Spielernamen'!$B:$B,0)))","v":{"$error":"#N/A"}},null,null,{"$f":"F29","v":0},null,null,null,null,{"$f":"IF(ISBLANK(G31),\" \",G31+(H31-I31)*50+IF(COUNT(G29:G32)=3,(I29+I30+I32)*40,(I29+I30+I32)*30))","v":" "},0,{"$f":"IF(COUNTIF(N$13:N31,N31)>1,\"X\",\"\")","v":"X"},{"$f":"IF(ISBLANK(R29),\" \",INDEX(CK:CK,MATCH(R29,CH:CH,0)))","v":" "},{"$f":"IF(ISBLANK(R31),\" \",INDEX('Eingabe Spielernamen'!$F:$F,MATCH(N31,'Eingabe Spielernamen'!$B:$B,0))&\", \"&INDEX('Eingabe Spielernamen'!$G:$G,MATCH(N31,'Eingabe Spielernamen'!$B:$B,0)))","v":{"$error":"#N/A"}},null,null,{"$f":"R29","v":0},null,null,null,null,{"$f":"IF(ISBLANK(S31),\" \",S31+(T31-U31)*50+IF(COUNT(S29:S32)=3,(U29+U30+U32)*40,(U29+U30+U32)*30))","v":" "},0,{"$f":"IF(COUNTIF(Z$13:Z31,Z31)>1,\"X\",\"\")","v":"X"},{"$f":"IF(ISBLANK(AD29),\" \",INDEX(CP:CP,MATCH(AD29,CM:CM,0)))","v":" "},{"$f":"IF(ISBLANK(AD31),\" \",INDEX('Eingabe Spielernamen'!$F:$F,MATCH(Z31,'Eingabe Spielernamen'!$B:$B,0))&\", \"&INDEX('Eingabe Spielernamen'!$G:$G,MATCH(Z31,'Eingabe Spielernamen'!$B:$B,0)))","v":{"$error":"#N/A"}},null,null,{"$f":"AD29","v":0},null,null,null,null,{"$f":"IF(ISBLANK(AE31),\" \",AE31+(AF31-AG31)*50+IF(COUNT(AE29:AE32)=3,(AG29+AG30+AG32)*40,(AG29+AG30+AG32)*30))","v":" "},0,{"$f":"IF(COUNTIF(AL$13:AL31,AL31)>1,\"X\",\"\")","v":"X"},{"$f":"IF(ISBLANK(AP29),\" \",INDEX(CU:CU,MATCH(AP29,CR:CR,0)))","v":" "},{"$f":"IF(ISBLANK(AP31),\" \",INDEX('Eingabe Spielernamen'!$F:$F,MATCH(AL31,'Eingabe Spielernamen'!$B:$B,0))&\", \"&INDEX('Eingabe Spielernamen'!$G:$G,MATCH(AL31,'Eingabe Spielernamen'!$B:$B,0)))","v":{"$error":"#N/A"}},null,null,{"$f":"AP29","v":0},null,null,null,null,{"$f":"IF(ISBLANK(AQ31),\" \",AQ31+(AR31-AS31)*50+IF(COUNT(AQ29:AQ32)=3,(AS29+AS30+AS32)*40,(AS29+AS30+AS32)*30))","v":" "},0,{"$f":"IF(COUNTIF(AX$13:AX31,AX31)>1,\"X\",\"\")","v":"X"},{"$f":"IF(ISBLANK(BB29),\" \",INDEX(CZ:CZ,MATCH(BB29,CW:CW,0)))","v":" "},{"$f":"IF(ISBLANK(BB31),\" \",INDEX('Eingabe Spielernamen'!$F:$F,MATCH(AX31,'Eingabe Spielernamen'!$B:$B,0))&\", \"&INDEX('Eingabe Spielernamen'!$G:$G,MATCH(AX31,'Eingabe Spielernamen'!$B:$B,0)))","v":{"$error":"#N/A"}},null,null,{"$f":"BB29","v":0},null,null,null,null,{"$f":"IF(ISBLANK(BC31),\" \",BC31+(BD31-BE31)*50+IF(COUNT(BC29:BC32)=3,(BE29+BE30+BE32)*40,(BE29+BE30+BE32)*30))","v":" "},0,{"$f":"IF(COUNTIF(BJ$13:BJ31,BJ31)>1,\"X\",\"\")","v":"X"},{"$f":"IF(ISBLANK(BN29),\" \",INDEX(DE:DE,MATCH(BN29,DB:DB,0)))","v":" "},{"$f":"IF(ISBLANK(BN31),\" \",INDEX('Eingabe Spielernamen'!$F:$F,MATCH(BJ31,'Eingabe Spielernamen'!$B:$B,0))&\", \"&INDEX('Eingabe Spielernamen'!$G:$G,MATCH(BJ31,'Eingabe Spielernamen'!$B:$B,0)))","v":{"$error":"#N/A"}},null,null,{"$f":"BN29","v":0},null,null,null,null,{"$f":"IF(ISBLANK(BO31),\" \",BO31+(BP31-BQ31)*50+IF(COUNT(BO29:BO32)=3,(BQ29+BQ30+BQ32)*40,(BQ29+BQ30+BQ32)*30))","v":" "},0]
[{"$f":"IF(COUNTIF(B$13:B32,B32)>1,\"X\",\"\")","v":"X"},{"$f":"IF(ISBLANK(F29),\" \",INDEX(CG:CG,MATCH(F29,CC:CC,0)))","v":" "},{"$f":"IF(ISBLANK(F32),\" \",INDEX('Eingabe Spielernamen'!$F:$F,MATCH(B32,'Eingabe Spielernamen'!$B:$B,0))&\", \"&INDEX('Eingabe Spielernamen'!$G:$G,MATCH(B32,'Eingabe Spielernamen'!$B:$B,0)))","v":{"$error":"#N/A"}},null,null,{"$f":"F29","v":0},null,null,null,null,{"$f":"IF(ISBLANK(G32),\" \",G32+(H32-I32)*50+IF(COUNT(G29:G32)=3,(I29+I30+I31)*40,(I29+I30+I31)*30))","v":" "},0,{"$f":"IF(COUNTIF(N$13:N32,N32)>1,\"X\",\"\")","v":"X"},{"$f":"IF(ISBLANK(R29),\" \",INDEX(CL:CL,MATCH(R29,CH:CH,0)))","v":" "},{"$f":"IF(ISBLANK(R32),\" \",INDEX('Eingabe Spielernamen'!$F:$F,MATCH(N32,'Eingabe Spielernamen'!$B:$B,0))&\", \"&INDEX('Eingabe Spielernamen'!$G:$G,MATCH(N32,'Eingabe Spielernamen'!$B:$B,0)))","v":{"$error":"#N/A"}},null,null,{"$f":"R29","v":0},null,null,null,null,{"$f":"IF(ISBLANK(S32),\" \",S32+(T32-U32)*50+IF(COUNT(S29:S32)=3,(U29+U30+U31)*40,(U29+U30+U31)*30))","v":" "},0,{"$f":"IF(COUNTIF(Z$13:Z32,Z32)>1,\"X\",\"\")","v":"X"},{"$f":"IF(ISBLANK(AD29),\" \",INDEX(CQ:CQ,MATCH(AD29,CM:CM,0)))","v":" "},{"$f":"IF(ISBLANK(AD32),\" \",INDEX('Eingabe Spielernamen'!$F:$F,MATCH(Z32,'Eingabe Spielernamen'!$B:$B,0))&\", \"&INDEX('Eingabe Spielernamen'!$G:$G,MATCH(Z32,'Eingabe Spielernamen'!$B:$B,0)))","v":{"$error":"#N/A"}},null,null,{"$f":"AD29","v":0},null,null,null,null,{"$f":"IF(ISBLANK(AE32),\" \",AE32+(AF32-AG32)*50+IF(COUNT(AE29:AE32)=3,(AG29+AG30+AG31)*40,(AG29+AG30+AG31)*30))","v":" "},0,{"$f":"IF(COUNTIF(AL$13:AL32,AL32)>1,\"X\",\"\")","v":"X"},{"$f":"IF(ISBLANK(AP29),\" \",INDEX(CV:CV,MATCH(AP29,CR:CR,0)))","v":" "},{"$f":"IF(ISBLANK(AP32),\" \",INDEX('Eingabe Spielernamen'!$F:$F,MATCH(AL32,'Eingabe Spielernamen'!$B:$B,0))&\", \"&INDEX('Eingabe Spielernamen'!$G:$G,MATCH(AL32,'Eingabe Spielernamen'!$B:$B,0)))","v":{"$error":"#N/A"}},null,null,{"$f":"AP29","v":0},null,null,null,null,{"$f":"IF(ISBLANK(AQ32),\" \",AQ32+(AR32-AS32)*50+IF(COUNT(AQ29:AQ32)=3,(AS29+AS30+AS31)*40,(AS29+AS30+AS31)*30))","v":" "},0,{"$f":"IF(COUNTIF(AX$13:AX32,AX32)>1,\"X\",\"\")","v":"X"},{"$f":"IF(ISBLANK(BB29),\" \",INDEX(DA:DA,MATCH(BB29,CW:CW,0)))","v":" "},{"$f":"IF(ISBLANK(BB32),\" \",INDEX('Eingabe Spielernamen'!$F:$F,MATCH(AX32,'Eingabe Spielernamen'!$B:$B,0))&\", \"&INDEX('Eingabe Spielernamen'!$G:$G,MATCH(AX32,'Eingabe Spielernamen'!$B:$B,0)))","v":{"$error":"#N/A"}},null,null,{"$f":"BB29","v":0},null,null,null,null,{"$f":"IF(ISBLANK(BC32),\" \",BC32+(BD32-BE32)*50+IF(COUNT(BC29:BC32)=3,(BE29+BE30+BE31)*40,(BE29+BE30+BE31)*30))","v":" "},0,{"$f":"IF(COUNTIF(BJ$13:BJ32,BJ32)>1,\"X\",\"\")","v":"X"},{"$f":"IF(ISBLANK(BN29),\" \",INDEX(DF:DF,MATCH(BN29,DB:DB,0)))","v":" "},{"$f":"IF(ISBLANK(BN32),\" \",INDEX('Eingabe Spielernamen'!$F:$F,MATCH(BJ32,'Eingabe Spielernamen'!$B:$B,0))&\", \"&INDEX('Eingabe Spielernamen'!$G:$G,MATCH(BJ32,'Eingabe Spielernamen'!$B:$B,0)))","v":{"$error":"#N/A"}},null,null,{"$f":"BN29","v":0},null,null,null,null,{"$f":"IF(ISBLANK(BO32),\" \",BO32+(BP32-BQ32)*50+IF(COUNT(BO29:BO32)=3,(BQ29+BQ30+BQ31)*40,(BQ29+BQ30+BQ31)*30))","v":" "},0]
[{"$f":"IF(COUNTIF(B$13:B33,B33)>1,\"X\",\"\")","v":"X"},{"$f":"IF(ISBLANK(F33),\" \",INDEX(CD:CD,MATCH(F33,CC:CC,0)))","v":" "},{"$f":"IF(ISBLANK(F33),\" \",INDEX('Eingabe Spielernamen'!$F:$F,MATCH(B33,'Eingabe Spielernamen'!$B:$B,0))&\", \"&INDEX('Eingabe Spielernamen'!$G:$G,MATCH(B33,'Eingabe Spielernamen'!$B:$B,0)))","v":" "},null,null,null,null,null,null,null,{"$f":"IF(ISBLANK(G33),\" \",G33+(H33-I33)*50+IF(COUNT(G33:G36)=3,(I34+I35+I36)*40,(I34+I35+I36)*30))","v":" "},0,{"$f":"IF(COUNTIF(N$13:N33,N33)>1,\"X\",\"\")","v":"X"},{"$f":"IF(ISBLANK(R33),\" \",INDEX(CI:CI,MATCH(R33,CH:CH,0)))","v":" "},{"$f":"IF(ISBLANK(R33),\" \",INDEX('Eingabe Spielernamen'!$F:$F,MATCH(N33,'Eingabe Spielernamen'!$B:$B,0))&\", \"&INDEX('Eingabe Spielernamen'!$G:$G,MATCH(N33,'Eingabe Spielernamen'!$B:$B,0)))","v":" "},null,null,null,null,null,null,null,{"$f":"IF(ISBLANK(S33),\" \",S33+(T33-U33)*50+IF(COUNT(S33:S36)=3,(U34+U35+U36)*40,(U34+U35+U36)*30))","v":" "},0,{"$f":"IF(COUNTIF(Z$13:Z33,Z33)>1,\"X\",\"\")","v":"X"},{"$f":"IF(ISBLANK(AD33),\" \",INDEX(CN:CN,MATCH(AD33,CM:CM,0)))","v":" "},{"$f":"IF(ISBLANK(AD33),\" \",INDEX('Eingabe Spielernamen'!$F:$F,MATCH(Z33,'Eingabe Spielernamen'!$B:$B,0))&\", \"&INDEX('Eingabe Spielernamen'!$G:$G,MATCH(Z33,'Eingabe Spielernamen'!$B:$B,0)))","v":" "},null,null,null,null,null,null,null,{"$f":"IF(ISBLANK(AE33),\" \",AE33+(AF33-AG33)*50+IF(COUNT(AE33:AE36)=3,(AG34+AG35+AG36)*40,(AG34+AG35+AG36)*30))","v":" "},0,{"$f":"IF(COUNTIF(AL$13:AL33,AL33)>1,\"X\",\"\")","v":"X"},{"$f":"IF(ISBLANK(AP33),\" \",INDEX(CS:CS,MATCH(AP33,CR:CR,0)))","v":" "},{"$f":"IF(ISBLANK(AP33),\" \",INDEX('Eingabe Spielernamen'!$F:$F,MATCH(AL33,'Eingabe Spielernamen'!$B:$B,0))&\", \"&INDEX('Eingabe Spielernamen'!$G:$G,MATCH(AL33,'Eingabe Spielernamen'!$B:$B,0)))","v":" "},null,null,null,null,null,null,null,{"$f":"IF(ISBLANK(AQ33),\" \",AQ33+(AR33-AS33)*50+IF(COUNT(AQ33:AQ36)=3,(AS34+AS35+AS36)*40,(AS34+AS35+AS36)*30))","v":" "},0,{"$f":"IF(COUNTIF(AX$13:AX33,AX33)>1,\"X\",\"\")","v":"X"},{"$f":"IF(ISBLANK(BB33),\" \",INDEX(CX:CX,MATCH(BB33,CW:CW,0)))","v":" "},{"$f":"IF(ISBLANK(BB33),\" \",INDEX('Eingabe Spielernamen'!$F:$F,MATCH(AX33,'Eingabe Spielernamen'!$B:$B,0))&\", \"&INDEX('Eingabe Spielernamen'!$G:$G,MATCH(AX33,'Eingabe Spielernamen'!$B:$B,0)))","v":" "},null,null,null,null,null,null,null,{"$f":"IF(ISBLANK(BC33),\" \",BC33+(BD33-BE33)*50+IF(COUNT(BC33:BC36)=3,(BE34+BE35+BE36)*40,(BE34+BE35+BE36)*30))","v":" "},0,{"$f":"IF(COUNTIF(BJ$13:BJ33,BJ33)>1,\"X\",\"\")","v":"X"},{"$f":"IF(ISBLANK(BN33),\" \",INDEX(DC:DC,MATCH(BN33,DB:DB,0)))","v":" "},{"$f":"IF(ISBLANK(BN33),\" \",INDEX('Eingabe Spielernamen'!$F:$F,MATCH(BJ33,'Eingabe Spielernamen'!$B:$B,0))&\", \"&INDEX('Eingabe Spielernamen'!$G:$G,MATCH(BJ33,'Eingabe Spielernamen'!$B:$B,0)))","v":" "},null,null,null,null,null,null,null,{"$f":"IF(ISBLANK(BO33),\" \",BO33+(BP33-BQ33)*50+IF(COUNT(BO33:BO36)=3,(BQ34+BQ35+BQ36)*40,(BQ34+BQ35+BQ36)*30))","v":" "},0,null,null,{"$f":"SUM(L33:L36)","v":0},{"$f":"SUM(X33:X36)","v":0},{"$f":"SUM(AJ33:AJ36)","v":0},{"$f":"SUM(AV33:AV36)","v":0},{"$f":"SUM(BH33:BH36)","v":0},{"$f":"SUM(BT33:BT36)","v":0}]
[{"$f":"IF(COUNTIF(B$13:B34,B34)>1,\"X\",\"\")","v":"X"},{"$f":"IF(ISBLANK(F33),\" \",INDEX(CE:CE,MATCH(F33,CC:CC,0)))","v":" "},{"$f":"IF(ISBLANK(F34),\" \",INDEX('Eingabe Spielernamen'!$F:$F,MATCH(B34,'Eingabe Spielernamen'!$B:$B,0))&\", \"&INDEX('Eingabe Spielernamen'!$G:$G,MATCH(B34,'Eingabe Spielernamen'!$B:$B,0)))","v":{"$error":"#N/A"}},null,null,{"$f":"F33","v":0},null,null,null,null,{"$f":"IF(ISBLANK(G34),\" \",G34+(H34-I34)*50+IF(COUNT(G33:G36)=3,(I33+I35+I36)*40,(I33+I35+I36)*30))","v":" "},0,{"$f":"IF(COUNTIF(N$13:N34,N34)>1,\"X\",\"\")","v":"X"},{"$f":"IF(ISBLANK(R33),\" \",INDEX(CJ:CJ,MATCH(R33,CH:CH,0)))","v":" "},{"$f":"IF(ISBLANK(R34),\" \",INDEX('Eingabe Spielernamen'!$F:$F,MATCH(N34,'Eingabe Spielernamen'!$B:$B,0))&\", \"&INDEX('Eingabe Spielernamen'!$G:$G,MATCH(N34,'Eingabe Spielernamen'!$B:$B,0)))","v":{"$error":"#N/A"}},null,null,{"$f":"R33","v":0},null,null,null,null,{"$f":"IF(ISBLANK(S34),\" \",S34+(T34-U34)*50+IF(COUNT(S33:S36)=3,(U33+U35+U36)*40,(U33+U35+U36)*30))","v":" "},0,{"$f":"IF(COUNTIF(Z$13:Z34,Z34)>1,\"X\",\"\")","v":"X"},{"$f":"IF(ISBLANK(AD33),\" \",INDEX(CO:CO,MATCH(AD33,CM:CM,0)))","v":" "},{"$f":"IF(ISBLANK(AD34),\" \",INDEX('Eingabe Spielernamen'!$F:$F,MATCH(Z34,'Eingabe Spielernamen'!$B:$B,0))&\", \"&INDEX('Eingabe Spielernamen'!$G:$G,MATCH(Z34,'Eingabe Spielernamen'!$B:$B,0)))","v":{"$error":"#N/A"}},null,null,{"$f":"AD33","v":0},null,null,null,null,{"$f":"IF(ISBLANK(AE34),\" \",AE34+(AF34-AG34)*50+IF(COUNT(AE33:AE36)=3,(AG33+AG35+AG36)*40,(AG33+AG35+AG36)*30))","v":" "},0,{"$f":"IF(COUNTIF(AL$13:AL34,AL34)>1,\"X\",\"\")","v":"X"},{"$f":"IF(ISBLANK(AP33),\" \",INDEX(CT:CT,MATCH(AP33,CR:CR,0)))","v":" "},{"$f":"IF(ISBLANK(AP34),\" \",INDEX('Eingabe Spielernamen'!$F:$F,MATCH(AL34,'Eingabe Spielernamen'!$B:$B,0))&\", \"&INDEX('Eingabe Spielernamen'!$G:$G,MATCH(AL34,'Eingabe Spielernamen'!$B:$B,0)))","v":{"$error":"#N/A"}},null,null,{"$f":"AP33","v":0},null,null,null,null,{"$f":"IF(ISBLANK(AQ34),\" \",AQ34+(AR34-AS34)*50+IF(COUNT(AQ33:AQ36)=3,(AS33+AS35+AS36)*40,(AS33+AS35+AS36)*30))","v":" "},0,{"$f":"IF(COUNTIF(AX$13:AX34,AX34)>1,\"X\",\"\")","v":"X"},{"$f":"IF(ISBLANK(BB33),\" \",INDEX(CY:CY,MATCH(BB33,CW:CW,0)))","v":" "},{"$f":"IF(ISBLANK(BB34),\" \",INDEX('Eingabe Spielernamen'!$F:$F,MATCH(AX34,'Eingabe Spielernamen'!$B:$B,0))&\", \"&INDEX('Eingabe Spielernamen'!$G:$G,MATCH(AX34,'Eingabe Spielernamen'!$B:$B,0)))","v":{"$error":"#N/A"}},null,null,{"$f":"BB33","v":0},null,null,null,null,{"$f":"IF(ISBLANK(BC34),\" \",BC34+(BD34-BE34)*50+IF(COUNT(BC33:BC36)=3,(BE33+BE35+BE36)*40,(BE33+BE35+BE36)*30))","v":" "},0,{"$f":"IF(COUNTIF(BJ$13:BJ34,BJ34)>1,\"X\",\"\")","v":"X"},{"$f":"IF(ISBLANK(BN33),\" \",INDEX(DD:DD,MATCH(BN33,DB:DB,0)))","v":" "},{"$f":"IF(ISBLANK(BN34),\" \",INDEX('Eingabe Spielernamen'!$F:$F,MATCH(BJ34,'Eingabe Spielernamen'!$B:$B,0))&\", \"&INDEX('Eingabe Spielernamen'!$G:$G,MATCH(BJ34,'Eingabe Spielernamen'!$B:$B,0)))","v":{"$error":"#N/A"}},null,null,{"$f":"BN33","v":0},null,null,null,null,{"$f":"IF(ISBLANK(BO34),\" \",BO34+(BP34-BQ34)*50+IF(COUNT(BO33:BO36)=3,(BQ33+BQ35+BQ36)*40,(BQ33+BQ35+BQ36)*30))","v":" "},0]
[{"$f":"IF(COUNTIF(B$13:B35,B35)>1,\"X\",\"\")","v":"X"},{"$f":"IF(ISBLANK(F33),\" \",INDEX(CF:CF,MATCH(F33,CC:CC,0)))","v":" "},{"$f":"IF(ISBLANK(F35),\" \",INDEX('Eingabe Spielernamen'!$F:$F,MATCH(B35,'Eingabe Spielernamen'!$B:$B,0))&\", \"&INDEX('Eingabe Spielernamen'!$G:$G,MATCH(B35,'Eingabe Spielernamen'!$B:$B,0)))","v":{"$error":"#N/A"}},null,null,{"$f":"F33","v":0},null,null,null,null,{"$f":"IF(ISBLANK(G35),\" \",G35+(H35-I35)*50+IF(COUNT(G33:G36)=3,(I33+I34+I36)*40,(I33+I34+I36)*30))","v":" "},0,{"$f":"IF(COUNTIF(N$13:N35,N35)>1,\"X\",\"\")","v":"X"},{"$f":"IF(ISBLANK(R33),\" \",INDEX(CK:CK,MATCH(R33,CH:CH,0)))","v":" "},{"$f":"IF(ISBLANK(R35),\" \",INDEX('Eingabe Spielernamen'!$F:$F,MATCH(N35,'Eingabe Spielernamen'!$B:$B,0))&\", \"&INDEX('Eingabe Spielernamen'!$G:$G,MATCH(N35,'Eingabe Spielernamen'!$B:$B,0)))","v":{"$error":"#N/A"}},null,null,{"$f":"R33","v":0},null,null,null,null,{"$f":"IF(ISBLANK(S35),\" \",S35+(T35-U35)*50+IF(COUNT(S33:S36)=3,(U33+U34+U36)*40,(U33+U34+U36)*30))","v":" "},0,{"$f":"IF(COUNTIF(Z$13:Z35,Z35)>1,\"X\",\"\")","v":"X"},{"$f":"IF(ISBLANK(AD33),\" \",INDEX(CP:CP,MATCH(AD33,CM:CM,0)))","v":" "},{"$f":"IF(ISBLANK(AD35),\" \",INDEX('Eingabe Spielernamen'!$F:$F,MATCH(Z35,'Eingabe Spielernamen'!$B:$B,0))&\", \"&INDEX('Eingabe Spielernamen'!$G:$G,MATCH(Z35,'Eingabe Spielernamen'!$B:$B,0)))","v":{"$error":"#N/A"}},null,null,{"$f":"AD33","v":0},null,null,null,null,{"$f":"IF(ISBLANK(AE35),\" \",AE35+(AF35-AG35)*50+IF(COUNT(AE33:AE36)=3,(AG33+AG34+AG36)*40,(AG33+AG34+AG36)*30))","v":" "},0,{"$f":"IF(COUNTIF(AL$13:AL35,AL35)>1,\"X\",\"\")","v":"X"},{"$f":"IF(ISBLANK(AP33),\" \",INDEX(CU:CU,MATCH(AP33,CR:CR,0)))","v":" "},{"$f":"IF(ISBLANK(AP35),\" \",INDEX('Eingabe Spielernamen'!$F:$F,MATCH(AL35,'Eingabe Spielernamen'!$B:$B,0))&\", \"&INDEX('Eingabe Spielernamen'!$G:$G,MATCH(AL35,'Eingabe Spielernamen'!$B:$B,0)))","v":{"$error":"#N/A"}},null,null,{"$f":"AP33","v":0},null,null,null,null,{"$f":"IF(ISBLANK(AQ35),\" \",AQ35+(AR35-AS35)*50+IF(COUNT(AQ33:AQ36)=3,(AS33+AS34+AS36)*40,(AS33+AS34+AS36)*30))","v":" "},0,{"$f":"IF(COUNTIF(AX$13:AX35,AX35)>1,\"X\",\"\")","v":"X"},{"$f":"IF(ISBLANK(BB33),\" \",INDEX(CZ:CZ,MATCH(BB33,CW:CW,0)))","v":" "},{"$f":"IF(ISBLANK(BB35),\" \",INDEX('Eingabe Spielernamen'!$F:$F,MATCH(AX35,'Eingabe Spielernamen'!$B:$B,0))&\", \"&INDEX('Eingabe Spielernamen'!$G:$G,MATCH(AX35,'Eingabe Spielernamen'!$B:$B,0)))","v":{"$error":"#N/A"}},null,null,{"$f":"BB33","v":0},null,null,null,null,{"$f":"IF(ISBLANK(BC35),\" \",BC35+(BD35-BE35)*50+IF(COUNT(BC33:BC36)=3,(BE33+BE34+BE36)*40,(BE33+BE34+BE36)*30))","v":" "},0,{"$f":"IF(COUNTIF(BJ$13:BJ35,BJ35)>1,\"X\",\"\")","v":"X"},{"$f":"IF(ISBLANK(BN33),\" \",INDEX(DE:DE,MATCH(BN33,DB:DB,0)))","v":" "},{"$f":"IF(ISBLANK(BN35),\" \",INDEX('Eingabe Spielernamen'!$F:$F,MATCH(BJ35,'Eingabe Spielernamen'!$B:$B,0))&\", \"&INDEX('Eingabe Spielernamen'!$G:$G,MATCH(BJ35,'Eingabe Spielernamen'!$B:$B,0)))","v":{"$error":"#N/A"}},null,null,{"$f":"BN33","v":0},null,null,null,null,{"$f":"IF(ISBLANK(BO35),\" \",BO35+(BP35-BQ35)*50+IF(COUNT(BO33:BO36)=3,(BQ33+BQ34+BQ36)*40,(BQ33+BQ34+BQ36)*30))","v":" "},0]
[{"$f":"IF(COUNTIF(B$13:B36,B36)>1,\"X\",\"\")","v":"X"},{"$f":"IF(ISBLANK(F33),\" \",INDEX(CG:CG,MATCH(F33,CC:CC,0)))","v":" "},{"$f":"IF(ISBLANK(F36),\" \",INDEX('Eingabe Spielernamen'!$F:$F,MATCH(B36,'Eingabe Spielernamen'!$B:$B,0))&\", \"&INDEX('Eingabe Spielernamen'!$G:$G,MATCH(B36,'Eingabe Spielernamen'!$B:$B,0)))","v":{"$error":"#N/A"}},null,null,{"$f":"F33","v":0},null,null,null,null,{"$f":"IF(ISBLANK(G36),\" \",G36+(H36-I36)*50+IF(COUNT(G33:G36)=3,(I33+I34+I35)*40,(I33+I34+I35)*30))","v":" "},0,{"$f":"IF(COUNTIF(N$13:N36,N36)>1,\"X\",\"\")","v":"X"},{"$f":"IF(ISBLANK(R33),\" \",INDEX(CL:CL,MATCH(R33,CH:CH,0)))","v":" "},{"$f":"IF(ISBLANK(R36),\" \",INDEX('Eingabe Spielernamen'!$F:$F,MATCH(N36,'Eingabe Spielernamen'!$B:$B,0))&\", \"&INDEX('Eingabe Spielernamen'!$G:$G,MATCH(N36,'Eingabe Spielernamen'!$B:$B,0)))","v":{"$error":"#N/A"}},null,null,{"$f":"R33","v":0},null,null,null,null,{"$f":"IF(ISBLANK(S36),\" \",S36+(T36-U36)*50+IF(COUNT(S33:S36)=3,(U33+U34+U35)*40,(U33+U34+U35)*30))","v":" "},0,{"$f":"IF(COUNTIF(Z$13:Z36,Z36)>1,\"X\",\"\")","v":"X"},{"$f":"IF(ISBLANK(AD33),\" \",INDEX(CQ:CQ,MATCH(AD33,CM:CM,0)))","v":" "},{"$f":"IF(ISBLANK(AD36),\" \",INDEX('Eingabe Spielernamen'!$F:$F,MATCH(Z36,'Eingabe Spielernamen'!$B:$B,0))&\", \"&INDEX('Eingabe Spielernamen'!$G:$G,MATCH(Z36,'Eingabe Spielernamen'!$B:$B,0)))","v":{"$error":"#N/A"}},null,null,{"$f":"AD33","v":0},null,null,null,null,{"$f":"IF(ISBLANK(AE36),\" \",AE36+(AF36-AG36)*50+IF(COUNT(AE33:AE36)=3,(AG33+AG34+AG35)*40,(AG33+AG34+AG35)*30))","v":" "},0,{"$f":"IF(COUNTIF(AL$13:AL36,AL36)>1,\"X\",\"\")","v":"X"},{"$f":"IF(ISBLANK(AP33),\" \",INDEX(CV:CV,MATCH(AP33,CR:CR,0)))","v":" "},{"$f":"IF(ISBLANK(AP36),\" \",INDEX('Eingabe Spielernamen'!$F:$F,MATCH(AL36,'Eingabe Spielernamen'!$B:$B,0))&\", \"&INDEX('Eingabe Spielernamen'!$G:$G,MATCH(AL36,'Eingabe Spielernamen'!$B:$B,0)))","v":{"$error":"#N/A"}},null,null,{"$f":"AP33","v":0},null,null,null,null,{"$f":"IF(ISBLANK(AQ36),\" \",AQ36+(AR36-AS36)*50+IF(COUNT(AQ33:AQ36)=3,(AS33+AS34+AS35)*40,(AS33+AS34+AS35)*30))","v":" "},0,{"$f":"IF(COUNTIF(AX$13:AX36,AX36)>1,\"X\",\"\")","v":"X"},{"$f":"IF(ISBLANK(BB33),\" \",INDEX(DA:DA,MATCH(BB33,CW:CW,0)))","v":" "},{"$f":"IF(ISBLANK(BB36),\" \",INDEX('Eingabe Spielernamen'!$F:$F,MATCH(AX36,'Eingabe Spielernamen'!$B:$B,0))&\", \"&INDEX('Eingabe Spielernamen'!$G:$G,MATCH(AX36,'Eingabe Spielernamen'!$B:$B,0)))","v":{"$error":"#N/A"}},null,null,{"$f":"BB33","v":0},null,null,null,null,{"$f":"IF(ISBLANK(BC36),\" \",BC36+(BD36-BE36)*50+IF(COUNT(BC33:BC36)=3,(BE33+BE34+BE35)*40,(BE33+BE34+BE35)*30))","v":" "},0,{"$f":"IF(COUNTIF(BJ$13:BJ36,BJ36)>1,\"X\",\"\")","v":"X"},{"$f":"IF(ISBLANK(BN33),\" \",INDEX(DF:DF,MATCH(BN33,DB:DB,0)))","v":" "},{"$f":"IF(ISBLANK(BN36),\" \",INDEX('Eingabe Spielernamen'!$F:$F,MATCH(BJ36,'Eingabe Spielernamen'!$B:$B,0))&\", \"&INDEX('Eingabe Spielernamen'!$G:$G,MATCH(BJ36,'Eingabe Spielernamen'!$B:$B,0)))","v":{"$error":"#N/A"}},null,null,{"$f":"BN33","v":0},null,null,null,null,{"$f":"IF(ISBLANK(BO36),\" \",BO36+(BP36-BQ36)*50+IF(COUNT(BO33:BO36)=3,(BQ33+BQ34+BQ35)*40,(BQ33+BQ34+BQ35)*30))","v":" "},0]
[{"$f":"IF(COUNTIF(B$13:B37,B37)>1,\"X\",\"\")","v":"X"},{"$f":"IF(ISBLANK(F37),\" \",INDEX(CD:CD,MATCH(F37,CC:CC,0)))","v":" "},{"$f":"IF(ISBLANK(F37),\" \",INDEX('Eingabe Spielernamen'!$F:$F,MATCH(B37,'Eingabe Spielernamen'!$B:$B,0))&\", \"&INDEX('Eingabe Spielernamen'!$G:$G,MATCH(B37,'Eingabe Spielernamen'!$B:$B,0)))","v":" "},null,null,null,null,null,null,null,{"$f":"IF(ISBLANK(G37),\" \",G37+(H37-I37)*50+IF(COUNT(G37:G40)=3,(I38+I39+I40)*40,(I38+I39+I40)*30))","v":" "},0,{"$f":"IF(COUNTIF(N$13:N37,N37)>1,\"X\",\"\")","v":"X"},{"$f":"IF(ISBLANK(R37),\" \",INDEX(CI:CI,MATCH(R37,CH:CH,0)))","v":" "},{"$f":"IF(ISBLANK(R37),\" \",INDEX('Eingabe Spielernamen'!$F:$F,MATCH(N37,'Eingabe Spielernamen'!$B:$B,0))&\", \"&INDEX('Eingabe Spielernamen'!$G:$G,MATCH(N37,'Eingabe Spielernamen'!$B:$B,0)))","v":" "},null,null,null,null,null,null,null,{"$f":"IF(ISBLANK(S37),\" \",S37+(T37-U37)*50+IF(COUNT(S37:S40)=3,(U38+U39+U40)*40,(U38+U39+U40)*30))","v":" "},0,{"$f":"IF(COUNTIF(Z$13:Z37,Z37)>1,\"X\",\"\")","v":"X"},{"$f":"IF(ISBLANK(AD37),\" \",INDEX(CN:CN,MATCH(AD37,CM:CM,0)))","v":" "},{"$f":"IF(ISBLANK(AD37),\" \",INDEX('Eingabe Spielernamen'!$F:$F,MATCH(Z37,'Eingabe Spielernamen'!$B:$B,0))&\", \"&INDEX('Eingabe Spielernamen'!$G:$G,MATCH(Z37,'Eingabe Spielernamen'!$B:$B,0)))","v":" "},null,null,null,null,null,null,null,{"$f":"IF(ISBLANK(AE37),\" \",AE37+(AF37-AG37)*50+IF(COUNT(AE37:AE40)=3,(AG38+AG39+AG40)*40,(AG38+AG39+AG40)*30))","v":" "},0,{"$f":"IF(COUNTIF(AL$13:AL37,AL37)>1,\"X\",\"\")","v":"X"},{"$f":"IF(ISBLANK(AP37),\" \",INDEX(CS:CS,MATCH(AP37,CR:CR,0)))","v":" "},{"$f":"IF(ISBLANK(AP37),\" \",INDEX('Eingabe Spielernamen'!$F:$F,MATCH(AL37,'Eingabe Spielernamen'!$B:$B,0))&\", \"&INDEX('Eingabe Spielernamen'!$G:$G,MATCH(AL37,'Eingabe Spielernamen'!$B:$B,0)))","v":" "},null,null,null,null,null,null,null,{"$f":"IF(ISBLANK(AQ37),\" \",AQ37+(AR37-AS37)*50+IF(COUNT(AQ37:AQ40)=3,(AS38+AS39+AS40)*40,(AS38+AS39+AS40)*30))","v":" "},0,{"$f":"IF(COUNTIF(AX$13:AX37,AX37)>1,\"X\",\"\")","v":"X"},{"$f":"IF(ISBLANK(BB37),\" \",INDEX(CX:CX,MATCH(BB37,CW:CW,0)))","v":" "},{"$f":"IF(ISBLANK(BB37),\" \",INDEX('Eingabe Spielernamen'!$F:$F,MATCH(AX37,'Eingabe Spielernamen'!$B:$B,0))&\", \"&INDEX('Eingabe Spielernamen'!$G:$G,MATCH(AX37,'Eingabe Spielernamen'!$B:$B,0)))","v":" "},null,null,null,null,null,null,null,{"$f":"IF(ISBLANK(BC37),\" \",BC37+(BD37-BE37)*50+IF(COUNT(BC37:BC40)=3,(BE38+BE39+BE40)*40,(BE38+BE39+BE40)*30))","v":" "},0,{"$f":"IF(COUNTIF(BJ$13:BJ37,BJ37)>1,\"X\",\"\")","v":"X"},{"$f":"IF(ISBLANK(BN37),\" \",INDEX(DC:DC,MATCH(BN37,DB:DB,0)))","v":" "},{"$f":"IF(ISBLANK(BN37),\" \",INDEX('Eingabe Spielernamen'!$F:$F,MATCH(BJ37,'Eingabe Spielernamen'!$B:$B,0))&\", \"&INDEX('Eingabe Spielernamen'!$G:$G,MATCH(BJ37,'Eingabe Spielernamen'!$B:$B,0)))","v":" "},null,null,null,null,null,null,null,{"$f":"IF(ISBLANK(BO37),\" \",BO37+(BP37-BQ37)*50+IF(COUNT(BO37:BO40)=3,(BQ38+BQ39+BQ40)*40,(BQ38+BQ39+BQ40)*30))","v":" "},0,null,null,{"$f":"SUM(L37:L40)","v":0},{"$f":"SUM(X37:X40)","v":0},{"$f":"SUM(AJ37:AJ40)","v":0},{"$f":"SUM(AV37:AV40)","v":0},{"$f":"SUM(BH37:BH40)","v":0},{"$f":"SUM(BT37:BT40)","v":0}]
[{"$f":"IF(COUNTIF(B$13:B38,B38)>1,\"X\",\"\")","v":"X"},{"$f":"IF(ISBLANK(F37),\" \",INDEX(CE:CE,MATCH(F37,CC:CC,0)))","v":" "},{"$f":"IF(ISBLANK(F38),\" \",INDEX('Eingabe Spielernamen'!$F:$F,MATCH(B38,'Eingabe Spielernamen'!$B:$B,0))&\", \"&INDEX('Eingabe Spielernamen'!$G:$G,MATCH(B38,'Eingabe Spielernamen'!$B:$B,0)))","v":{"$error":"#N/A"}},null,null,{"$f":"F37","v":0},null,null,null,null,{"$f":"IF(ISBLANK(G38),\" \",G38+(H38-I38)*50+IF(COUNT(G37:G40)=3,(I37+I39+I40)*40,(I37+I39+I40)*30))","v":" "},0,{"$f":"IF(COUNTIF(N$13:N38,N38)>1,\"X\",\"\")","v":"X"},{"$f":"IF(ISBLANK(R37),\" \",INDEX(CJ:CJ,MATCH(R37,CH:CH,0)))","v":" "},{"$f":"IF(ISBLANK(R38),\" \",INDEX('Eingabe Spielernamen'!$F:$F,MATCH(N38,'Eingabe Spielernamen'!$B:$B,0))&\", \"&INDEX('Eingabe Spielernamen'!$G:$G,MATCH(N38,'Eingabe Spielernamen'!$B:$B,0)))","v":{"$error":"#N/A"}},null,null,{"$f":"R37","v":0},null,null,null,null,{"$f":"IF(ISBLANK(S38),\" \",S38+(T38-U38)*50+IF(COUNT(S37:S40)=3,(U37+U39+U40)*40,(U37+U39+U40)*30))","v":" "},0,{"$f":"IF(COUNTIF(Z$13:Z38,Z38)>1,\"X\",\"\")","v":"X"},{"$f":"IF(ISBLANK(AD37),\" \",INDEX(CO:CO,MATCH(AD37,CM:CM,0)))","v":" "},{"$f":"IF(ISBLANK(AD38),\" \",INDEX('Eingabe Spielernamen'!$F:$F,MATCH(Z38,'Eingabe Spielernamen'!$B:$B,0))&\", \"&INDEX('Eingabe Spielernamen'!$G:$G,MATCH(Z38,'Eingabe Spielernamen'!$B:$B,0)))","v":{"$error":"#N/A"}},null,null,{"$f":"AD37","v":0},null,null,null,null,{"$f":"IF(ISBLANK(AE38),\" \",AE38+(AF38-AG38)*50+IF(COUNT(AE37:AE40)=3,(AG37+AG39+AG40)*40,(AG37+AG39+AG40)*30))","v":" "},0,{"$f":"IF(COUNTIF(AL$13:AL38,AL38)>1,\"X\",\"\")","v":"X"},{"$f":"IF(ISBLANK(AP37),\" \",INDEX(CT:CT,MATCH(AP37,CR:CR,0)))","v":" "},{"$f":"IF(ISBLANK(AP38),\" \",INDEX('Eingabe Spielernamen'!$F:$F,MATCH(AL38,'Eingabe Spielernamen'!$B:$B,0))&\", \"&INDEX('Eingabe Spielernamen'!$G:$G,MATCH(AL38,'Eingabe Spielernamen'!$B:$B,0)))","v":{"$error":"#N/A"}},null,null,{"$f":"AP37","v":0},null,null,null,null,{"$f":"IF(ISBLANK(AQ38),\" \",AQ38+(AR38-AS38)*50+IF(COUNT(AQ37:AQ40)=3,(AS37+AS39+AS40)*40,(AS37+AS39+AS40)*30))","v":" "},0,{"$f":"IF(COUNTIF(AX$13:AX38,AX38)>1,\"X\",\"\")","v":"X"},{"$f":"IF(ISBLANK(BB37),\" \",INDEX(CY:CY,MATCH(BB37,CW:CW,0)))","v":" "},{"$f":"IF(ISBLANK(BB38),\" \",INDEX('Eingabe Spielernamen'!$F:$F,MATCH(AX38,'Eingabe Spielernamen'!$B:$B,0))&\", \"&INDEX('Eingabe Spielernamen'!$G:$G,MATCH(AX38,'Eingabe Spielernamen'!$B:$B,0)))","v":{"$error":"#N/A"}},null,null,{"$f":"BB37","v":0},null,null,null,null,{"$f":"IF(ISBLANK(BC38),\" \",BC38+(BD38-BE38)*50+IF(COUNT(BC37:BC40)=3,(BE37+BE39+BE40)*40,(BE37+BE39+BE40)*30))","v":" "},0,{"$f":"IF(COUNTIF(BJ$13:BJ38,BJ38)>1,\"X\",\"\")","v":"X"},{"$f":"IF(ISBLANK(BN37),\" \",INDEX(DD:DD,MATCH(BN37,DB:DB,0)))","v":" "},{"$f":"IF(ISBLANK(BN38),\" \",INDEX('Eingabe Spielernamen'!$F:$F,MATCH(BJ38,'Eingabe Spielernamen'!$B:$B,0))&\", \"&INDEX('Eingabe Spielernamen'!$G:$G,MATCH(BJ38,'Eingabe Spielernamen'!$B:$B,0)))","v":{"$error":"#N/A"}},null,null,{"$f":"BN37","v":0},null,null,null,null,{"$f":"IF(ISBLANK(BO38),\" \",BO38+(BP38-BQ38)*50+IF(COUNT(BO37:BO40)=3,(BQ37+BQ39+BQ40)*40,(BQ37+BQ39+BQ40)*30))","v":" "},0]
[{"$f":"IF(COUNTIF(B$13:B39,B39)>1,\"X\",\"\")","v":"X"},{"$f":"IF(ISBLANK(F37),\" \",INDEX(CF:CF,MATCH(F37,CC:CC,0)))","v":" "},{"$f":"IF(ISBLANK(F39),\" \",INDEX('Eingabe Spielernamen'!$F:$F,MATCH(B39,'Eingabe Spielernamen'!$B:$B,0))&\", \"&INDEX('Eingabe Spielernamen'!$G:$G,MATCH(B39,'Eingabe Spielernamen'!$B:$B,0)))","v":{"$error":"#N/A"}},null,null,{"$f":"F37","v":0},null,null,null,null,{"$f":"IF(ISBLANK(G39),\" \",G39+(H39-I39)*50+IF(COUNT(G37:G40)=3,(I37+I38+I40)*40,(I37+I38+I40)*30))","v":" "},0,{"$f":"IF(COUNTIF(N$13:N39,N39)>1,\"X\",\"\")","v":"X"},{"$f":"IF(ISBLANK(R37),\" \",INDEX(CK:CK,MATCH(R37,CH:CH,0)))","v":" "},{"$f":"IF(ISBLANK(R39),\" \",INDEX('Eingabe Spielernamen'!$F:$F,MATCH(N39,'Eingabe Spielernamen'!$B:$B,0))&\", \"&INDEX('Eingabe Spielernamen'!$G:$G,MATCH(N39,'Eingabe Spielernamen'!$B:$B,0)))","v":{"$error":"#N/A"}},null,null,{"$f":"R37","v":0},null,null,null,null,{"$f":"IF(ISBLANK(S39),\" \",S39+(T39-U39)*50+IF(COUNT(S37:S40)=3,(U37+U38+U40)*40,(U37+U38+U40)*30))","v":" "},0,{"$f":"IF(COUNTIF(Z$13:Z39,Z39)>1,\"X\",\"\")","v":"X"},{"$f":"IF(ISBLANK(AD37),\" \",INDEX(CP:CP,MATCH(AD37,CM:CM,0)))","v":" "},{"$f":"IF(ISBLANK(AD39),\" \",INDEX('Eingabe Spielernamen'!$F:$F,MATCH(Z39,'Eingabe Spielernamen'!$B:$B,0))&\", \"&INDEX('Eingabe Spielernamen'!$G:$G,MATCH(Z39,'Eingabe Spielernamen'!$B:$B,0)))","v":{"$error":"#N/A"}},null,null,{"$f":"AD37","v":0},null,null,null,null,{"$f":"IF(ISBLANK(AE39),\" \",AE39+(AF39-AG39)*50+IF(COUNT(AE37:AE40)=3,(AG37+AG38+AG40)*40,(AG37+AG38+AG40)*30))","v":" "},0,{"$f":"IF(COUNTIF(AL$13:AL39,AL39)>1,\"X\",\"\")","v":"X"},{"$f":"IF(ISBLANK(AP37),\" \",INDEX(CU:CU,MATCH(AP37,CR:CR,0)))","v":" "},{"$f":"IF(ISBLANK(AP39),\" \",INDEX('Eingabe Spielernamen'!$F:$F,MATCH(AL39,'Eingabe Spielernamen'!$B:$B,0))&\", \"&INDEX('Eingabe Spielernamen'!$G:$G,MATCH(AL39,'Eingabe Spielernamen'!$B:$B,0)))","v":{"$error":"#N/A"}},null,null,{"$f":"AP37","v":0},null,null,null,null,{"$f":"IF(ISBLANK(AQ39),\" \",AQ39+(AR39-AS39)*50+IF(COUNT(AQ37:AQ40)=3,(AS37+AS38+AS40)*40,(AS37+AS38+AS40)*30))","v":" "},0,{"$f":"IF(COUNTIF(AX$13:AX39,AX39)>1,\"X\",\"\")","v":"X"},{"$f":"IF(ISBLANK(BB37),\" \",INDEX(CZ:CZ,MATCH(BB37,CW:CW,0)))","v":" "},{"$f":"IF(ISBLANK(BB39),\" \",INDEX('Eingabe Spielernamen'!$F:$F,MATCH(AX39,'Eingabe Spielernamen'!$B:$B,0))&\", \"&INDEX('Eingabe Spielernamen'!$G:$G,MATCH(AX39,'Eingabe Spielernamen'!$B:$B,0)))","v":{"$error":"#N/A"}},null,null,{"$f":"BB37","v":0},null,null,null,null,{"$f":"IF(ISBLANK(BC39),\" \",BC39+(BD39-BE39)*50+IF(COUNT(BC37:BC40)=3,(BE37+BE38+BE40)*40,(BE37+BE38+BE40)*30))","v":" "},0,{"$f":"IF(COUNTIF(BJ$13:BJ39,BJ39)>1,\"X\",\"\")","v":"X"},{"$f":"IF(ISBLANK(BN37),\" \",INDEX(DE:DE,MATCH(BN37,DB:DB,0)))","v":" "},{"$f":"IF(ISBLANK(BN39),\" \",INDEX('Eingabe Spielernamen'!$F:$F,MATCH(BJ39,'Eingabe Spielernamen'!$B:$B,0))&\", \"&INDEX('Eingabe Spielernamen'!$G:$G,MATCH(BJ39,'Eingabe Spielernamen'!$B:$B,0)))","v":{"$error":"#N/A"}},null,null,{"$f":"BN37","v":0},null,null,null,null,{"$f":"IF(ISBLANK(BO39),\" \",BO39+(BP39-BQ39)*50+IF(COUNT(BO37:BO40)=3,(BQ37+BQ38+BQ40)*40,(BQ37+BQ38+BQ40)*30))","v":" "},0]
[{"$f":"IF(COUNTIF(B$13:B40,B40)>1,\"X\",\"\")","v":"X"},{"$f":"IF(ISBLANK(F37),\" \",INDEX(CG:CG,MATCH(F37,CC:CC,0)))","v":" "},{"$f":"IF(ISBLANK(F40),\" \",INDEX('Eingabe Spielernamen'!$F:$F,MATCH(B40,'Eingabe Spielernamen'!$B:$B,0))&\", \"&INDEX('Eingabe Spielernamen'!$G:$G,MATCH(B40,'Eingabe Spielernamen'!$B:$B,0)))","v":{"$error":"#N/A"}},null,null,{"$f":"F37","v":0},null,null,null,null,{"$f":"IF(ISBLANK(G40),\" \",G40+(H40-I40)*50+IF(COUNT(G37:G40)=3,(I37+I38+I39)*40,(I37+I38+I39)*30))","v":" "},0,{"$f":"IF(COUNTIF(N$13:N40,N40)>1,\"X\",\"\")","v":"X"},{"$f":"IF(ISBLANK(R37),\" \",INDEX(CL:CL,MATCH(R37,CH:CH,0)))","v":" "},{"$f":"IF(ISBLANK(R40),\" \",INDEX('Eingabe Spielernamen'!$F:$F,MATCH(N40,'Eingabe Spielernamen'!$B:$B,0))&\", \"&INDEX('Eingabe Spielernamen'!$G:$G,MATCH(N40,'Eingabe Spielernamen'!$B:$B,0)))","v":{"$error":"#N/A"}},null,null,{"$f":"R37","v":0},null,null,null,null,{"$f":"IF(ISBLANK(S40),\" \",S40+(T40-U40)*50+IF(COUNT(S37:S40)=3,(U37+U38+U39)*40,(U37+U38+U39)*30))","v":" "},0,{"$f":"IF(COUNTIF(Z$13:Z40,Z40)>1,\"X\",\"\")","v":"X"},{"$f":"IF(ISBLANK(AD37),\" \",INDEX(CQ:CQ,MATCH(AD37,CM:CM,0)))","v":" "},{"$f":"IF(ISBLANK(AD40),\" \",INDEX('Eingabe Spielernamen'!$F:$F,MATCH(Z40,'Eingabe Spielernamen'!$B:$B,0))&\", \"&INDEX('Eingabe Spielernamen'!$G:$G,MATCH(Z40,'Eingabe Spielernamen'!$B:$B,0)))","v":{"$error":"#N/A"}},null,null,{"$f":"AD37","v":0},null,null,null,null,{"$f":"IF(ISBLANK(AE40),\" \",AE40+(AF40-AG40)*50+IF(COUNT(AE37:AE40)=3,(AG37+AG38+AG39)*40,(AG37+AG38+AG39)*30))","v":" "},0,{"$f":"IF(COUNTIF(AL$13:AL40,AL40)>1,\"X\",\"\")","v":"X"},{"$f":"IF(ISBLANK(AP37),\" \",INDEX(CV:CV,MATCH(AP37,CR:CR,0)))","v":" "},{"$f":"IF(ISBLANK(AP40),\" \",INDEX('Eingabe Spielernamen'!$F:$F,MATCH(AL40,'Eingabe Spielernamen'!$B:$B,0))&\", \"&INDEX('Eingabe Spielernamen'!$G:$G,MATCH(AL40,'Eingabe Spielernamen'!$B:$B,0)))","v":{"$error":"#N/A"}},null,null,{"$f":"AP37","v":0},null,null,null,null,{"$f":"IF(ISBLANK(AQ40),\" \",AQ40+(AR40-AS40)*50+IF(COUNT(AQ37:AQ40)=3,(AS37+AS38+AS39)*40,(AS37+AS38+AS39)*30))","v":" "},0,{"$f":"IF(COUNTIF(AX$13:AX40,AX40)>1,\"X\",\"\")","v":"X"},{"$f":"IF(ISBLANK(BB37),\" \",INDEX(DA:DA,MATCH(BB37,CW:CW,0)))","v":" "},{"$f":"IF(ISBLANK(BB40),\" \",INDEX('Eingabe Spielernamen'!$F:$F,MATCH(AX40,'Eingabe Spielernamen'!$B:$B,0))&\", \"&INDEX('Eingabe Spielernamen'!$G:$G,MATCH(AX40,'Eingabe Spielernamen'!$B:$B,0)))","v":{"$error":"#N/A"}},null,null,{"$f":"BB37","v":0},null,null,null,null,{"$f":"IF(ISBLANK(BC40),\" \",BC40+(BD40-BE40)*50+IF(COUNT(BC37:BC40)=3,(BE37+BE38+BE39)*40,(BE37+BE38+BE39)*30))","v":" "},0,{"$f":"IF(COUNTIF(BJ$13:BJ40,BJ40)>1,\"X\",\"\")","v":"X"},{"$f":"IF(ISBLANK(BN37),\" \",INDEX(DF:DF,MATCH(BN37,DB:DB,0)))","v":" "},{"$f":"IF(ISBLANK(BN40),\" \",INDEX('Eingabe Spielernamen'!$F:$F,MATCH(BJ40,'Eingabe Spielernamen'!$B:$B,0))&\", \"&INDEX('Eingabe Spielernamen'!$G:$G,MATCH(BJ40,'Eingabe Spielernamen'!$B:$B,0)))","v":{"$error":"#N/A"}},null,null,{"$f":"BN37","v":0},null,null,null,null,{"$f":"IF(ISBLANK(BO40),\" \",BO40+(BP40-BQ40)*50+IF(COUNT(BO37:BO40)=3,(BQ37+BQ38+BQ39)*40,(BQ37+BQ38+BQ39)*30))","v":" "},0]
[{"$f":"IF(COUNTIF(B$13:B41,B41)>1,\"X\",\"\")","v":"X"},{"$f":"IF(ISBLANK(F41),\" \",INDEX(CD:CD,MATCH(F41,CC:CC,0)))","v":" "},{"$f":"IF(ISBLANK(F41),\" \",INDEX('Eingabe Spielernamen'!$F:$F,MATCH(B41,'Eingabe Spielernamen'!$B:$B,0))&\", \"&INDEX('Eingabe Spielernamen'!$G:$G,MATCH(B41,'Eingabe Spielernamen'!$B:$B,0)))","v":" "},null,null,null,null,null,null,null,{"$f":"IF(ISBLANK(G41),\" \",G41+(H41-I41)*50+IF(COUNT(G41:G44)=3,(I42+I43+I44)*40,(I42+I43+I44)*30))","v":" "},0,{"$f":"IF(COUNTIF(N$13:N41,N41)>1,\"X\",\"\")","v":"X"},{"$f":"IF(ISBLANK(R41),\" \",INDEX(CI:CI,MATCH(R41,CH:CH,0)))","v":" "},{"$f":"IF(ISBLANK(R41),\" \",INDEX('Eingabe Spielernamen'!$F:$F,MATCH(N41,'Eingabe Spielernamen'!$B:$B,0))&\", \"&INDEX('Eingabe Spielernamen'!$G:$G,MATCH(N41,'Eingabe Spielernamen'!$B:$B,0)))","v":" "},null,null,null,null,null,null,null,{"$f":"IF(ISBLANK(S41),\" \",S41+(T41-U41)*50+IF(COUNT(S41:S44)=3,(U42+U43+U44)*40,(U42+U43+U44)*30))","v":" "},0,{"$f":"IF(COUNTIF(Z$13:Z41,Z41)>1,\"X\",\"\")","v":"X"},{"$f":"IF(ISBLANK(AD41),\" \",INDEX(CN:CN,MATCH(AD41,CM:CM,0)))","v":" "},{"$f":"IF(ISBLANK(AD41),\" \",INDEX('Eingabe Spielernamen'!$F:$F,MATCH(Z41,'Eingabe Spielernamen'!$B:$B,0))&\", \"&INDEX('Eingabe Spielernamen'!$G:$G,MATCH(Z41,'Eingabe Spielernamen'!$B:$B,0)))","v":" "},null,null,null,null,null,null,null,{"$f":"IF(ISBLANK(AE41),\" \",AE41+(AF41-AG41)*50+IF(COUNT(AE41:AE44)=3,(AG42+AG43+AG44)*40,(AG42+AG43+AG44)*30))","v":" "},0,{"$f":"IF(COUNTIF(AL$13:AL41,AL41)>1,\"X\",\"\")","v":"X"},{"$f":"IF(ISBLANK(AP41),\" \",INDEX(CS:CS,MATCH(AP41,CR:CR,0)))","v":" "},{"$f":"IF(ISBLANK(AP41),\" \",INDEX('Eingabe Spielernamen'!$F:$F,MATCH(AL41,'Eingabe Spielernamen'!$B:$B,0))&\", \"&INDEX('Eingabe Spielernamen'!$G:$G,MATCH(AL41,'Eingabe Spielernamen'!$B:$B,0)))","v":" "},null,null,null,null,null,null,null,{"$f":"IF(ISBLANK(AQ41),\" \",AQ41+(AR41-AS41)*50+IF(COUNT(AQ41:AQ44)=3,(AS42+AS43+AS44)*40,(AS42+AS43+AS44)*30))","v":" "},0,{"$f":"IF(COUNTIF(AX$13:AX41,AX41)>1,\"X\",\"\")","v":"X"},{"$f":"IF(ISBLANK(BB41),\" \",INDEX(CX:CX,MATCH(BB41,CW:CW,0)))","v":" "},{"$f":"IF(ISBLANK(BB41),\" \",INDEX('Eingabe Spielernamen'!$F:$F,MATCH(AX41,'Eingabe Spielernamen'!$B:$B,0))&\", \"&INDEX('Eingabe Spielernamen'!$G:$G,MATCH(AX41,'Eingabe Spielernamen'!$B:$B,0)))","v":" "},null,null,null,null,null,null,null,{"$f":"IF(ISBLANK(BC41),\" \",BC41+(BD41-BE41)*50+IF(COUNT(BC41:BC44)=3,(BE42+BE43+BE44)*40,(BE42+BE43+BE44)*30))","v":" "},0,{"$f":"IF(COUNTIF(BJ$13:BJ41,BJ41)>1,\"X\",\"\")","v":"X"},{"$f":"IF(ISBLANK(BN41),\" \",INDEX(DC:DC,MATCH(BN41,DB:DB,0)))","v":" "},{"$f":"IF(ISBLANK(BN41),\" \",INDEX('Eingabe Spielernamen'!$F:$F,MATCH(BJ41,'Eingabe Spielernamen'!$B:$B,0))&\", \"&INDEX('Eingabe Spielernamen'!$G:$G,MATCH(BJ41,'Eingabe Spielernamen'!$B:$B,0)))","v":" "},null,null,null,null,null,null,null,{"$f":"IF(ISBLANK(BO41),\" \",BO41+(BP41-BQ41)*50+IF(COUNT(BO41:BO44)=3,(BQ42+BQ43+BQ44)*40,(BQ42+BQ43+BQ44)*30))","v":" "},0,null,null,{"$f":"SUM(L41:L44)","v":0},{"$f":"SUM(X41:X44)","v":0},{"$f":"SUM(AJ41:AJ44)","v":0},{"$f":"SUM(AV41:AV44)","v":0},{"$f":"SUM(BH41:BH44)","v":0},{"$f":"SUM(BT41:BT44)","v":0}]
[{"$f":"IF(COUNTIF(B$13:B42,B42)>1,\"X\",\"\")","v":"X"},{"$f":"IF(ISBLANK(F41),\" \",INDEX(CE:CE,MATCH(F41,CC:CC,0)))","v":" "},{"$f":"IF(ISBLANK(F42),\" \",INDEX('Eingabe Spielernamen'!$F:$F,MATCH(B42,'Eingabe Spielernamen'!$B:$B,0))&\", \"&INDEX('Eingabe Spielernamen'!$G:$G,MATCH(B42,'Eingabe Spielernamen'!$B:$B,0)))","v":{"$error":"#N/A"}},null,null,{"$f":"F41","v":0},null,null,null,null,{"$f":"IF(ISBLANK(G42),\" \",G42+(H42-I42)*50+IF(COUNT(G41:G44)=3,(I41+I43+I44)*40,(I41+I43+I44)*30))","v":" "},0,{"$f":"IF(COUNTIF(N$13:N42,N42)>1,\"X\",\"\")","v":"X"},{"$f":"IF(ISBLANK(R41),\" \",INDEX(CJ:CJ,MATCH(R41,CH:CH,0)))","v":" "},{"$f":"IF(ISBLANK(R42),\" \",INDEX('Eingabe Spielernamen'!$F:$F,MATCH(N42,'Eingabe Spielernamen'!$B:$B,0))&\", \"&INDEX('Eingabe Spielernamen'!$G:$G,MATCH(N42,'Eingabe Spielernamen'!$B:$B,0)))","v":{"$error":"#N/A"}},null,null,{"$f":"R41","v":0},null,null,null,null,{"$f":"IF(ISBLANK(S42),\" \",S42+(T42-U42)*50+IF(COUNT(S41:S44)=3,(U41+U43+U44)*40,(U41+U43+U44)*30))","v":" "},0,{"$f":"IF(COUNTIF(Z$13:Z42,Z42)>1,\"X\",\"\")","v":"X"},{"$f":"IF(ISBLANK(AD41),\" \",INDEX(CO:CO,MATCH(AD41,CM:CM,0)))","v":" "},{"$f":"IF(ISBLANK(AD42),\" \",INDEX('Eingabe Spielernamen'!$F:$F,MATCH(Z42,'Eingabe Spielernamen'!$B:$B,0))&\", \"&INDEX('Eingabe Spielernamen'!$G:$G,MATCH(Z42,'Eingabe Spielernamen'!$B:$B,0)))","v":{"$error":"#N/A"}},null,null,{"$f":"AD41","v":0},null,null,null,null,{"$f":"IF(ISBLANK(AE42),\" \",AE42+(AF42-AG42)*50+IF(COUNT(AE41:AE44)=3,(AG41+AG43+AG44)*40,(AG41+AG43+AG44)*30))","v":" "},0,{"$f":"IF(COUNTIF(AL$13:AL42,AL42)>1,\"X\",\"\")","v":"X"},{"$f":"IF(ISBLANK(AP41),\" \",INDEX(CT:CT,MATCH(AP41,CR:CR,0)))","v":" "},{"$f":"IF(ISBLANK(AP42),\" \",INDEX('Eingabe Spielernamen'!$F:$F,MATCH(AL42,'Eingabe Spielernamen'!$B:$B,0))&\", \"&INDEX('Eingabe Spielernamen'!$G:$G,MATCH(AL42,'Eingabe Spielernamen'!$B:$B,0)))","v":{"$error":"#N/A"}},null,null,{"$f":"AP41","v":0},null,null,null,null,{"$f":"IF(ISBLANK(AQ42),\" \",AQ42+(AR42-AS42)*50+IF(COUNT(AQ41:AQ44)=3,(AS41+AS43+AS44)*40,(AS41+AS43+AS44)*30))","v":" "},0,{"$f":"IF(COUNTIF(AX$13:AX42,AX42)>1,\"X\",\"\")","v":"X"},{"$f":"IF(ISBLANK(BB41),\" \",INDEX(CY:CY,MATCH(BB41,CW:CW,0)))","v":" "},{"$f":"IF(ISBLANK(BB42),\" \",INDEX('Eingabe Spielernamen'!$F:$F,MATCH(AX42,'Eingabe Spielernamen'!$B:$B,0))&\", \"&INDEX('Eingabe Spielernamen'!$G:$G,MATCH(AX42,'Eingabe Spielernamen'!$B:$B,0)))","v":{"$error":"#N/A"}},null,null,{"$f":"BB41","v":0},null,null,null,null,{"$f":"IF(ISBLANK(BC42),\" \",BC42+(BD42-BE42)*50+IF(COUNT(BC41:BC44)=3,(BE41+BE43+BE44)*40,(BE41+BE43+BE44)*30))","v":" "},0,{"$f":"IF(COUNTIF(BJ$13:BJ42,BJ42)>1,\"X\",\"\")","v":"X"},{"$f":"IF(ISBLANK(BN41),\" \",INDEX(DD:DD,MATCH(BN41,DB:DB,0)))","v":" "},{"$f":"IF(ISBLANK(BN42),\" \",INDEX('Eingabe Spielernamen'!$F:$F,MATCH(BJ42,'Eingabe Spielernamen'!$B:$B,0))&\", \"&INDEX('Eingabe Spielernamen'!$G:$G,MATCH(BJ42,'Eingabe Spielernamen'!$B:$B,0)))","v":{"$error":"#N/A"}},null,null,{"$f":"BN41","v":0},null,null,null,null,{"$f":"IF(ISBLANK(BO42),\" \",BO42+(BP42-BQ42)*50+IF(COUNT(BO41:BO44)=3,(BQ41+BQ43+BQ44)*40,(BQ41+BQ43+BQ44)*30))","v":" "},0]
[{"$f":"IF(COUNTIF(B$13:B43,B43)>1,\"X\",\"\")","v":"X"},{"$f":"IF(ISBLANK(F41),\" \",INDEX(CF:CF,MATCH(F41,CC:CC,0)))","v":" "},{"$f":"IF(ISBLANK(F43),\" \",INDEX('Eingabe Spielernamen'!$F:$F,MATCH(B43,'Eingabe Spielernamen'!$B:$B,0))&\", \"&INDEX('Eingabe Spielernamen'!$G:$G,MATCH(B43,'Eingabe Spielernamen'!$B:$B,0)))","v":{"$error":"#N/A"}},null,null,{"$f":"F41","v":0},null,null,null,null,{"$f":"IF(ISBLANK(G43),\" \",G43+(H43-I43)*50+IF(COUNT(G41:G44)=3,(I41+I42+I44)*40,(I41+I42+I44)*30))","v":" "},0,{"$f":"IF(COUNTIF(N$13:N43,N43)>1,\"X\",\"\")","v":"X"},{"$f":"IF(ISBLANK(R41),\" \",INDEX(CK:CK,MATCH(R41,CH:CH,0)))","v":" "},{"$f":"IF(ISBLANK(R43),\" \",INDEX('Eingabe Spielernamen'!$F:$F,MATCH(N43,'Eingabe Spielernamen'!$B:$B,0))&\", \"&INDEX('Eingabe Spielernamen'!$G:$G,MATCH(N43,'Eingabe Spielernamen'!$B:$B,0)))","v":{"$error":"#N/A"}},null,null,{"$f":"R41","v":0},null,null,null,null,{"$f":"IF(ISBLANK(S43),\" \",S43+(T43-U43)*50+IF(COUNT(S41:S44)=3,(U41+U42+U44)*40,(U41+U42+U44)*30))","v":" "},0,{"$f":"IF(COUNTIF(Z$13:Z43,Z43)>1,\"X\",\"\")","v":"X"},{"$f":"IF(ISBLANK(AD41),\" \",INDEX(CP:CP,MATCH(AD41,CM:CM,0)))","v":" "},{"$f":"IF(ISBLANK(AD43),\" \",INDEX('Eingabe Spielernamen'!$F:$F,MATCH(Z43,'Eingabe Spielernamen'!$B:$B,0))&\", \"&INDEX('Eingabe Spielernamen'!$G:$G,MATCH(Z43,'Eingabe Spielernamen'!$B:$B,0)))","v":{"$error":"#N/A"}},null,null,{"$f":"AD41","v":0},null,null,null,null,{"$f":"IF(ISBLANK(AE43),\" \",AE43+(AF43-AG43)*50+IF(COUNT(AE41:AE44)=3,(AG41+AG42+AG44)*40,(AG41+AG42+AG44)*30))","v":" "},0,{"$f":"IF(COUNTIF(AL$13:AL43,AL43)>1,\"X\",\"\")","v":"X"},{"$f":"IF(ISBLANK(AP41),\" \",INDEX(CU:CU,MATCH(AP41,CR:CR,0)))","v":" "},{"$f":"IF(ISBLANK(AP43),\" \",INDEX('Eingabe Spielernamen'!$F:$F,MATCH(AL43,'Eingabe Spielernamen'!$B:$B,0))&\", \"&INDEX('Eingabe Spielernamen'!$G:$G,MATCH(AL43,'Eingabe Spielernamen'!$B:$B,0)))","v":{"$error":"#N/A"}},null,null,{"$f":"AP41","v":0},null,null,null,null,{"$f":"IF(ISBLANK(AQ43),\" \",AQ43+(AR43-AS43)*50+IF(COUNT(AQ41:AQ44)=3,(AS41+AS42+AS44)*40,(AS41+AS42+AS44)*30))","v":" "},0,{"$f":"IF(COUNTIF(AX$13:AX43,AX43)>1,\"X\",\"\")","v":"X"},{"$f":"IF(ISBLANK(BB41),\" \",INDEX(CZ:CZ,MATCH(BB41,CW:CW,0)))","v":" "},{"$f":"IF(ISBLANK(BB43),\" \",INDEX('Eingabe Spielernamen'!$F:$F,MATCH(AX43,'Eingabe Spielernamen'!$B:$B,0))&\", \"&INDEX('Eingabe Spielernamen'!$G:$G,MATCH(AX43,'Eingabe Spielernamen'!$B:$B,0)))","v":{"$error":"#N/A"}},null,null,{"$f":"BB41","v":0},null,null,null,null,{"$f":"IF(ISBLANK(BC43),\" \",BC43+(BD43-BE43)*50+IF(COUNT(BC41:BC44)=3,(BE41+BE42+BE44)*40,(BE41+BE42+BE44)*30))","v":" "},0,{"$f":"IF(COUNTIF(BJ$13:BJ43,BJ43)>1,\"X\",\"\")","v":"X"},{"$f":"IF(ISBLANK(BN41),\" \",INDEX(DE:DE,MATCH(BN41,DB:DB,0)))","v":" "},{"$f":"IF(ISBLANK(BN43),\" \",INDEX('Eingabe Spielernamen'!$F:$F,MATCH(BJ43,'Eingabe Spielernamen'!$B:$B,0))&\", \"&INDEX('Eingabe Spielernamen'!$G:$G,MATCH(BJ43,'Eingabe Spielernamen'!$B:$B,0)))","v":{"$error":"#N/A"}},null,null,{"$f":"BN41","v":0},null,null,null,null,{"$f":"IF(ISBLANK(BO43),\" \",BO43+(BP43-BQ43)*50+IF(COUNT(BO41:BO44)=3,(BQ41+BQ42+BQ44)*40,(BQ41+BQ42+BQ44)*30))","v":" "},0]
[{"$f":"IF(COUNTIF(B$13:B44,B44)>1,\"X\",\"\")","v":"X"},{"$f":"IF(ISBLANK(F41),\" \",INDEX(CG:CG,MATCH(F41,CC:CC,0)))","v":" "},{"$f":"IF(ISBLANK(F44),\" \",INDEX('Eingabe Spielernamen'!$F:$F,MATCH(B44,'Eingabe Spielernamen'!$B:$B,0))&\", \"&INDEX('Eingabe Spielernamen'!$G:$G,MATCH(B44,'Eingabe Spielernamen'!$B:$B,0)))","v":{"$error":"#N/A"}},null,null,{"$f":"F41","v":0},null,null,null,null,{"$f":"IF(ISBLANK(G44),\" \",G44+(H44-I44)*50+IF(COUNT(G41:G44)=3,(I41+I42+I43)*40,(I41+I42+I43)*30))","v":" "},0,{"$f":"IF(COUNTIF(N$13:N44,N44)>1,\"X\",\"\")","v":"X"},{"$f":"IF(ISBLANK(R41),\" \",INDEX(CL:CL,MATCH(R41,CH:CH,0)))","v":" "},{"$f":"IF(ISBLANK(R44),\" \",INDEX('Eingabe Spielernamen'!$F:$F,MATCH(N44,'Eingabe Spielernamen'!$B:$B,0))&\", \"&INDEX('Eingabe Spielernamen'!$G:$G,MATCH(N44,'Eingabe Spielernamen'!$B:$B,0)))","v":{"$error":"#N/A"}},null,null,{"$f":"R41","v":0},null,null,null,null,{"$f":"IF(ISBLANK(S44),\" \",S44+(T44-U44)*50+IF(COUNT(S41:S44)=3,(U41+U42+U43)*40,(U41+U42+U43)*30))","v":" "},0,{"$f":"IF(COUNTIF(Z$13:Z44,Z44)>1,\"X\",\"\")","v":"X"},{"$f":"IF(ISBLANK(AD41),\" \",INDEX(CQ:CQ,MATCH(AD41,CM:CM,0)))","v":" "},{"$f":"IF(ISBLANK(AD44),\" \",INDEX('Eingabe Spielernamen'!$F:$F,MATCH(Z44,'Eingabe Spielernamen'!$B:$B,0))&\", \"&INDEX('Eingabe Spielernamen'!$G:$G,MATCH(Z44,'Eingabe Spielernamen'!$B:$B,0)))","v":{"$error":"#N/A"}},null,null,{"$f":"AD41","v":0},null,null,null,null,{"$f":"IF(ISBLANK(AE44),\" \",AE44+(AF44-AG44)*50+IF(COUNT(AE41:AE44)=3,(AG41+AG42+AG43)*40,(AG41+AG42+AG43)*30))","v":" "},0,{"$f":"IF(COUNTIF(AL$13:AL44,AL44)>1,\"X\",\"\")","v":"X"},{"$f":"IF(ISBLANK(AP41),\" \",INDEX(CV:CV,MATCH(AP41,CR:CR,0)))","v":" "},{"$f":"IF(ISBLANK(AP44),\" \",INDEX('Eingabe Spielernamen'!$F:$F,MATCH(AL44,'Eingabe Spielernamen'!$B:$B,0))&\", \"&INDEX('Eingabe Spielernamen'!$G:$G,MATCH(AL44,'Eingabe Spielernamen'!$B:$B,0)))","v":{"$error":"#N/A"}},null,null,{"$f":"AP41","v":0},null,null,null,null,{"$f":"IF(ISBLANK(AQ44),\" \",AQ44+(AR44-AS44)*50+IF(COUNT(AQ41:AQ44)=3,(AS41+AS42+AS43)*40,(AS41+AS42+AS43)*30))","v":" "},0,{"$f":"IF(COUNTIF(AX$13:AX44,AX44)>1,\"X\",\"\")","v":"X"},{"$f":"IF(ISBLANK(BB41),\" \",INDEX(DA:DA,MATCH(BB41,CW:CW,0)))","v":" "},{"$f":"IF(ISBLANK(BB44),\" \",INDEX('Eingabe Spielernamen'!$F:$F,MATCH(AX44,'Eingabe Spielernamen'!$B:$B,0))&\", \"&INDEX('Eingabe Spielernamen'!$G:$G,MATCH(AX44,'Eingabe Spielernamen'!$B:$B,0)))","v":{"$error":"#N/A"}},null,null,{"$f":"BB41","v":0},null,null,null,null,{"$f":"IF(ISBLANK(BC44),\" \",BC44+(BD44-BE44)*50+IF(COUNT(BC41:BC44)=3,(BE41+BE42+BE43)*40,(BE41+BE42+BE43)*30))","v":" "},0,{"$f":"IF(COUNTIF(BJ$13:BJ44,BJ44)>1,\"X\",\"\")","v":"X"},{"$f":"IF(ISBLANK(BN41),\" \",INDEX(DF:DF,MATCH(BN41,DB:DB,0)))","v":" "},{"$f":"IF(ISBLANK(BN44),\" \",INDEX('Eingabe Spielernamen'!$F:$F,MATCH(BJ44,'Eingabe Spielernamen'!$B:$B,0))&\", \"&INDEX('Eingabe Spielernamen'!$G:$G,MATCH(BJ44,'Eingabe Spielernamen'!$B:$B,0)))","v":{"$error":"#N/A"}},null,null,{"$f":"BN41","v":0},null,null,null,null,{"$f":"IF(ISBLANK(BO44),\" \",BO44+(BP44-BQ44)*50+IF(COUNT(BO41:BO44)=3,(BQ41+BQ42+BQ43)*40,(BQ41+BQ42+BQ43)*30))","v":" "},0]
[{"$f":"IF(COUNTIF(B$13:B45,B45)>1,\"X\",\"\")","v":"X"},{"$f":"IF(ISBLANK(F45),\" \",INDEX(CD:CD,MATCH(F45,CC:CC,0)))","v":" "},{"$f":"IF(ISBLANK(F45),\" \",INDEX('Eingabe Spielernamen'!$F:$F,MATCH(B45,'Eingabe Spielernamen'!$B:$B,0))&\", \"&INDEX('Eingabe Spielernamen'!$G:$G,MATCH(B45,'Eingabe Spielernamen'!$B:$B,0)))","v":" "},null,null,null,null,null,null,null,{"$f":"IF(ISBLANK(G45),\" \",G45+(H45-I45)*50+IF(COUNT(G45:G48)=3,(I46+I47+I48)*40,(I46+I47+I48)*30))","v":" "},{"$f":"IF(I45<4,I45*1,IF(I45>3,I45*1))","v":0},{"$f":"IF(COUNTIF(N$13:N45,N45)>1,\"X\",\"\")","v":"X"},{"$f":"IF(ISBLANK(R45),\" \",INDEX(CI:CI,MATCH(R45,CH:CH,0)))","v":" "},{"$f":"IF(ISBLANK(R45),\" \",INDEX('Eingabe Spielernamen'!$F:$F,MATCH(N45,'Eingabe Spielernamen'!$B:$B,0))&\", \"&INDEX('Eingabe Spielernamen'!$G:$G,MATCH(N45,'Eingabe Spielernamen'!$B:$B,0)))","v":" "},null,null,null,null,null,null,null,{"$f":"IF(ISBLANK(S45),\" \",S45+(T45-U45)*50+IF(COUNT(S45:S48)=3,(U46+U47+U48)*40,(U46+U47+U48)*30))","v":" "},{"$f":"IF(U45<4,U45*1,IF(U45>3,U45*1))","v":0},{"$f":"IF(COUNTIF(Z$13:Z45,Z45)>1,\"X\",\"\")","v":"X"},{"$f":"IF(ISBLANK(AD45),\" \",INDEX(CN:CN,MATCH(AD45,CM:CM,0)))","v":" "},{"$f":"IF(ISBLANK(AD45),\" \",INDEX('Eingabe Spielernamen'!$F:$F,MATCH(Z45,'Eingabe Spielernamen'!$B:$B,0))&\", \"&INDEX('Eingabe Spielernamen'!$G:$G,MATCH(Z45,'Eingabe Spielernamen'!$B:$B,0)))","v":" "},null,null,null,null,null,null,null,{"$f":"IF(ISBLANK(AE45),\" \",AE45+(AF45-AG45)*50+IF(COUNT(AE45:AE48)=3,(AG46+AG47+AG48)*40,(AG46+AG47+AG48)*30))","v":" "},0,{"$f":"IF(COUNTIF(AL$13:AL45,AL45)>1,\"X\",\"\")","v":"X"},{"$f":"IF(ISBLANK(AP45),\" \",INDEX(CS:CS,MATCH(AP45,CR:CR,0)))","v":" "},{"$f":"IF(ISBLANK(AP45),\" \",INDEX('Eingabe Spielernamen'!$F:$F,MATCH(AL45,'Eingabe Spielernamen'!$B:$B,0))&\", \"&INDEX('Eingabe Spielernamen'!$G:$G,MATCH(AL45,'Eingabe Spielernamen'!$B:$B,0)))","v":" "},null,null,null,null,null,null,null,{"$f":"IF(ISBLANK(AQ45),\" \",AQ45+(AR45-AS45)*50+IF(COUNT(AQ45:AQ48)=3,(AS46+AS47+AS48)*40,(AS46+AS47+AS48)*30))","v":" "},0,{"$f":"IF(COUNTIF(AX$13:AX45,AX45)>1,\"X\",\"\")","v":"X"},{"$f":"IF(ISBLANK(BB45),\" \",INDEX(CX:CX,MATCH(BB45,CW:CW,0)))","v":" "},{"$f":"IF(ISBLANK(BB45),\" \",INDEX('Eingabe Spielernamen'!$F:$F,MATCH(AX45,'Eingabe Spielernamen'!$B:$B,0))&\", \"&INDEX('Eingabe Spielernamen'!$G:$G,MATCH(AX45,'Eingabe Spielernamen'!$B:$B,0)))","v":" "},null,null,null,null,null,null,null,{"$f":"IF(ISBLANK(BC45),\" \",BC45+(BD45-BE45)*50+IF(COUNT(BC45:BC48)=3,(BE46+BE47+BE48)*40,(BE46+BE47+BE48)*30))","v":" "},0,{"$f":"IF(COUNTIF(BJ$13:BJ45,BJ45)>1,\"X\",\"\")","v":"X"},{"$f":"IF(ISBLANK(BN45),\" \",INDEX(DC:DC,MATCH(BN45,DB:DB,0)))","v":" "},{"$f":"IF(ISBLANK(BN45),\" \",INDEX('Eingabe Spielernamen'!$F:$F,MATCH(BJ45,'Eingabe Spielernamen'!$B:$B,0))&\", \"&INDEX('Eingabe Spielernamen'!$G:$G,MATCH(BJ45,'Eingabe Spielernamen'!$B:$B,0)))","v":" "},null,null,null,null,null,null,null,{"$f":"IF(ISBLANK(BO45),\" \",BO45+(BP45-BQ45)*50+IF(COUNT(BO45:BO48)=3,(BQ46+BQ47+BQ48)*40,(BQ46+BQ47+BQ48)*30))","v":" "},0,null,null,{"$f":"SUM(L45:L48)","v":0},{"$f":"SUM(X45:X48)","v":0},{"$f":"SUM(AJ45:AJ48)","v":0},{"$f":"SUM(AV45:AV48)","v":0},{"$f":"SUM(BH45:BH48)","v":0},{"$f":"SUM(BT45:BT48)","v":0}]
[{"$f":"IF(COUNTIF(B$13:B46,B46)>1,\"X\",\"\")","v":"X"},{"$f":"IF(ISBLANK(F45),\" \",INDEX(CE:CE,MATCH(F45,CC:CC,0)))","v":" "},{"$f":"IF(ISBLANK(F46),\" \",INDEX('Eingabe Spielernamen'!$F:$F,MATCH(B46,'Eingabe Spielernamen'!$B:$B,0))&\", \"&INDEX('Eingabe Spielernamen'!$G:$G,MATCH(B46,'Eingabe Spielernamen'!$B:$B,0)))","v":{"$error":"#N/A"}},null,null,{"$f":"F45","v":0},null,null,null,null,{"$f":"IF(ISBLANK(G46),\" \",G46+(H46-I46)*50+IF(COUNT(G45:G48)=3,(I45+I47+I48)*40,(I45+I47+I48)*30))","v":" "},0,{"$f":"IF(COUNTIF(N$13:N46,N46)>1,\"X\",\"\")","v":"X"},{"$f":"IF(ISBLANK(R45),\" \",INDEX(CJ:CJ,MATCH(R45,CH:CH,0)))","v":" "},{"$f":"IF(ISBLANK(R46),\" \",INDEX('Eingabe Spielernamen'!$F:$F,MATCH(N46,'Eingabe Spielernamen'!$B:$B,0))&\", \"&INDEX('Eingabe Spielernamen'!$G:$G,MATCH(N46,'Eingabe Spielernamen'!$B:$B,0)))","v":{"$error":"#N/A"}},null,null,{"$f":"R45","v":0},null,null,null,null,{"$f":"IF(ISBLANK(S46),\" \",S46+(T46-U46)*50+IF(COUNT(S45:S48)=3,(U45+U47+U48)*40,(U45+U47+U48)*30))","v":" "},0,{"$f":"IF(COUNTIF(Z$13:Z46,Z46)>1,\"X\",\"\")","v":"X"},{"$f":"IF(ISBLANK(AD45),\" \",INDEX(CO:CO,MATCH(AD45,CM:CM,0)))","v":" "},{"$f":"IF(ISBLANK(AD46),\" \",INDEX('Eingabe Spielernamen'!$F:$F,MATCH(Z46,'Eingabe Spielernamen'!$B:$B,0))&\", \"&INDEX('Eingabe Spielernamen'!$G:$G,MATCH(Z46,'Eingabe Spielernamen'!$B:$B,0)))","v":{"$error":"#N/A"}},null,null,{"$f":"AD45","v":0},null,null,null,null,{"$f":"IF(ISBLANK(AE46),\" \",AE46+(AF46-AG46)*50+IF(COUNT(AE45:AE48)=3,(AG45+AG47+AG48)*40,(AG45+AG47+AG48)*30))","v":" "},0,{"$f":"IF(COUNTIF(AL$13:AL46,AL46)>1,\"X\",\"\")","v":"X"},{"$f":"IF(ISBLANK(AP45),\" \",INDEX(CT:CT,MATCH(AP45,CR:CR,0)))","v":" "},{"$f":"IF(ISBLANK(AP46),\" \",INDEX('Eingabe Spielernamen'!$F:$F,MATCH(AL46,'Eingabe Spielernamen'!$B:$B,0))&\", \"&INDEX('Eingabe Spielernamen'!$G:$G,MATCH(AL46,'Eingabe Spielernamen'!$B:$B,0)))","v":{"$error":"#N/A"}},null,null,{"$f":"AP45","v":0},null,null,null,null,{"$f":"IF(ISBLANK(AQ46),\" \",AQ46+(AR46-AS46)*50+IF(COUNT(AQ45:AQ48)=3,(AS45+AS47+AS48)*40,(AS45+AS47+AS48)*30))","v":" "},0,{"$f":"IF(COUNTIF(AX$13:AX46,AX46)>1,\"X\",\"\")","v":"X"},{"$f":"IF(ISBLANK(BB45),\" \",INDEX(CY:CY,MATCH(BB45,CW:CW,0)))","v":" "},{"$f":"IF(ISBLANK(BB46),\" \",INDEX('Eingabe Spielernamen'!$F:$F,MATCH(AX46,'Eingabe Spielernamen'!$B:$B,0))&\", \"&INDEX('Eingabe Spielernamen'!$G:$G,MATCH(AX46,'Eingabe Spielernamen'!$B:$B,0)))","v":{"$error":"#N/A"}},null,null,{"$f":"BB45","v":0},null,null,null,null,{"$f":"IF(ISBLANK(BC46),\" \",BC46+(BD46-BE46)*50+IF(COUNT(BC45:BC48)=3,(BE45+BE47+BE48)*40,(BE45+BE47+BE48)*30))","v":" "},0,{"$f":"IF(COUNTIF(BJ$13:BJ46,BJ46)>1,\"X\",\"\")","v":"X"},{"$f":"IF(ISBLANK(BN45),\" \",INDEX(DD:DD,MATCH(BN45,DB:DB,0)))","v":" "},{"$f":"IF(ISBLANK(BN46),\" \",INDEX('Eingabe Spielernamen'!$F:$F,MATCH(BJ46,'Eingabe Spielernamen'!$B:$B,0))&\", \"&INDEX('Eingabe Spielernamen'!$G:$G,MATCH(BJ46,'Eingabe Spielernamen'!$B:$B,0)))","v":{"$error":"#N/A"}},null,null,{"$f":"BN45","v":0},null,null,null,null,{"$f":"IF(ISBLANK(BO46),\" \",BO46+(BP46-BQ46)*50+IF(COUNT(BO45:BO48)=3,(BQ45+BQ47+BQ48)*40,(BQ45+BQ47+BQ48)*30))","v":" "},0]
[{"$f":"IF(COUNTIF(B$13:B47,B47)>1,\"X\",\"\")","v":"X"},{"$f":"IF(ISBLANK(F45),\" \",INDEX(CF:CF,MATCH(F45,CC:CC,0)))","v":" "},{"$f":"IF(ISBLANK(F47),\" \",INDEX('Eingabe Spielernamen'!$F:$F,MATCH(B47,'Eingabe Spielernamen'!$B:$B,0))&\", \"&INDEX('Eingabe Spielernamen'!$G:$G,MATCH(B47,'Eingabe Spielernamen'!$B:$B,0)))","v":{"$error":"#N/A"}},null,null,{"$f":"F45","v":0},null,null,null,null,{"$f":"IF(ISBLANK(G47),\" \",G47+(H47-I47)*50+IF(COUNT(G45:G48)=3,(I45+I46+I48)*40,(I45+I46+I48)*30))","v":" "},0,{"$f":"IF(COUNTIF(N$13:N47,N47)>1,\"X\",\"\")","v":"X"},{"$f":"IF(ISBLANK(R45),\" \",INDEX(CK:CK,MATCH(R45,CH:CH,0)))","v":" "},{"$f":"IF(ISBLANK(R47),\" \",INDEX('Eingabe Spielernamen'!$F:$F,MATCH(N47,'Eingabe Spielernamen'!$B:$B,0))&\", \"&INDEX('Eingabe Spielernamen'!$G:$G,MATCH(N47,'Eingabe Spielernamen'!$B:$B,0)))","v":{"$error":"#N/A"}},null,null,{"$f":"R45","v":0},null,null,null,null,{"$f":"IF(ISBLANK(S47),\" \",S47+(T47-U47)*50+IF(COUNT(S45:S48)=3,(U45+U46+U48)*40,(U45+U46+U48)*30))","v":" "},0,{"$f":"IF(COUNTIF(Z$13:Z47,Z47)>1,\"X\",\"\")","v":"X"},{"$f":"IF(ISBLANK(AD45),\" \",INDEX(CP:CP,MATCH(AD45,CM:CM,0)))","v":" "},{"$f":"IF(ISBLANK(AD47),\" \",INDEX('Eingabe Spielernamen'!$F:$F,MATCH(Z47,'Eingabe Spielernamen'!$B:$B,0))&\", \"&INDEX('Eingabe Spielernamen'!$G:$G,MATCH(Z47,'Eingabe Spielernamen'!$B:$B,0)))","v":{"$error":"#N/A"}},null,null,{"$f":"AD45","v":0},null,null,null,null,{"$f":"IF(ISBLANK(AE47),\" \",AE47+(AF47-AG47)*50+IF(COUNT(AE45:AE48)=3,(AG45+AG46+AG48)*40,(AG45+AG46+AG48)*30))","v":" "},0,{"$f":"IF(COUNTIF(AL$13:AL47,AL47)>1,\"X\",\"\")","v":"X"},{"$f":"IF(ISBLANK(AP45),\" \",INDEX(CU:CU,MATCH(AP45,CR:CR,0)))","v":" "},{"$f":"IF(ISBLANK(AP47),\" \",INDEX('Eingabe Spielernamen'!$F:$F,MATCH(AL47,'Eingabe Spielernamen'!$B:$B,0))&\", \"&INDEX('Eingabe Spielernamen'!$G:$G,MATCH(AL47,'Eingabe Spielernamen'!$B:$B,0)))","v":{"$error":"#N/A"}},null,null,{"$f":"AP45","v":0},null,null,null,null,{"$f":"IF(ISBLANK(AQ47),\" \",AQ47+(AR47-AS47)*50+IF(COUNT(AQ45:AQ48)=3,(AS45+AS46+AS48)*40,(AS45+AS46+AS48)*30))","v":" "},0,{"$f":"IF(COUNTIF(AX$13:AX47,AX47)>1,\"X\",\"\")","v":"X"},{"$f":"IF(ISBLANK(BB45),\" \",INDEX(CZ:CZ,MATCH(BB45,CW:CW,0)))","v":" "},{"$f":"IF(ISBLANK(BB47),\" \",INDEX('Eingabe Spielernamen'!$F:$F,MATCH(AX47,'Eingabe Spielernamen'!$B:$B,0))&\", \"&INDEX('Eingabe Spielernamen'!$G:$G,MATCH(AX47,'Eingabe Spielernamen'!$B:$B,0)))","v":{"$error":"#N/A"}},null,null,{"$f":"BB45","v":0},null,null,null,null,{"$f":"IF(ISBLANK(BC47),\" \",BC47+(BD47-BE47)*50+IF(COUNT(BC45:BC48)=3,(BE45+BE46+BE48)*40,(BE45+BE46+BE48)*30))","v":" "},0,{"$f":"IF(COUNTIF(BJ$13:BJ47,BJ47)>1,\"X\",\"\")","v":"X"},{"$f":"IF(ISBLANK(BN45),\" \",INDEX(DE:DE,MATCH(BN45,DB:DB,0)))","v":" "},{"$f":"IF(ISBLANK(BN47),\" \",INDEX('Eingabe Spielernamen'!$F:$F,MATCH(BJ47,'Eingabe Spielernamen'!$B:$B,0))&\", \"&INDEX('Eingabe Spielernamen'!$G:$G,MATCH(BJ47,'Eingabe Spielernamen'!$B:$B,0)))","v":{"$error":"#N/A"}},null,null,{"$f":"BN45","v":0},null,null,null,null,{"$f":"IF(ISBLANK(BO47),\" \",BO47+(BP47-BQ47)*50+IF(COUNT(BO45:BO48)=3,(BQ45+BQ46+BQ48)*40,(BQ45+BQ46+BQ48)*30))","v":" "},0]
[{"$f":"IF(COUNTIF(B$13:B48,B48)>1,\"X\",\"\")","v":"X"},{"$f":"IF(ISBLANK(F45),\" \",INDEX(CG:CG,MATCH(F45,CC:CC,0)))","v":" "},{"$f":"IF(ISBLANK(F48),\" \",INDEX('Eingabe Spielernamen'!$F:$F,MATCH(B48,'Eingabe Spielernamen'!$B:$B,0))&\", \"&INDEX('Eingabe Spielernamen'!$G:$G,MATCH(B48,'Eingabe Spielernamen'!$B:$B,0)))","v":{"$error":"#N/A"}},null,null,{"$f":"F45","v":0},null,null,null,null,{"$f":"IF(ISBLANK(G48),\" \",G48+(H48-I48)*50+IF(COUNT(G45:G48)=3,(I45+I46+I47)*40,(I45+I46+I47)*30))","v":" "},0,{"$f":"IF(COUNTIF(N$13:N48,N48)>1,\"X\",\"\")","v":"X"},{"$f":"IF(ISBLANK(R45),\" \",INDEX(CL:CL,MATCH(R45,CH:CH,0)))","v":" "},{"$f":"IF(ISBLANK(R48),\" \",INDEX('Eingabe Spielernamen'!$F:$F,MATCH(N48,'Eingabe Spielernamen'!$B:$B,0))&\", \"&INDEX('Eingabe Spielernamen'!$G:$G,MATCH(N48,'Eingabe Spielernamen'!$B:$B,0)))","v":{"$error":"#N/A"}},null,null,{"$f":"R45","v":0},null,null,null,null,{"$f":"IF(ISBLANK(S48),\" \",S48+(T48-U48)*50+IF(COUNT(S45:S48)=3,(U45+U46+U47)*40,(U45+U46+U47)*30))","v":" "},0,{"$f":"IF(COUNTIF(Z$13:Z48,Z48)>1,\"X\",\"\")","v":"X"},{"$f":"IF(ISBLANK(AD45),\" \",INDEX(CQ:CQ,MATCH(AD45,CM:CM,0)))","v":" "},{"$f":"IF(ISBLANK(AD48),\" \",INDEX('Eingabe Spielernamen'!$F:$F,MATCH(Z48,'Eingabe Spielernamen'!$B:$B,0))&\", \"&INDEX('Eingabe Spielernamen'!$G:$G,MATCH(Z48,'Eingabe Spielernamen'!$B:$B,0)))","v":{"$error":"#N/A"}},null,null,{"$f":"AD45","v":0},null,null,null,null,{"$f":"IF(ISBLANK(AE48),\" \",AE48+(AF48-AG48)*50+IF(COUNT(AE45:AE48)=3,(AG45+AG46+AG47)*40,(AG45+AG46+AG47)*30))","v":" "},0,{"$f":"IF(COUNTIF(AL$13:AL48,AL48)>1,\"X\",\"\")","v":"X"},{"$f":"IF(ISBLANK(AP45),\" \",INDEX(CV:CV,MATCH(AP45,CR:CR,0)))","v":" "},{"$f":"IF(ISBLANK(AP48),\" \",INDEX('Eingabe Spielernamen'!$F:$F,MATCH(AL48,'Eingabe Spielernamen'!$B:$B,0))&\", \"&INDEX('Eingabe Spielernamen'!$G:$G,MATCH(AL48,'Eingabe Spielernamen'!$B:$B,0)))","v":{"$error":"#N/A"}},null,null,{"$f":"AP45","v":0},null,null,null,null,{"$f":"IF(ISBLANK(AQ48),\" \",AQ48+(AR48-AS48)*50+IF(COUNT(AQ45:AQ48)=3,(AS45+AS46+AS47)*40,(AS45+AS46+AS47)*30))","v":" "},0,{"$f":"IF(COUNTIF(AX$13:AX48,AX48)>1,\"X\",\"\")","v":"X"},{"$f":"IF(ISBLANK(BB45),\" \",INDEX(DA:DA,MATCH(BB45,CW:CW,0)))","v":" "},{"$f":"IF(ISBLANK(BB48),\" \",INDEX('Eingabe Spielernamen'!$F:$F,MATCH(AX48,'Eingabe Spielernamen'!$B:$B,0))&\", \"&INDEX('Eingabe Spielernamen'!$G:$G,MATCH(AX48,'Eingabe Spielernamen'!$B:$B,0)))","v":{"$error":"#N/A"}},null,null,{"$f":"BB45","v":0},null,null,null,null,{"$f":"IF(ISBLANK(BC48),\" \",BC48+(BD48-BE48)*50+IF(COUNT(BC45:BC48)=3,(BE45+BE46+BE47)*40,(BE45+BE46+BE47)*30))","v":" "},0,{"$f":"IF(COUNTIF(BJ$13:BJ48,BJ48)>1,\"X\",\"\")","v":"X"},{"$f":"IF(ISBLANK(BN45),\" \",INDEX(DF:DF,MATCH(BN45,DB:DB,0)))","v":" "},{"$f":"IF(ISBLANK(BN48),\" \",INDEX('Eingabe Spielernamen'!$F:$F,MATCH(BJ48,'Eingabe Spielernamen'!$B:$B,0))&\", \"&INDEX('Eingabe Spielernamen'!$G:$G,MATCH(BJ48,'Eingabe Spielernamen'!$B:$B,0)))","v":{"$error":"#N/A"}},null,null,{"$f":"BN45","v":0},null,null,null,null,{"$f":"IF(ISBLANK(BO48),\" \",BO48+(BP48-BQ48)*50+IF(COUNT(BO45:BO48)=3,(BQ45+BQ46+BQ47)*40,(BQ45+BQ46+BQ47)*30))","v":" "},0]
[{"$f":"IF(COUNTIF(B$13:B49,B49)>1,\"X\",\"\")","v":"X"},{"$f":"IF(ISBLANK(F49),\" \",INDEX(CD:CD,MATCH(F49,CC:CC,0)))","v":" "},{"$f":"IF(ISBLANK(F49),\" \",INDEX('Eingabe Spielernamen'!$F:$F,MATCH(B49,'Eingabe Spielernamen'!$B:$B,0))&\", \"&INDEX('Eingabe Spielernamen'!$G:$G,MATCH(B49,'Eingabe Spielernamen'!$B:$B,0)))","v":" "},null,null,null,null,null,null,null,{"$f":"IF(ISBLANK(G49),\" \",G49+(H49-I49)*50+IF(COUNT(G49:G52)=3,(I50+I51+I52)*40,(I50+I51+I52)*30))","v":" "},0,{"$f":"IF(COUNTIF(N$13:N49,N49)>1,\"X\",\"\")","v":"X"},{"$f":"IF(ISBLANK(R49),\" \",INDEX(CI:CI,MATCH(R49,CH:CH,0)))","v":" "},{"$f":"IF(ISBLANK(R49),\" \",INDEX('Eingabe Spielernamen'!$F:$F,MATCH(N49,'Eingabe Spielernamen'!$B:$B,0))&\", \"&INDEX('Eingabe Spielernamen'!$G:$G,MATCH(N49,'Eingabe Spielernamen'!$B:$B,0)))","v":" "},null,null,null,null,null,null,null,{"$f":"IF(ISBLANK(S49),\" \",S49+(T49-U49)*50+IF(COUNT(S49:S52)=3,(U50+U51+U52)*40,(U50+U51+U52)*30))","v":" "},0,{"$f":"IF(COUNTIF(Z$13:Z49,Z49)>1,\"X\",\"\")","v":"X"},{"$f":"IF(ISBLANK(AD49),\" \",INDEX(CN:CN,MATCH(AD49,CM:CM,0)))","v":" "},{"$f":"IF(ISBLANK(AD49),\" \",INDEX('Eingabe Spielernamen'!$F:$F,MATCH(Z49,'Eingabe Spielernamen'!$B:$B,0))&\", \"&INDEX('Eingabe Spielernamen'!$G:$G,MATCH(Z49,'Eingabe Spielernamen'!$B:$B,0)))","v":" "},null,null,null,null,null,null,null,{"$f":"IF(ISBLANK(AE49),\" \",AE49+(AF49-AG49)*50+IF(COUNT(AE49:AE52)=3,(AG50+AG51+AG52)*40,(AG50+AG51+AG52)*30))","v":" "},0,{"$f":"IF(COUNTIF(AL$13:AL49,AL49)>1,\"X\",\"\")","v":"X"},{"$f":"IF(ISBLANK(AP49),\" \",INDEX(CS:CS,MATCH(AP49,CR:CR,0)))","v":" "},{"$f":"IF(ISBLANK(AP49),\" \",INDEX('Eingabe Spielernamen'!$F:$F,MATCH(AL49,'Eingabe Spielernamen'!$B:$B,0))&\", \"&INDEX('Eingabe Spielernamen'!$G:$G,MATCH(AL49,'Eingabe Spielernamen'!$B:$B,0)))","v":" "},null,null,null,null,null,null,null,{"$f":"IF(ISBLANK(AQ49),\" \",AQ49+(AR49-AS49)*50+IF(COUNT(AQ49:AQ52)=3,(AS50+AS51+AS52)*40,(AS50+AS51+AS52)*30))","v":" "},0,{"$f":"IF(COUNTIF(AX$13:AX49,AX49)>1,\"X\",\"\")","v":"X"},{"$f":"IF(ISBLANK(BB49),\" \",INDEX(CX:CX,MATCH(BB49,CW:CW,0)))","v":" "},{"$f":"IF(ISBLANK(BB49),\" \",INDEX('Eingabe Spielernamen'!$F:$F,MATCH(AX49,'Eingabe Spielernamen'!$B:$B,0))&\", \"&INDEX('Eingabe Spielernamen'!$G:$G,MATCH(AX49,'Eingabe Spielernamen'!$B:$B,0)))","v":" "},null,null,null,null,null,null,null,{"$f":"IF(ISBLANK(BC49),\" \",BC49+(BD49-BE49)*50+IF(COUNT(BC49:BC52)=3,(BE50+BE51+BE52)*40,(BE50+BE51+BE52)*30))","v":" "},0,{"$f":"IF(COUNTIF(BJ$13:BJ49,BJ49)>1,\"X\",\"\")","v":"X"},{"$f":"IF(ISBLANK(BN49),\" \",INDEX(DC:DC,MATCH(BN49,DB:DB,0)))","v":" "},{"$f":"IF(ISBLANK(BN49),\" \",INDEX('Eingabe Spielernamen'!$F:$F,MATCH(BJ49,'Eingabe Spielernamen'!$B:$B,0))&\", \"&INDEX('Eingabe Spielernamen'!$G:$G,MATCH(BJ49,'Eingabe Spielernamen'!$B:$B,0)))","v":" "},null,null,null,null,null,null,null,{"$f":"IF(ISBLANK(BO49),\" \",BO49+(BP49-BQ49)*50+IF(COUNT(BO49:BO52)=3,(BQ50+BQ51+BQ52)*40,(BQ50+BQ51+BQ52)*30))","v":" "},0,null,null,{"$f":"SUM(L49:L52)","v":0},{"$f":"SUM(X49:X52)","v":0},{"$f":"SUM(AJ49:AJ52)","v":0},{"$f":"SUM(AV49:AV52)","v":0},{"$f":"SUM(BH49:BH52)","v":0},{"$f":"SUM(BT49:BT52)","v":0}]
[{"$f":"IF(COUNTIF(B$13:B50,B50)>1,\"X\",\"\")","v":"X"},{"$f":"IF(ISBLANK(F49),\" \",INDEX(CE:CE,MATCH(F49,CC:CC,0)))","v":" "},{"$f":"IF(ISBLANK(F50),\" \",INDEX('Eingabe Spielernamen'!$F:$F,MATCH(B50,'Eingabe Spielernamen'!$B:$B,0))&\", \"&INDEX('Eingabe Spielernamen'!$G:$G,MATCH(B50,'Eingabe Spielernamen'!$B:$B,0)))","v":{"$error":"#N/A"}},null,null,{"$f":"F49","v":0},null,null,null,null,{"$f":"IF(ISBLANK(G50),\" \",G50+(H50-I50)*50+IF(COUNT(G49:G52)=3,(I49+I51+I52)*40,(I49+I51+I52)*30))","v":" "},0,{"$f":"IF(COUNTIF(N$13:N50,N50)>1,\"X\",\"\")","v":"X"},{"$f":"IF(ISBLANK(R49),\" \",INDEX(CJ:CJ,MATCH(R49,CH:CH,0)))","v":" "},{"$f":"IF(ISBLANK(R50),\" \",INDEX('Eingabe Spielernamen'!$F:$F,MATCH(N50,'Eingabe Spielernamen'!$B:$B,0))&\", \"&INDEX('Eingabe Spielernamen'!$G:$G,MATCH(N50,'Eingabe Spielernamen'!$B:$B,0)))","v":{"$error":"#N/A"}},null,null,{"$f":"R49","v":0},null,null,null,null,{"$f":"IF(ISBLANK(S50),\" \",S50+(T50-U50)*50+IF(COUNT(S49:S52)=3,(U49+U51+U52)*40,(U49+U51+U52)*30))","v":" "},0,{"$f":"IF(COUNTIF(Z$13:Z50,Z50)>1,\"X\",\"\")","v":"X"},{"$f":"IF(ISBLANK(AD49),\" \",INDEX(CO:CO,MATCH(AD49,CM:CM,0)))","v":" "},{"$f":"IF(ISBLANK(AD50),\" \",INDEX('Eingabe Spielernamen'!$F:$F,MATCH(Z50,'Eingabe Spielernamen'!$B:$B,0))&\", \"&INDEX('Eingabe Spielernamen'!$G:$G,MATCH(Z50,'Eingabe Spielernamen'!$B:$B,0)))","v":{"$error":"#N/A"}},null,null,{"$f":"AD49","v":0},null,null,null,null,{"$f":"IF(ISBLANK(AE50),\" \",AE50+(AF50-AG50)*50+IF(COUNT(AE49:AE52)=3,(AG49+AG51+AG52)*40,(AG49+AG51+AG52)*30))","v":" "},0,{"$f":"IF(COUNTIF(AL$13:AL50,AL50)>1,\"X\",\"\")","v":"X"},{"$f":"IF(ISBLANK(AP49),\" \",INDEX(CT:CT,MATCH(AP49,CR:CR,0)))","v":" "},{"$f":"IF(ISBLANK(AP50),\" \",INDEX('Eingabe Spielernamen'!$F:$F,MATCH(AL50,'Eingabe Spielernamen'!$B:$B,0))&\", \"&INDEX('Eingabe Spielernamen'!$G:$G,MATCH(AL50,'Eingabe Spielernamen'!$B:$B,0)))","v":{"$error":"#N/A"}},null,null,{"$f":"AP49","v":0},null,null,null,null,{"$f":"IF(ISBLANK(AQ50),\" \",AQ50+(AR50-AS50)*50+IF(COUNT(AQ49:AQ52)=3,(AS49+AS51+AS52)*40,(AS49+AS51+AS52)*30))","v":" "},0,{"$f":"IF(COUNTIF(AX$13:AX50,AX50)>1,\"X\",\"\")","v":"X"},{"$f":"IF(ISBLANK(BB49),\" \",INDEX(CY:CY,MATCH(BB49,CW:CW,0)))","v":" "},{"$f":"IF(ISBLANK(BB50),\" \",INDEX('Eingabe Spielernamen'!$F:$F,MATCH(AX50,'Eingabe Spielernamen'!$B:$B,0))&\", \"&INDEX('Eingabe Spielernamen'!$G:$G,MATCH(AX50,'Eingabe Spielernamen'!$B:$B,0)))","v":{"$error":"#N/A"}},null,null,{"$f":"BB49","v":0},null,null,null,null,{"$f":"IF(ISBLANK(BC50),\" \",BC50+(BD50-BE50)*50+IF(COUNT(BC49:BC52)=3,(BE49+BE51+BE52)*40,(BE49+BE51+BE52)*30))","v":" "},0,{"$f":"IF(COUNTIF(BJ$13:BJ50,BJ50)>1,\"X\",\"\")","v":"X"},{"$f":"IF(ISBLANK(BN49),\" \",INDEX(DD:DD,MATCH(BN49,DB:DB,0)))","v":" "},{"$f":"IF(ISBLANK(BN50),\" \",INDEX('Eingabe Spielernamen'!$F:$F,MATCH(BJ50,'Eingabe Spielernamen'!$B:$B,0))&\", \"&INDEX('Eingabe Spielernamen'!$G:$G,MATCH(BJ50,'Eingabe Spielernamen'!$B:$B,0)))","v":{"$error":"#N/A"}},null,null,{"$f":"BN49","v":0},null,null,null,null,{"$f":"IF(ISBLANK(BO50),\" \",BO50+(BP50-BQ50)*50+IF(COUNT(BO49:BO52)=3,(BQ49+BQ51+BQ52)*40,(BQ49+BQ51+BQ52)*30))","v":" "},0]
[{"$f":"IF(COUNTIF(B$13:B51,B51)>1,\"X\",\"\")","v":"X"},{"$f":"IF(ISBLANK(F49),\" \",INDEX(CF:CF,MATCH(F49,CC:CC,0)))","v":" "},{"$f":"IF(ISBLANK(F51),\" \",INDEX('Eingabe Spielernamen'!$F:$F,MATCH(B51,'Eingabe Spielernamen'!$B:$B,0))&\", \"&INDEX('Eingabe Spielernamen'!$G:$G,MATCH(B51,'Eingabe Spielernamen'!$B:$B,0)))","v":{"$error":"#N/A"}},null,null,{"$f":"F49","v":0},null,null,null,null,{"$f":"IF(ISBLANK(G51),\" \",G51+(H51-I51)*50+IF(COUNT(G49:G52)=3,(I49+I50+I52)*40,(I49+I50+I52)*30))","v":" "},0,{"$f":"IF(COUNTIF(N$13:N51,N51)>1,\"X\",\"\")","v":"X"},{"$f":"IF(ISBLANK(R49),\" \",INDEX(CK:CK,MATCH(R49,CH:CH,0)))","v":" "},{"$f":"IF(ISBLANK(R51),\" \",INDEX('Eingabe Spielernamen'!$F:$F,MATCH(N51,'Eingabe Spielernamen'!$B:$B,0))&\", \"&INDEX('Eingabe Spielernamen'!$G:$G,MATCH(N51,'Eingabe Spielernamen'!$B:$B,0)))","v":{"$error":"#N/A"}},null,null,{"$f":"R49","v":0},null,null,null,null,{"$f":"IF(ISBLANK(S51),\" \",S51+(T51-U51)*50+IF(COUNT(S49:S52)=3,(U49+U50+U52)*40,(U49+U50+U52)*30))","v":" "},0,{"$f":"IF(COUNTIF(Z$13:Z51,Z51)>1,\"X\",\"\")","v":"X"},{"$f":"IF(ISBLANK(AD49),\" \",INDEX(CP:CP,MATCH(AD49,CM:CM,0)))","v":" "},{"$f":"IF(ISBLANK(AD51),\" \",INDEX('Eingabe Spielernamen'!$F:$F,MATCH(Z51,'Eingabe Spielernamen'!$B:$B,0))&\", \"&INDEX('Eingabe Spielernamen'!$G:$G,MATCH(Z51,'Eingabe Spielernamen'!$B:$B,0)))","v":{"$error":"#N/A"}},null,null,{"$f":"AD49","v":0},null,null,null,null,{"$f":"IF(ISBLANK(AE51),\" \",AE51+(AF51-AG51)*50+IF(COUNT(AE49:AE52)=3,(AG49+AG50+AG52)*40,(AG49+AG50+AG52)*30))","v":" "},0,{"$f":"IF(COUNTIF(AL$13:AL51,AL51)>1,\"X\",\"\")","v":"X"},{"$f":"IF(ISBLANK(AP49),\" \",INDEX(CU:CU,MATCH(AP49,CR:CR,0)))","v":" "},{"$f":"IF(ISBLANK(AP51),\" \",INDEX('Eingabe Spielernamen'!$F:$F,MATCH(AL51,'Eingabe Spielernamen'!$B:$B,0))&\", \"&INDEX('Eingabe Spielernamen'!$G:$G,MATCH(AL51,'Eingabe Spielernamen'!$B:$B,0)))","v":{"$error":"#N/A"}},null,null,{"$f":"AP49","v":0},null,null,null,null,{"$f":"IF(ISBLANK(AQ51),\" \",AQ51+(AR51-AS51)*50+IF(COUNT(AQ49:AQ52)=3,(AS49+AS50+AS52)*40,(AS49+AS50+AS52)*30))","v":" "},0,{"$f":"IF(COUNTIF(AX$13:AX51,AX51)>1,\"X\",\"\")","v":"X"},{"$f":"IF(ISBLANK(BB49),\" \",INDEX(CZ:CZ,MATCH(BB49,CW:CW,0)))","v":" "},{"$f":"IF(ISBLANK(BB51),\" \",INDEX('Eingabe Spielernamen'!$F:$F,MATCH(AX51,'Eingabe Spielernamen'!$B:$B,0))&\", \"&INDEX('Eingabe Spielernamen'!$G:$G,MATCH(AX51,'Eingabe Spielernamen'!$B:$B,0)))","v":{"$error":"#N/A"}},null,null,{"$f":"BB49","v":0},null,null,null,null,{"$f":"IF(ISBLANK(BC51),\" \",BC51+(BD51-BE51)*50+IF(COUNT(BC49:BC52)=3,(BE49+BE50+BE52)*40,(BE49+BE50+BE52)*30))","v":" "},0,{"$f":"IF(COUNTIF(BJ$13:BJ51,BJ51)>1,\"X\",\"\")","v":"X"},{"$f":"IF(ISBLANK(BN49),\" \",INDEX(DE:DE,MATCH(BN49,DB:DB,0)))","v":" "},{"$f":"IF(ISBLANK(BN51),\" \",INDEX('Eingabe Spielernamen'!$F:$F,MATCH(BJ51,'Eingabe Spielernamen'!$B:$B,0))&\", \"&INDEX('Eingabe Spielernamen'!$G:$G,MATCH(BJ51,'Eingabe Spielernamen'!$B:$B,0)))","v":{"$error":"#N/A"}},null,null,{"$f":"BN49","v":0},null,null,null,null,{"$f":"IF(ISBLANK(BO51),\" \",BO51+(BP51-BQ51)*50+IF(COUNT(BO49:BO52)=3,(BQ49+BQ50+BQ52)*40,(BQ49+BQ50+BQ52)*30))","v":" "},0]
[{"$f":"IF(COUNTIF(B$13:B52,B52)>1,\"X\",\"\")","v":"X"},{"$f":"IF(ISBLANK(F49),\" \",INDEX(CG:CG,MATCH(F49,CC:CC,0)))","v":" "},{"$f":"IF(ISBLANK(F52),\" \",INDEX('Eingabe Spielernamen'!$F:$F,MATCH(B52,'Eingabe Spielernamen'!$B:$B,0))&\", \"&INDEX('Eingabe Spielernamen'!$G:$G,MATCH(B52,'Eingabe Spielernamen'!$B:$B,0)))","v":{"$error":"#N/A"}},null,null,{"$f":"F49","v":0},null,null,null,null,{"$f":"IF(ISBLANK(G52),\" \",G52+(H52-I52)*50+IF(COUNT(G49:G52)=3,(I49+I50+I51)*40,(I49+I50+I51)*30))","v":" "},0,{"$f":"IF(COUNTIF(N$13:N52,N52)>1,\"X\",\"\")","v":"X"},{"$f":"IF(ISBLANK(R49),\" \",INDEX(CL:CL,MATCH(R49,CH:CH,0)))","v":" "},{"$f":"IF(ISBLANK(R52),\" \",INDEX('Eingabe Spielernamen'!$F:$F,MATCH(N52,'Eingabe Spielernamen'!$B:$B,0))&\", \"&INDEX('Eingabe Spielernamen'!$G:$G,MATCH(N52,'Eingabe Spielernamen'!$B:$B,0)))","v":{"$error":"#N/A"}},null,null,{"$f":"R49","v":0},null,null,null,null,{"$f":"IF(ISBLANK(S52),\" \",S52+(T52-U52)*50+IF(COUNT(S49:S52)=3,(U49+U50+U51)*40,(U49+U50+U51)*30))","v":" "},0,{"$f":"IF(COUNTIF(Z$13:Z52,Z52)>1,\"X\",\"\")","v":"X"},{"$f":"IF(ISBLANK(AD49),\" \",INDEX(CQ:CQ,MATCH(AD49,CM:CM,0)))","v":" "},{"$f":"IF(ISBLANK(AD52),\" \",INDEX('Eingabe Spielernamen'!$F:$F,MATCH(Z52,'Eingabe Spielernamen'!$B:$B,0))&\", \"&INDEX('Eingabe Spielernamen'!$G:$G,MATCH(Z52,'Eingabe Spielernamen'!$B:$B,0)))","v":{"$error":"#N/A"}},null,null,{"$f":"AD49","v":0},null,null,null,null,{"$f":"IF(ISBLANK(AE52),\" \",AE52+(AF52-AG52)*50+IF(COUNT(AE49:AE52)=3,(AG49+AG50+AG51)*40,(AG49+AG50+AG51)*30))","v":" "},0,{"$f":"IF(COUNTIF(AL$13:AL52,AL52)>1,\"X\",\"\")","v":"X"},{"$f":"IF(ISBLANK(AP49),\" \",INDEX(CV:CV,MATCH(AP49,CR:CR,0)))","v":" "},{"$f":"IF(ISBLANK(AP52),\" \",INDEX('Eingabe Spielernamen'!$F:$F,MATCH(AL52,'Eingabe Spielernamen'!$B:$B,0))&\", \"&INDEX('Eingabe Spielernamen'!$G:$G,MATCH(AL52,'Eingabe Spielernamen'!$B:$B,0)))","v":{"$error":"#N/A"}},null,null,{"$f":"AP49","v":0},null,null,null,null,{"$f":"IF(ISBLANK(AQ52),\" \",AQ52+(AR52-AS52)*50+IF(COUNT(AQ49:AQ52)=3,(AS49+AS50+AS51)*40,(AS49+AS50+AS51)*30))","v":" "},0,{"$f":"IF(COUNTIF(AX$13:AX52,AX52)>1,\"X\",\"\")","v":"X"},{"$f":"IF(ISBLANK(BB49),\" \",INDEX(DA:DA,MATCH(BB49,CW:CW,0)))","v":" "},{"$f":"IF(ISBLANK(BB52),\" \",INDEX('Eingabe Spielernamen'!$F:$F,MATCH(AX52,'Eingabe Spielernamen'!$B:$B,0))&\", \"&INDEX('Eingabe Spielernamen'!$G:$G,MATCH(AX52,'Eingabe Spielernamen'!$B:$B,0)))","v":{"$error":"#N/A"}},null,null,{"$f":"BB49","v":0},null,null,null,null,{"$f":"IF(ISBLANK(BC52),\" \",BC52+(BD52-BE52)*50+IF(COUNT(BC49:BC52)=3,(BE49+BE50+BE51)*40,(BE49+BE50+BE51)*30))","v":" "},0,{"$f":"IF(COUNTIF(BJ$13:BJ52,BJ52)>1,\"X\",\"\")","v":"X"},{"$f":"IF(ISBLANK(BN49),\" \",INDEX(DF:DF,MATCH(BN49,DB:DB,0)))","v":" "},{"$f":"IF(ISBLANK(BN52),\" \",INDEX('Eingabe Spielernamen'!$F:$F,MATCH(BJ52,'Eingabe Spielernamen'!$B:$B,0))&\", \"&INDEX('Eingabe Spielernamen'!$G:$G,MATCH(BJ52,'Eingabe Spielernamen'!$B:$B,0)))","v":{"$error":"#N/A"}},null,null,{"$f":"BN49","v":0},null,null,null,null,{"$f":"IF(ISBLANK(BO52),\" \",BO52+(BP52-BQ52)*50+IF(COUNT(BO49:BO52)=3,(BQ49+BQ50+BQ51)*40,(BQ49+BQ50+BQ51)*30))","v":" "},0]
[{"$f":"IF(COUNTIF(B$13:B53,B53)>1,\"X\",\"\")","v":"X"},{"$f":"IF(ISBLANK(F53),\" \",INDEX(CD:CD,MATCH(F53,CC:CC,0)))","v":" "},{"$f":"IF(ISBLANK(F53),\" \",INDEX('Eingabe Spielernamen'!$F:$F,MATCH(B53,'Eingabe Spielernamen'!$B:$B,0))&\", \"&INDEX('Eingabe Spielernamen'!$G:$G,MATCH(B53,'Eingabe Spielernamen'!$B:$B,0)))","v":" "},null,null,null,null,null,null,null,{"$f":"IF(ISBLANK(G53),\" \",G53+(H53-I53)*50+IF(COUNT(G53:G56)=3,(I54+I55+I56)*40,(I54+I55+I56)*30))","v":" "},0,{"$f":"IF(COUNTIF(N$13:N53,N53)>1,\"X\",\"\")","v":"X"},{"$f":"IF(ISBLANK(R53),\" \",INDEX(CI:CI,MATCH(R53,CH:CH,0)))","v":" "},{"$f":"IF(ISBLANK(R53),\" \",INDEX('Eingabe Spielernamen'!$F:$F,MATCH(N53,'Eingabe Spielernamen'!$B:$B,0))&\", \"&INDEX('Eingabe Spielernamen'!$G:$G,MATCH(N53,'Eingabe Spielernamen'!$B:$B,0)))","v":" "},null,null,null,null,null,null,null,{"$f":"IF(ISBLANK(S53),\" \",S53+(T53-U53)*50+IF(COUNT(S53:S56)=3,(U54+U55+U56)*40,(U54+U55+U56)*30))","v":" "},0,{"$f":"IF(COUNTIF(Z$13:Z53,Z53)>1,\"X\",\"\")","v":"X"},{"$f":"IF(ISBLANK(AD53),\" \",INDEX(CN:CN,MATCH(AD53,CM:CM,0)))","v":" "},{"$f":"IF(ISBLANK(AD53),\" \",INDEX('Eingabe Spielernamen'!$F:$F,MATCH(Z53,'Eingabe Spielernamen'!$B:$B,0))&\", \"&INDEX('Eingabe Spielernamen'!$G:$G,MATCH(Z53,'Eingabe Spielernamen'!$B:$B,0)))","v":" "},null,null,null,null,null,null,null,{"$f":"IF(ISBLANK(AE53),\" \",AE53+(AF53-AG53)*50+IF(COUNT(AE53:AE56)=3,(AG54+AG55+AG56)*40,(AG54+AG55+AG56)*30))","v":" "},0,{"$f":"IF(COUNTIF(AL$13:AL53,AL53)>1,\"X\",\"\")","v":"X"},{"$f":"IF(ISBLANK(AP53),\" \",INDEX(CS:CS,MATCH(AP53,CR:CR,0)))","v":" "},{"$f":"IF(ISBLANK(AP53),\" \",INDEX('Eingabe Spielernamen'!$F:$F,MATCH(AL53,'Eingabe Spielernamen'!$B:$B,0))&\", \"&INDEX('Eingabe Spielernamen'!$G:$G,MATCH(AL53,'Eingabe Spielernamen'!$B:$B,0)))","v":" "},null,null,null,null,null,null,null,{"$f":"IF(ISBLANK(AQ53),\" \",AQ53+(AR53-AS53)*50+IF(COUNT(AQ53:AQ56)=3,(AS54+AS55+AS56)*40,(AS54+AS55+AS56)*30))","v":" "},0,{"$f":"IF(COUNTIF(AX$13:AX53,AX53)>1,\"X\",\"\")","v":"X"},{"$f":"IF(ISBLANK(BB53),\" \",INDEX(CX:CX,MATCH(BB53,CW:CW,0)))","v":" "},{"$f":"IF(ISBLANK(BB53),\" \",INDEX('Eingabe Spielernamen'!$F:$F,MATCH(AX53,'Eingabe Spielernamen'!$B:$B,0))&\", \"&INDEX('Eingabe Spielernamen'!$G:$G,MATCH(AX53,'Eingabe Spielernamen'!$B:$B,0)))","v":" "},null,null,null,null,null,null,null,{"$f":"IF(ISBLANK(BC53),\" \",BC53+(BD53-BE53)*50+IF(COUNT(BC53:BC56)=3,(BE54+BE55+BE56)*40,(BE54+BE55+BE56)*30))","v":" "},0,{"$f":"IF(COUNTIF(BJ$13:BJ53,BJ53)>1,\"X\",\"\")","v":"X"},{"$f":"IF(ISBLANK(BN53),\" \",INDEX(DC:DC,MATCH(BN53,DB:DB,0)))","v":" "},{"$f":"IF(ISBLANK(BN53),\" \",INDEX('Eingabe Spielernamen'!$F:$F,MATCH(BJ53,'Eingabe Spielernamen'!$B:$B,0))&\", \"&INDEX('Eingabe Spielernamen'!$G:$G,MATCH(BJ53,'Eingabe Spielernamen'!$B:$B,0)))","v":" "},null,null,null,null,null,null,null,{"$f":"IF(ISBLANK(BO53),\" \",BO53+(BP53-BQ53)*50+IF(COUNT(BO53:BO56)=3,(BQ54+BQ55+BQ56)*40,(BQ54+BQ55+BQ56)*30))","v":" "},0,null,null,{"$f":"SUM(L53:L56)","v":0},{"$f":"SUM(X53:X56)","v":0},{"$f":"SUM(AJ53:AJ56)","v":0},{"$f":"SUM(AV53:AV56)","v":0},{"$f":"SUM(BH53:BH56)","v":0},{"$f":"SUM(BT53:BT56)","v":0}]
[{"$f":"IF(COUNTIF(B$13:B54,B54)>1,\"X\",\"\")","v":"X"},{"$f":"IF(ISBLANK(F53),\" \",INDEX(CE:CE,MATCH(F53,CC:CC,0)))","v":" "},{"$f":"IF(ISBLANK(F54),\" \",INDEX('Eingabe Spielernamen'!$F:$F,MATCH(B54,'Eingabe Spielernamen'!$B:$B,0))&\", \"&INDEX('Eingabe Spielernamen'!$G:$G,MATCH(B54,'Eingabe Spielernamen'!$B:$B,0)))","v":{"$error":"#N/A"}},null,null,{"$f":"F53","v":0},null,null,null,null,{"$f":"IF(ISBLANK(G54),\" \",G54+(H54-I54)*50+IF(COUNT(G53:G56)=3,(I53+I55+I56)*40,(I53+I55+I56)*30))","v":" "},0,{"$f":"IF(COUNTIF(N$13:N54,N54)>1,\"X\",\"\")","v":"X"},{"$f":"IF(ISBLANK(R53),\" \",INDEX(CJ:CJ,MATCH(R53,CH:CH,0)))","v":" "},{"$f":"IF(ISBLANK(R54),\" \",INDEX('Eingabe Spielernamen'!$F:$F,MATCH(N54,'Eingabe Spielernamen'!$B:$B,0))&\", \"&INDEX('Eingabe Spielernamen'!$G:$G,MATCH(N54,'Eingabe Spielernamen'!$B:$B,0)))","v":{"$error":"#N/A"}},null,null,{"$f":"R53","v":0},null,null,null,null,{"$f":"IF(ISBLANK(S54),\" \",S54+(T54-U54)*50+IF(COUNT(S53:S56)=3,(U53+U55+U56)*40,(U53+U55+U56)*30))","v":" "},0,{"$f":"IF(COUNTIF(Z$13:Z54,Z54)>1,\"X\",\"\")","v":"X"},{"$f":"IF(ISBLANK(AD53),\" \",INDEX(CO:CO,MATCH(AD53,CM:CM,0)))","v":" "},{"$f":"IF(ISBLANK(AD54),\" \",INDEX('Eingabe Spielernamen'!$F:$F,MATCH(Z54,'Eingabe Spielernamen'!$B:$B,0))&\", \"&INDEX('Eingabe Spielernamen'!$G:$G,MATCH(Z54,'Eingabe Spielernamen'!$B:$B,0)))","v":{"$error":"#N/A"}},null,null,{"$f":"AD53","v":0},null,null,null,null,{"$f":"IF(ISBLANK(AE54),\" \",AE54+(AF54-AG54)*50+IF(COUNT(AE53:AE56)=3,(AG53+AG55+AG56)*40,(AG53+AG55+AG56)*30))","v":" "},0,{"$f":"IF(COUNTIF(AL$13:AL54,AL54)>1,\"X\",\"\")","v":"X"},{"$f":"IF(ISBLANK(AP53),\" \",INDEX(CT:CT,MATCH(AP53,CR:CR,0)))","v":" "},{"$f":"IF(ISBLANK(AP54),\" \",INDEX('Eingabe Spielernamen'!$F:$F,MATCH(AL54,'Eingabe Spielernamen'!$B:$B,0))&\", \"&INDEX('Eingabe Spielernamen'!$G:$G,MATCH(AL54,'Eingabe Spielernamen'!$B:$B,0)))","v":{"$error":"#N/A"}},null,null,{"$f":"AP53","v":0},null,null,null,null,{"$f":"IF(ISBLANK(AQ54),\" \",AQ54+(AR54-AS54)*50+IF(COUNT(AQ53:AQ56)=3,(AS53+AS55+AS56)*40,(AS53+AS55+AS56)*30))","v":" "},0,{"$f":"IF(COUNTIF(AX$13:AX54,AX54)>1,\"X\",\"\")","v":"X"},{"$f":"IF(ISBLANK(BB53),\" \",INDEX(CY:CY,MATCH(BB53,CW:CW,0)))","v":" "},{"$f":"IF(ISBLANK(BB54),\" \",INDEX('Eingabe Spielernamen'!$F:$F,MATCH(AX54,'Eingabe Spielernamen'!$B:$B,0))&\", \"&INDEX('Eingabe Spielernamen'!$G:$G,MATCH(AX54,'Eingabe Spielernamen'!$B:$B,0)))","v":{"$error":"#N/A"}},null,null,{"$f":"BB53","v":0},null,null,null,null,{"$f":"IF(ISBLANK(BC54),\" \",BC54+(BD54-BE54)*50+IF(COUNT(BC53:BC56)=3,(BE53+BE55+BE56)*40,(BE53+BE55+BE56)*30))","v":" "},0,{"$f":"IF(COUNTIF(BJ$13:BJ54,BJ54)>1,\"X\",\"\")","v":"X"},{"$f":"IF(ISBLANK(BN53),\" \",INDEX(DD:DD,MATCH(BN53,DB:DB,0)))","v":" "},{"$f":"IF(ISBLANK(BN54),\" \",INDEX('Eingabe Spielernamen'!$F:$F,MATCH(BJ54,'Eingabe Spielernamen'!$B:$B,0))&\", \"&INDEX('Eingabe Spielernamen'!$G:$G,MATCH(BJ54,'Eingabe Spielernamen'!$B:$B,0)))","v":{"$error":"#N/A"}},null,null,{"$f":"BN53","v":0},null,null,null,null,{"$f":"IF(ISBLANK(BO54),\" \",BO54+(BP54-BQ54)*50+IF(COUNT(BO53:BO56)=3,(BQ53+BQ55+BQ56)*40,(BQ53+BQ55+BQ56)*30))","v":" "},0]
[{"$f":"IF(COUNTIF(B$13:B55,B55)>1,\"X\",\"\")","v":"X"},{"$f":"IF(ISBLANK(F53),\" \",INDEX(CF:CF,MATCH(F53,CC:CC,0)))","v":" "},{"$f":"IF(ISBLANK(F55),\" \",INDEX('Eingabe Spielernamen'!$F:$F,MATCH(B55,'Eingabe Spielernamen'!$B:$B,0))&\", \"&INDEX('Eingabe Spielernamen'!$G:$G,MATCH(B55,'Eingabe Spielernamen'!$B:$B,0)))","v":{"$error":"#N/A"}},null,null,{"$f":"F53","v":0},null,null,null,null,{"$f":"IF(ISBLANK(G55),\" \",G55+(H55-I55)*50+IF(COUNT(G53:G56)=3,(I53+I54+I56)*40,(I53+I54+I56)*30))","v":" "},0,{"$f":"IF(COUNTIF(N$13:N55,N55)>1,\"X\",\"\")","v":"X"},{"$f":"IF(ISBLANK(R53),\" \",INDEX(CK:CK,MATCH(R53,CH:CH,0)))","v":" "},{"$f":"IF(ISBLANK(R55),\" \",INDEX('Eingabe Spielernamen'!$F:$F,MATCH(N55,'Eingabe Spielernamen'!$B:$B,0))&\", \"&INDEX('Eingabe Spielernamen'!$G:$G,MATCH(N55,'Eingabe Spielernamen'!$B:$B,0)))","v":{"$error":"#N/A"}},null,null,{"$f":"R53","v":0},null,null,null,null,{"$f":"IF(ISBLANK(S55),\" \",S55+(T55-U55)*50+IF(COUNT(S53:S56)=3,(U53+U54+U56)*40,(U53+U54+U56)*30))","v":" "},0,{"$f":"IF(COUNTIF(Z$13:Z55,Z55)>1,\"X\",\"\")","v":"X"},{"$f":"IF(ISBLANK(AD53),\" \",INDEX(CP:CP,MATCH(AD53,CM:CM,0)))","v":" "},{"$f":"IF(ISBLANK(AD55),\" \",INDEX('Eingabe Spielernamen'!$F:$F,MATCH(Z55,'Eingabe Spielernamen'!$B:$B,0))&\", \"&INDEX('Eingabe Spielernamen'!$G:$G,MATCH(Z55,'Eingabe Spielernamen'!$B:$B,0)))","v":{"$error":"#N/A"}},null,null,{"$f":"AD53","v":0},null,null,null,null,{"$f":"IF(ISBLANK(AE55),\" \",AE55+(AF55-AG55)*50+IF(COUNT(AE53:AE56)=3,(AG53+AG54+AG56)*40,(AG53+AG54+AG56)*30))","v":" "},0,{"$f":"IF(COUNTIF(AL$13:AL55,AL55)>1,\"X\",\"\")","v":"X"},{"$f":"IF(ISBLANK(AP53),\" \",INDEX(CU:CU,MATCH(AP53,CR:CR,0)))","v":" "},{"$f":"IF(ISBLANK(AP55),\" \",INDEX('Eingabe Spielernamen'!$F:$F,MATCH(AL55,'Eingabe Spielernamen'!$B:$B,0))&\", \"&INDEX('Eingabe Spielernamen'!$G:$G,MATCH(AL55,'Eingabe Spielernamen'!$B:$B,0)))","v":{"$error":"#N/A"}},null,null,{"$f":"AP53","v":0},null,null,null,null,{"$f":"IF(ISBLANK(AQ55),\" \",AQ55+(AR55-AS55)*50+IF(COUNT(AQ53:AQ56)=3,(AS53+AS54+AS56)*40,(AS53+AS54+AS56)*30))","v":" "},0,{"$f":"IF(COUNTIF(AX$13:AX55,AX55)>1,\"X\",\"\")","v":"X"},{"$f":"IF(ISBLANK(BB53),\" \",INDEX(CZ:CZ,MATCH(BB53,CW:CW,0)))","v":" "},{"$f":"IF(ISBLANK(BB55),\" \",INDEX('Eingabe Spielernamen'!$F:$F,MATCH(AX55,'Eingabe Spielernamen'!$B:$B,0))&\", \"&INDEX('Eingabe Spielernamen'!$G:$G,MATCH(AX55,'Eingabe Spielernamen'!$B:$B,0)))","v":{"$error":"#N/A"}},null,null,{"$f":"BB53","v":0},null,null,null,null,{"$f":"IF(ISBLANK(BC55),\" \",BC55+(BD55-BE55)*50+IF(COUNT(BC53:BC56)=3,(BE53+BE54+BE56)*40,(BE53+BE54+BE56)*30))","v":" "},0,{"$f":"IF(COUNTIF(BJ$13:BJ55,BJ55)>1,\"X\",\"\")","v":"X"},{"$f":"IF(ISBLANK(BN53),\" \",INDEX(DE:DE,MATCH(BN53,DB:DB,0)))","v":" "},{"$f":"IF(ISBLANK(BN55),\" \",INDEX('Eingabe Spielernamen'!$F:$F,MATCH(BJ55,'Eingabe Spielernamen'!$B:$B,0))&\", \"&INDEX('Eingabe Spielernamen'!$G:$G,MATCH(BJ55,'Eingabe Spielernamen'!$B:$B,0)))","v":{"$error":"#N/A"}},null,null,{"$f":"BN53","v":0},null,null,null,null,{"$f":"IF(ISBLANK(BO55),\" \",BO55+(BP55-BQ55)*50+IF(COUNT(BO53:BO56)=3,(BQ53+BQ54+BQ56)*40,(BQ53+BQ54+BQ56)*30))","v":" "},0]
[{"$f":"IF(COUNTIF(B$13:B56,B56)>1,\"X\",\"\")","v":"X"},{"$f":"IF(ISBLANK(F53),\" \",INDEX(CG:CG,MATCH(F53,CC:CC,0)))","v":" "},{"$f":"IF(ISBLANK(F56),\" \",INDEX('Eingabe Spielernamen'!$F:$F,MATCH(B56,'Eingabe Spielernamen'!$B:$B,0))&\", \"&INDEX('Eingabe Spielernamen'!$G:$G,MATCH(B56,'Eingabe Spielernamen'!$B:$B,0)))","v":{"$error":"#N/A"}},null,null,{"$f":"F53","v":0},null,null,null,null,{"$f":"IF(ISBLANK(G56),\" \",G56+(H56-I56)*50+IF(COUNT(G53:G56)=3,(I53+I54+I55)*40,(I53+I54+I55)*30))","v":" "},0,{"$f":"IF(COUNTIF(N$13:N56,N56)>1,\"X\",\"\")","v":"X"},{"$f":"IF(ISBLANK(R53),\" \",INDEX(CL:CL,MATCH(R53,CH:CH,0)))","v":" "},{"$f":"IF(ISBLANK(R56),\" \",INDEX('Eingabe Spielernamen'!$F:$F,MATCH(N56,'Eingabe Spielernamen'!$B:$B,0))&\", \"&INDEX('Eingabe Spielernamen'!$G:$G,MATCH(N56,'Eingabe Spielernamen'!$B:$B,0)))","v":{"$error":"#N/A"}},null,null,{"$f":"R53","v":0},null,null,null,null,{"$f":"IF(ISBLANK(S56),\" \",S56+(T56-U56)*50+IF(COUNT(S53:S56)=3,(U53+U54+U55)*40,(U53+U54+U55)*30))","v":" "},0,{"$f":"IF(COUNTIF(Z$13:Z56,Z56)>1,\"X\",\"\")","v":"X"},{"$f":"IF(ISBLANK(AD53),\" \",INDEX(CQ:CQ,MATCH(AD53,CM:CM,0)))","v":" "},{"$f":"IF(ISBLANK(AD56),\" \",INDEX('Eingabe Spielernamen'!$F:$F,MATCH(Z56,'Eingabe Spielernamen'!$B:$B,0))&\", \"&INDEX('Eingabe Spielernamen'!$G:$G,MATCH(Z56,'Eingabe Spielernamen'!$B:$B,0)))","v":{"$error":"#N/A"}},null,null,{"$f":"AD53","v":0},null,null,null,null,{"$f":"IF(ISBLANK(AE56),\" \",AE56+(AF56-AG56)*50+IF(COUNT(AE53:AE56)=3,(AG53+AG54+AG55)*40,(AG53+AG54+AG55)*30))","v":" "},0,{"$f":"IF(COUNTIF(AL$13:AL56,AL56)>1,\"X\",\"\")","v":"X"},{"$f":"IF(ISBLANK(AP53),\" \",INDEX(CV:CV,MATCH(AP53,CR:CR,0)))","v":" "},{"$f":"IF(ISBLANK(AP56),\" \",INDEX('Eingabe Spielernamen'!$F:$F,MATCH(AL56,'Eingabe Spielernamen'!$B:$B,0))&\", \"&INDEX('Eingabe Spielernamen'!$G:$G,MATCH(AL56,'Eingabe Spielernamen'!$B:$B,0)))","v":{"$error":"#N/A"}},null,null,{"$f":"AP53","v":0},null,null,null,null,{"$f":"IF(ISBLANK(AQ56),\" \",AQ56+(AR56-AS56)*50+IF(COUNT(AQ53:AQ56)=3,(AS53+AS54+AS55)*40,(AS53+AS54+AS55)*30))","v":" "},0,{"$f":"IF(COUNTIF(AX$13:AX56,AX56)>1,\"X\",\"\")","v":"X"},{"$f":"IF(ISBLANK(BB53),\" \",INDEX(DA:DA,MATCH(BB53,CW:CW,0)))","v":" "},{"$f":"IF(ISBLANK(BB56),\" \",INDEX('Eingabe Spielernamen'!$F:$F,MATCH(AX56,'Eingabe Spielernamen'!$B:$B,0))&\", \"&INDEX('Eingabe Spielernamen'!$G:$G,MATCH(AX56,'Eingabe Spielernamen'!$B:$B,0)))","v":{"$error":"#N/A"}},null,null,{"$f":"BB53","v":0},null,null,null,null,{"$f":"IF(ISBLANK(BC56),\" \",BC56+(BD56-BE56)*50+IF(COUNT(BC53:BC56)=3,(BE53+BE54+BE55)*40,(BE53+BE54+BE55)*30))","v":" "},0,{"$f":"IF(COUNTIF(BJ$13:BJ56,BJ56)>1,\"X\",\"\")","v":"X"},{"$f":"IF(ISBLANK(BN53),\" \",INDEX(DF:DF,MATCH(BN53,DB:DB,0)))","v":" "},{"$f":"IF(ISBLANK(BN56),\" \",INDEX('Eingabe Spielernamen'!$F:$F,MATCH(BJ56,'Eingabe Spielernamen'!$B:$B,0))&\", \"&INDEX('Eingabe Spielernamen'!$G:$G,MATCH(BJ56,'Eingabe Spielernamen'!$B:$B,0)))","v":{"$error":"#N/A"}},null,null,{"$f":"BN53","v":0},null,null,null,null,{"$f":"IF(ISBLANK(BO56),\" \",BO56+(BP56-BQ56)*50+IF(COUNT(BO53:BO56)=3,(BQ53+BQ54+BQ55)*40,(BQ53+BQ54+BQ55)*30))","v":" "},0]
[{"$f":"IF(COUNTIF(B$13:B57,B57)>1,\"X\",\"\")","v":"X"},{"$f":"IF(ISBLANK(F57),\" \",INDEX(CD:CD,MATCH(F57,CC:CC,0)))","v":" "},{"$f":"IF(ISBLANK(F57),\" \",INDEX('Eingabe Spielernamen'!$F:$F,MATCH(B57,'Eingabe Spielernamen'!$B:$B,0))&\", \"&INDEX('Eingabe Spielernamen'!$G:$G,MATCH(B57,'Eingabe Spielernamen'!$B:$B,0)))","v":" "},null,null,null,null,null,null,null,{"$f":"IF(ISBLANK(G57),\" \",G57+(H57-I57)*50+IF(COUNT(G57:G60)=3,(I58+I59+I60)*40,(I58+I59+I60)*30))","v":" "},0,{"$f":"IF(COUNTIF(N$13:N57,N57)>1,\"X\",\"\")","v":"X"},{"$f":"IF(ISBLANK(R57),\" \",INDEX(CI:CI,MATCH(R57,CH:CH,0)))","v":" "},{"$f":"IF(ISBLANK(R57),\" \",INDEX('Eingabe Spielernamen'!$F:$F,MATCH(N57,'Eingabe Spielernamen'!$B:$B,0))&\", \"&INDEX('Eingabe Spielernamen'!$G:$G,MATCH(N57,'Eingabe Spielernamen'!$B:$B,0)))","v":" "},null,null,null,null,null,null,null,{"$f":"IF(ISBLANK(S57),\" \",S57+(T57-U57)*50+IF(COUNT(S57:S60)=3,(U58+U59+U60)*40,(U58+U59+U60)*30))","v":" "},0,{"$f":"IF(COUNTIF(Z$13:Z57,Z57)>1,\"X\",\"\")","v":"X"},{"$f":"IF(ISBLANK(AD57),\" \",INDEX(CN:CN,MATCH(AD57,CM:CM,0)))","v":" "},{"$f":"IF(ISBLANK(AD57),\" \",INDEX('Eingabe Spielernamen'!$F:$F,MATCH(Z57,'Eingabe Spielernamen'!$B:$B,0))&\", \"&INDEX('Eingabe Spielernamen'!$G:$G,MATCH(Z57,'Eingabe Spielernamen'!$B:$B,0)))","v":" "},null,null,null,null,null,null,null,{"$f":"IF(ISBLANK(AE57),\" \",AE57+(AF57-AG57)*50+IF(COUNT(AE57:AE60)=3,(AG58+AG59+AG60)*40,(AG58+AG59+AG60)*30))","v":" "},0,{"$f":"IF(COUNTIF(AL$13:AL57,AL57)>1,\"X\",\"\")","v":"X"},{"$f":"IF(ISBLANK(AP57),\" \",INDEX(CS:CS,MATCH(AP57,CR:CR,0)))","v":" "},{"$f":"IF(ISBLANK(AP57),\" \",INDEX('Eingabe Spielernamen'!$F:$F,MATCH(AL57,'Eingabe Spielernamen'!$B:$B,0))&\", \"&INDEX('Eingabe Spielernamen'!$G:$G,MATCH(AL57,'Eingabe Spielernamen'!$B:$B,0)))","v":" "},null,null,null,null,null,null,null,{"$f":"IF(ISBLANK(AQ57),\" \",AQ57+(AR57-AS57)*50+IF(COUNT(AQ57:AQ60)=3,(AS58+AS59+AS60)*40,(AS58+AS59+AS60)*30))","v":" "},0,{"$f":"IF(COUNTIF(AX$13:AX57,AX57)>1,\"X\",\"\")","v":"X"},{"$f":"IF(ISBLANK(BB57),\" \",INDEX(CX:CX,MATCH(BB57,CW:CW,0)))","v":" "},{"$f":"IF(ISBLANK(BB57),\" \",INDEX('Eingabe Spielernamen'!$F:$F,MATCH(AX57,'Eingabe Spielernamen'!$B:$B,0))&\", \"&INDEX('Eingabe Spielernamen'!$G:$G,MATCH(AX57,'Eingabe Spielernamen'!$B:$B,0)))","v":" "},null,null,null,null,null,null,null,{"$f":"IF(ISBLANK(BC57),\" \",BC57+(BD57-BE57)*50+IF(COUNT(BC57:BC60)=3,(BE58+BE59+BE60)*40,(BE58+BE59+BE60)*30))","v":" "},0,{"$f":"IF(COUNTIF(BJ$13:BJ57,BJ57)>1,\"X\",\"\")","v":"X"},{"$f":"IF(ISBLANK(BN57),\" \",INDEX(DC:DC,MATCH(BN57,DB:DB,0)))","v":" "},{"$f":"IF(ISBLANK(BN57),\" \",INDEX('Eingabe Spielernamen'!$F:$F,MATCH(BJ57,'Eingabe Spielernamen'!$B:$B,0))&\", \"&INDEX('Eingabe Spielernamen'!$G:$G,MATCH(BJ57,'Eingabe Spielernamen'!$B:$B,0)))","v":" "},null,null,null,null,null,null,null,{"$f":"IF(ISBLANK(BO57),\" \",BO57+(BP57-BQ57)*50+IF(COUNT(BO57:BO60)=3,(BQ58+BQ59+BQ60)*40,(BQ58+BQ59+BQ60)*30))","v":" "},0,null,null,{"$f":"SUM(L57:L60)","v":0},{"$f":"SUM(X57:X60)","v":0},{"$f":"SUM(AJ57:AJ60)","v":0},{"$f":"SUM(AV57:AV60)","v":0},{"$f":"SUM(BH57:BH60)","v":0},{"$f":"SUM(BT57:BT60)","v":0}]
[{"$f":"IF(COUNTIF(B$13:B58,B58)>1,\"X\",\"\")","v":"X"},{"$f":"IF(ISBLANK(F57),\" \",INDEX(CE:CE,MATCH(F57,CC:CC,0)))","v":" "},{"$f":"IF(ISBLANK(F58),\" \",INDEX('Eingabe Spielernamen'!$F:$F,MATCH(B58,'Eingabe Spielernamen'!$B:$B,0))&\", \"&INDEX('Eingabe Spielernamen'!$G:$G,MATCH(B58,'Eingabe Spielernamen'!$B:$B,0)))","v":{"$error":"#N/A"}},null,null,{"$f":"F57","v":0},null,null,null,null,{"$f":"IF(ISBLANK(G58),\" \",G58+(H58-I58)*50+IF(COUNT(G57:G60)=3,(I57+I59+I60)*40,(I57+I59+I60)*30))","v":" "},0,{"$f":"IF(COUNTIF(N$13:N58,N58)>1,\"X\",\"\")","v":"X"},{"$f":"IF(ISBLANK(R57),\" \",INDEX(CJ:CJ,MATCH(R57,CH:CH,0)))","v":" "},{"$f":"IF(ISBLANK(R58),\" \",INDEX('Eingabe Spielernamen'!$F:$F,MATCH(N58,'Eingabe Spielernamen'!$B:$B,0))&\", \"&INDEX('Eingabe Spielernamen'!$G:$G,MATCH(N58,'Eingabe Spielernamen'!$B:$B,0)))","v":{"$error":"#N/A"}},null,null,{"$f":"R57","v":0},null,null,null,null,{"$f":"IF(ISBLANK(S58),\" \",S58+(T58-U58)*50+IF(COUNT(S57:S60)=3,(U57+U59+U60)*40,(U57+U59+U60)*30))","v":" "},0,{"$f":"IF(COUNTIF(Z$13:Z58,Z58)>1,\"X\",\"\")","v":"X"},{"$f":"IF(ISBLANK(AD57),\" \",INDEX(CO:CO,MATCH(AD57,CM:CM,0)))","v":" "},{"$f":"IF(ISBLANK(AD58),\" \",INDEX('Eingabe Spielernamen'!$F:$F,MATCH(Z58,'Eingabe Spielernamen'!$B:$B,0))&\", \"&INDEX('Eingabe Spielernamen'!$G:$G,MATCH(Z58,'Eingabe Spielernamen'!$B:$B,0)))","v":{"$error":"#N/A"}},null,null,{"$f":"AD57","v":0},null,null,null,null,{"$f":"IF(ISBLANK(AE58),\" \",AE58+(AF58-AG58)*50+IF(COUNT(AE57:AE60)=3,(AG57+AG59+AG60)*40,(AG57+AG59+AG60)*30))","v":" "},0,{"$f":"IF(COUNTIF(AL$13:AL58,AL58)>1,\"X\",\"\")","v":"X"},{"$f":"IF(ISBLANK(AP57),\" \",INDEX(CT:CT,MATCH(AP57,CR:CR,0)))","v":" "},{"$f":"IF(ISBLANK(AP58),\" \",INDEX('Eingabe Spielernamen'!$F:$F,MATCH(AL58,'Eingabe Spielernamen'!$B:$B,0))&\", \"&INDEX('Eingabe Spielernamen'!$G:$G,MATCH(AL58,'Eingabe Spielernamen'!$B:$B,0)))","v":{"$error":"#N/A"}},null,null,{"$f":"AP57","v":0},null,null,null,null,{"$f":"IF(ISBLANK(AQ58),\" \",AQ58+(AR58-AS58)*50+IF(COUNT(AQ57:AQ60)=3,(AS57+AS59+AS60)*40,(AS57+AS59+AS60)*30))","v":" "},0,{"$f":"IF(COUNTIF(AX$13:AX58,AX58)>1,\"X\",\"\")","v":"X"},{"$f":"IF(ISBLANK(BB57),\" \",INDEX(CY:CY,MATCH(BB57,CW:CW,0)))","v":" "},{"$f":"IF(ISBLANK(BB58),\" \",INDEX('Eingabe Spielernamen'!$F:$F,MATCH(AX58,'Eingabe Spielernamen'!$B:$B,0))&\", \"&INDEX('Eingabe Spielernamen'!$G:$G,MATCH(AX58,'Eingabe Spielernamen'!$B:$B,0)))","v":{"$error":"#N/A"}},null,null,{"$f":"BB57","v":0},null,null,null,null,{"$f":"IF(ISBLANK(BC58),\" \",BC58+(BD58-BE58)*50+IF(COUNT(BC57:BC60)=3,(BE57+BE59+BE60)*40,(BE57+BE59+BE60)*30))","v":" "},0,{"$f":"IF(COUNTIF(BJ$13:BJ58,BJ58)>1,\"X\",\"\")","v":"X"},{"$f":"IF(ISBLANK(BN57),\" \",INDEX(DD:DD,MATCH(BN57,DB:DB,0)))","v":" "},{"$f":"IF(ISBLANK(BN58),\" \",INDEX('Eingabe Spielernamen'!$F:$F,MATCH(BJ58,'Eingabe Spielernamen'!$B:$B,0))&\", \"&INDEX('Eingabe Spielernamen'!$G:$G,MATCH(BJ58,'Eingabe Spielernamen'!$B:$B,0)))","v":{"$error":"#N/A"}},null,null,{"$f":"BN57","v":0},null,null,null,null,{"$f":"IF(ISBLANK(BO58),\" \",BO58+(BP58-BQ58)*50+IF(COUNT(BO57:BO60)=3,(BQ57+BQ59+BQ60)*40,(BQ57+BQ59+BQ60)*30))","v":" "},0]
[{"$f":"IF(COUNTIF(B$13:B59,B59)>1,\"X\",\"\")","v":"X"},{"$f":"IF(ISBLANK(F57),\" \",INDEX(CF:CF,MATCH(F57,CC:CC,0)))","v":" "},{"$f":"IF(ISBLANK(F59),\" \",INDEX('Eingabe Spielernamen'!$F:$F,MATCH(B59,'Eingabe Spielernamen'!$B:$B,0))&\", \"&INDEX('Eingabe Spielernamen'!$G:$G,MATCH(B59,'Eingabe Spielernamen'!$B:$B,0)))","v":{"$error":"#N/A"}},null,null,{"$f":"F57","v":0},null,null,null,null,{"$f":"IF(ISBLANK(G59),\" \",G59+(H59-I59)*50+IF(COUNT(G57:G60)=3,(I57+I58+I60)*40,(I57+I58+I60)*30))","v":" "},0,{"$f":"IF(COUNTIF(N$13:N59,N59)>1,\"X\",\"\")","v":"X"},{"$f":"IF(ISBLANK(R57),\" \",INDEX(CK:CK,MATCH(R57,CH:CH,0)))","v":" "},{"$f":"IF(ISBLANK(R59),\" \",INDEX('Eingabe Spielernamen'!$F:$F,MATCH(N59,'Eingabe Spielernamen'!$B:$B,0))&\", \"&INDEX('Eingabe Spielernamen'!$G:$G,MATCH(N59,'Eingabe Spielernamen'!$B:$B,0)))","v":{"$error":"#N/A"}},null,null,{"$f":"R57","v":0},null,null,null,null,{"$f":"IF(ISBLANK(S59),\" \",S59+(T59-U59)*50+IF(COUNT(S57:S60)=3,(U57+U58+U60)*40,(U57+U58+U60)*30))","v":" "},0,{"$f":"IF(COUNTIF(Z$13:Z59,Z59)>1,\"X\",\"\")","v":"X"},{"$f":"IF(ISBLANK(AD57),\" \",INDEX(CP:CP,MATCH(AD57,CM:CM,0)))","v":" "},{"$f":"IF(ISBLANK(AD59),\" \",INDEX('Eingabe Spielernamen'!$F:$F,MATCH(Z59,'Eingabe Spielernamen'!$B:$B,0))&\", \"&INDEX('Eingabe Spielernamen'!$G:$G,MATCH(Z59,'Eingabe Spielernamen'!$B:$B,0)))","v":{"$error":"#N/A"}},null,null,{"$f":"AD57","v":0},null,null,null,null,{"$f":"IF(ISBLANK(AE59),\" \",AE59+(AF59-AG59)*50+IF(COUNT(AE57:AE60)=3,(AG57+AG58+AG60)*40,(AG57+AG58+AG60)*30))","v":" "},0,{"$f":"IF(COUNTIF(AL$13:AL59,AL59)>1,\"X\",\"\")","v":"X"},{"$f":"IF(ISBLANK(AP57),\" \",INDEX(CU:CU,MATCH(AP57,CR:CR,0)))","v":" "},{"$f":"IF(ISBLANK(AP59),\" \",INDEX('Eingabe Spielernamen'!$F:$F,MATCH(AL59,'Eingabe Spielernamen'!$B:$B,0))&\", \"&INDEX('Eingabe Spielernamen'!$G:$G,MATCH(AL59,'Eingabe Spielernamen'!$B:$B,0)))","v":{"$error":"#N/A"}},null,null,{"$f":"AP57","v":0},null,null,null,null,{"$f":"IF(ISBLANK(AQ59),\" \",AQ59+(AR59-AS59)*50+IF(COUNT(AQ57:AQ60)=3,(AS57+AS58+AS60)*40,(AS57+AS58+AS60)*30))","v":" "},0,{"$f":"IF(COUNTIF(AX$13:AX59,AX59)>1,\"X\",\"\")","v":"X"},{"$f":"IF(ISBLANK(BB57),\" \",INDEX(CZ:CZ,MATCH(BB57,CW:CW,0)))","v":" "},{"$f":"IF(ISBLANK(BB59),\" \",INDEX('Eingabe Spielernamen'!$F:$F,MATCH(AX59,'Eingabe Spielernamen'!$B:$B,0))&\", \"&INDEX('Eingabe Spielernamen'!$G:$G,MATCH(AX59,'Eingabe Spielernamen'!$B:$B,0)))","v":{"$error":"#N/A"}},null,null,{"$f":"BB57","v":0},null,null,null,null,{"$f":"IF(ISBLANK(BC59),\" \",BC59+(BD59-BE59)*50+IF(COUNT(BC57:BC60)=3,(BE57+BE58+BE60)*40,(BE57+BE58+BE60)*30))","v":" "},0,{"$f":"IF(COUNTIF(BJ$13:BJ59,BJ59)>1,\"X\",\"\")","v":"X"},{"$f":"IF(ISBLANK(BN57),\" \",INDEX(DE:DE,MATCH(BN57,DB:DB,0)))","v":" "},{"$f":"IF(ISBLANK(BN59),\" \",INDEX('Eingabe Spielernamen'!$F:$F,MATCH(BJ59,'Eingabe Spielernamen'!$B:$B,0))&\", \"&INDEX('Eingabe Spielernamen'!$G:$G,MATCH(BJ59,'Eingabe Spielernamen'!$B:$B,0)))","v":{"$error":"#N/A"}},null,null,{"$f":"BN57","v":0},null,null,null,null,{"$f":"IF(ISBLANK(BO59),\" \",BO59+(BP59-BQ59)*50+IF(COUNT(BO57:BO60)=3,(BQ57+BQ58+BQ60)*40,(BQ57+BQ58+BQ60)*30))","v":" "},0]
[{"$f":"IF(COUNTIF(B$13:B60,B60)>1,\"X\",\"\")","v":"X"},{"$f":"IF(ISBLANK(F57),\" \",INDEX(CG:CG,MATCH(F57,CC:CC,0)))","v":" "},{"$f":"IF(ISBLANK(F60),\" \",INDEX('Eingabe Spielernamen'!$F:$F,MATCH(B60,'Eingabe Spielernamen'!$B:$B,0))&\", \"&INDEX('Eingabe Spielernamen'!$G:$G,MATCH(B60,'Eingabe Spielernamen'!$B:$B,0)))","v":{"$error":"#N/A"}},null,null,{"$f":"F57","v":0},null,null,null,null,{"$f":"IF(ISBLANK(G60),\" \",G60+(H60-I60)*50+IF(COUNT(G57:G60)=3,(I57+I58+I59)*40,(I57+I58+I59)*30))","v":" "},0,{"$f":"IF(COUNTIF(N$13:N60,N60)>1,\"X\",\"\")","v":"X"},{"$f":"IF(ISBLANK(R57),\" \",INDEX(CL:CL,MATCH(R57,CH:CH,0)))","v":" "},{"$f":"IF(ISBLANK(R60),\" \",INDEX('Eingabe Spielernamen'!$F:$F,MATCH(N60,'Eingabe Spielernamen'!$B:$B,0))&\", \"&INDEX('Eingabe Spielernamen'!$G:$G,MATCH(N60,'Eingabe Spielernamen'!$B:$B,0)))","v":{"$error":"#N/A"}},null,null,{"$f":"R57","v":0},null,null,null,null,{"$f":"IF(ISBLANK(S60),\" \",S60+(T60-U60)*50+IF(COUNT(S57:S60)=3,(U57+U58+U59)*40,(U57+U58+U59)*30))","v":" "},0,{"$f":"IF(COUNTIF(Z$13:Z60,Z60)>1,\"X\",\"\")","v":"X"},{"$f":"IF(ISBLANK(AD57),\" \",INDEX(CQ:CQ,MATCH(AD57,CM:CM,0)))","v":" "},{"$f":"IF(ISBLANK(AD60),\" \",INDEX('Eingabe Spielernamen'!$F:$F,MATCH(Z60,'Eingabe Spielernamen'!$B:$B,0))&\", \"&INDEX('Eingabe Spielernamen'!$G:$G,MATCH(Z60,'Eingabe Spielernamen'!$B:$B,0)))","v":{"$error":"#N/A"}},null,null,{"$f":"AD57","v":0},null,null,null,null,{"$f":"IF(ISBLANK(AE60),\" \",AE60+(AF60-AG60)*50+IF(COUNT(AE57:AE60)=3,(AG57+AG58+AG59)*40,(AG57+AG58+AG59)*30))","v":" "},0,{"$f":"IF(COUNTIF(AL$13:AL60,AL60)>1,\"X\",\"\")","v":"X"},{"$f":"IF(ISBLANK(AP57),\" \",INDEX(CV:CV,MATCH(AP57,CR:CR,0)))","v":" "},{"$f":"IF(ISBLANK(AP60),\" \",INDEX('Eingabe Spielernamen'!$F:$F,MATCH(AL60,'Eingabe Spielernamen'!$B:$B,0))&\", \"&INDEX('Eingabe Spielernamen'!$G:$G,MATCH(AL60,'Eingabe Spielernamen'!$B:$B,0)))","v":{"$error":"#N/A"}},null,null,{"$f":"AP57","v":0},null,null,null,null,{"$f":"IF(ISBLANK(AQ60),\" \",AQ60+(AR60-AS60)*50+IF(COUNT(AQ57:AQ60)=3,(AS57+AS58+AS59)*40,(AS57+AS58+AS59)*30))","v":" "},0,{"$f":"IF(COUNTIF(AX$13:AX60,AX60)>1,\"X\",\"\")","v":"X"},{"$f":"IF(ISBLANK(BB57),\" \",INDEX(DA:DA,MATCH(BB57,CW:CW,0)))","v":" "},{"$f":"IF(ISBLANK(BB60),\" \",INDEX('Eingabe Spielernamen'!$F:$F,MATCH(AX60,'Eingabe Spielernamen'!$B:$B,0))&\", \"&INDEX('Eingabe Spielernamen'!$G:$G,MATCH(AX60,'Eingabe Spielernamen'!$B:$B,0)))","v":{"$error":"#N/A"}},null,null,{"$f":"BB57","v":0},null,null,null,null,{"$f":"IF(ISBLANK(BC60),\" \",BC60+(BD60-BE60)*50+IF(COUNT(BC57:BC60)=3,(BE57+BE58+BE59)*40,(BE57+BE58+BE59)*30))","v":" "},0,{"$f":"IF(COUNTIF(BJ$13:BJ60,BJ60)>1,\"X\",\"\")","v":"X"},{"$f":"IF(ISBLANK(BN57),\" \",INDEX(DF:DF,MATCH(BN57,DB:DB,0)))","v":" "},{"$f":"IF(ISBLANK(BN60),\" \",INDEX('Eingabe Spielernamen'!$F:$F,MATCH(BJ60,'Eingabe Spielernamen'!$B:$B,0))&\", \"&INDEX('Eingabe Spielernamen'!$G:$G,MATCH(BJ60,'Eingabe Spielernamen'!$B:$B,0)))","v":{"$error":"#N/A"}},null,null,{"$f":"BN57","v":0},null,null,null,null,{"$f":"IF(ISBLANK(BO60),\" \",BO60+(BP60-BQ60)*50+IF(COUNT(BO57:BO60)=3,(BQ57+BQ58+BQ59)*40,(BQ57+BQ58+BQ59)*30))","v":" "},0]
[{"$f":"IF(COUNTIF(B$13:B61,B61)>1,\"X\",\"\")","v":"X"},{"$f":"IF(ISBLANK(F61),\" \",INDEX(CD:CD,MATCH(F61,CC:CC,0)))","v":" "},{"$f":"IF(ISBLANK(F61),\" \",INDEX('Eingabe Spielernamen'!$F:$F,MATCH(B61,'Eingabe Spielernamen'!$B:$B,0))&\", \"&INDEX('Eingabe Spielernamen'!$G:$G,MATCH(B61,'Eingabe Spielernamen'!$B:$B,0)))","v":" "},null,null,null,null,null,null,null,{"$f":"IF(ISBLANK(G61),\" \",G61+(H61-I61)*50+IF(COUNT(G61:G64)=3,(I62+I63+I64)*40,(I62+I63+I64)*30))","v":" "},0,{"$f":"IF(COUNTIF(N$13:N61,N61)>1,\"X\",\"\")","v":"X"},{"$f":"IF(ISBLANK(R61),\" \",INDEX(CI:CI,MATCH(R61,CH:CH,0)))","v":" "},{"$f":"IF(ISBLANK(R61),\" \",INDEX('Eingabe Spielernamen'!$F:$F,MATCH(N61,'Eingabe Spielernamen'!$B:$B,0))&\", \"&INDEX('Eingabe Spielernamen'!$G:$G,MATCH(N61,'Eingabe Spielernamen'!$B:$B,0)))","v":" "},null,null,null,null,null,null,null,{"$f":"IF(ISBLANK(S61),\" \",S61+(T61-U61)*50+IF(COUNT(S61:S64)=3,(U62+U63+U64)*40,(U62+U63+U64)*30))","v":" "},0,{"$f":"IF(COUNTIF(Z$13:Z61,Z61)>1,\"X\",\"\")","v":"X"},{"$f":"IF(ISBLANK(AD61),\" \",INDEX(CN:CN,MATCH(AD61,CM:CM,0)))","v":" "},{"$f":"IF(ISBLANK(AD61),\" \",INDEX('Eingabe Spielernamen'!$F:$F,MATCH(Z61,'Eingabe Spielernamen'!$B:$B,0))&\", \"&INDEX('Eingabe Spielernamen'!$G:$G,MATCH(Z61,'Eingabe Spielernamen'!$B:$B,0)))","v":" "},null,null,null,null,null,null,null,{"$f":"IF(ISBLANK(AE61),\" \",AE61+(AF61-AG61)*50+IF(COUNT(AE61:AE64)=3,(AG62+AG63+AG64)*40,(AG62+AG63+AG64)*30))","v":" "},0,{"$f":"IF(COUNTIF(AL$13:AL61,AL61)>1,\"X\",\"\")","v":"X"},{"$f":"IF(ISBLANK(AP61),\" \",INDEX(CS:CS,MATCH(AP61,CR:CR,0)))","v":" "},{"$f":"IF(ISBLANK(AP61),\" \",INDEX('Eingabe Spielernamen'!$F:$F,MATCH(AL61,'Eingabe Spielernamen'!$B:$B,0))&\", \"&INDEX('Eingabe Spielernamen'!$G:$G,MATCH(AL61,'Eingabe Spielernamen'!$B:$B,0)))","v":" "},null,null,null,null,null,null,null,{"$f":"IF(ISBLANK(AQ61),\" \",AQ61+(AR61-AS61)*50+IF(COUNT(AQ61:AQ64)=3,(AS62+AS63+AS64)*40,(AS62+AS63+AS64)*30))","v":" "},0,{"$f":"IF(COUNTIF(AX$13:AX61,AX61)>1,\"X\",\"\")","v":"X"},{"$f":"IF(ISBLANK(BB61),\" \",INDEX(CX:CX,MATCH(BB61,CW:CW,0)))","v":" "},{"$f":"IF(ISBLANK(BB61),\" \",INDEX('Eingabe Spielernamen'!$F:$F,MATCH(AX61,'Eingabe Spielernamen'!$B:$B,0))&\", \"&INDEX('Eingabe Spielernamen'!$G:$G,MATCH(AX61,'Eingabe Spielernamen'!$B:$B,0)))","v":" "},null,null,null,null,null,null,null,{"$f":"IF(ISBLANK(BC61),\" \",BC61+(BD61-BE61)*50+IF(COUNT(BC61:BC64)=3,(BE62+BE63+BE64)*40,(BE62+BE63+BE64)*30))","v":" "},0,{"$f":"IF(COUNTIF(BJ$13:BJ61,BJ61)>1,\"X\",\"\")","v":"X"},{"$f":"IF(ISBLANK(BN61),\" \",INDEX(DC:DC,MATCH(BN61,DB:DB,0)))","v":" "},{"$f":"IF(ISBLANK(BN61),\" \",INDEX('Eingabe Spielernamen'!$F:$F,MATCH(BJ61,'Eingabe Spielernamen'!$B:$B,0))&\", \"&INDEX('Eingabe Spielernamen'!$G:$G,MATCH(BJ61,'Eingabe Spielernamen'!$B:$B,0)))","v":" "},null,null,null,null,null,null,null,{"$f":"IF(ISBLANK(BO61),\" \",BO61+(BP61-BQ61)*50+IF(COUNT(BO61:BO64)=3,(BQ62+BQ63+BQ64)*40,(BQ62+BQ63+BQ64)*30))","v":" "},0,null,null,{"$f":"SUM(L61:L64)","v":0},{"$f":"SUM(X61:X64)","v":0},{"$f":"SUM(AJ61:AJ64)","v":0},{"$f":"SUM(AV61:AV64)","v":0},{"$f":"SUM(BH61:BH64)","v":0},{"$f":"SUM(BT61:BT64)","v":0}]
[{"$f":"IF(COUNTIF(B$13:B62,B62)>1,\"X\",\"\")","v":"X"},{"$f":"IF(ISBLANK(F61),\" \",INDEX(CE:CE,MATCH(F61,CC:CC,0)))","v":" "},{"$f":"IF(ISBLANK(F62),\" \",INDEX('Eingabe Spielernamen'!$F:$F,MATCH(B62,'Eingabe Spielernamen'!$B:$B,0))&\", \"&INDEX('Eingabe Spielernamen'!$G:$G,MATCH(B62,'Eingabe Spielernamen'!$B:$B,0)))","v":{"$error":"#N/A"}},null,null,{"$f":"F61","v":0},null,null,null,null,{"$f":"IF(ISBLANK(G62),\" \",G62+(H62-I62)*50+IF(COUNT(G61:G64)=3,(I61+I63+I64)*40,(I61+I63+I64)*30))","v":" "},0,{"$f":"IF(COUNTIF(N$13:N62,N62)>1,\"X\",\"\")","v":"X"},{"$f":"IF(ISBLANK(R61),\" \",INDEX(CJ:CJ,MATCH(R61,CH:CH,0)))","v":" "},{"$f":"IF(ISBLANK(R62),\" \",INDEX('Eingabe Spielernamen'!$F:$F,MATCH(N62,'Eingabe Spielernamen'!$B:$B,0))&\", \"&INDEX('Eingabe Spielernamen'!$G:$G,MATCH(N62,'Eingabe Spielernamen'!$B:$B,0)))","v":{"$error":"#N/A"}},null,null,{"$f":"R61","v":0},null,null,null,null,{"$f":"IF(ISBLANK(S62),\" \",S62+(T62-U62)*50+IF(COUNT(S61:S64)=3,(U61+U63+U64)*40,(U61+U63+U64)*30))","v":" "},0,{"$f":"IF(COUNTIF(Z$13:Z62,Z62)>1,\"X\",\"\")","v":"X"},{"$f":"IF(ISBLANK(AD61),\" \",INDEX(CO:CO,MATCH(AD61,CM:CM,0)))","v":" "},{"$f":"IF(ISBLANK(AD62),\" \",INDEX('Eingabe Spielernamen'!$F:$F,MATCH(Z62,'Eingabe Spielernamen'!$B:$B,0))&\", \"&INDEX('Eingabe Spielernamen'!$G:$G,MATCH(Z62,'Eingabe Spielernamen'!$B:$B,0)))","v":{"$error":"#N/A"}},null,null,{"$f":"AD61","v":0},null,null,null,null,{"$f":"IF(ISBLANK(AE62),\" \",AE62+(AF62-AG62)*50+IF(COUNT(AE61:AE64)=3,(AG61+AG63+AG64)*40,(AG61+AG63+AG64)*30))","v":" "},0,{"$f":"IF(COUNTIF(AL$13:AL62,AL62)>1,\"X\",\"\")","v":"X"},{"$f":"IF(ISBLANK(AP61),\" \",INDEX(CT:CT,MATCH(AP61,CR:CR,0)))","v":" "},{"$f":"IF(ISBLANK(AP62),\" \",INDEX('Eingabe Spielernamen'!$F:$F,MATCH(AL62,'Eingabe Spielernamen'!$B:$B,0))&\", \"&INDEX('Eingabe Spielernamen'!$G:$G,MATCH(AL62,'Eingabe Spielernamen'!$B:$B,0)))","v":{"$error":"#N/A"}},null,null,{"$f":"AP61","v":0},null,null,null,null,{"$f":"IF(ISBLANK(AQ62),\" \",AQ62+(AR62-AS62)*50+IF(COUNT(AQ61:AQ64)=3,(AS61+AS63+AS64)*40,(AS61+AS63+AS64)*30))","v":" "},0,{"$f":"IF(COUNTIF(AX$13:AX62,AX62)>1,\"X\",\"\")","v":"X"},{"$f":"IF(ISBLANK(BB61),\" \",INDEX(CY:CY,MATCH(BB61,CW:CW,0)))","v":" "},{"$f":"IF(ISBLANK(BB62),\" \",INDEX('Eingabe Spielernamen'!$F:$F,MATCH(AX62,'Eingabe Spielernamen'!$B:$B,0))&\", \"&INDEX('Eingabe Spielernamen'!$G:$G,MATCH(AX62,'Eingabe Spielernamen'!$B:$B,0)))","v":{"$error":"#N/A"}},null,null,{"$f":"BB61","v":0},null,null,null,null,{"$f":"IF(ISBLANK(BC62),\" \",BC62+(BD62-BE62)*50+IF(COUNT(BC61:BC64)=3,(BE61+BE63+BE64)*40,(BE61+BE63+BE64)*30))","v":" "},0,{"$f":"IF(COUNTIF(BJ$13:BJ62,BJ62)>1,\"X\",\"\")","v":"X"},{"$f":"IF(ISBLANK(BN61),\" \",INDEX(DD:DD,MATCH(BN61,DB:DB,0)))","v":" "},{"$f":"IF(ISBLANK(BN62),\" \",INDEX('Eingabe Spielernamen'!$F:$F,MATCH(BJ62,'Eingabe Spielernamen'!$B:$B,0))&\", \"&INDEX('Eingabe Spielernamen'!$G:$G,MATCH(BJ62,'Eingabe Spielernamen'!$B:$B,0)))","v":{"$error":"#N/A"}},null,null,{"$f":"BN61","v":0},null,null,null,null,{"$f":"IF(ISBLANK(BO62),\" \",BO62+(BP62-BQ62)*50+IF(COUNT(BO61:BO64)=3,(BQ61+BQ63+BQ64)*40,(BQ61+BQ63+BQ64)*30))","v":" "},0]
[{"$f":"IF(COUNTIF(B$13:B63,B63)>1,\"X\",\"\")","v":"X"},{"$f":"IF(ISBLANK(F61),\" \",INDEX(CF:CF,MATCH(F61,CC:CC,0)))","v":" "},{"$f":"IF(ISBLANK(F63),\" \",INDEX('Eingabe Spielernamen'!$F:$F,MATCH(B63,'Eingabe Spielernamen'!$B:$B,0))&\", \"&INDEX('Eingabe Spielernamen'!$G:$G,MATCH(B63,'Eingabe Spielernamen'!$B:$B,0)))","v":{"$error":"#N/A"}},null,null,{"$f":"F61","v":0},null,null,null,null,{"$f":"IF(ISBLANK(G63),\" \",G63+(H63-I63)*50+IF(COUNT(G61:G64)=3,(I61+I62+I64)*40,(I61+I62+I64)*30))","v":" "},0,{"$f":"IF(COUNTIF(N$13:N63,N63)>1,\"X\",\"\")","v":"X"},{"$f":"IF(ISBLANK(R61),\" \",INDEX(CK:CK,MATCH(R61,CH:CH,0)))","v":" "},{"$f":"IF(ISBLANK(R63),\" \",INDEX('Eingabe Spielernamen'!$F:$F,MATCH(N63,'Eingabe Spielernamen'!$B:$B,0))&\", \"&INDEX('Eingabe Spielernamen'!$G:$G,MATCH(N63,'Eingabe Spielernamen'!$B:$B,0)))","v":{"$error":"#N/A"}},null,null,{"$f":"R61","v":0},null,null,null,null,{"$f":"IF(ISBLANK(S63),\" \",S63+(T63-U63)*50+IF(COUNT(S61:S64)=3,(U61+U62+U64)*40,(U61+U62+U64)*30))","v":" "},0,{"$f":"IF(COUNTIF(Z$13:Z63,Z63)>1,\"X\",\"\")","v":"X"},{"$f":"IF(ISBLANK(AD61),\" \",INDEX(CP:CP,MATCH(AD61,CM:CM,0)))","v":" "},{"$f":"IF(ISBLANK(AD63),\" \",INDEX('Eingabe Spielernamen'!$F:$F,MATCH(Z63,'Eingabe Spielernamen'!$B:$B,0))&\", \"&INDEX('Eingabe Spielernamen'!$G:$G,MATCH(Z63,'Eingabe Spielernamen'!$B:$B,0)))","v":{"$error":"#N/A"}},null,null,{"$f":"AD61","v":0},null,null,null,null,{"$f":"IF(ISBLANK(AE63),\" \",AE63+(AF63-AG63)*50+IF(COUNT(AE61:AE64)=3,(AG61+AG62+AG64)*40,(AG61+AG62+AG64)*30))","v":" "},0,{"$f":"IF(COUNTIF(AL$13:AL63,AL63)>1,\"X\",\"\")","v":"X"},{"$f":"IF(ISBLANK(AP61),\" \",INDEX(CU:CU,MATCH(AP61,CR:CR,0)))","v":" "},{"$f":"IF(ISBLANK(AP63),\" \",INDEX('Eingabe Spielernamen'!$F:$F,MATCH(AL63,'Eingabe Spielernamen'!$B:$B,0))&\", \"&INDEX('Eingabe Spielernamen'!$G:$G,MATCH(AL63,'Eingabe Spielernamen'!$B:$B,0)))","v":{"$error":"#N/A"}},null,null,{"$f":"AP61","v":0},null,null,null,null,{"$f":"IF(ISBLANK(AQ63),\" \",AQ63+(AR63-AS63)*50+IF(COUNT(AQ61:AQ64)=3,(AS61+AS62+AS64)*40,(AS61+AS62+AS64)*30))","v":" "},0,{"$f":"IF(COUNTIF(AX$13:AX63,AX63)>1,\"X\",\"\")","v":"X"},{"$f":"IF(ISBLANK(BB61),\" \",INDEX(CZ:CZ,MATCH(BB61,CW:CW,0)))","v":" "},{"$f":"IF(ISBLANK(BB63),\" \",INDEX('Eingabe Spielernamen'!$F:$F,MATCH(AX63,'Eingabe Spielernamen'!$B:$B,0))&\", \"&INDEX('Eingabe Spielernamen'!$G:$G,MATCH(AX63,'Eingabe Spielernamen'!$B:$B,0)))","v":{"$error":"#N/A"}},null,null,{"$f":"BB61","v":0},null,null,null,null,{"$f":"IF(ISBLANK(BC63),\" \",BC63+(BD63-BE63)*50+IF(COUNT(BC61:BC64)=3,(BE61+BE62+BE64)*40,(BE61+BE62+BE64)*30))","v":" "},0,{"$f":"IF(COUNTIF(BJ$13:BJ63,BJ63)>1,\"X\",\"\")","v":"X"},{"$f":"IF(ISBLANK(BN61),\" \",INDEX(DE:DE,MATCH(BN61,DB:DB,0)))","v":" "},{"$f":"IF(ISBLANK(BN63),\" \",INDEX('Eingabe Spielernamen'!$F:$F,MATCH(BJ63,'Eingabe Spielernamen'!$B:$B,0))&\", \"&INDEX('Eingabe Spielernamen'!$G:$G,MATCH(BJ63,'Eingabe Spielernamen'!$B:$B,0)))","v":{"$error":"#N/A"}},null,null,{"$f":"BN61","v":0},null,null,null,null,{"$f":"IF(ISBLANK(BO63),\" \",BO63+(BP63-BQ63)*50+IF(COUNT(BO61:BO64)=3,(BQ61+BQ62+BQ64)*40,(BQ61+BQ62+BQ64)*30))","v":" "},0]
[{"$f":"IF(COUNTIF(B$13:B64,B64)>1,\"X\",\"\")","v":"X"},{"$f":"IF(ISBLANK(F61),\" \",INDEX(CG:CG,MATCH(F61,CC:CC,0)))","v":" "},{"$f":"IF(ISBLANK(F64),\" \",INDEX('Eingabe Spielernamen'!$F:$F,MATCH(B64,'Eingabe Spielernamen'!$B:$B,0))&\", \"&INDEX('Eingabe Spielernamen'!$G:$G,MATCH(B64,'Eingabe Spielernamen'!$B:$B,0)))","v":{"$error":"#N/A"}},null,null,{"$f":"F61","v":0},null,null,null,null,{"$f":"IF(ISBLANK(G64),\" \",G64+(H64-I64)*50+IF(COUNT(G61:G64)=3,(I61+I62+I63)*40,(I61+I62+I63)*30))","v":" "},0,{"$f":"IF(COUNTIF(N$13:N64,N64)>1,\"X\",\"\")","v":"X"},{"$f":"IF(ISBLANK(R61),\" \",INDEX(CL:CL,MATCH(R61,CH:CH,0)))","v":" "},{"$f":"IF(ISBLANK(R64),\" \",INDEX('Eingabe Spielernamen'!$F:$F,MATCH(N64,'Eingabe Spielernamen'!$B:$B,0))&\", \"&INDEX('Eingabe Spielernamen'!$G:$G,MATCH(N64,'Eingabe Spielernamen'!$B:$B,0)))","v":{"$error":"#N/A"}},null,null,{"$f":"R61","v":0},null,null,null,null,{"$f":"IF(ISBLANK(S64),\" \",S64+(T64-U64)*50+IF(COUNT(S61:S64)=3,(U61+U62+U63)*40,(U61+U62+U63)*30))","v":" "},0,{"$f":"IF(COUNTIF(Z$13:Z64,Z64)>1,\"X\",\"\")","v":"X"},{"$f":"IF(ISBLANK(AD61),\" \",INDEX(CQ:CQ,MATCH(AD61,CM:CM,0)))","v":" "},{"$f":"IF(ISBLANK(AD64),\" \",INDEX('Eingabe Spielernamen'!$F:$F,MATCH(Z64,'Eingabe Spielernamen'!$B:$B,0))&\", \"&INDEX('Eingabe Spielernamen'!$G:$G,MATCH(Z64,'Eingabe Spielernamen'!$B:$B,0)))","v":{"$error":"#N/A"}},null,null,{"$f":"AD61","v":0},null,null,null,null,{"$f":"IF(ISBLANK(AE64),\" \",AE64+(AF64-AG64)*50+IF(COUNT(AE61:AE64)=3,(AG61+AG62+AG63)*40,(AG61+AG62+AG63)*30))","v":" "},0,{"$f":"IF(COUNTIF(AL$13:AL64,AL64)>1,\"X\",\"\")","v":"X"},{"$f":"IF(ISBLANK(AP61),\" \",INDEX(CV:CV,MATCH(AP61,CR:CR,0)))","v":" "},{"$f":"IF(ISBLANK(AP64),\" \",INDEX('Eingabe Spielernamen'!$F:$F,MATCH(AL64,'Eingabe Spielernamen'!$B:$B,0))&\", \"&INDEX('Eingabe Spielernamen'!$G:$G,MATCH(AL64,'Eingabe Spielernamen'!$B:$B,0)))","v":{"$error":"#N/A"}},null,null,{"$f":"AP61","v":0},null,null,null,null,{"$f":"IF(ISBLANK(AQ64),\" \",AQ64+(AR64-AS64)*50+IF(COUNT(AQ61:AQ64)=3,(AS61+AS62+AS63)*40,(AS61+AS62+AS63)*30))","v":" "},0,{"$f":"IF(COUNTIF(AX$13:AX64,AX64)>1,\"X\",\"\")","v":"X"},{"$f":"IF(ISBLANK(BB61),\" \",INDEX(DA:DA,MATCH(BB61,CW:CW,0)))","v":" "},{"$f":"IF(ISBLANK(BB64),\" \",INDEX('Eingabe Spielernamen'!$F:$F,MATCH(AX64,'Eingabe Spielernamen'!$B:$B,0))&\", \"&INDEX('Eingabe Spielernamen'!$G:$G,MATCH(AX64,'Eingabe Spielernamen'!$B:$B,0)))","v":{"$error":"#N/A"}},null,null,{"$f":"BB61","v":0},null,null,null,null,{"$f":"IF(ISBLANK(BC64),\" \",BC64+(BD64-BE64)*50+IF(COUNT(BC61:BC64)=3,(BE61+BE62+BE63)*40,(BE61+BE62+BE63)*30))","v":" "},0,{"$f":"IF(COUNTIF(BJ$13:BJ64,BJ64)>1,\"X\",\"\")","v":"X"},{"$f":"IF(ISBLANK(BN61),\" \",INDEX(DF:DF,MATCH(BN61,DB:DB,0)))","v":" "},{"$f":"IF(ISBLANK(BN64),\" \",INDEX('Eingabe Spielernamen'!$F:$F,MATCH(BJ64,'Eingabe Spielernamen'!$B:$B,0))&\", \"&INDEX('Eingabe Spielernamen'!$G:$G,MATCH(BJ64,'Eingabe Spielernamen'!$B:$B,0)))","v":{"$error":"#N/A"}},null,null,{"$f":"BN61","v":0},null,null,null,null,{"$f":"IF(ISBLANK(BO64),\" \",BO64+(BP64-BQ64)*50+IF(COUNT(BO61:BO64)=3,(BQ61+BQ62+BQ63)*40,(BQ61+BQ62+BQ63)*30))","v":" "},0]
[{"$f":"IF(COUNTIF(B$13:B65,B65)>1,\"X\",\"\")","v":"X"},{"$f":"IF(ISBLANK(F65),\" \",INDEX(CD:CD,MATCH(F65,CC:CC,0)))","v":" "},{"$f":"IF(ISBLANK(F65),\" \",INDEX('Eingabe Spielernamen'!$F:$F,MATCH(B65,'Eingabe Spielernamen'!$B:$B,0))&\", \"&INDEX('Eingabe Spielernamen'!$G:$G,MATCH(B65,'Eingabe Spielernamen'!$B:$B,0)))","v":" "},null,null,null,null,null,null,null,{"$f":"IF(ISBLANK(G65),\" \",G65+(H65-I65)*50+IF(COUNT(G65:G68)=3,(I66+I67+I68)*40,(I66+I67+I68)*30))","v":" "},0,{"$f":"IF(COUNTIF(N$13:N65,N65)>1,\"X\",\"\")","v":"X"},{"$f":"IF(ISBLANK(R65),\" \",INDEX(CI:CI,MATCH(R65,CH:CH,0)))","v":" "},{"$f":"IF(ISBLANK(R65),\" \",INDEX('Eingabe Spielernamen'!$F:$F,MATCH(N65,'Eingabe Spielernamen'!$B:$B,0))&\", \"&INDEX('Eingabe Spielernamen'!$G:$G,MATCH(N65,'Eingabe Spielernamen'!$B:$B,0)))","v":" "},null,null,null,null,null,null,null,{"$f":"IF(ISBLANK(S65),\" \",S65+(T65-U65)*50+IF(COUNT(S65:S68)=3,(U66+U67+U68)*40,(U66+U67+U68)*30))","v":" "},0,{"$f":"IF(COUNTIF(Z$13:Z65,Z65)>1,\"X\",\"\")","v":"X"},{"$f":"IF(ISBLANK(AD65),\" \",INDEX(CN:CN,MATCH(AD65,CM:CM,0)))","v":" "},{"$f":"IF(ISBLANK(AD65),\" \",INDEX('Eingabe Spielernamen'!$F:$F,MATCH(Z65,'Eingabe Spielernamen'!$B:$B,0))&\", \"&INDEX('Eingabe Spielernamen'!$G:$G,MATCH(Z65,'Eingabe Spielernamen'!$B:$B,0)))","v":" "},null,null,null,null,null,null,null,{"$f":"IF(ISBLANK(AE65),\" \",AE65+(AF65-AG65)*50+IF(COUNT(AE65:AE68)=3,(AG66+AG67+AG68)*40,(AG66+AG67+AG68)*30))","v":" "},0,{"$f":"IF(COUNTIF(AL$13:AL65,AL65)>1,\"X\",\"\")","v":"X"},{"$f":"IF(ISBLANK(AP65),\" \",INDEX(CS:CS,MATCH(AP65,CR:CR,0)))","v":" "},{"$f":"IF(ISBLANK(AP65),\" \",INDEX('Eingabe Spielernamen'!$F:$F,MATCH(AL65,'Eingabe Spielernamen'!$B:$B,0))&\", \"&INDEX('Eingabe Spielernamen'!$G:$G,MATCH(AL65,'Eingabe Spielernamen'!$B:$B,0)))","v":" "},null,null,null,null,null,null,null,{"$f":"IF(ISBLANK(AQ65),\" \",AQ65+(AR65-AS65)*50+IF(COUNT(AQ65:AQ68)=3,(AS66+AS67+AS68)*40,(AS66+AS67+AS68)*30))","v":" "},0,{"$f":"IF(COUNTIF(AX$13:AX65,AX65)>1,\"X\",\"\")","v":"X"},{"$f":"IF(ISBLANK(BB65),\" \",INDEX(CX:CX,MATCH(BB65,CW:CW,0)))","v":" "},{"$f":"IF(ISBLANK(BB65),\" \",INDEX('Eingabe Spielernamen'!$F:$F,MATCH(AX65,'Eingabe Spielernamen'!$B:$B,0))&\", \"&INDEX('Eingabe Spielernamen'!$G:$G,MATCH(AX65,'Eingabe Spielernamen'!$B:$B,0)))","v":" "},null,null,null,null,null,null,null,{"$f":"IF(ISBLANK(BC65),\" \",BC65+(BD65-BE65)*50+IF(COUNT(BC65:BC68)=3,(BE66+BE67+BE68)*40,(BE66+BE67+BE68)*30))","v":" "},0,{"$f":"IF(COUNTIF(BJ$13:BJ65,BJ65)>1,\"X\",\"\")","v":"X"},{"$f":"IF(ISBLANK(BN65),\" \",INDEX(DC:DC,MATCH(BN65,DB:DB,0)))","v":" "},{"$f":"IF(ISBLANK(BN65),\" \",INDEX('Eingabe Spielernamen'!$F:$F,MATCH(BJ65,'Eingabe Spielernamen'!$B:$B,0))&\", \"&INDEX('Eingabe Spielernamen'!$G:$G,MATCH(BJ65,'Eingabe Spielernamen'!$B:$B,0)))","v":" "},null,null,null,null,null,null,null,{"$f":"IF(ISBLANK(BO65),\" \",BO65+(BP65-BQ65)*50+IF(COUNT(BO65:BO68)=3,(BQ66+BQ67+BQ68)*40,(BQ66+BQ67+BQ68)*30))","v":" "},0,null,null,{"$f":"SUM(L65:L68)","v":0},{"$f":"SUM(X65:X68)","v":0},{"$f":"SUM(AJ65:AJ68)","v":0},{"$f":"SUM(AV65:AV68)","v":0},{"$f":"SUM(BH65:BH68)","v":0},{"$f":"SUM(BT65:BT68)","v":0}]
[{"$f":"IF(COUNTIF(B$13:B66,B66)>1,\"X\",\"\")","v":"X"},{"$f":"IF(ISBLANK(F65),\" \",INDEX(CE:CE,MATCH(F65,CC:CC,0)))","v":" "},{"$f":"IF(ISBLANK(F66),\" \",INDEX('Eingabe Spielernamen'!$F:$F,MATCH(B66,'Eingabe Spielernamen'!$B:$B,0))&\", \"&INDEX('Eingabe Spielernamen'!$G:$G,MATCH(B66,'Eingabe Spielernamen'!$B:$B,0)))","v":{"$error":"#N/A"}},null,null,{"$f":"F65","v":0},null,null,null,null,{"$f":"IF(ISBLANK(G66),\" \",G66+(H66-I66)*50+IF(COUNT(G65:G68)=3,(I65+I67+I68)*40,(I65+I67+I68)*30))","v":" "},0,{"$f":"IF(COUNTIF(N$13:N66,N66)>1,\"X\",\"\")","v":"X"},{"$f":"IF(ISBLANK(R65),\" \",INDEX(CJ:CJ,MATCH(R65,CH:CH,0)))","v":" "},{"$f":"IF(ISBLANK(R66),\" \",INDEX('Eingabe Spielernamen'!$F:$F,MATCH(N66,'Eingabe Spielernamen'!$B:$B,0))&\", \"&INDEX('Eingabe Spielernamen'!$G:$G,MATCH(N66,'Eingabe Spielernamen'!$B:$B,0)))","v":{"$error":"#N/A"}},null,null,{"$f":"R65","v":0},null,null,null,null,{"$f":"IF(ISBLANK(S66),\" \",S66+(T66-U66)*50+IF(COUNT(S65:S68)=3,(U65+U67+U68)*40,(U65+U67+U68)*30))","v":" "},0,{"$f":"IF(COUNTIF(Z$13:Z66,Z66)>1,\"X\",\"\")","v":"X"},{"$f":"IF(ISBLANK(AD65),\" \",INDEX(CO:CO,MATCH(AD65,CM:CM,0)))","v":" "},{"$f":"IF(ISBLANK(AD66),\" \",INDEX('Eingabe Spielernamen'!$F:$F,MATCH(Z66,'Eingabe Spielernamen'!$B:$B,0))&\", \"&INDEX('Eingabe Spielernamen'!$G:$G,MATCH(Z66,'Eingabe Spielernamen'!$B:$B,0)))","v":{"$error":"#N/A"}},null,null,{"$f":"AD65","v":0},null,null,null,null,{"$f":"IF(ISBLANK(AE66),\" \",AE66+(AF66-AG66)*50+IF(COUNT(AE65:AE68)=3,(AG65+AG67+AG68)*40,(AG65+AG67+AG68)*30))","v":" "},0,{"$f":"IF(COUNTIF(AL$13:AL66,AL66)>1,\"X\",\"\")","v":"X"},{"$f":"IF(ISBLANK(AP65),\" \",INDEX(CT:CT,MATCH(AP65,CR:CR,0)))","v":" "},{"$f":"IF(ISBLANK(AP66),\" \",INDEX('Eingabe Spielernamen'!$F:$F,MATCH(AL66,'Eingabe Spielernamen'!$B:$B,0))&\", \"&INDEX('Eingabe Spielernamen'!$G:$G,MATCH(AL66,'Eingabe Spielernamen'!$B:$B,0)))","v":{"$error":"#N/A"}},null,null,{"$f":"AP65","v":0},null,null,null,null,{"$f":"IF(ISBLANK(AQ66),\" \",AQ66+(AR66-AS66)*50+IF(COUNT(AQ65:AQ68)=3,(AS65+AS67+AS68)*40,(AS65+AS67+AS68)*30))","v":" "},0,{"$f":"IF(COUNTIF(AX$13:AX66,AX66)>1,\"X\",\"\")","v":"X"},{"$f":"IF(ISBLANK(BB65),\" \",INDEX(CY:CY,MATCH(BB65,CW:CW,0)))","v":" "},{"$f":"IF(ISBLANK(BB66),\" \",INDEX('Eingabe Spielernamen'!$F:$F,MATCH(AX66,'Eingabe Spielernamen'!$B:$B,0))&\", \"&INDEX('Eingabe Spielernamen'!$G:$G,MATCH(AX66,'Eingabe Spielernamen'!$B:$B,0)))","v":{"$error":"#N/A"}},null,null,{"$f":"BB65","v":0},null,null,null,null,{"$f":"IF(ISBLANK(BC66),\" \",BC66+(BD66-BE66)*50+IF(COUNT(BC65:BC68)=3,(BE65+BE67+BE68)*40,(BE65+BE67+BE68)*30))","v":" "},0,{"$f":"IF(COUNTIF(BJ$13:BJ66,BJ66)>1,\"X\",\"\")","v":"X"},{"$f":"IF(ISBLANK(BN65),\" \",INDEX(DD:DD,MATCH(BN65,DB:DB,0)))","v":" "},{"$f":"IF(ISBLANK(BN66),\" \",INDEX('Eingabe Spielernamen'!$F:$F,MATCH(BJ66,'Eingabe Spielernamen'!$B:$B,0))&\", \"&INDEX('Eingabe Spielernamen'!$G:$G,MATCH(BJ66,'Eingabe Spielernamen'!$B:$B,0)))","v":{"$error":"#N/A"}},null,null,{"$f":"BN65","v":0},null,null,null,null,{"$f":"IF(ISBLANK(BO66),\" \",BO66+(BP66-BQ66)*50+IF(COUNT(BO65:BO68)=3,(BQ65+BQ67+BQ68)*40,(BQ65+BQ67+BQ68)*30))","v":" "},0]
[{"$f":"IF(COUNTIF(B$13:B67,B67)>1,\"X\",\"\")","v":"X"},{"$f":"IF(ISBLANK(F65),\" \",INDEX(CF:CF,MATCH(F65,CC:CC,0)))","v":" "},{"$f":"IF(ISBLANK(F67),\" \",INDEX('Eingabe Spielernamen'!$F:$F,MATCH(B67,'Eingabe Spielernamen'!$B:$B,0))&\", \"&INDEX('Eingabe Spielernamen'!$G:$G,MATCH(B67,'Eingabe Spielernamen'!$B:$B,0)))","v":{"$error":"#N/A"}},null,null,{"$f":"F65","v":0},null,null,null,null,{"$f":"IF(ISBLANK(G67),\" \",G67+(H67-I67)*50+IF(COUNT(G65:G68)=3,(I65+I66+I68)*40,(I65+I66+I68)*30))","v":" "},0,{"$f":"IF(COUNTIF(N$13:N67,N67)>1,\"X\",\"\")","v":"X"},{"$f":"IF(ISBLANK(R65),\" \",INDEX(CK:CK,MATCH(R65,CH:CH,0)))","v":" "},{"$f":"IF(ISBLANK(R67),\" \",INDEX('Eingabe Spielernamen'!$F:$F,MATCH(N67,'Eingabe Spielernamen'!$B:$B,0))&\", \"&INDEX('Eingabe Spielernamen'!$G:$G,MATCH(N67,'Eingabe Spielernamen'!$B:$B,0)))","v":{"$error":"#N/A"}},null,null,{"$f":"R65","v":0},null,null,null,null,{"$f":"IF(ISBLANK(S67),\" \",S67+(T67-U67)*50+IF(COUNT(S65:S68)=3,(U65+U66+U68)*40,(U65+U66+U68)*30))","v":" "},0,{"$f":"IF(COUNTIF(Z$13:Z67,Z67)>1,\"X\",\"\")","v":"X"},{"$f":"IF(ISBLANK(AD65),\" \",INDEX(CP:CP,MATCH(AD65,CM:CM,0)))","v":" "},{"$f":"IF(ISBLANK(AD67),\" \",INDEX('Eingabe Spielernamen'!$F:$F,MATCH(Z67,'Eingabe Spielernamen'!$B:$B,0))&\", \"&INDEX('Eingabe Spielernamen'!$G:$G,MATCH(Z67,'Eingabe Spielernamen'!$B:$B,0)))","v":{"$error":"#N/A"}},null,null,{"$f":"AD65","v":0},null,null,null,null,{"$f":"IF(ISBLANK(AE67),\" \",AE67+(AF67-AG67)*50+IF(COUNT(AE65:AE68)=3,(AG65+AG66+AG68)*40,(AG65+AG66+AG68)*30))","v":" "},0,{"$f":"IF(COUNTIF(AL$13:AL67,AL67)>1,\"X\",\"\")","v":"X"},{"$f":"IF(ISBLANK(AP65),\" \",INDEX(CU:CU,MATCH(AP65,CR:CR,0)))","v":" "},{"$f":"IF(ISBLANK(AP67),\" \",INDEX('Eingabe Spielernamen'!$F:$F,MATCH(AL67,'Eingabe Spielernamen'!$B:$B,0))&\", \"&INDEX('Eingabe Spielernamen'!$G:$G,MATCH(AL67,'Eingabe Spielernamen'!$B:$B,0)))","v":{"$error":"#N/A"}},null,null,{"$f":"AP65","v":0},null,null,null,null,{"$f":"IF(ISBLANK(AQ67),\" \",AQ67+(AR67-AS67)*50+IF(COUNT(AQ65:AQ68)=3,(AS65+AS66+AS68)*40,(AS65+AS66+AS68)*30))","v":" "},0,{"$f":"IF(COUNTIF(AX$13:AX67,AX67)>1,\"X\",\"\")","v":"X"},{"$f":"IF(ISBLANK(BB65),\" \",INDEX(CZ:CZ,MATCH(BB65,CW:CW,0)))","v":" "},{"$f":"IF(ISBLANK(BB67),\" \",INDEX('Eingabe Spielernamen'!$F:$F,MATCH(AX67,'Eingabe Spielernamen'!$B:$B,0))&\", \"&INDEX('Eingabe Spielernamen'!$G:$G,MATCH(AX67,'Eingabe Spielernamen'!$B:$B,0)))","v":{"$error":"#N/A"}},null,null,{"$f":"BB65","v":0},null,null,null,null,{"$f":"IF(ISBLANK(BC67),\" \",BC67+(BD67-BE67)*50+IF(COUNT(BC65:BC68)=3,(BE65+BE66+BE68)*40,(BE65+BE66+BE68)*30))","v":" "},0,{"$f":"IF(COUNTIF(BJ$13:BJ67,BJ67)>1,\"X\",\"\")","v":"X"},{"$f":"IF(ISBLANK(BN65),\" \",INDEX(DE:DE,MATCH(BN65,DB:DB,0)))","v":" "},{"$f":"IF(ISBLANK(BN67),\" \",INDEX('Eingabe Spielernamen'!$F:$F,MATCH(BJ67,'Eingabe Spielernamen'!$B:$B,0))&\", \"&INDEX('Eingabe Spielernamen'!$G:$G,MATCH(BJ67,'Eingabe Spielernamen'!$B:$B,0)))","v":{"$error":"#N/A"}},null,null,{"$f":"BN65","v":0},null,null,null,null,{"$f":"IF(ISBLANK(BO67),\" \",BO67+(BP67-BQ67)*50+IF(COUNT(BO65:BO68)=3,(BQ65+BQ66+BQ68)*40,(BQ65+BQ66+BQ68)*30))","v":" "},0]
[{"$f":"IF(COUNTIF(B$13:B68,B68)>1,\"X\",\"\")","v":"X"},{"$f":"IF(ISBLANK(F65),\" \",INDEX(CG:CG,MATCH(F65,CC:CC,0)))","v":" "},{"$f":"IF(ISBLANK(F68),\" \",INDEX('Eingabe Spielernamen'!$F:$F,MATCH(B68,'Eingabe Spielernamen'!$B:$B,0))&\", \"&INDEX('Eingabe Spielernamen'!$G:$G,MATCH(B68,'Eingabe Spielernamen'!$B:$B,0)))","v":{"$error":"#N/A"}},null,null,{"$f":"F65","v":0},null,null,null,null,{"$f":"IF(ISBLANK(G68),\" \",G68+(H68-I68)*50+IF(COUNT(G65:G68)=3,(I65+I66+I67)*40,(I65+I66+I67)*30))","v":" "},0,{"$f":"IF(COUNTIF(N$13:N68,N68)>1,\"X\",\"\")","v":"X"},{"$f":"IF(ISBLANK(R65),\" \",INDEX(CL:CL,MATCH(R65,CH:CH,0)))","v":" "},{"$f":"IF(ISBLANK(R68),\" \",INDEX('Eingabe Spielernamen'!$F:$F,MATCH(N68,'Eingabe Spielernamen'!$B:$B,0))&\", \"&INDEX('Eingabe Spielernamen'!$G:$G,MATCH(N68,'Eingabe Spielernamen'!$B:$B,0)))","v":{"$error":"#N/A"}},null,null,{"$f":"R65","v":0},null,null,null,null,{"$f":"IF(ISBLANK(S68),\" \",S68+(T68-U68)*50+IF(COUNT(S65:S68)=3,(U65+U66+U67)*40,(U65+U66+U67)*30))","v":" "},0,{"$f":"IF(COUNTIF(Z$13:Z68,Z68)>1,\"X\",\"\")","v":"X"},{"$f":"IF(ISBLANK(AD65),\" \",INDEX(CQ:CQ,MATCH(AD65,CM:CM,0)))","v":" "},{"$f":"IF(ISBLANK(AD68),\" \",INDEX('Eingabe Spielernamen'!$F:$F,MATCH(Z68,'Eingabe Spielernamen'!$B:$B,0))&\", \"&INDEX('Eingabe Spielernamen'!$G:$G,MATCH(Z68,'Eingabe Spielernamen'!$B:$B,0)))","v":{"$error":"#N/A"}},null,null,{"$f":"AD65","v":0},null,null,null,null,{"$f":"IF(ISBLANK(AE68),\" \",AE68+(AF68-AG68)*50+IF(COUNT(AE65:AE68)=3,(AG65+AG66+AG67)*40,(AG65+AG66+AG67)*30))","v":" "},0,{"$f":"IF(COUNTIF(AL$13:AL68,AL68)>1,\"X\",\"\")","v":"X"},{"$f":"IF(ISBLANK(AP65),\" \",INDEX(CV:CV,MATCH(AP65,CR:CR,0)))","v":" "},{"$f":"IF(ISBLANK(AP68),\" \",INDEX('Eingabe Spielernamen'!$F:$F,MATCH(AL68,'Eingabe Spielernamen'!$B:$B,0))&\", \"&INDEX('Eingabe Spielernamen'!$G:$G,MATCH(AL68,'Eingabe Spielernamen'!$B:$B,0)))","v":{"$error":"#N/A"}},null,null,{"$f":"AP65","v":0},null,null,null,null,{"$f":"IF(ISBLANK(AQ68),\" \",AQ68+(AR68-AS68)*50+IF(COUNT(AQ65:AQ68)=3,(AS65+AS66+AS67)*40,(AS65+AS66+AS67)*30))","v":" "},0,{"$f":"IF(COUNTIF(AX$13:AX68,AX68)>1,\"X\",\"\")","v":"X"},{"$f":"IF(ISBLANK(BB65),\" \",INDEX(DA:DA,MATCH(BB65,CW:CW,0)))","v":" "},{"$f":"IF(ISBLANK(BB68),\" \",INDEX('Eingabe Spielernamen'!$F:$F,MATCH(AX68,'Eingabe Spielernamen'!$B:$B,0))&\", \"&INDEX('Eingabe Spielernamen'!$G:$G,MATCH(AX68,'Eingabe Spielernamen'!$B:$B,0)))","v":{"$error":"#N/A"}},null,null,{"$f":"BB65","v":0},null,null,null,null,{"$f":"IF(ISBLANK(BC68),\" \",BC68+(BD68-BE68)*50+IF(COUNT(BC65:BC68)=3,(BE65+BE66+BE67)*40,(BE65+BE66+BE67)*30))","v":" "},0,{"$f":"IF(COUNTIF(BJ$13:BJ68,BJ68)>1,\"X\",\"\")","v":"X"},{"$f":"IF(ISBLANK(BN65),\" \",INDEX(DF:DF,MATCH(BN65,DB:DB,0)))","v":" "},{"$f":"IF(ISBLANK(BN68),\" \",INDEX('Eingabe Spielernamen'!$F:$F,MATCH(BJ68,'Eingabe Spielernamen'!$B:$B,0))&\", \"&INDEX('Eingabe Spielernamen'!$G:$G,MATCH(BJ68,'Eingabe Spielernamen'!$B:$B,0)))","v":{"$error":"#N/A"}},null,null,{"$f":"BN65","v":0},null,null,null,null,{"$f":"IF(ISBLANK(BO68),\" \",BO68+(BP68-BQ68)*50+IF(COUNT(BO65:BO68)=3,(BQ65+BQ66+BQ67)*40,(BQ65+BQ66+BQ67)*30))","v":" "},0]
[{"$f":"IF(COUNTIF(B$13:B69,B69)>1,\"X\",\"\")","v":"X"},{"$f":"IF(ISBLANK(F69),\" \",INDEX(CD:CD,MATCH(F69,CC:CC,0)))","v":" "},{"$f":"IF(ISBLANK(F69),\" \",INDEX('Eingabe Spielernamen'!$F:$F,MATCH(B69,'Eingabe Spielernamen'!$B:$B,0))&\", \"&INDEX('Eingabe Spielernamen'!$G:$G,MATCH(B69,'Eingabe Spielernamen'!$B:$B,0)))","v":" "},null,null,null,null,null,null,null,{"$f":"IF(ISBLANK(G69),\" \",G69+(H69-I69)*50+IF(COUNT(G69:G72)=3,(I70+I71+I72)*40,(I70+I71+I72)*30))","v":" "},0,{"$f":"IF(COUNTIF(N$13:N69,N69)>1,\"X\",\"\")","v":"X"},{"$f":"IF(ISBLANK(R69),\" \",INDEX(CI:CI,MATCH(R69,CH:CH,0)))","v":" "},{"$f":"IF(ISBLANK(R69),\" \",INDEX('Eingabe Spielernamen'!$F:$F,MATCH(N69,'Eingabe Spielernamen'!$B:$B,0))&\", \"&INDEX('Eingabe Spielernamen'!$G:$G,MATCH(N69,'Eingabe Spielernamen'!$B:$B,0)))","v":" "},null,null,null,null,null,null,null,{"$f":"IF(ISBLANK(S69),\" \",S69+(T69-U69)*50+IF(COUNT(S69:S72)=3,(U70+U71+U72)*40,(U70+U71+U72)*30))","v":" "},0,{"$f":"IF(COUNTIF(Z$13:Z69,Z69)>1,\"X\",\"\")","v":"X"},{"$f":"IF(ISBLANK(AD69),\" \",INDEX(CN:CN,MATCH(AD69,CM:CM,0)))","v":" "},{"$f":"IF(ISBLANK(AD69),\" \",INDEX('Eingabe Spielernamen'!$F:$F,MATCH(Z69,'Eingabe Spielernamen'!$B:$B,0))&\", \"&INDEX('Eingabe Spielernamen'!$G:$G,MATCH(Z69,'Eingabe Spielernamen'!$B:$B,0)))","v":" "},null,null,null,null,null,null,null,{"$f":"IF(ISBLANK(AE69),\" \",AE69+(AF69-AG69)*50+IF(COUNT(AE69:AE72)=3,(AG70+AG71+AG72)*40,(AG70+AG71+AG72)*30))","v":" "},0,{"$f":"IF(COUNTIF(AL$13:AL69,AL69)>1,\"X\",\"\")","v":"X"},{"$f":"IF(ISBLANK(AP69),\" \",INDEX(CS:CS,MATCH(AP69,CR:CR,0)))","v":" "},{"$f":"IF(ISBLANK(AP69),\" \",INDEX('Eingabe Spielernamen'!$F:$F,MATCH(AL69,'Eingabe Spielernamen'!$B:$B,0))&\", \"&INDEX('Eingabe Spielernamen'!$G:$G,MATCH(AL69,'Eingabe Spielernamen'!$B:$B,0)))","v":" "},null,null,null,null,null,null,null,{"$f":"IF(ISBLANK(AQ69),\" \",AQ69+(AR69-AS69)*50+IF(COUNT(AQ69:AQ72)=3,(AS70+AS71+AS72)*40,(AS70+AS71+AS72)*30))","v":" "},0,{"$f":"IF(COUNTIF(AX$13:AX69,AX69)>1,\"X\",\"\")","v":"X"},{"$f":"IF(ISBLANK(BB69),\" \",INDEX(CX:CX,MATCH(BB69,CW:CW,0)))","v":" "},{"$f":"IF(ISBLANK(BB69),\" \",INDEX('Eingabe Spielernamen'!$F:$F,MATCH(AX69,'Eingabe Spielernamen'!$B:$B,0))&\", \"&INDEX('Eingabe Spielernamen'!$G:$G,MATCH(AX69,'Eingabe Spielernamen'!$B:$B,0)))","v":" "},null,null,null,null,null,null,null,{"$f":"IF(ISBLANK(BC69),\" \",BC69+(BD69-BE69)*50+IF(COUNT(BC69:BC72)=3,(BE70+BE71+BE72)*40,(BE70+BE71+BE72)*30))","v":" "},0,{"$f":"IF(COUNTIF(BJ$13:BJ69,BJ69)>1,\"X\",\"\")","v":"X"},{"$f":"IF(ISBLANK(BN69),\" \",INDEX(DC:DC,MATCH(BN69,DB:DB,0)))","v":" "},{"$f":"IF(ISBLANK(BN69),\" \",INDEX('Eingabe Spielernamen'!$F:$F,MATCH(BJ69,'Eingabe Spielernamen'!$B:$B,0))&\", \"&INDEX('Eingabe Spielernamen'!$G:$G,MATCH(BJ69,'Eingabe Spielernamen'!$B:$B,0)))","v":" "},null,null,null,null,null,null,null,{"$f":"IF(ISBLANK(BO69),\" \",BO69+(BP69-BQ69)*50+IF(COUNT(BO69:BO72)=3,(BQ70+BQ71+BQ72)*40,(BQ70+BQ71+BQ72)*30))","v":" "},0,null,null,{"$f":"SUM(L69:L72)","v":0},{"$f":"SUM(X69:X72)","v":0},{"$f":"SUM(AJ69:AJ72)","v":0},{"$f":"SUM(AV69:AV72)","v":0},{"$f":"SUM(BH69:BH72)","v":0},{"$f":"SUM(BT69:BT72)","v":0}]
[{"$f":"IF(COUNTIF(B$13:B70,B70)>1,\"X\",\"\")","v":"X"},{"$f":"IF(ISBLANK(F69),\" \",INDEX(CE:CE,MATCH(F69,CC:CC,0)))","v":" "},{"$f":"IF(ISBLANK(F70),\" \",INDEX('Eingabe Spielernamen'!$F:$F,MATCH(B70,'Eingabe Spielernamen'!$B:$B,0))&\", \"&INDEX('Eingabe Spielernamen'!$G:$G,MATCH(B70,'Eingabe Spielernamen'!$B:$B,0)))","v":{"$error":"#N/A"}},null,null,{"$f":"F69","v":0},null,null,null,null,{"$f":"IF(ISBLANK(G70),\" \",G70+(H70-I70)*50+IF(COUNT(G69:G72)=3,(I69+I71+I72)*40,(I69+I71+I72)*30))","v":" "},0,{"$f":"IF(COUNTIF(N$13:N70,N70)>1,\"X\",\"\")","v":"X"},{"$f":"IF(ISBLANK(R69),\" \",INDEX(CJ:CJ,MATCH(R69,CH:CH,0)))","v":" "},{"$f":"IF(ISBLANK(R70),\" \",INDEX('Eingabe Spielernamen'!$F:$F,MATCH(N70,'Eingabe Spielernamen'!$B:$B,0))&\", \"&INDEX('Eingabe Spielernamen'!$G:$G,MATCH(N70,'Eingabe Spielernamen'!$B:$B,0)))","v":{"$error":"#N/A"}},null,null,{"$f":"R69","v":0},null,null,null,null,{"$f":"IF(ISBLANK(S70),\" \",S70+(T70-U70)*50+IF(COUNT(S69:S72)=3,(U69+U71+U72)*40,(U69+U71+U72)*30))","v":" "},0,{"$f":"IF(COUNTIF(Z$13:Z70,Z70)>1,\"X\",\"\")","v":"X"},{"$f":"IF(ISBLANK(AD69),\" \",INDEX(CO:CO,MATCH(AD69,CM:CM,0)))","v":" "},{"$f":"IF(ISBLANK(AD70),\" \",INDEX('Eingabe Spielernamen'!$F:$F,MATCH(Z70,'Eingabe Spielernamen'!$B:$B,0))&\", \"&INDEX('Eingabe Spielernamen'!$G:$G,MATCH(Z70,'Eingabe Spielernamen'!$B:$B,0)))","v":{"$error":"#N/A"}},null,null,{"$f":"AD69","v":0},null,null,null,null,{"$f":"IF(ISBLANK(AE70),\" \",AE70+(AF70-AG70)*50+IF(COUNT(AE69:AE72)=3,(AG69+AG71+AG72)*40,(AG69+AG71+AG72)*30))","v":" "},0,{"$f":"IF(COUNTIF(AL$13:AL70,AL70)>1,\"X\",\"\")","v":"X"},{"$f":"IF(ISBLANK(AP69),\" \",INDEX(CT:CT,MATCH(AP69,CR:CR,0)))","v":" "},{"$f":"IF(ISBLANK(AP70),\" \",INDEX('Eingabe Spielernamen'!$F:$F,MATCH(AL70,'Eingabe Spielernamen'!$B:$B,0))&\", \"&INDEX('Eingabe Spielernamen'!$G:$G,MATCH(AL70,'Eingabe Spielernamen'!$B:$B,0)))","v":{"$error":"#N/A"}},null,null,{"$f":"AP69","v":0},null,null,null,null,{"$f":"IF(ISBLANK(AQ70),\" \",AQ70+(AR70-AS70)*50+IF(COUNT(AQ69:AQ72)=3,(AS69+AS71+AS72)*40,(AS69+AS71+AS72)*30))","v":" "},0,{"$f":"IF(COUNTIF(AX$13:AX70,AX70)>1,\"X\",\"\")","v":"X"},{"$f":"IF(ISBLANK(BB69),\" \",INDEX(CY:CY,MATCH(BB69,CW:CW,0)))","v":" "},{"$f":"IF(ISBLANK(BB70),\" \",INDEX('Eingabe Spielernamen'!$F:$F,MATCH(AX70,'Eingabe Spielernamen'!$B:$B,0))&\", \"&INDEX('Eingabe Spielernamen'!$G:$G,MATCH(AX70,'Eingabe Spielernamen'!$B:$B,0)))","v":{"$error":"#N/A"}},null,null,{"$f":"BB69","v":0},null,null,null,null,{"$f":"IF(ISBLANK(BC70),\" \",BC70+(BD70-BE70)*50+IF(COUNT(BC69:BC72)=3,(BE69+BE71+BE72)*40,(BE69+BE71+BE72)*30))","v":" "},0,{"$f":"IF(COUNTIF(BJ$13:BJ70,BJ70)>1,\"X\",\"\")","v":"X"},{"$f":"IF(ISBLANK(BN69),\" \",INDEX(DD:DD,MATCH(BN69,DB:DB,0)))","v":" "},{"$f":"IF(ISBLANK(BN70),\" \",INDEX('Eingabe Spielernamen'!$F:$F,MATCH(BJ70,'Eingabe Spielernamen'!$B:$B,0))&\", \"&INDEX('Eingabe Spielernamen'!$G:$G,MATCH(BJ70,'Eingabe Spielernamen'!$B:$B,0)))","v":{"$error":"#N/A"}},null,null,{"$f":"BN69","v":0},null,null,null,null,{"$f":"IF(ISBLANK(BO70),\" \",BO70+(BP70-BQ70)*50+IF(COUNT(BO69:BO72)=3,(BQ69+BQ71+BQ72)*40,(BQ69+BQ71+BQ72)*30))","v":" "},0]
[{"$f":"IF(COUNTIF(B$13:B71,B71)>1,\"X\",\"\")","v":"X"},{"$f":"IF(ISBLANK(F69),\" \",INDEX(CF:CF,MATCH(F69,CC:CC,0)))","v":" "},{"$f":"IF(ISBLANK(F71),\" \",INDEX('Eingabe Spielernamen'!$F:$F,MATCH(B71,'Eingabe Spielernamen'!$B:$B,0))&\", \"&INDEX('Eingabe Spielernamen'!$G:$G,MATCH(B71,'Eingabe Spielernamen'!$B:$B,0)))","v":{"$error":"#N/A"}},null,null,{"$f":"F69","v":0},null,null,null,null,{"$f":"IF(ISBLANK(G71),\" \",G71+(H71-I71)*50+IF(COUNT(G69:G72)=3,(I69+I70+I72)*40,(I69+I70+I72)*30))","v":" "},0,{"$f":"IF(COUNTIF(N$13:N71,N71)>1,\"X\",\"\")","v":"X"},{"$f":"IF(ISBLANK(R69),\" \",INDEX(CK:CK,MATCH(R69,CH:CH,0)))","v":" "},{"$f":"IF(ISBLANK(R71),\" \",INDEX('Eingabe Spielernamen'!$F:$F,MATCH(N71,'Eingabe Spielernamen'!$B:$B,0))&\", \"&INDEX('Eingabe Spielernamen'!$G:$G,MATCH(N71,'Eingabe Spielernamen'!$B:$B,0)))","v":{"$error":"#N/A"}},null,null,{"$f":"R69","v":0},null,null,null,null,{"$f":"IF(ISBLANK(S71),\" \",S71+(T71-U71)*50+IF(COUNT(S69:S72)=3,(U69+U70+U72)*40,(U69+U70+U72)*30))","v":" "},0,{"$f":"IF(COUNTIF(Z$13:Z71,Z71)>1,\"X\",\"\")","v":"X"},{"$f":"IF(ISBLANK(AD69),\" \",INDEX(CP:CP,MATCH(AD69,CM:CM,0)))","v":" "},{"$f":"IF(ISBLANK(AD71),\" \",INDEX('Eingabe Spielernamen'!$F:$F,MATCH(Z71,'Eingabe Spielernamen'!$B:$B,0))&\", \"&INDEX('Eingabe Spielernamen'!$G:$G,MATCH(Z71,'Eingabe Spielernamen'!$B:$B,0)))","v":{"$error":"#N/A"}},null,null,{"$f":"AD69","v":0},null,null,null,null,{"$f":"IF(ISBLANK(AE71),\" \",AE71+(AF71-AG71)*50+IF(COUNT(AE69:AE72)=3,(AG69+AG70+AG72)*40,(AG69+AG70+AG72)*30))","v":" "},0,{"$f":"IF(COUNTIF(AL$13:AL71,AL71)>1,\"X\",\"\")","v":"X"},{"$f":"IF(ISBLANK(AP69),\" \",INDEX(CU:CU,MATCH(AP69,CR:CR,0)))","v":" "},{"$f":"IF(ISBLANK(AP71),\" \",INDEX('Eingabe Spielernamen'!$F:$F,MATCH(AL71,'Eingabe Spielernamen'!$B:$B,0))&\", \"&INDEX('Eingabe Spielernamen'!$G:$G,MATCH(AL71,'Eingabe Spielernamen'!$B:$B,0)))","v":{"$error":"#N/A"}},null,null,{"$f":"AP69","v":0},null,null,null,null,{"$f":"IF(ISBLANK(AQ71),\" \",AQ71+(AR71-AS71)*50+IF(COUNT(AQ69:AQ72)=3,(AS69+AS70+AS72)*40,(AS69+AS70+AS72)*30))","v":" "},0,{"$f":"IF(COUNTIF(AX$13:AX71,AX71)>1,\"X\",\"\")","v":"X"},{"$f":"IF(ISBLANK(BB69),\" \",INDEX(CZ:CZ,MATCH(BB69,CW:CW,0)))","v":" "},{"$f":"IF(ISBLANK(BB71),\" \",INDEX('Eingabe Spielernamen'!$F:$F,MATCH(AX71,'Eingabe Spielernamen'!$B:$B,0))&\", \"&INDEX('Eingabe Spielernamen'!$G:$G,MATCH(AX71,'Eingabe Spielernamen'!$B:$B,0)))","v":{"$error":"#N/A"}},null,null,{"$f":"BB69","v":0},null,null,null,null,{"$f":"IF(ISBLANK(BC71),\" \",BC71+(BD71-BE71)*50+IF(COUNT(BC69:BC72)=3,(BE69+BE70+BE72)*40,(BE69+BE70+BE72)*30))","v":" "},0,{"$f":"IF(COUNTIF(BJ$13:BJ71,BJ71)>1,\"X\",\"\")","v":"X"},{"$f":"IF(ISBLANK(BN69),\" \",INDEX(DE:DE,MATCH(BN69,DB:DB,0)))","v":" "},{"$f":"IF(ISBLANK(BN71),\" \",INDEX('Eingabe Spielernamen'!$F:$F,MATCH(BJ71,'Eingabe Spielernamen'!$B:$B,0))&\", \"&INDEX('Eingabe Spielernamen'!$G:$G,MATCH(BJ71,'Eingabe Spielernamen'!$B:$B,0)))","v":{"$error":"#N/A"}},null,null,{"$f":"BN69","v":0},null,null,null,null,{"$f":"IF(ISBLANK(BO71),\" \",BO71+(BP71-BQ71)*50+IF(COUNT(BO69:BO72)=3,(BQ69+BQ70+BQ72)*40,(BQ69+BQ70+BQ72)*30))","v":" "},0]
[{"$f":"IF(COUNTIF(B$13:B72,B72)>1,\"X\",\"\")","v":"X"},{"$f":"IF(ISBLANK(F69),\" \",INDEX(CG:CG,MATCH(F69,CC:CC,0)))","v":" "},{"$f":"IF(ISBLANK(F72),\" \",INDEX('Eingabe Spielernamen'!$F:$F,MATCH(B72,'Eingabe Spielernamen'!$B:$B,0))&\", \"&INDEX('Eingabe Spielernamen'!$G:$G,MATCH(B72,'Eingabe Spielernamen'!$B:$B,0)))","v":{"$error":"#N/A"}},null,null,{"$f":"F69","v":0},null,null,null,null,{"$f":"IF(ISBLANK(G72),\" \",G72+(H72-I72)*50+IF(COUNT(G69:G72)=3,(I69+I70+I71)*40,(I69+I70+I71)*30))","v":" "},0,{"$f":"IF(COUNTIF(N$13:N72,N72)>1,\"X\",\"\")","v":"X"},{"$f":"IF(ISBLANK(R69),\" \",INDEX(CL:CL,MATCH(R69,CH:CH,0)))","v":" "},{"$f":"IF(ISBLANK(R72),\" \",INDEX('Eingabe Spielernamen'!$F:$F,MATCH(N72,'Eingabe Spielernamen'!$B:$B,0))&\", \"&INDEX('Eingabe Spielernamen'!$G:$G,MATCH(N72,'Eingabe Spielernamen'!$B:$B,0)))","v":{"$error":"#N/A"}},null,null,{"$f":"R69","v":0},null,null,null,null,{"$f":"IF(ISBLANK(S72),\" \",S72+(T72-U72)*50+IF(COUNT(S69:S72)=3,(U69+U70+U71)*40,(U69+U70+U71)*30))","v":" "},0,{"$f":"IF(COUNTIF(Z$13:Z72,Z72)>1,\"X\",\"\")","v":"X"},{"$f":"IF(ISBLANK(AD69),\" \",INDEX(CQ:CQ,MATCH(AD69,CM:CM,0)))","v":" "},{"$f":"IF(ISBLANK(AD72),\" \",INDEX('Eingabe Spielernamen'!$F:$F,MATCH(Z72,'Eingabe Spielernamen'!$B:$B,0))&\", \"&INDEX('Eingabe Spielernamen'!$G:$G,MATCH(Z72,'Eingabe Spielernamen'!$B:$B,0)))","v":{"$error":"#N/A"}},null,null,{"$f":"AD69","v":0},null,null,null,null,{"$f":"IF(ISBLANK(AE72),\" \",AE72+(AF72-AG72)*50+IF(COUNT(AE69:AE72)=3,(AG69+AG70+AG71)*40,(AG69+AG70+AG71)*30))","v":" "},0,{"$f":"IF(COUNTIF(AL$13:AL72,AL72)>1,\"X\",\"\")","v":"X"},{"$f":"IF(ISBLANK(AP69),\" \",INDEX(CV:CV,MATCH(AP69,CR:CR,0)))","v":" "},{"$f":"IF(ISBLANK(AP72),\" \",INDEX('Eingabe Spielernamen'!$F:$F,MATCH(AL72,'Eingabe Spielernamen'!$B:$B,0))&\", \"&INDEX('Eingabe Spielernamen'!$G:$G,MATCH(AL72,'Eingabe Spielernamen'!$B:$B,0)))","v":{"$error":"#N/A"}},null,null,{"$f":"AP69","v":0},null,null,null,null,{"$f":"IF(ISBLANK(AQ72),\" \",AQ72+(AR72-AS72)*50+IF(COUNT(AQ69:AQ72)=3,(AS69+AS70+AS71)*40,(AS69+AS70+AS71)*30))","v":" "},0,{"$f":"IF(COUNTIF(AX$13:AX72,AX72)>1,\"X\",\"\")","v":"X"},{"$f":"IF(ISBLANK(BB69),\" \",INDEX(DA:DA,MATCH(BB69,CW:CW,0)))","v":" "},{"$f":"IF(ISBLANK(BB72),\" \",INDEX('Eingabe Spielernamen'!$F:$F,MATCH(AX72,'Eingabe Spielernamen'!$B:$B,0))&\", \"&INDEX('Eingabe Spielernamen'!$G:$G,MATCH(AX72,'Eingabe Spielernamen'!$B:$B,0)))","v":{"$error":"#N/A"}},null,null,{"$f":"BB69","v":0},null,null,null,null,{"$f":"IF(ISBLANK(BC72),\" \",BC72+(BD72-BE72)*50+IF(COUNT(BC69:BC72)=3,(BE69+BE70+BE71)*40,(BE69+BE70+BE71)*30))","v":" "},0,{"$f":"IF(COUNTIF(BJ$13:BJ72,BJ72)>1,\"X\",\"\")","v":"X"},{"$f":"IF(ISBLANK(BN69),\" \",INDEX(DF:DF,MATCH(BN69,DB:DB,0)))","v":" "},{"$f":"IF(ISBLANK(BN72),\" \",INDEX('Eingabe Spielernamen'!$F:$F,MATCH(BJ72,'Eingabe Spielernamen'!$B:$B,0))&\", \"&INDEX('Eingabe Spielernamen'!$G:$G,MATCH(BJ72,'Eingabe Spielernamen'!$B:$B,0)))","v":{"$error":"#N/A"}},null,null,{"$f":"BN69","v":0},null,null,null,null,{"$f":"IF(ISBLANK(BO72),\" \",BO72+(BP72-BQ72)*50+IF(COUNT(BO69:BO72)=3,(BQ69+BQ70+BQ71)*40,(BQ69+BQ70+BQ71)*30))","v":" "},0]
[{"$f":"IF(COUNTIF(B$13:B73,B73)>1,\"X\",\"\")","v":"X"},{"$f":"IF(ISBLANK(F73),\" \",INDEX(CD:CD,MATCH(F73,CC:CC,0)))","v":" "},{"$f":"IF(ISBLANK(F73),\" \",INDEX('Eingabe Spielernamen'!$F:$F,MATCH(B73,'Eingabe Spielernamen'!$B:$B,0))&\", \"&INDEX('Eingabe Spielernamen'!$G:$G,MATCH(B73,'Eingabe Spielernamen'!$B:$B,0)))","v":" "},null,null,null,null,null,null,null,{"$f":"IF(ISBLANK(G73),\" \",G73+(H73-I73)*50+IF(COUNT(G73:G76)=3,(I74+I75+I76)*40,(I74+I75+I76)*30))","v":" "},0,{"$f":"IF(COUNTIF(N$13:N73,N73)>1,\"X\",\"\")","v":"X"},{"$f":"IF(ISBLANK(R73),\" \",INDEX(CI:CI,MATCH(R73,CH:CH,0)))","v":" "},{"$f":"IF(ISBLANK(R73),\" \",INDEX('Eingabe Spielernamen'!$F:$F,MATCH(N73,'Eingabe Spielernamen'!$B:$B,0))&\", \"&INDEX('Eingabe Spielernamen'!$G:$G,MATCH(N73,'Eingabe Spielernamen'!$B:$B,0)))","v":" "},null,null,null,null,null,null,null,{"$f":"IF(ISBLANK(S73),\" \",S73+(T73-U73)*50+IF(COUNT(S73:S76)=3,(U74+U75+U76)*40,(U74+U75+U76)*30))","v":" "},0,{"$f":"IF(COUNTIF(Z$13:Z73,Z73)>1,\"X\",\"\")","v":"X"},{"$f":"IF(ISBLANK(AD73),\" \",INDEX(CN:CN,MATCH(AD73,CM:CM,0)))","v":" "},{"$f":"IF(ISBLANK(AD73),\" \",INDEX('Eingabe Spielernamen'!$F:$F,MATCH(Z73,'Eingabe Spielernamen'!$B:$B,0))&\", \"&INDEX('Eingabe Spielernamen'!$G:$G,MATCH(Z73,'Eingabe Spielernamen'!$B:$B,0)))","v":" "},null,null,null,null,null,null,null,{"$f":"IF(ISBLANK(AE73),\" \",AE73+(AF73-AG73)*50+IF(COUNT(AE73:AE76)=3,(AG74+AG75+AG76)*40,(AG74+AG75+AG76)*30))","v":" "},0,{"$f":"IF(COUNTIF(AL$13:AL73,AL73)>1,\"X\",\"\")","v":"X"},{"$f":"IF(ISBLANK(AP73),\" \",INDEX(CS:CS,MATCH(AP73,CR:CR,0)))","v":" "},{"$f":"IF(ISBLANK(AP73),\" \",INDEX('Eingabe Spielernamen'!$F:$F,MATCH(AL73,'Eingabe Spielernamen'!$B:$B,0))&\", \"&INDEX('Eingabe Spielernamen'!$G:$G,MATCH(AL73,'Eingabe Spielernamen'!$B:$B,0)))","v":" "},null,null,null,null,null,null,null,{"$f":"IF(ISBLANK(AQ73),\" \",AQ73+(AR73-AS73)*50+IF(COUNT(AQ73:AQ76)=3,(AS74+AS75+AS76)*40,(AS74+AS75+AS76)*30))","v":" "},0,{"$f":"IF(COUNTIF(AX$13:AX73,AX73)>1,\"X\",\"\")","v":"X"},{"$f":"IF(ISBLANK(BB73),\" \",INDEX(CX:CX,MATCH(BB73,CW:CW,0)))","v":" "},{"$f":"IF(ISBLANK(BB73),\" \",INDEX('Eingabe Spielernamen'!$F:$F,MATCH(AX73,'Eingabe Spielernamen'!$B:$B,0))&\", \"&INDEX('Eingabe Spielernamen'!$G:$G,MATCH(AX73,'Eingabe Spielernamen'!$B:$B,0)))","v":" "},null,null,null,null,null,null,null,{"$f":"IF(ISBLANK(BC73),\" \",BC73+(BD73-BE73)*50+IF(COUNT(BC73:BC76)=3,(BE74+BE75+BE76)*40,(BE74+BE75+BE76)*30))","v":" "},0,{"$f":"IF(COUNTIF(BJ$13:BJ73,BJ73)>1,\"X\",\"\")","v":"X"},{"$f":"IF(ISBLANK(BN73),\" \",INDEX(DC:DC,MATCH(BN73,DB:DB,0)))","v":" "},{"$f":"IF(ISBLANK(BN73),\" \",INDEX('Eingabe Spielernamen'!$F:$F,MATCH(BJ73,'Eingabe Spielernamen'!$B:$B,0))&\", \"&INDEX('Eingabe Spielernamen'!$G:$G,MATCH(BJ73,'Eingabe Spielernamen'!$B:$B,0)))","v":" "},null,null,null,null,null,null,null,{"$f":"IF(ISBLANK(BO73),\" \",BO73+(BP73-BQ73)*50+IF(COUNT(BO73:BO76)=3,(BQ74+BQ75+BQ76)*40,(BQ74+BQ75+BQ76)*30))","v":" "},0,null,null,{"$f":"SUM(L73:L76)","v":0},{"$f":"SUM(X73:X76)","v":0},{"$f":"SUM(AJ73:AJ76)","v":0},{"$f":"SUM(AV73:AV76)","v":0},{"$f":"SUM(BH73:BH76)","v":0},{"$f":"SUM(BT73:BT76)","v":0}]
[{"$f":"IF(COUNTIF(B$13:B74,B74)>1,\"X\",\"\")","v":"X"},{"$f":"IF(ISBLANK(F73),\" \",INDEX(CE:CE,MATCH(F73,CC:CC,0)))","v":" "},{"$f":"IF(ISBLANK(F74),\" \",INDEX('Eingabe Spielernamen'!$F:$F,MATCH(B74,'Eingabe Spielernamen'!$B:$B,0))&\", \"&INDEX('Eingabe Spielernamen'!$G:$G,MATCH(B74,'Eingabe Spielernamen'!$B:$B,0)))","v":{"$error":"#N/A"}},null,null,{"$f":"F73","v":0},null,null,null,null,{"$f":"IF(ISBLANK(G74),\" \",G74+(H74-I74)*50+IF(COUNT(G73:G76)=3,(I73+I75+I76)*40,(I73+I75+I76)*30))","v":" "},0,{"$f":"IF(COUNTIF(N$13:N74,N74)>1,\"X\",\"\")","v":"X"},{"$f":"IF(ISBLANK(R73),\" \",INDEX(CJ:CJ,MATCH(R73,CH:CH,0)))","v":" "},{"$f":"IF(ISBLANK(R74),\" \",INDEX('Eingabe Spielernamen'!$F:$F,MATCH(N74,'Eingabe Spielernamen'!$B:$B,0))&\", \"&INDEX('Eingabe Spielernamen'!$G:$G,MATCH(N74,'Eingabe Spielernamen'!$B:$B,0)))","v":{"$error":"#N/A"}},null,null,{"$f":"R73","v":0},null,null,null,null,{"$f":"IF(ISBLANK(S74),\" \",S74+(T74-U74)*50+IF(COUNT(S73:S76)=3,(U73+U75+U76)*40,(U73+U75+U76)*30))","v":" "},0,{"$f":"IF(COUNTIF(Z$13:Z74,Z74)>1,\"X\",\"\")","v":"X"},{"$f":"IF(ISBLANK(AD73),\" \",INDEX(CO:CO,MATCH(AD73,CM:CM,0)))","v":" "},{"$f":"IF(ISBLANK(AD74),\" \",INDEX('Eingabe Spielernamen'!$F:$F,MATCH(Z74,'Eingabe Spielernamen'!$B:$B,0))&\", \"&INDEX('Eingabe Spielernamen'!$G:$G,MATCH(Z74,'Eingabe Spielernamen'!$B:$B,0)))","v":{"$error":"#N/A"}},null,null,{"$f":"AD73","v":0},null,null,null,null,{"$f":"IF(ISBLANK(AE74),\" \",AE74+(AF74-AG74)*50+IF(COUNT(AE73:AE76)=3,(AG73+AG75+AG76)*40,(AG73+AG75+AG76)*30))","v":" "},0,{"$f":"IF(COUNTIF(AL$13:AL74,AL74)>1,\"X\",\"\")","v":"X"},{"$f":"IF(ISBLANK(AP73),\" \",INDEX(CT:CT,MATCH(AP73,CR:CR,0)))","v":" "},{"$f":"IF(ISBLANK(AP74),\" \",INDEX('Eingabe Spielernamen'!$F:$F,MATCH(AL74,'Eingabe Spielernamen'!$B:$B,0))&\", \"&INDEX('Eingabe Spielernamen'!$G:$G,MATCH(AL74,'Eingabe Spielernamen'!$B:$B,0)))","v":{"$error":"#N/A"}},null,null,{"$f":"AP73","v":0},null,null,null,null,{"$f":"IF(ISBLANK(AQ74),\" \",AQ74+(AR74-AS74)*50+IF(COUNT(AQ73:AQ76)=3,(AS73+AS75+AS76)*40,(AS73+AS75+AS76)*30))","v":" "},0,{"$f":"IF(COUNTIF(AX$13:AX74,AX74)>1,\"X\",\"\")","v":"X"},{"$f":"IF(ISBLANK(BB73),\" \",INDEX(CY:CY,MATCH(BB73,CW:CW,0)))","v":" "},{"$f":"IF(ISBLANK(BB74),\" \",INDEX('Eingabe Spielernamen'!$F:$F,MATCH(AX74,'Eingabe Spielernamen'!$B:$B,0))&\", \"&INDEX('Eingabe Spielernamen'!$G:$G,MATCH(AX74,'Eingabe Spielernamen'!$B:$B,0)))","v":{"$error":"#N/A"}},null,null,{"$f":"BB73","v":0},null,null,null,null,{"$f":"IF(ISBLANK(BC74),\" \",BC74+(BD74-BE74)*50+IF(COUNT(BC73:BC76)=3,(BE73+BE75+BE76)*40,(BE73+BE75+BE76)*30))","v":" "},0,{"$f":"IF(COUNTIF(BJ$13:BJ74,BJ74)>1,\"X\",\"\")","v":"X"},{"$f":"IF(ISBLANK(BN73),\" \",INDEX(DD:DD,MATCH(BN73,DB:DB,0)))","v":" "},{"$f":"IF(ISBLANK(BN74),\" \",INDEX('Eingabe Spielernamen'!$F:$F,MATCH(BJ74,'Eingabe Spielernamen'!$B:$B,0))&\", \"&INDEX('Eingabe Spielernamen'!$G:$G,MATCH(BJ74,'Eingabe Spielernamen'!$B:$B,0)))","v":{"$error":"#N/A"}},null,null,{"$f":"BN73","v":0},null,null,null,null,{"$f":"IF(ISBLANK(BO74),\" \",BO74+(BP74-BQ74)*50+IF(COUNT(BO73:BO76)=3,(BQ73+BQ75+BQ76)*40,(BQ73+BQ75+BQ76)*30))","v":" "},0]
[{"$f":"IF(COUNTIF(B$13:B75,B75)>1,\"X\",\"\")","v":"X"},{"$f":"IF(ISBLANK(F73),\" \",INDEX(CF:CF,MATCH(F73,CC:CC,0)))","v":" "},{"$f":"IF(ISBLANK(F75),\" \",INDEX('Eingabe Spielernamen'!$F:$F,MATCH(B75,'Eingabe Spielernamen'!$B:$B,0))&\", \"&INDEX('Eingabe Spielernamen'!$G:$G,MATCH(B75,'Eingabe Spielernamen'!$B:$B,0)))","v":{"$error":"#N/A"}},null,null,{"$f":"F73","v":0},null,null,null,null,{"$f":"IF(ISBLANK(G75),\" \",G75+(H75-I75)*50+IF(COUNT(G73:G76)=3,(I73+I74+I76)*40,(I73+I74+I76)*30))","v":" "},0,{"$f":"IF(COUNTIF(N$13:N75,N75)>1,\"X\",\"\")","v":"X"},{"$f":"IF(ISBLANK(R73),\" \",INDEX(CK:CK,MATCH(R73,CH:CH,0)))","v":" "},{"$f":"IF(ISBLANK(R75),\" \",INDEX('Eingabe Spielernamen'!$F:$F,MATCH(N75,'Eingabe Spielernamen'!$B:$B,0))&\", \"&INDEX('Eingabe Spielernamen'!$G:$G,MATCH(N75,'Eingabe Spielernamen'!$B:$B,0)))","v":{"$error":"#N/A"}},null,null,{"$f":"R73","v":0},null,null,null,null,{"$f":"IF(ISBLANK(S75),\" \",S75+(T75-U75)*50+IF(COUNT(S73:S76)=3,(U73+U74+U76)*40,(U73+U74+U76)*30))","v":" "},0,{"$f":"IF(COUNTIF(Z$13:Z75,Z75)>1,\"X\",\"\")","v":"X"},{"$f":"IF(ISBLANK(AD73),\" \",INDEX(CP:CP,MATCH(AD73,CM:CM,0)))","v":" "},{"$f":"IF(ISBLANK(AD75),\" \",INDEX('Eingabe Spielernamen'!$F:$F,MATCH(Z75,'Eingabe Spielernamen'!$B:$B,0))&\", \"&INDEX('Eingabe Spielernamen'!$G:$G,MATCH(Z75,'Eingabe Spielernamen'!$B:$B,0)))","v":{"$error":"#N/A"}},null,null,{"$f":"AD73","v":0},null,null,null,null,{"$f":"IF(ISBLANK(AE75),\" \",AE75+(AF75-AG75)*50+IF(COUNT(AE73:AE76)=3,(AG73+AG74+AG76)*40,(AG73+AG74+AG76)*30))","v":" "},0,{"$f":"IF(COUNTIF(AL$13:AL75,AL75)>1,\"X\",\"\")","v":"X"},{"$f":"IF(ISBLANK(AP73),\" \",INDEX(CU:CU,MATCH(AP73,CR:CR,0)))","v":" "},{"$f":"IF(ISBLANK(AP75),\" \",INDEX('Eingabe Spielernamen'!$F:$F,MATCH(AL75,'Eingabe Spielernamen'!$B:$B,0))&\", \"&INDEX('Eingabe Spielernamen'!$G:$G,MATCH(AL75,'Eingabe Spielernamen'!$B:$B,0)))","v":{"$error":"#N/A"}},null,null,{"$f":"AP73","v":0},null,null,null,null,{"$f":"IF(ISBLANK(AQ75),\" \",AQ75+(AR75-AS75)*50+IF(COUNT(AQ73:AQ76)=3,(AS73+AS74+AS76)*40,(AS73+AS74+AS76)*30))","v":" "},0,{"$f":"IF(COUNTIF(AX$13:AX75,AX75)>1,\"X\",\"\")","v":"X"},{"$f":"IF(ISBLANK(BB73),\" \",INDEX(CZ:CZ,MATCH(BB73,CW:CW,0)))","v":" "},{"$f":"IF(ISBLANK(BB75),\" \",INDEX('Eingabe Spielernamen'!$F:$F,MATCH(AX75,'Eingabe Spielernamen'!$B:$B,0))&\", \"&INDEX('Eingabe Spielernamen'!$G:$G,MATCH(AX75,'Eingabe Spielernamen'!$B:$B,0)))","v":{"$error":"#N/A"}},null,null,{"$f":"BB73","v":0},null,null,null,null,{"$f":"IF(ISBLANK(BC75),\" \",BC75+(BD75-BE75)*50+IF(COUNT(BC73:BC76)=3,(BE73+BE74+BE76)*40,(BE73+BE74+BE76)*30))","v":" "},0,{"$f":"IF(COUNTIF(BJ$13:BJ75,BJ75)>1,\"X\",\"\")","v":"X"},{"$f":"IF(ISBLANK(BN73),\" \",INDEX(DE:DE,MATCH(BN73,DB:DB,0)))","v":" "},{"$f":"IF(ISBLANK(BN75),\" \",INDEX('Eingabe Spielernamen'!$F:$F,MATCH(BJ75,'Eingabe Spielernamen'!$B:$B,0))&\", \"&INDEX('Eingabe Spielernamen'!$G:$G,MATCH(BJ75,'Eingabe Spielernamen'!$B:$B,0)))","v":{"$error":"#N/A"}},null,null,{"$f":"BN73","v":0},null,null,null,null,{"$f":"IF(ISBLANK(BO75),\" \",BO75+(BP75-BQ75)*50+IF(COUNT(BO73:BO76)=3,(BQ73+BQ74+BQ76)*40,(BQ73+BQ74+BQ76)*30))","v":" "},0]
[{"$f":"IF(COUNTIF(B$13:B76,B76)>1,\"X\",\"\")","v":"X"},{"$f":"IF(ISBLANK(F73),\" \",INDEX(CG:CG,MATCH(F73,CC:CC,0)))","v":" "},{"$f":"IF(ISBLANK(F76),\" \",INDEX('Eingabe Spielernamen'!$F:$F,MATCH(B76,'Eingabe Spielernamen'!$B:$B,0))&\", \"&INDEX('Eingabe Spielernamen'!$G:$G,MATCH(B76,'Eingabe Spielernamen'!$B:$B,0)))","v":{"$error":"#N/A"}},null,null,{"$f":"F73","v":0},null,null,null,null,{"$f":"IF(ISBLANK(G76),\" \",G76+(H76-I76)*50+IF(COUNT(G73:G76)=3,(I73+I74+I75)*40,(I73+I74+I75)*30))","v":" "},0,{"$f":"IF(COUNTIF(N$13:N76,N76)>1,\"X\",\"\")","v":"X"},{"$f":"IF(ISBLANK(R73),\" \",INDEX(CL:CL,MATCH(R73,CH:CH,0)))","v":" "},{"$f":"IF(ISBLANK(R76),\" \",INDEX('Eingabe Spielernamen'!$F:$F,MATCH(N76,'Eingabe Spielernamen'!$B:$B,0))&\", \"&INDEX('Eingabe Spielernamen'!$G:$G,MATCH(N76,'Eingabe Spielernamen'!$B:$B,0)))","v":{"$error":"#N/A"}},null,null,{"$f":"R73","v":0},null,null,null,null,{"$f":"IF(ISBLANK(S76),\" \",S76+(T76-U76)*50+IF(COUNT(S73:S76)=3,(U73+U74+U75)*40,(U73+U74+U75)*30))","v":" "},0,{"$f":"IF(COUNTIF(Z$13:Z76,Z76)>1,\"X\",\"\")","v":"X"},{"$f":"IF(ISBLANK(AD73),\" \",INDEX(CQ:CQ,MATCH(AD73,CM:CM,0)))","v":" "},{"$f":"IF(ISBLANK(AD76),\" \",INDEX('Eingabe Spielernamen'!$F:$F,MATCH(Z76,'Eingabe Spielernamen'!$B:$B,0))&\", \"&INDEX('Eingabe Spielernamen'!$G:$G,MATCH(Z76,'Eingabe Spielernamen'!$B:$B,0)))","v":{"$error":"#N/A"}},null,null,{"$f":"AD73","v":0},null,null,null,null,{"$f":"IF(ISBLANK(AE76),\" \",AE76+(AF76-AG76)*50+IF(COUNT(AE73:AE76)=3,(AG73+AG74+AG75)*40,(AG73+AG74+AG75)*30))","v":" "},0,{"$f":"IF(COUNTIF(AL$13:AL76,AL76)>1,\"X\",\"\")","v":"X"},{"$f":"IF(ISBLANK(AP73),\" \",INDEX(CV:CV,MATCH(AP73,CR:CR,0)))","v":" "},{"$f":"IF(ISBLANK(AP76),\" \",INDEX('Eingabe Spielernamen'!$F:$F,MATCH(AL76,'Eingabe Spielernamen'!$B:$B,0))&\", \"&INDEX('Eingabe Spielernamen'!$G:$G,MATCH(AL76,'Eingabe Spielernamen'!$B:$B,0)))","v":{"$error":"#N/A"}},null,null,{"$f":"AP73","v":0},null,null,null,null,{"$f":"IF(ISBLANK(AQ76),\" \",AQ76+(AR76-AS76)*50+IF(COUNT(AQ73:AQ76)=3,(AS73+AS74+AS75)*40,(AS73+AS74+AS75)*30))","v":" "},0,{"$f":"IF(COUNTIF(AX$13:AX76,AX76)>1,\"X\",\"\")","v":"X"},{"$f":"IF(ISBLANK(BB73),\" \",INDEX(DA:DA,MATCH(BB73,CW:CW,0)))","v":" "},{"$f":"IF(ISBLANK(BB76),\" \",INDEX('Eingabe Spielernamen'!$F:$F,MATCH(AX76,'Eingabe Spielernamen'!$B:$B,0))&\", \"&INDEX('Eingabe Spielernamen'!$G:$G,MATCH(AX76,'Eingabe Spielernamen'!$B:$B,0)))","v":{"$error":"#N/A"}},null,null,{"$f":"BB73","v":0},null,null,null,null,{"$f":"IF(ISBLANK(BC76),\" \",BC76+(BD76-BE76)*50+IF(COUNT(BC73:BC76)=3,(BE73+BE74+BE75)*40,(BE73+BE74+BE75)*30))","v":" "},0,{"$f":"IF(COUNTIF(BJ$13:BJ76,BJ76)>1,\"X\",\"\")","v":"X"},{"$f":"IF(ISBLANK(BN73),\" \",INDEX(DF:DF,MATCH(BN73,DB:DB,0)))","v":" "},{"$f":"IF(ISBLANK(BN76),\" \",INDEX('Eingabe Spielernamen'!$F:$F,MATCH(BJ76,'Eingabe Spielernamen'!$B:$B,0))&\", \"&INDEX('Eingabe Spielernamen'!$G:$G,MATCH(BJ76,'Eingabe Spielernamen'!$B:$B,0)))","v":{"$error":"#N/A"}},null,null,{"$f":"BN73","v":0},null,null,null,null,{"$f":"IF(ISBLANK(BO76),\" \",BO76+(BP76-BQ76)*50+IF(COUNT(BO73:BO76)=3,(BQ73+BQ74+BQ75)*40,(BQ73+BQ74+BQ75)*30))","v":" "},0]
[null,"Nach erfolgter Eingabe kann man die eingegebenen Tische (B-L) nach \"F\" sortieren",null,null,null,null,null,null,null,null,null,null,null,"Nach erfolgter Eingabe kann man die eingegebenen Tische (N-X) nach \"R\" sortieren",null,null,null,null,null,null,null,null,null,null,null,"Nach erfolgter Eingabe kann man die eingegebenen Tische (Z-AJ) nach \"AD\" sortieren",null,null,null,null,null,null,null,null,null,null,null,"Nach erfolgter Eingabe kann man die eingegebenen Tische (AL-AV) nach \"AP\" sortieren",null,null,null,null,null,null,null,null,null,null,null,"Nach erfolgter Eingabe kann man die eingegebenen Tische (AX-BH) nach \"BB\" sortieren",null,null,null,null,null,null,null,null,null,null,null,"Nach erfolgter Eingabe kann man die eingegebenen Tische (BJ-BT) nach \"BN\" sortieren"]
[null,"Vorher den Blattschutz aufheben!",null,null,null,null,null,null,null,null,null,null,null,"Vorher den Blattschutz aufheben!",null,null,null,null,null,null,null,null,null,null,null,"Vorher den Blattschutz aufheben!",null,null,null,null,null,null,null,null,null,null,null,"Vorher den Blattschutz aufheben!",null,null,null,null,null,null,null,null,null,null,null,"Vorher den Blattschutz aufheben!",null,null,null,null,null,null,null,null,null,null,null,"Vorher den Blattschutz aufheben!"]

{"sheet":"Ausgabe Einzel","index":3,"n_rows":67,"n_cols":17,"rows_kept":67,"cut":false,"hidden":false,"merged":[]}
["Platzierung","Start-","Delegation","Name","Vorname","1. Serie","2. Serie","Summe","3. Serie","4. Serie","Summe","Summe","5. Serie","6. Serie","Summe","Summe","Preise:"]
[null,"Nummer",null,null,null,null,null,"1. + 2. Serie",null,null,"3. + 4. Serie","1. - 4. Serie",null,null,"5. + 6. Serie","1. - 6. Serie"]
[{"$f":"TODAY()","v":"2021-11-16"},null,null,{"$f":"'Eingabe Spielernamen'!G3","v":"Vier - Städte - Turnier"},{"$f":"'Eingabe Spielernamen'!H3","v":2020},null,null,null,null,null,null,null,null,null,null,null,{"$f":"SUM(Q4:Q67)","v":440}]
[1,101,{"$f":"IF($B4<>0,INDEX('Eingabe Spielernamen'!A:A,MATCH(B4,'Eingabe Spielernamen'!B:B,)),\" \")","v":0},{"$f":"IF($B4<>0,INDEX('Eingabe Spielernamen'!F:F,MATCH(B4,'Eingabe Spielernamen'!B:B,)),\" \")","v":0},{"$f":"IF($B4<>0,INDEX('Eingabe Spielernamen'!G:G,MATCH(B4,'Eingabe Spielernamen'!B:B,)),\" \")","v":0},{"$f":"IF($B4<>0,INDEX('Eingabe Spielernamen'!H:H,MATCH(B4,'Eingabe Spielernamen'!B:B,)),\" \")","v":0},{"$f":"IF($B4<>0,INDEX('Eingabe Spielernamen'!I:I,MATCH(B4,'Eingabe Spielernamen'!B:B,)),\" \")","v":0},{"$f":"SUM(F4:G4)","v":0},{"$f":"IF($B4<>0,INDEX('Eingabe Spielernamen'!K:K,MATCH(B4,'Eingabe Spielernamen'!B:B,)),\" \")","v":0},{"$f":"IF($B4<>0,INDEX('Eingabe Spielernamen'!L:L,MATCH(B4,'Eingabe Spielernamen'!B:B,)),\" \")","v":0},{"$f":"SUM(I4:J4)","v":0},{"$f":"H4+K4","v":0},{"$f":"IF($B4<>0,INDEX('Eingabe Spielernamen'!O:O,MATCH(B4,'Eingabe Spielernamen'!B:B,)),\" \")","v":0},{"$f":"IF($B4<>0,INDEX('Eingabe Spielernamen'!P:P,MATCH(B4,'Eingabe Spielernamen'!B:B,)),\" \")","v":0},{"$f":"SUM(M4:N4)","v":0},{"$f":"L4+O4","v":0},80]
[2,102,{"$f":"IF($B5<>0,INDEX('Eingabe Spielernamen'!A:A,MATCH(B5,'Eingabe Spielernamen'!B:B,)),\" \")","v":0},{"$f":"IF($B5<>0,INDEX('Eingabe Spielernamen'!F:F,MATCH(B5,'Eingabe Spielernamen'!B:B,)),\" \")","v":0},{"$f":"IF($B5<>0,INDEX('Eingabe Spielernamen'!G:G,MATCH(B5,'Eingabe Spielernamen'!B:B,)),\" \")","v":0},{"$f":"IF($B5<>0,INDEX('Eingabe Spielernamen'!H:H,MATCH(B5,'Eingabe Spielernamen'!B:B,)),\" \")","v":0},{"$f":"IF($B5<>0,INDEX('Eingabe Spielernamen'!I:I,MATCH(B5,'Eingabe Spielernamen'!B:B,)),\" \")","v":0},0,{"$f":"IF($B5<>0,INDEX('Eingabe Spielernamen'!K:K,MATCH(B5,'Eingabe Spielernamen'!B:B,)),\" \")","v":0},{"$f":"IF($B5<>0,INDEX('Eingabe Spielernamen'!L:L,MATCH(B5,'Eingabe Spielernamen'!B:B,)),\" \")","v":0},0,0,{"$f":"IF($B5<>0,INDEX('Eingabe Spielernamen'!O:O,MATCH(B5,'Eingabe Spielernamen'!B:B,)),\" \")","v":0},{"$f":"IF($B5<>0,INDEX('Eingabe Spielernamen'!P:P,MATCH(B5,'Eingabe Spielernamen'!B:B,)),\" \")","v":0},0,0,70]
[3,103,{"$f":"IF($B6<>0,INDEX('Eingabe Spielernamen'!A:A,MATCH(B6,'Eingabe Spielernamen'!B:B,)),\" \")","v":0},{"$f":"IF($B6<>0,INDEX('Eingabe Spielernamen'!F:F,MATCH(B6,'Eingabe Spielernamen'!B:B,)),\" \")","v":0},{"$f":"IF($B6<>0,INDEX('Eingabe Spielernamen'!G:G,MATCH(B6,'Eingabe Spielernamen'!B:B,)),\" \")","v":0},{"$f":"IF($B6<>0,INDEX('Eingabe Spielernamen'!H:H,MATCH(B6,'Eingabe Spielernamen'!B:B,)),\" \")","v":0},{"$f":"IF($B6<>0,INDEX('Eingabe Spielernamen'!I:I,MATCH(B6,'Eingabe Spielernamen'!B:B,)),\" \")","v":0},0,{"$f":"IF($B6<>0,INDEX('Eingabe Spielernamen'!K:K,MATCH(B6,'Eingabe Spielernamen'!B:B,)),\" \")","v":0},{"$f":"IF($B6<>0,INDEX('Eingabe Spielernamen'!L:L,MATCH(B6,'Eingabe Spielernamen'!B:B,)),\" \")","v":0},0,0,{"$f":"IF($B6<>0,INDEX('Eingabe Spielernamen'!O:O,MATCH(B6,'Eingabe Spielernamen'!B:B,)),\" \")","v":0},{"$f":"IF($B6<>0,INDEX('Eingabe Spielernamen'!P:P,MATCH(B6,'Eingabe Spielernamen'!B:B,)),\" \")","v":0},0,0,60]
[4,104,{"$f":"IF($B7<>0,INDEX('Eingabe Spielernamen'!A:A,MATCH(B7,'Eingabe Spielernamen'!B:B,)),\" \")","v":0},{"$f":"IF($B7<>0,INDEX('Eingabe Spielernamen'!F:F,MATCH(B7,'Eingabe Spielernamen'!B:B,)),\" \")","v":0},{"$f":"IF($B7<>0,INDEX('Eingabe Spielernamen'!G:G,MATCH(B7,'Eingabe Spielernamen'!B:B,)),\" \")","v":0},{"$f":"IF($B7<>0,INDEX('Eingabe Spielernamen'!H:H,MATCH(B7,'Eingabe Spielernamen'!B:B,)),\" \")","v":0},{"$f":"IF($B7<>0,INDEX('Eingabe Spielernamen'!I:I,MATCH(B7,'Eingabe Spielernamen'!B:B,)),\" \")","v":0},0,{"$f":"IF($B7<>0,INDEX('Eingabe Spielernamen'!K:K,MATCH(B7,'Eingabe Spielernamen'!B:B,)),\" \")","v":0},{"$f":"IF($B7<>0,INDEX('Eingabe Spielernamen'!L:L,MATCH(B7,'Eingabe Spielernamen'!B:B,)),\" \")","v":0},0,0,{"$f":"IF($B7<>0,INDEX('Eingabe Spielernamen'!O:O,MATCH(B7,'Eingabe Spielernamen'!B:B,)),\" \")","v":0},{"$f":"IF($B7<>0,INDEX('Eingabe Spielernamen'!P:P,MATCH(B7,'Eingabe Spielernamen'!B:B,)),\" \")","v":0},0,0,50]
[5,105,{"$f":"IF($B8<>0,INDEX('Eingabe Spielernamen'!A:A,MATCH(B8,'Eingabe Spielernamen'!B:B,)),\" \")","v":0},{"$f":"IF($B8<>0,INDEX('Eingabe Spielernamen'!F:F,MATCH(B8,'Eingabe Spielernamen'!B:B,)),\" \")","v":0},{"$f":"IF($B8<>0,INDEX('Eingabe Spielernamen'!G:G,MATCH(B8,'Eingabe Spielernamen'!B:B,)),\" \")","v":0},{"$f":"IF($B8<>0,INDEX('Eingabe Spielernamen'!H:H,MATCH(B8,'Eingabe Spielernamen'!B:B,)),\" \")","v":0},{"$f":"IF($B8<>0,INDEX('Eingabe Spielernamen'!I:I,MATCH(B8,'Eingabe Spielernamen'!B:B,)),\" \")","v":0},0,{"$f":"IF($B8<>0,INDEX('Eingabe Spielernamen'!K:K,MATCH(B8,'Eingabe Spielernamen'!B:B,)),\" \")","v":0},{"$f":"IF($B8<>0,INDEX('Eingabe Spielernamen'!L:L,MATCH(B8,'Eingabe Spielernamen'!B:B,)),\" \")","v":0},0,0,{"$f":"IF($B8<>0,INDEX('Eingabe Spielernamen'!O:O,MATCH(B8,'Eingabe Spielernamen'!B:B,)),\" \")","v":0},{"$f":"IF($B8<>0,INDEX('Eingabe Spielernamen'!P:P,MATCH(B8,'Eingabe Spielernamen'!B:B,)),\" \")","v":0},0,0,40]
[6,106,{"$f":"IF($B9<>0,INDEX('Eingabe Spielernamen'!A:A,MATCH(B9,'Eingabe Spielernamen'!B:B,)),\" \")","v":0},{"$f":"IF($B9<>0,INDEX('Eingabe Spielernamen'!F:F,MATCH(B9,'Eingabe Spielernamen'!B:B,)),\" \")","v":0},{"$f":"IF($B9<>0,INDEX('Eingabe Spielernamen'!G:G,MATCH(B9,'Eingabe Spielernamen'!B:B,)),\" \")","v":0},{"$f":"IF($B9<>0,INDEX('Eingabe Spielernamen'!H:H,MATCH(B9,'Eingabe Spielernamen'!B:B,)),\" \")","v":0},{"$f":"IF($B9<>0,INDEX('Eingabe Spielernamen'!I:I,MATCH(B9,'Eingabe Spielernamen'!B:B,)),\" \")","v":0},0,{"$f":"IF($B9<>0,INDEX('Eingabe Spielernamen'!K:K,MATCH(B9,'Eingabe Spielernamen'!B:B,)),\" \")","v":0},{"$f":"IF($B9<>0,INDEX('Eingabe Spielernamen'!L:L,MATCH(B9,'Eingabe Spielernamen'!B:B,)),\" \")","v":0},0,0,{"$f":"IF($B9<>0,INDEX('Eingabe Spielernamen'!O:O,MATCH(B9,'Eingabe Spielernamen'!B:B,)),\" \")","v":0},{"$f":"IF($B9<>0,INDEX('Eingabe Spielernamen'!P:P,MATCH(B9,'Eingabe Spielernamen'!B:B,)),\" \")","v":0},0,0,35]
[7,107,{"$f":"IF($B10<>0,INDEX('Eingabe Spielernamen'!A:A,MATCH(B10,'Eingabe Spielernamen'!B:B,)),\" \")","v":0},{"$f":"IF($B10<>0,INDEX('Eingabe Spielernamen'!F:F,MATCH(B10,'Eingabe Spielernamen'!B:B,)),\" \")","v":0},{"$f":"IF($B10<>0,INDEX('Eingabe Spielernamen'!G:G,MATCH(B10,'Eingabe Spielernamen'!B:B,)),\" \")","v":0},{"$f":"IF($B10<>0,INDEX('Eingabe Spielernamen'!H:H,MATCH(B10,'Eingabe Spielernamen'!B:B,)),\" \")","v":0},{"$f":"IF($B10<>0,INDEX('Eingabe Spielernamen'!I:I,MATCH(B10,'Eingabe Spielernamen'!B:B,)),\" \")","v":0},0,{"$f":"IF($B10<>0,INDEX('Eingabe Spielernamen'!K:K,MATCH(B10,'Eingabe Spielernamen'!B:B,)),\" \")","v":0},{"$f":"IF($B10<>0,INDEX('Eingabe Spielernamen'!L:L,MATCH(B10,'Eingabe Spielernamen'!B:B,)),\" \")","v":0},0,0,{"$f":"IF($B10<>0,INDEX('Eingabe Spielernamen'!O:O,MATCH(B10,'Eingabe Spielernamen'!B:B,)),\" \")","v":0},{"$f":"IF($B10<>0,INDEX('Eingabe Spielernamen'!P:P,MATCH(B10,'Eingabe Spielernamen'!B:B,)),\" \")","v":0},0,0,30]
[8,108,{"$f":"IF($B11<>0,INDEX('Eingabe Spielernamen'!A:A,MATCH(B11,'Eingabe Spielernamen'!B:B,)),\" \")","v":0},{"$f":"IF($B11<>0,INDEX('Eingabe Spielernamen'!F:F,MATCH(B11,'Eingabe Spielernamen'!B:B,)),\" \")","v":0},{"$f":"IF($B11<>0,INDEX('Eingabe Spielernamen'!G:G,MATCH(B11,'Eingabe Spielernamen'!B:B,)),\" \")","v":0},{"$f":"IF($B11<>0,INDEX('Eingabe Spielernamen'!H:H,MATCH(B11,'Eingabe Spielernamen'!B:B,)),\" \")","v":0},{"$f":"IF($B11<>0,INDEX('Eingabe Spielernamen'!I:I,MATCH(B11,'Eingabe Spielernamen'!B:B,)),\" \")","v":0},0,{"$f":"IF($B11<>0,INDEX('Eingabe Spielernamen'!K:K,MATCH(B11,'Eingabe Spielernamen'!B:B,)),\" \")","v":0},{"$f":"IF($B11<>0,INDEX('Eingabe Spielernamen'!L:L,MATCH(B11,'Eingabe Spielernamen'!B:B,)),\" \")","v":0},0,0,{"$f":"IF($B11<>0,INDEX('Eingabe Spielernamen'!O:O,MATCH(B11,'Eingabe Spielernamen'!B:B,)),\" \")","v":0},{"$f":"IF($B11<>0,INDEX('Eingabe Spielernamen'!P:P,MATCH(B11,'Eingabe Spielernamen'!B:B,)),\" \")","v":0},0,0,25]
[9,109,{"$f":"IF($B12<>0,INDEX('Eingabe Spielernamen'!A:A,MATCH(B12,'Eingabe Spielernamen'!B:B,)),\" \")","v":0},{"$f":"IF($B12<>0,INDEX('Eingabe Spielernamen'!F:F,MATCH(B12,'Eingabe Spielernamen'!B:B,)),\" \")","v":0},{"$f":"IF($B12<>0,INDEX('Eingabe Spielernamen'!G:G,MATCH(B12,'Eingabe Spielernamen'!B:B,)),\" \")","v":0},{"$f":"IF($B12<>0,INDEX('Eingabe Spielernamen'!H:H,MATCH(B12,'Eingabe Spielernamen'!B:B,)),\" \")","v":0},{"$f":"IF($B12<>0,INDEX('Eingabe Spielernamen'!I:I,MATCH(B12,'Eingabe Spielernamen'!B:B,)),\" \")","v":0},0,{"$f":"IF($B12<>0,INDEX('Eingabe Spielernamen'!K:K,MATCH(B12,'Eingabe Spielernamen'!B:B,)),\" \")","v":0},{"$f":"IF($B12<>0,INDEX('Eingabe Spielernamen'!L:L,MATCH(B12,'Eingabe Spielernamen'!B:B,)),\" \")","v":0},0,0,{"$f":"IF($B12<>0,INDEX('Eingabe Spielernamen'!O:O,MATCH(B12,'Eingabe Spielernamen'!B:B,)),\" \")","v":0},{"$f":"IF($B12<>0,INDEX('Eingabe Spielernamen'!P:P,MATCH(B12,'Eingabe Spielernamen'!B:B,)),\" \")","v":0},0,0,20]
[10,110,{"$f":"IF($B13<>0,INDEX('Eingabe Spielernamen'!A:A,MATCH(B13,'Eingabe Spielernamen'!B:B,)),\" \")","v":0},{"$f":"IF($B13<>0,INDEX('Eingabe Spielernamen'!F:F,MATCH(B13,'Eingabe Spielernamen'!B:B,)),\" \")","v":0},{"$f":"IF($B13<>0,INDEX('Eingabe Spielernamen'!G:G,MATCH(B13,'Eingabe Spielernamen'!B:B,)),\" \")","v":0},{"$f":"IF($B13<>0,INDEX('Eingabe Spielernamen'!H:H,MATCH(B13,'Eingabe Spielernamen'!B:B,)),\" \")","v":0},{"$f":"IF($B13<>0,INDEX('Eingabe Spielernamen'!I:I,MATCH(B13,'Eingabe Spielernamen'!B:B,)),\" \")","v":0},0,{"$f":"IF($B13<>0,INDEX('Eingabe Spielernamen'!K:K,MATCH(B13,'Eingabe Spielernamen'!B:B,)),\" \")","v":0},{"$f":"IF($B13<>0,INDEX('Eingabe Spielernamen'!L:L,MATCH(B13,'Eingabe Spielernamen'!B:B,)),\" \")","v":0},0,0,{"$f":"IF($B13<>0,INDEX('Eingabe Spielernamen'!O:O,MATCH(B13,'Eingabe Spielernamen'!B:B,)),\" \")","v":0},{"$f":"IF($B13<>0,INDEX('Eingabe Spielernamen'!P:P,MATCH(B13,'Eingabe Spielernamen'!B:B,)),\" \")","v":0},0,0,15]
[11,111,{"$f":"IF($B14<>0,INDEX('Eingabe Spielernamen'!A:A,MATCH(B14,'Eingabe Spielernamen'!B:B,)),\" \")","v":0},{"$f":"IF($B14<>0,INDEX('Eingabe Spielernamen'!F:F,MATCH(B14,'Eingabe Spielernamen'!B:B,)),\" \")","v":0},{"$f":"IF($B14<>0,INDEX('Eingabe Spielernamen'!G:G,MATCH(B14,'Eingabe Spielernamen'!B:B,)),\" \")","v":0},{"$f":"IF($B14<>0,INDEX('Eingabe Spielernamen'!H:H,MATCH(B14,'Eingabe Spielernamen'!B:B,)),\" \")","v":0},{"$f":"IF($B14<>0,INDEX('Eingabe Spielernamen'!I:I,MATCH(B14,'Eingabe Spielernamen'!B:B,)),\" \")","v":0},0,{"$f":"IF($B14<>0,INDEX('Eingabe Spielernamen'!K:K,MATCH(B14,'Eingabe Spielernamen'!B:B,)),\" \")","v":0},{"$f":"IF($B14<>0,INDEX('Eingabe Spielernamen'!L:L,MATCH(B14,'Eingabe Spielernamen'!B:B,)),\" \")","v":0},0,0,{"$f":"IF($B14<>0,INDEX('Eingabe Spielernamen'!O:O,MATCH(B14,'Eingabe Spielernamen'!B:B,)),\" \")","v":0},{"$f":"IF($B14<>0,INDEX('Eingabe Spielernamen'!P:P,MATCH(B14,'Eingabe Spielernamen'!B:B,)),\" \")","v":0},0,0,15]
[12,112,{"$f":"IF($B15<>0,INDEX('Eingabe Spielernamen'!A:A,MATCH(B15,'Eingabe Spielernamen'!B:B,)),\" \")","v":0},{"$f":"IF($B15<>0,INDEX('Eingabe Spielernamen'!F:F,MATCH(B15,'Eingabe Spielernamen'!B:B,)),\" \")","v":0},{"$f":"IF($B15<>0,INDEX('Eingabe Spielernamen'!G:G,MATCH(B15,'Eingabe Spielernamen'!B:B,)),\" \")","v":0},{"$f":"IF($B15<>0,INDEX('Eingabe Spielernamen'!H:H,MATCH(B15,'Eingabe Spielernamen'!B:B,)),\" \")","v":0},{"$f":"IF($B15<>0,INDEX('Eingabe Spielernamen'!I:I,MATCH(B15,'Eingabe Spielernamen'!B:B,)),\" \")","v":0},0,{"$f":"IF($B15<>0,INDEX('Eingabe Spielernamen'!K:K,MATCH(B15,'Eingabe Spielernamen'!B:B,)),\" \")","v":0},{"$f":"IF($B15<>0,INDEX('Eingabe Spielernamen'!L:L,MATCH(B15,'Eingabe Spielernamen'!B:B,)),\" \")","v":0},0,0,{"$f":"IF($B15<>0,INDEX('Eingabe Spielernamen'!O:O,MATCH(B15,'Eingabe Spielernamen'!B:B,)),\" \")","v":0},{"$f":"IF($B15<>0,INDEX('Eingabe Spielernamen'!P:P,MATCH(B15,'Eingabe Spielernamen'!B:B,)),\" \")","v":0},0,0]
[13,113,{"$f":"IF($B16<>0,INDEX('Eingabe Spielernamen'!A:A,MATCH(B16,'Eingabe Spielernamen'!B:B,)),\" \")","v":0},{"$f":"IF($B16<>0,INDEX('Eingabe Spielernamen'!F:F,MATCH(B16,'Eingabe Spielernamen'!B:B,)),\" \")","v":0},{"$f":"IF($B16<>0,INDEX('Eingabe Spielernamen'!G:G,MATCH(B16,'Eingabe Spielernamen'!B:B,)),\" \")","v":0},{"$f":"IF($B16<>0,INDEX('Eingabe Spielernamen'!H:H,MATCH(B16,'Eingabe Spielernamen'!B:B,)),\" \")","v":0},{"$f":"IF($B16<>0,INDEX('Eingabe Spielernamen'!I:I,MATCH(B16,'Eingabe Spielernamen'!B:B,)),\" \")","v":0},0,{"$f":"IF($B16<>0,INDEX('Eingabe Spielernamen'!K:K,MATCH(B16,'Eingabe Spielernamen'!B:B,)),\" \")","v":0},{"$f":"IF($B16<>0,INDEX('Eingabe Spielernamen'!L:L,MATCH(B16,'Eingabe Spielernamen'!B:B,)),\" \")","v":0},0,0,{"$f":"IF($B16<>0,INDEX('Eingabe Spielernamen'!O:O,MATCH(B16,'Eingabe Spielernamen'!B:B,)),\" \")","v":0},{"$f":"IF($B16<>0,INDEX('Eingabe Spielernamen'!P:P,MATCH(B16,'Eingabe Spielernamen'!B:B,)),\" \")","v":0},0,0]
[14,114,{"$f":"IF($B17<>0,INDEX('Eingabe Spielernamen'!A:A,MATCH(B17,'Eingabe Spielernamen'!B:B,)),\" \")","v":0},{"$f":"IF($B17<>0,INDEX('Eingabe Spielernamen'!F:F,MATCH(B17,'Eingabe Spielernamen'!B:B,)),\" \")","v":0},{"$f":"IF($B17<>0,INDEX('Eingabe Spielernamen'!G:G,MATCH(B17,'Eingabe Spielernamen'!B:B,)),\" \")","v":0},{"$f":"IF($B17<>0,INDEX('Eingabe Spielernamen'!H:H,MATCH(B17,'Eingabe Spielernamen'!B:B,)),\" \")","v":0},{"$f":"IF($B17<>0,INDEX('Eingabe Spielernamen'!I:I,MATCH(B17,'Eingabe Spielernamen'!B:B,)),\" \")","v":0},0,{"$f":"IF($B17<>0,INDEX('Eingabe Spielernamen'!K:K,MATCH(B17,'Eingabe Spielernamen'!B:B,)),\" \")","v":0},{"$f":"IF($B17<>0,INDEX('Eingabe Spielernamen'!L:L,MATCH(B17,'Eingabe Spielernamen'!B:B,)),\" \")","v":0},0,0,{"$f":"IF($B17<>0,INDEX('Eingabe Spielernamen'!O:O,MATCH(B17,'Eingabe Spielernamen'!B:B,)),\" \")","v":0},{"$f":"IF($B17<>0,INDEX('Eingabe Spielernamen'!P:P,MATCH(B17,'Eingabe Spielernamen'!B:B,)),\" \")","v":0},0,0]
[15,115,{"$f":"IF($B18<>0,INDEX('Eingabe Spielernamen'!A:A,MATCH(B18,'Eingabe Spielernamen'!B:B,)),\" \")","v":0},{"$f":"IF($B18<>0,INDEX('Eingabe Spielernamen'!F:F,MATCH(B18,'Eingabe Spielernamen'!B:B,)),\" \")","v":0},{"$f":"IF($B18<>0,INDEX('Eingabe Spielernamen'!G:G,MATCH(B18,'Eingabe Spielernamen'!B:B,)),\" \")","v":0},{"$f":"IF($B18<>0,INDEX('Eingabe Spielernamen'!H:H,MATCH(B18,'Eingabe Spielernamen'!B:B,)),\" \")","v":0},{"$f":"IF($B18<>0,INDEX('Eingabe Spielernamen'!I:I,MATCH(B18,'Eingabe Spielernamen'!B:B,)),\" \")","v":0},0,{"$f":"IF($B18<>0,INDEX('Eingabe Spielernamen'!K:K,MATCH(B18,'Eingabe Spielernamen'!B:B,)),\" \")","v":0},{"$f":"IF($B18<>0,INDEX('Eingabe Spielernamen'!L:L,MATCH(B18,'Eingabe Spielernamen'!B:B,)),\" \")","v":0},0,0,{"$f":"IF($B18<>0,INDEX('Eingabe Spielernamen'!O:O,MATCH(B18,'Eingabe Spielernamen'!B:B,)),\" \")","v":0},{"$f":"IF($B18<>0,INDEX('Eingabe Spielernamen'!P:P,MATCH(B18,'Eingabe Spielernamen'!B:B,)),\" \")","v":0},0,0]
[16,116,{"$f":"IF($B19<>0,INDEX('Eingabe Spielernamen'!A:A,MATCH(B19,'Eingabe Spielernamen'!B:B,)),\" \")","v":0},{"$f":"IF($B19<>0,INDEX('Eingabe Spielernamen'!F:F,MATCH(B19,'Eingabe Spielernamen'!B:B,)),\" \")","v":0},{"$f":"IF($B19<>0,INDEX('Eingabe Spielernamen'!G:G,MATCH(B19,'Eingabe Spielernamen'!B:B,)),\" \")","v":0},{"$f":"IF($B19<>0,INDEX('Eingabe Spielernamen'!H:H,MATCH(B19,'Eingabe Spielernamen'!B:B,)),\" \")","v":0},{"$f":"IF($B19<>0,INDEX('Eingabe Spielernamen'!I:I,MATCH(B19,'Eingabe Spielernamen'!B:B,)),\" \")","v":0},0,{"$f":"IF($B19<>0,INDEX('Eingabe Spielernamen'!K:K,MATCH(B19,'Eingabe Spielernamen'!B:B,)),\" \")","v":0},{"$f":"IF($B19<>0,INDEX('Eingabe Spielernamen'!L:L,MATCH(B19,'Eingabe Spielernamen'!B:B,)),\" \")","v":0},0,0,{"$f":"IF($B19<>0,INDEX('Eingabe Spielernamen'!O:O,MATCH(B19,'Eingabe Spielernamen'!B:B,)),\" \")","v":0},{"$f":"IF($B19<>0,INDEX('Eingabe Spielernamen'!P:P,MATCH(B19,'Eingabe Spielernamen'!B:B,)),\" \")","v":0},0,0]
[17,201,{"$f":"IF($B20<>0,INDEX('Eingabe Spielernamen'!A:A,MATCH(B20,'Eingabe Spielernamen'!B:B,)),\" \")","v":0},{"$f":"IF($B20<>0,INDEX('Eingabe Spielernamen'!F:F,MATCH(B20,'Eingabe Spielernamen'!B:B,)),\" \")","v":0},{"$f":"IF($B20<>0,INDEX('Eingabe Spielernamen'!G:G,MATCH(B20,'Eingabe Spielernamen'!B:B,)),\" \")","v":0},{"$f":"IF($B20<>0,INDEX('Eingabe Spielernamen'!H:H,MATCH(B20,'Eingabe Spielernamen'!B:B,)),\" \")","v":0},{"$f":"IF($B20<>0,INDEX('Eingabe Spielernamen'!I:I,MATCH(B20,'Eingabe Spielernamen'!B:B,)),\" \")","v":0},0,{"$f":"IF($B20<>0,INDEX('Eingabe Spielernamen'!K:K,MATCH(B20,'Eingabe Spielernamen'!B:B,)),\" \")","v":0},{"$f":"IF($B20<>0,INDEX('Eingabe Spielernamen'!L:L,MATCH(B20,'Eingabe Spielernamen'!B:B,)),\" \")","v":0},0,0,{"$f":"IF($B20<>0,INDEX('Eingabe Spielernamen'!O:O,MATCH(B20,'Eingabe Spielernamen'!B:B,)),\" \")","v":0},{"$f":"IF($B20<>0,INDEX('Eingabe Spielernamen'!P:P,MATCH(B20,'Eingabe Spielernamen'!B:B,)),\" \")","v":0},0,0]
[18,202,{"$f":"IF($B21<>0,INDEX('Eingabe Spielernamen'!A:A,MATCH(B21,'Eingabe Spielernamen'!B:B,)),\" \")","v":0},{"$f":"IF($B21<>0,INDEX('Eingabe Spielernamen'!F:F,MATCH(B21,'Eingabe Spielernamen'!B:B,)),\" \")","v":0},{"$f":"IF($B21<>0,INDEX('Eingabe Spielernamen'!G:G,MATCH(B21,'Eingabe Spielernamen'!B:B,)),\" \")","v":0},{"$f":"IF($B21<>0,INDEX('Eingabe Spielernamen'!H:H,MATCH(B21,'Eingabe Spielernamen'!B:B,)),\" \")","v":0},{"$f":"IF($B21<>0,INDEX('Eingabe Spielernamen'!I:I,MATCH(B21,'Eingabe Spielernamen'!B:B,)),\" \")","v":0},0,{"$f":"IF($B21<>0,INDEX('Eingabe Spielernamen'!K:K,MATCH(B21,'Eingabe Spielernamen'!B:B,)),\" \")","v":0},{"$f":"IF($B21<>0,INDEX('Eingabe Spielernamen'!L:L,MATCH(B21,'Eingabe Spielernamen'!B:B,)),\" \")","v":0},0,0,{"$f":"IF($B21<>0,INDEX('Eingabe Spielernamen'!O:O,MATCH(B21,'Eingabe Spielernamen'!B:B,)),\" \")","v":0},{"$f":"IF($B21<>0,INDEX('Eingabe Spielernamen'!P:P,MATCH(B21,'Eingabe Spielernamen'!B:B,)),\" \")","v":0},0,0]
[19,203,{"$f":"IF($B22<>0,INDEX('Eingabe Spielernamen'!A:A,MATCH(B22,'Eingabe Spielernamen'!B:B,)),\" \")","v":0},{"$f":"IF($B22<>0,INDEX('Eingabe Spielernamen'!F:F,MATCH(B22,'Eingabe Spielernamen'!B:B,)),\" \")","v":0},{"$f":"IF($B22<>0,INDEX('Eingabe Spielernamen'!G:G,MATCH(B22,'Eingabe Spielernamen'!B:B,)),\" \")","v":0},{"$f":"IF($B22<>0,INDEX('Eingabe Spielernamen'!H:H,MATCH(B22,'Eingabe Spielernamen'!B:B,)),\" \")","v":0},{"$f":"IF($B22<>0,INDEX('Eingabe Spielernamen'!I:I,MATCH(B22,'Eingabe Spielernamen'!B:B,)),\" \")","v":0},0,{"$f":"IF($B22<>0,INDEX('Eingabe Spielernamen'!K:K,MATCH(B22,'Eingabe Spielernamen'!B:B,)),\" \")","v":0},{"$f":"IF($B22<>0,INDEX('Eingabe Spielernamen'!L:L,MATCH(B22,'Eingabe Spielernamen'!B:B,)),\" \")","v":0},0,0,{"$f":"IF($B22<>0,INDEX('Eingabe Spielernamen'!O:O,MATCH(B22,'Eingabe Spielernamen'!B:B,)),\" \")","v":0},{"$f":"IF($B22<>0,INDEX('Eingabe Spielernamen'!P:P,MATCH(B22,'Eingabe Spielernamen'!B:B,)),\" \")","v":0},0,0]
[20,204,{"$f":"IF($B23<>0,INDEX('Eingabe Spielernamen'!A:A,MATCH(B23,'Eingabe Spielernamen'!B:B,)),\" \")","v":0},{"$f":"IF($B23<>0,INDEX('Eingabe Spielernamen'!F:F,MATCH(B23,'Eingabe Spielernamen'!B:B,)),\" \")","v":0},{"$f":"IF($B23<>0,INDEX('Eingabe Spielernamen'!G:G,MATCH(B23,'Eingabe Spielernamen'!B:B,)),\" \")","v":0},{"$f":"IF($B23<>0,INDEX('Eingabe Spielernamen'!H:H,MATCH(B23,'Eingabe Spielernamen'!B:B,)),\" \")","v":0},{"$f":"IF($B23<>0,INDEX('Eingabe Spielernamen'!I:I,MATCH(B23,'Eingabe Spielernamen'!B:B,)),\" \")","v":0},0,{"$f":"IF($B23<>0,INDEX('Eingabe Spielernamen'!K:K,MATCH(B23,'Eingabe Spielernamen'!B:B,)),\" \")","v":0},{"$f":"IF($B23<>0,INDEX('Eingabe Spielernamen'!L:L,MATCH(B23,'Eingabe Spielernamen'!B:B,)),\" \")","v":0},0,0,{"$f":"IF($B23<>0,INDEX('Eingabe Spielernamen'!O:O,MATCH(B23,'Eingabe Spielernamen'!B:B,)),\" \")","v":0},{"$f":"IF($B23<>0,INDEX('Eingabe Spielernamen'!P:P,MATCH(B23,'Eingabe Spielernamen'!B:B,)),\" \")","v":0},0,0]
[21,205,{"$f":"IF($B24<>0,INDEX('Eingabe Spielernamen'!A:A,MATCH(B24,'Eingabe Spielernamen'!B:B,)),\" \")","v":0},{"$f":"IF($B24<>0,INDEX('Eingabe Spielernamen'!F:F,MATCH(B24,'Eingabe Spielernamen'!B:B,)),\" \")","v":0},{"$f":"IF($B24<>0,INDEX('Eingabe Spielernamen'!G:G,MATCH(B24,'Eingabe Spielernamen'!B:B,)),\" \")","v":0},{"$f":"IF($B24<>0,INDEX('Eingabe Spielernamen'!H:H,MATCH(B24,'Eingabe Spielernamen'!B:B,)),\" \")","v":0},{"$f":"IF($B24<>0,INDEX('Eingabe Spielernamen'!I:I,MATCH(B24,'Eingabe Spielernamen'!B:B,)),\" \")","v":0},0,{"$f":"IF($B24<>0,INDEX('Eingabe Spielernamen'!K:K,MATCH(B24,'Eingabe Spielernamen'!B:B,)),\" \")","v":0},{"$f":"IF($B24<>0,INDEX('Eingabe Spielernamen'!L:L,MATCH(B24,'Eingabe Spielernamen'!B:B,)),\" \")","v":0},0,0,{"$f":"IF($B24<>0,INDEX('Eingabe Spielernamen'!O:O,MATCH(B24,'Eingabe Spielernamen'!B:B,)),\" \")","v":0},{"$f":"IF($B24<>0,INDEX('Eingabe Spielernamen'!P:P,MATCH(B24,'Eingabe Spielernamen'!B:B,)),\" \")","v":0},0,0]
[22,206,{"$f":"IF($B25<>0,INDEX('Eingabe Spielernamen'!A:A,MATCH(B25,'Eingabe Spielernamen'!B:B,)),\" \")","v":0},{"$f":"IF($B25<>0,INDEX('Eingabe Spielernamen'!F:F,MATCH(B25,'Eingabe Spielernamen'!B:B,)),\" \")","v":0},{"$f":"IF($B25<>0,INDEX('Eingabe Spielernamen'!G:G,MATCH(B25,'Eingabe Spielernamen'!B:B,)),\" \")","v":0},{"$f":"IF($B25<>0,INDEX('Eingabe Spielernamen'!H:H,MATCH(B25,'Eingabe Spielernamen'!B:B,)),\" \")","v":0},{"$f":"IF($B25<>0,INDEX('Eingabe Spielernamen'!I:I,MATCH(B25,'Eingabe Spielernamen'!B:B,)),\" \")","v":0},0,{"$f":"IF($B25<>0,INDEX('Eingabe Spielernamen'!K:K,MATCH(B25,'Eingabe Spielernamen'!B:B,)),\" \")","v":0},{"$f":"IF($B25<>0,INDEX('Eingabe Spielernamen'!L:L,MATCH(B25,'Eingabe Spielernamen'!B:B,)),\" \")","v":0},0,0,{"$f":"IF($B25<>0,INDEX('Eingabe Spielernamen'!O:O,MATCH(B25,'Eingabe Spielernamen'!B:B,)),\" \")","v":0},{"$f":"IF($B25<>0,INDEX('Eingabe Spielernamen'!P:P,MATCH(B25,'Eingabe Spielernamen'!B:B,)),\" \")","v":0},0,0]
[23,207,{"$f":"IF($B26<>0,INDEX('Eingabe Spielernamen'!A:A,MATCH(B26,'Eingabe Spielernamen'!B:B,)),\" \")","v":0},{"$f":"IF($B26<>0,INDEX('Eingabe Spielernamen'!F:F,MATCH(B26,'Eingabe Spielernamen'!B:B,)),\" \")","v":0},{"$f":"IF($B26<>0,INDEX('Eingabe Spielernamen'!G:G,MATCH(B26,'Eingabe Spielernamen'!B:B,)),\" \")","v":0},{"$f":"IF($B26<>0,INDEX('Eingabe Spielernamen'!H:H,MATCH(B26,'Eingabe Spielernamen'!B:B,)),\" \")","v":0},{"$f":"IF($B26<>0,INDEX('Eingabe Spielernamen'!I:I,MATCH(B26,'Eingabe Spielernamen'!B:B,)),\" \")","v":0},0,{"$f":"IF($B26<>0,INDEX('Eingabe Spielernamen'!K:K,MATCH(B26,'Eingabe Spielernamen'!B:B,)),\" \")","v":0},{"$f":"IF($B26<>0,INDEX('Eingabe Spielernamen'!L:L,MATCH(B26,'Eingabe Spielernamen'!B:B,)),\" \")","v":0},0,0,{"$f":"IF($B26<>0,INDEX('Eingabe Spielernamen'!O:O,MATCH(B26,'Eingabe Spielernamen'!B:B,)),\" \")","v":0},{"$f":"IF($B26<>0,INDEX('Eingabe Spielernamen'!P:P,MATCH(B26,'Eingabe Spielernamen'!B:B,)),\" \")","v":0},0,0]
[24,208,{"$f":"IF($B27<>0,INDEX('Eingabe Spielernamen'!A:A,MATCH(B27,'Eingabe Spielernamen'!B:B,)),\" \")","v":0},{"$f":"IF($B27<>0,INDEX('Eingabe Spielernamen'!F:F,MATCH(B27,'Eingabe Spielernamen'!B:B,)),\" \")","v":0},{"$f":"IF($B27<>0,INDEX('Eingabe Spielernamen'!G:G,MATCH(B27,'Eingabe Spielernamen'!B:B,)),\" \")","v":0},{"$f":"IF($B27<>0,INDEX('Eingabe Spielernamen'!H:H,MATCH(B27,'Eingabe Spielernamen'!B:B,)),\" \")","v":0},{"$f":"IF($B27<>0,INDEX('Eingabe Spielernamen'!I:I,MATCH(B27,'Eingabe Spielernamen'!B:B,)),\" \")","v":0},0,{"$f":"IF($B27<>0,INDEX('Eingabe Spielernamen'!K:K,MATCH(B27,'Eingabe Spielernamen'!B:B,)),\" \")","v":0},{"$f":"IF($B27<>0,INDEX('Eingabe Spielernamen'!L:L,MATCH(B27,'Eingabe Spielernamen'!B:B,)),\" \")","v":0},0,0,{"$f":"IF($B27<>0,INDEX('Eingabe Spielernamen'!O:O,MATCH(B27,'Eingabe Spielernamen'!B:B,)),\" \")","v":0},{"$f":"IF($B27<>0,INDEX('Eingabe Spielernamen'!P:P,MATCH(B27,'Eingabe Spielernamen'!B:B,)),\" \")","v":0},0,0]
[25,209,{"$f":"IF($B28<>0,INDEX('Eingabe Spielernamen'!A:A,MATCH(B28,'Eingabe Spielernamen'!B:B,)),\" \")","v":0},{"$f":"IF($B28<>0,INDEX('Eingabe Spielernamen'!F:F,MATCH(B28,'Eingabe Spielernamen'!B:B,)),\" \")","v":0},{"$f":"IF($B28<>0,INDEX('Eingabe Spielernamen'!G:G,MATCH(B28,'Eingabe Spielernamen'!B:B,)),\" \")","v":0},{"$f":"IF($B28<>0,INDEX('Eingabe Spielernamen'!H:H,MATCH(B28,'Eingabe Spielernamen'!B:B,)),\" \")","v":0},{"$f":"IF($B28<>0,INDEX('Eingabe Spielernamen'!I:I,MATCH(B28,'Eingabe Spielernamen'!B:B,)),\" \")","v":0},0,{"$f":"IF($B28<>0,INDEX('Eingabe Spielernamen'!K:K,MATCH(B28,'Eingabe Spielernamen'!B:B,)),\" \")","v":0},{"$f":"IF($B28<>0,INDEX('Eingabe Spielernamen'!L:L,MATCH(B28,'Eingabe Spielernamen'!B:B,)),\" \")","v":0},0,0,{"$f":"IF($B28<>0,INDEX('Eingabe Spielernamen'!O:O,MATCH(B28,'Eingabe Spielernamen'!B:B,)),\" \")","v":0},{"$f":"IF($B28<>0,INDEX('Eingabe Spielernamen'!P:P,MATCH(B28,'Eingabe Spielernamen'!B:B,)),\" \")","v":0},0,0]
[26,210,{"$f":"IF($B29<>0,INDEX('Eingabe Spielernamen'!A:A,MATCH(B29,'Eingabe Spielernamen'!B:B,)),\" \")","v":0},{"$f":"IF($B29<>0,INDEX('Eingabe Spielernamen'!F:F,MATCH(B29,'Eingabe Spielernamen'!B:B,)),\" \")","v":0},{"$f":"IF($B29<>0,INDEX('Eingabe Spielernamen'!G:G,MATCH(B29,'Eingabe Spielernamen'!B:B,)),\" \")","v":0},{"$f":"IF($B29<>0,INDEX('Eingabe Spielernamen'!H:H,MATCH(B29,'Eingabe Spielernamen'!B:B,)),\" \")","v":0},{"$f":"IF($B29<>0,INDEX('Eingabe Spielernamen'!I:I,MATCH(B29,'Eingabe Spielernamen'!B:B,)),\" \")","v":0},0,{"$f":"IF($B29<>0,INDEX('Eingabe Spielernamen'!K:K,MATCH(B29,'Eingabe Spielernamen'!B:B,)),\" \")","v":0},{"$f":"IF($B29<>0,INDEX('Eingabe Spielernamen'!L:L,MATCH(B29,'Eingabe Spielernamen'!B:B,)),\" \")","v":0},0,0,{"$f":"IF($B29<>0,INDEX('Eingabe Spielernamen'!O:O,MATCH(B29,'Eingabe Spielernamen'!B:B,)),\" \")","v":0},{"$f":"IF($B29<>0,INDEX('Eingabe Spielernamen'!P:P,MATCH(B29,'Eingabe Spielernamen'!B:B,)),\" \")","v":0},0,0]
[27,211,{"$f":"IF($B30<>0,INDEX('Eingabe Spielernamen'!A:A,MATCH(B30,'Eingabe Spielernamen'!B:B,)),\" \")","v":0},{"$f":"IF($B30<>0,INDEX('Eingabe Spielernamen'!F:F,MATCH(B30,'Eingabe Spielernamen'!B:B,)),\" \")","v":0},{"$f":"IF($B30<>0,INDEX('Eingabe Spielernamen'!G:G,MATCH(B30,'Eingabe Spielernamen'!B:B,)),\" \")","v":0},{"$f":"IF($B30<>0,INDEX('Eingabe Spielernamen'!H:H,MATCH(B30,'Eingabe Spielernamen'!B:B,)),\" \")","v":0},{"$f":"IF($B30<>0,INDEX('Eingabe Spielernamen'!I:I,MATCH(B30,'Eingabe Spielernamen'!B:B,)),\" \")","v":0},0,{"$f":"IF($B30<>0,INDEX('Eingabe Spielernamen'!K:K,MATCH(B30,'Eingabe Spielernamen'!B:B,)),\" \")","v":0},{"$f":"IF($B30<>0,INDEX('Eingabe Spielernamen'!L:L,MATCH(B30,'Eingabe Spielernamen'!B:B,)),\" \")","v":0},0,0,{"$f":"IF($B30<>0,INDEX('Eingabe Spielernamen'!O:O,MATCH(B30,'Eingabe Spielernamen'!B:B,)),\" \")","v":0},{"$f":"IF($B30<>0,INDEX('Eingabe Spielernamen'!P:P,MATCH(B30,'Eingabe Spielernamen'!B:B,)),\" \")","v":0},0,0]
[28,212,{"$f":"IF($B31<>0,INDEX('Eingabe Spielernamen'!A:A,MATCH(B31,'Eingabe Spielernamen'!B:B,)),\" \")","v":0},{"$f":"IF($B31<>0,INDEX('Eingabe Spielernamen'!F:F,MATCH(B31,'Eingabe Spielernamen'!B:B,)),\" \")","v":0},{"$f":"IF($B31<>0,INDEX('Eingabe Spielernamen'!G:G,MATCH(B31,'Eingabe Spielernamen'!B:B,)),\" \")","v":0},{"$f":"IF($B31<>0,INDEX('Eingabe Spielernamen'!H:H,MATCH(B31,'Eingabe Spielernamen'!B:B,)),\" \")","v":0},{"$f":"IF($B31<>0,INDEX('Eingabe Spielernamen'!I:I,MATCH(B31,'Eingabe Spielernamen'!B:B,)),\" \")","v":0},0,{"$f":"IF($B31<>0,INDEX('Eingabe Spielernamen'!K:K,MATCH(B31,'Eingabe Spielernamen'!B:B,)),\" \")","v":0},{"$f":"IF($B31<>0,INDEX('Eingabe Spielernamen'!L:L,MATCH(B31,'Eingabe Spielernamen'!B:B,)),\" \")","v":0},0,0,{"$f":"IF($B31<>0,INDEX('Eingabe Spielernamen'!O:O,MATCH(B31,'Eingabe Spielernamen'!B:B,)),\" \")","v":0},{"$f":"IF($B31<>0,INDEX('Eingabe Spielernamen'!P:P,MATCH(B31,'Eingabe Spielernamen'!B:B,)),\" \")","v":0},0,0]
[29,213,{"$f":"IF($B32<>0,INDEX('Eingabe Spielernamen'!A:A,MATCH(B32,'Eingabe Spielernamen'!B:B,)),\" \")","v":0},{"$f":"IF($B32<>0,INDEX('Eingabe Spielernamen'!F:F,MATCH(B32,'Eingabe Spielernamen'!B:B,)),\" \")","v":0},{"$f":"IF($B32<>0,INDEX('Eingabe Spielernamen'!G:G,MATCH(B32,'Eingabe Spielernamen'!B:B,)),\" \")","v":0},{"$f":"IF($B32<>0,INDEX('Eingabe Spielernamen'!H:H,MATCH(B32,'Eingabe Spielernamen'!B:B,)),\" \")","v":0},{"$f":"IF($B32<>0,INDEX('Eingabe Spielernamen'!I:I,MATCH(B32,'Eingabe Spielernamen'!B:B,)),\" \")","v":0},0,{"$f":"IF($B32<>0,INDEX('Eingabe Spielernamen'!K:K,MATCH(B32,'Eingabe Spielernamen'!B:B,)),\" \")","v":0},{"$f":"IF($B32<>0,INDEX('Eingabe Spielernamen'!L:L,MATCH(B32,'Eingabe Spielernamen'!B:B,)),\" \")","v":0},0,0,{"$f":"IF($B32<>0,INDEX('Eingabe Spielernamen'!O:O,MATCH(B32,'Eingabe Spielernamen'!B:B,)),\" \")","v":0},{"$f":"IF($B32<>0,INDEX('Eingabe Spielernamen'!P:P,MATCH(B32,'Eingabe Spielernamen'!B:B,)),\" \")","v":0},0,0]
[30,214,{"$f":"IF($B33<>0,INDEX('Eingabe Spielernamen'!A:A,MATCH(B33,'Eingabe Spielernamen'!B:B,)),\" \")","v":0},{"$f":"IF($B33<>0,INDEX('Eingabe Spielernamen'!F:F,MATCH(B33,'Eingabe Spielernamen'!B:B,)),\" \")","v":0},{"$f":"IF($B33<>0,INDEX('Eingabe Spielernamen'!G:G,MATCH(B33,'Eingabe Spielernamen'!B:B,)),\" \")","v":0},{"$f":"IF($B33<>0,INDEX('Eingabe Spielernamen'!H:H,MATCH(B33,'Eingabe Spielernamen'!B:B,)),\" \")","v":0},{"$f":"IF($B33<>0,INDEX('Eingabe Spielernamen'!I:I,MATCH(B33,'Eingabe Spielernamen'!B:B,)),\" \")","v":0},0,{"$f":"IF($B33<>0,INDEX('Eingabe Spielernamen'!K:K,MATCH(B33,'Eingabe Spielernamen'!B:B,)),\" \")","v":0},{"$f":"IF($B33<>0,INDEX('Eingabe Spielernamen'!L:L,MATCH(B33,'Eingabe Spielernamen'!B:B,)),\" \")","v":0},0,0,{"$f":"IF($B33<>0,INDEX('Eingabe Spielernamen'!O:O,MATCH(B33,'Eingabe Spielernamen'!B:B,)),\" \")","v":0},{"$f":"IF($B33<>0,INDEX('Eingabe Spielernamen'!P:P,MATCH(B33,'Eingabe Spielernamen'!B:B,)),\" \")","v":0},0,0]
[31,215,{"$f":"IF($B34<>0,INDEX('Eingabe Spielernamen'!A:A,MATCH(B34,'Eingabe Spielernamen'!B:B,)),\" \")","v":0},{"$f":"IF($B34<>0,INDEX('Eingabe Spielernamen'!F:F,MATCH(B34,'Eingabe Spielernamen'!B:B,)),\" \")","v":0},{"$f":"IF($B34<>0,INDEX('Eingabe Spielernamen'!G:G,MATCH(B34,'Eingabe Spielernamen'!B:B,)),\" \")","v":0},{"$f":"IF($B34<>0,INDEX('Eingabe Spielernamen'!H:H,MATCH(B34,'Eingabe Spielernamen'!B:B,)),\" \")","v":0},{"$f":"IF($B34<>0,INDEX('Eingabe Spielernamen'!I:I,MATCH(B34,'Eingabe Spielernamen'!B:B,)),\" \")","v":0},0,{"$f":"IF($B34<>0,INDEX('Eingabe Spielernamen'!K:K,MATCH(B34,'Eingabe Spielernamen'!B:B,)),\" \")","v":0},{"$f":"IF($B34<>0,INDEX('Eingabe Spielernamen'!L:L,MATCH(B34,'Eingabe Spielernamen'!B:B,)),\" \")","v":0},0,0,{"$f":"IF($B34<>0,INDEX('Eingabe Spielernamen'!O:O,MATCH(B34,'Eingabe Spielernamen'!B:B,)),\" \")","v":0},{"$f":"IF($B34<>0,INDEX('Eingabe Spielernamen'!P:P,MATCH(B34,'Eingabe Spielernamen'!B:B,)),\" \")","v":0},0,0]
[32,216,{"$f":"IF($B35<>0,INDEX('Eingabe Spielernamen'!A:A,MATCH(B35,'Eingabe Spielernamen'!B:B,)),\" \")","v":0},{"$f":"IF($B35<>0,INDEX('Eingabe Spielernamen'!F:F,MATCH(B35,'Eingabe Spielernamen'!B:B,)),\" \")","v":0},{"$f":"IF($B35<>0,INDEX('Eingabe Spielernamen'!G:G,MATCH(B35,'Eingabe Spielernamen'!B:B,)),\" \")","v":0},{"$f":"IF($B35<>0,INDEX('Eingabe Spielernamen'!H:H,MATCH(B35,'Eingabe Spielernamen'!B:B,)),\" \")","v":0},{"$f":"IF($B35<>0,INDEX('Eingabe Spielernamen'!I:I,MATCH(B35,'Eingabe Spielernamen'!B:B,)),\" \")","v":0},0,{"$f":"IF($B35<>0,INDEX('Eingabe Spielernamen'!K:K,MATCH(B35,'Eingabe Spielernamen'!B:B,)),\" \")","v":0},{"$f":"IF($B35<>0,INDEX('Eingabe Spielernamen'!L:L,MATCH(B35,'Eingabe Spielernamen'!B:B,)),\" \")","v":0},0,0,{"$f":"IF($B35<>0,INDEX('Eingabe Spielernamen'!O:O,MATCH(B35,'Eingabe Spielernamen'!B:B,)),\" \")","v":0},{"$f":"IF($B35<>0,INDEX('Eingabe Spielernamen'!P:P,MATCH(B35,'Eingabe Spielernamen'!B:B,)),\" \")","v":0},0,0]
[33,301,{"$f":"IF($B36<>0,INDEX('Eingabe Spielernamen'!A:A,MATCH(B36,'Eingabe Spielernamen'!B:B,)),\" \")","v":0},{"$f":"IF($B36<>0,INDEX('Eingabe Spielernamen'!F:F,MATCH(B36,'Eingabe Spielernamen'!B:B,)),\" \")","v":0},{"$f":"IF($B36<>0,INDEX('Eingabe Spielernamen'!G:G,MATCH(B36,'Eingabe Spielernamen'!B:B,)),\" \")","v":0},{"$f":"IF($B36<>0,INDEX('Eingabe Spielernamen'!H:H,MATCH(B36,'Eingabe Spielernamen'!B:B,)),\" \")","v":0},{"$f":"IF($B36<>0,INDEX('Eingabe Spielernamen'!I:I,MATCH(B36,'Eingabe Spielernamen'!B:B,)),\" \")","v":0},{"$f":"SUM(F36:G36)","v":0},{"$f":"IF($B36<>0,INDEX('Eingabe Spielernamen'!K:K,MATCH(B36,'Eingabe Spielernamen'!B:B,)),\" \")","v":0},{"$f":"IF($B36<>0,INDEX('Eingabe Spielernamen'!L:L,MATCH(B36,'Eingabe Spielernamen'!B:B,)),\" \")","v":0},{"$f":"SUM(I36:J36)","v":0},{"$f":"H36+K36","v":0},{"$f":"IF($B36<>0,INDEX('Eingabe Spielernamen'!O:O,MATCH(B36,'Eingabe Spielernamen'!B:B,)),\" \")","v":0},{"$f":"IF($B36<>0,INDEX('Eingabe Spielernamen'!P:P,MATCH(B36,'Eingabe Spielernamen'!B:B,)),\" \")","v":0},{"$f":"SUM(M36:N36)","v":0},{"$f":"L36+O36","v":0}]
[34,302,{"$f":"IF($B37<>0,INDEX('Eingabe Spielernamen'!A:A,MATCH(B37,'Eingabe Spielernamen'!B:B,)),\" \")","v":0},{"$f":"IF($B37<>0,INDEX('Eingabe Spielernamen'!F:F,MATCH(B37,'Eingabe Spielernamen'!B:B,)),\" \")","v":0},{"$f":"IF($B37<>0,INDEX('Eingabe Spielernamen'!G:G,MATCH(B37,'Eingabe Spielernamen'!B:B,)),\" \")","v":0},{"$f":"IF($B37<>0,INDEX('Eingabe Spielernamen'!H:H,MATCH(B37,'Eingabe Spielernamen'!B:B,)),\" \")","v":0},{"$f":"IF($B37<>0,INDEX('Eingabe Spielernamen'!I:I,MATCH(B37,'Eingabe Spielernamen'!B:B,)),\" \")","v":0},0,{"$f":"IF($B37<>0,INDEX('Eingabe Spielernamen'!K:K,MATCH(B37,'Eingabe Spielernamen'!B:B,)),\" \")","v":0},{"$f":"IF($B37<>0,INDEX('Eingabe Spielernamen'!L:L,MATCH(B37,'Eingabe Spielernamen'!B:B,)),\" \")","v":0},0,0,{"$f":"IF($B37<>0,INDEX('Eingabe Spielernamen'!O:O,MATCH(B37,'Eingabe Spielernamen'!B:B,)),\" \")","v":0},{"$f":"IF($B37<>0,INDEX('Eingabe Spielernamen'!P:P,MATCH(B37,'Eingabe Spielernamen'!B:B,)),\" \")","v":0},0,0]
[35,303,{"$f":"IF($B38<>0,INDEX('Eingabe Spielernamen'!A:A,MATCH(B38,'Eingabe Spielernamen'!B:B,)),\" \")","v":0},{"$f":"IF($B38<>0,INDEX('Eingabe Spielernamen'!F:F,MATCH(B38,'Eingabe Spielernamen'!B:B,)),\" \")","v":0},{"$f":"IF($B38<>0,INDEX('Eingabe Spielernamen'!G:G,MATCH(B38,'Eingabe Spielernamen'!B:B,)),\" \")","v":0},{"$f":"IF($B38<>0,INDEX('Eingabe Spielernamen'!H:H,MATCH(B38,'Eingabe Spielernamen'!B:B,)),\" \")","v":0},{"$f":"IF($B38<>0,INDEX('Eingabe Spielernamen'!I:I,MATCH(B38,'Eingabe Spielernamen'!B:B,)),\" \")","v":0},0,{"$f":"IF($B38<>0,INDEX('Eingabe Spielernamen'!K:K,MATCH(B38,'Eingabe Spielernamen'!B:B,)),\" \")","v":0},{"$f":"IF($B38<>0,INDEX('Eingabe Spielernamen'!L:L,MATCH(B38,'Eingabe Spielernamen'!B:B,)),\" \")","v":0},0,0,{"$f":"IF($B38<>0,INDEX('Eingabe Spielernamen'!O:O,MATCH(B38,'Eingabe Spielernamen'!B:B,)),\" \")","v":0},{"$f":"IF($B38<>0,INDEX('Eingabe Spielernamen'!P:P,MATCH(B38,'Eingabe Spielernamen'!B:B,)),\" \")","v":0},0,0]
[36,304,{"$f":"IF($B39<>0,INDEX('Eingabe Spielernamen'!A:A,MATCH(B39,'Eingabe Spielernamen'!B:B,)),\" \")","v":0},{"$f":"IF($B39<>0,INDEX('Eingabe Spielernamen'!F:F,MATCH(B39,'Eingabe Spielernamen'!B:B,)),\" \")","v":0},{"$f":"IF($B39<>0,INDEX('Eingabe Spielernamen'!G:G,MATCH(B39,'Eingabe Spielernamen'!B:B,)),\" \")","v":0},{"$f":"IF($B39<>0,INDEX('Eingabe Spielernamen'!H:H,MATCH(B39,'Eingabe Spielernamen'!B:B,)),\" \")","v":0},{"$f":"IF($B39<>0,INDEX('Eingabe Spielernamen'!I:I,MATCH(B39,'Eingabe Spielernamen'!B:B,)),\" \")","v":0},0,{"$f":"IF($B39<>0,INDEX('Eingabe Spielernamen'!K:K,MATCH(B39,'Eingabe Spielernamen'!B:B,)),\" \")","v":0},{"$f":"IF($B39<>0,INDEX('Eingabe Spielernamen'!L:L,MATCH(B39,'Eingabe Spielernamen'!B:B,)),\" \")","v":0},0,0,{"$f":"IF($B39<>0,INDEX('Eingabe Spielernamen'!O:O,MATCH(B39,'Eingabe Spielernamen'!B:B,)),\" \")","v":0},{"$f":"IF($B39<>0,INDEX('Eingabe Spielernamen'!P:P,MATCH(B39,'Eingabe Spielernamen'!B:B,)),\" \")","v":0},0,0]
[37,305,{"$f":"IF($B40<>0,INDEX('Eingabe Spielernamen'!A:A,MATCH(B40,'Eingabe Spielernamen'!B:B,)),\" \")","v":0},{"$f":"IF($B40<>0,INDEX('Eingabe Spielernamen'!F:F,MATCH(B40,'Eingabe Spielernamen'!B:B,)),\" \")","v":0},{"$f":"IF($B40<>0,INDEX('Eingabe Spielernamen'!G:G,MATCH(B40,'Eingabe Spielernamen'!B:B,)),\" \")","v":0},{"$f":"IF($B40<>0,INDEX('Eingabe Spielernamen'!H:H,MATCH(B40,'Eingabe Spielernamen'!B:B,)),\" \")","v":0},{"$f":"IF($B40<>0,INDEX('Eingabe Spielernamen'!I:I,MATCH(B40,'Eingabe Spielernamen'!B:B,)),\" \")","v":0},0,{"$f":"IF($B40<>0,INDEX('Eingabe Spielernamen'!K:K,MATCH(B40,'Eingabe Spielernamen'!B:B,)),\" \")","v":0},{"$f":"IF($B40<>0,INDEX('Eingabe Spielernamen'!L:L,MATCH(B40,'Eingabe Spielernamen'!B:B,)),\" \")","v":0},0,0,{"$f":"IF($B40<>0,INDEX('Eingabe Spielernamen'!O:O,MATCH(B40,'Eingabe Spielernamen'!B:B,)),\" \")","v":0},{"$f":"IF($B40<>0,INDEX('Eingabe Spielernamen'!P:P,MATCH(B40,'Eingabe Spielernamen'!B:B,)),\" \")","v":0},0,0]
[38,306,{"$f":"IF($B41<>0,INDEX('Eingabe Spielernamen'!A:A,MATCH(B41,'Eingabe Spielernamen'!B:B,)),\" \")","v":0},{"$f":"IF($B41<>0,INDEX('Eingabe Spielernamen'!F:F,MATCH(B41,'Eingabe Spielernamen'!B:B,)),\" \")","v":0},{"$f":"IF($B41<>0,INDEX('Eingabe Spielernamen'!G:G,MATCH(B41,'Eingabe Spielernamen'!B:B,)),\" \")","v":0},{"$f":"IF($B41<>0,INDEX('Eingabe Spielernamen'!H:H,MATCH(B41,'Eingabe Spielernamen'!B:B,)),\" \")","v":0},{"$f":"IF($B41<>0,INDEX('Eingabe Spielernamen'!I:I,MATCH(B41,'Eingabe Spielernamen'!B:B,)),\" \")","v":0},0,{"$f":"IF($B41<>0,INDEX('Eingabe Spielernamen'!K:K,MATCH(B41,'Eingabe Spielernamen'!B:B,)),\" \")","v":0},{"$f":"IF($B41<>0,INDEX('Eingabe Spielernamen'!L:L,MATCH(B41,'Eingabe Spielernamen'!B:B,)),\" \")","v":0},0,0,{"$f":"IF($B41<>0,INDEX('Eingabe Spielernamen'!O:O,MATCH(B41,'Eingabe Spielernamen'!B:B,)),\" \")","v":0},{"$f":"IF($B41<>0,INDEX('Eingabe Spielernamen'!P:P,MATCH(B41,'Eingabe Spielernamen'!B:B,)),\" \")","v":0},0,0]
[39,307,{"$f":"IF($B42<>0,INDEX('Eingabe Spielernamen'!A:A,MATCH(B42,'Eingabe Spielernamen'!B:B,)),\" \")","v":0},{"$f":"IF($B42<>0,INDEX('Eingabe Spielernamen'!F:F,MATCH(B42,'Eingabe Spielernamen'!B:B,)),\" \")","v":0},{"$f":"IF($B42<>0,INDEX('Eingabe Spielernamen'!G:G,MATCH(B42,'Eingabe Spielernamen'!B:B,)),\" \")","v":0},{"$f":"IF($B42<>0,INDEX('Eingabe Spielernamen'!H:H,MATCH(B42,'Eingabe Spielernamen'!B:B,)),\" \")","v":0},{"$f":"IF($B42<>0,INDEX('Eingabe Spielernamen'!I:I,MATCH(B42,'Eingabe Spielernamen'!B:B,)),\" \")","v":0},0,{"$f":"IF($B42<>0,INDEX('Eingabe Spielernamen'!K:K,MATCH(B42,'Eingabe Spielernamen'!B:B,)),\" \")","v":0},{"$f":"IF($B42<>0,INDEX('Eingabe Spielernamen'!L:L,MATCH(B42,'Eingabe Spielernamen'!B:B,)),\" \")","v":0},0,0,{"$f":"IF($B42<>0,INDEX('Eingabe Spielernamen'!O:O,MATCH(B42,'Eingabe Spielernamen'!B:B,)),\" \")","v":0},{"$f":"IF($B42<>0,INDEX('Eingabe Spielernamen'!P:P,MATCH(B42,'Eingabe Spielernamen'!B:B,)),\" \")","v":0},0,0]
[40,308,{"$f":"IF($B43<>0,INDEX('Eingabe Spielernamen'!A:A,MATCH(B43,'Eingabe Spielernamen'!B:B,)),\" \")","v":0},{"$f":"IF($B43<>0,INDEX('Eingabe Spielernamen'!F:F,MATCH(B43,'Eingabe Spielernamen'!B:B,)),\" \")","v":0},{"$f":"IF($B43<>0,INDEX('Eingabe Spielernamen'!G:G,MATCH(B43,'Eingabe Spielernamen'!B:B,)),\" \")","v":0},{"$f":"IF($B43<>0,INDEX('Eingabe Spielernamen'!H:H,MATCH(B43,'Eingabe Spielernamen'!B:B,)),\" \")","v":0},{"$f":"IF($B43<>0,INDEX('Eingabe Spielernamen'!I:I,MATCH(B43,'Eingabe Spielernamen'!B:B,)),\" \")","v":0},0,{"$f":"IF($B43<>0,INDEX('Eingabe Spielernamen'!K:K,MATCH(B43,'Eingabe Spielernamen'!B:B,)),\" \")","v":0},{"$f":"IF($B43<>0,INDEX('Eingabe Spielernamen'!L:L,MATCH(B43,'Eingabe Spielernamen'!B:B,)),\" \")","v":0},0,0,{"$f":"IF($B43<>0,INDEX('Eingabe Spielernamen'!O:O,MATCH(B43,'Eingabe Spielernamen'!B:B,)),\" \")","v":0},{"$f":"IF($B43<>0,INDEX('Eingabe Spielernamen'!P:P,MATCH(B43,'Eingabe Spielernamen'!B:B,)),\" \")","v":0},0,0]
[41,309,{"$f":"IF($B44<>0,INDEX('Eingabe Spielernamen'!A:A,MATCH(B44,'Eingabe Spielernamen'!B:B,)),\" \")","v":0},{"$f":"IF($B44<>0,INDEX('Eingabe Spielernamen'!F:F,MATCH(B44,'Eingabe Spielernamen'!B:B,)),\" \")","v":0},{"$f":"IF($B44<>0,INDEX('Eingabe Spielernamen'!G:G,MATCH(B44,'Eingabe Spielernamen'!B:B,)),\" \")","v":0},{"$f":"IF($B44<>0,INDEX('Eingabe Spielernamen'!H:H,MATCH(B44,'Eingabe Spielernamen'!B:B,)),\" \")","v":0},{"$f":"IF($B44<>0,INDEX('Eingabe Spielernamen'!I:I,MATCH(B44,'Eingabe Spielernamen'!B:B,)),\" \")","v":0},0,{"$f":"IF($B44<>0,INDEX('Eingabe Spielernamen'!K:K,MATCH(B44,'Eingabe Spielernamen'!B:B,)),\" \")","v":0},{"$f":"IF($B44<>0,INDEX('Eingabe Spielernamen'!L:L,MATCH(B44,'Eingabe Spielernamen'!B:B,)),\" \")","v":0},0,0,{"$f":"IF($B44<>0,INDEX('Eingabe Spielernamen'!O:O,MATCH(B44,'Eingabe Spielernamen'!B:B,)),\" \")","v":0},{"$f":"IF($B44<>0,INDEX('Eingabe Spielernamen'!P:P,MATCH(B44,'Eingabe Spielernamen'!B:B,)),\" \")","v":0},0,0]
[42,310,{"$f":"IF($B45<>0,INDEX('Eingabe Spielernamen'!A:A,MATCH(B45,'Eingabe Spielernamen'!B:B,)),\" \")","v":0},{"$f":"IF($B45<>0,INDEX('Eingabe Spielernamen'!F:F,MATCH(B45,'Eingabe Spielernamen'!B:B,)),\" \")","v":0},{"$f":"IF($B45<>0,INDEX('Eingabe Spielernamen'!G:G,MATCH(B45,'Eingabe Spielernamen'!B:B,)),\" \")","v":0},{"$f":"IF($B45<>0,INDEX('Eingabe Spielernamen'!H:H,MATCH(B45,'Eingabe Spielernamen'!B:B,)),\" \")","v":0},{"$f":"IF($B45<>0,INDEX('Eingabe Spielernamen'!I:I,MATCH(B45,'Eingabe Spielernamen'!B:B,)),\" \")","v":0},0,{"$f":"IF($B45<>0,INDEX('Eingabe Spielernamen'!K:K,MATCH(B45,'Eingabe Spielernamen'!B:B,)),\" \")","v":0},{"$f":"IF($B45<>0,INDEX('Eingabe Spielernamen'!L:L,MATCH(B45,'Eingabe Spielernamen'!B:B,)),\" \")","v":0},0,0,{"$f":"IF($B45<>0,INDEX('Eingabe Spielernamen'!O:O,MATCH(B45,'Eingabe Spielernamen'!B:B,)),\" \")","v":0},{"$f":"IF($B45<>0,INDEX('Eingabe Spielernamen'!P:P,MATCH(B45,'Eingabe Spielernamen'!B:B,)),\" \")","v":0},0,0]
[43,311,{"$f":"IF($B46<>0,INDEX('Eingabe Spielernamen'!A:A,MATCH(B46,'Eingabe Spielernamen'!B:B,)),\" \")","v":0},{"$f":"IF($B46<>0,INDEX('Eingabe Spielernamen'!F:F,MATCH(B46,'Eingabe Spielernamen'!B:B,)),\" \")","v":0},{"$f":"IF($B46<>0,INDEX('Eingabe Spielernamen'!G:G,MATCH(B46,'Eingabe Spielernamen'!B:B,)),\" \")","v":0},{"$f":"IF($B46<>0,INDEX('Eingabe Spielernamen'!H:H,MATCH(B46,'Eingabe Spielernamen'!B:B,)),\" \")","v":0},{"$f":"IF($B46<>0,INDEX('Eingabe Spielernamen'!I:I,MATCH(B46,'Eingabe Spielernamen'!B:B,)),\" \")","v":0},0,{"$f":"IF($B46<>0,INDEX('Eingabe Spielernamen'!K:K,MATCH(B46,'Eingabe Spielernamen'!B:B,)),\" \")","v":0},{"$f":"IF($B46<>0,INDEX('Eingabe Spielernamen'!L:L,MATCH(B46,'Eingabe Spielernamen'!B:B,)),\" \")","v":0},0,0,{"$f":"IF($B46<>0,INDEX('Eingabe Spielernamen'!O:O,MATCH(B46,'Eingabe Spielernamen'!B:B,)),\" \")","v":0},{"$f":"IF($B46<>0,INDEX('Eingabe Spielernamen'!P:P,MATCH(B46,'Eingabe Spielernamen'!B:B,)),\" \")","v":0},0,0]
[44,312,{"$f":"IF($B47<>0,INDEX('Eingabe Spielernamen'!A:A,MATCH(B47,'Eingabe Spielernamen'!B:B,)),\" \")","v":0},{"$f":"IF($B47<>0,INDEX('Eingabe Spielernamen'!F:F,MATCH(B47,'Eingabe Spielernamen'!B:B,)),\" \")","v":0},{"$f":"IF($B47<>0,INDEX('Eingabe Spielernamen'!G:G,MATCH(B47,'Eingabe Spielernamen'!B:B,)),\" \")","v":0},{"$f":"IF($B47<>0,INDEX('Eingabe Spielernamen'!H:H,MATCH(B47,'Eingabe Spielernamen'!B:B,)),\" \")","v":0},{"$f":"IF($B47<>0,INDEX('Eingabe Spielernamen'!I:I,MATCH(B47,'Eingabe Spielernamen'!B:B,)),\" \")","v":0},0,{"$f":"IF($B47<>0,INDEX('Eingabe Spielernamen'!K:K,MATCH(B47,'Eingabe Spielernamen'!B:B,)),\" \")","v":0},{"$f":"IF($B47<>0,INDEX('Eingabe Spielernamen'!L:L,MATCH(B47,'Eingabe Spielernamen'!B:B,)),\" \")","v":0},0,0,{"$f":"IF($B47<>0,INDEX('Eingabe Spielernamen'!O:O,MATCH(B47,'Eingabe Spielernamen'!B:B,)),\" \")","v":0},{"$f":"IF($B47<>0,INDEX('Eingabe Spielernamen'!P:P,MATCH(B47,'Eingabe Spielernamen'!B:B,)),\" \")","v":0},0,0]
[45,313,{"$f":"IF($B48<>0,INDEX('Eingabe Spielernamen'!A:A,MATCH(B48,'Eingabe Spielernamen'!B:B,)),\" \")","v":0},{"$f":"IF($B48<>0,INDEX('Eingabe Spielernamen'!F:F,MATCH(B48,'Eingabe Spielernamen'!B:B,)),\" \")","v":0},{"$f":"IF($B48<>0,INDEX('Eingabe Spielernamen'!G:G,MATCH(B48,'Eingabe Spielernamen'!B:B,)),\" \")","v":0},{"$f":"IF($B48<>0,INDEX('Eingabe Spielernamen'!H:H,MATCH(B48,'Eingabe Spielernamen'!B:B,)),\" \")","v":0},{"$f":"IF($B48<>0,INDEX('Eingabe Spielernamen'!I:I,MATCH(B48,'Eingabe Spielernamen'!B:B,)),\" \")","v":0},0,{"$f":"IF($B48<>0,INDEX('Eingabe Spielernamen'!K:K,MATCH(B48,'Eingabe Spielernamen'!B:B,)),\" \")","v":0},{"$f":"IF($B48<>0,INDEX('Eingabe Spielernamen'!L:L,MATCH(B48,'Eingabe Spielernamen'!B:B,)),\" \")","v":0},0,0,{"$f":"IF($B48<>0,INDEX('Eingabe Spielernamen'!O:O,MATCH(B48,'Eingabe Spielernamen'!B:B,)),\" \")","v":0},{"$f":"IF($B48<>0,INDEX('Eingabe Spielernamen'!P:P,MATCH(B48,'Eingabe Spielernamen'!B:B,)),\" \")","v":0},0,0]
[46,314,{"$f":"IF($B49<>0,INDEX('Eingabe Spielernamen'!A:A,MATCH(B49,'Eingabe Spielernamen'!B:B,)),\" \")","v":0},{"$f":"IF($B49<>0,INDEX('Eingabe Spielernamen'!F:F,MATCH(B49,'Eingabe Spielernamen'!B:B,)),\" \")","v":0},{"$f":"IF($B49<>0,INDEX('Eingabe Spielernamen'!G:G,MATCH(B49,'Eingabe Spielernamen'!B:B,)),\" \")","v":0},{"$f":"IF($B49<>0,INDEX('Eingabe Spielernamen'!H:H,MATCH(B49,'Eingabe Spielernamen'!B:B,)),\" \")","v":0},{"$f":"IF($B49<>0,INDEX('Eingabe Spielernamen'!I:I,MATCH(B49,'Eingabe Spielernamen'!B:B,)),\" \")","v":0},0,{"$f":"IF($B49<>0,INDEX('Eingabe Spielernamen'!K:K,MATCH(B49,'Eingabe Spielernamen'!B:B,)),\" \")","v":0},{"$f":"IF($B49<>0,INDEX('Eingabe Spielernamen'!L:L,MATCH(B49,'Eingabe Spielernamen'!B:B,)),\" \")","v":0},0,0,{"$f":"IF($B49<>0,INDEX('Eingabe Spielernamen'!O:O,MATCH(B49,'Eingabe Spielernamen'!B:B,)),\" \")","v":0},{"$f":"IF($B49<>0,INDEX('Eingabe Spielernamen'!P:P,MATCH(B49,'Eingabe Spielernamen'!B:B,)),\" \")","v":0},0,0]
[47,315,{"$f":"IF($B50<>0,INDEX('Eingabe Spielernamen'!A:A,MATCH(B50,'Eingabe Spielernamen'!B:B,)),\" \")","v":0},{"$f":"IF($B50<>0,INDEX('Eingabe Spielernamen'!F:F,MATCH(B50,'Eingabe Spielernamen'!B:B,)),\" \")","v":0},{"$f":"IF($B50<>0,INDEX('Eingabe Spielernamen'!G:G,MATCH(B50,'Eingabe Spielernamen'!B:B,)),\" \")","v":0},{"$f":"IF($B50<>0,INDEX('Eingabe Spielernamen'!H:H,MATCH(B50,'Eingabe Spielernamen'!B:B,)),\" \")","v":0},{"$f":"IF($B50<>0,INDEX('Eingabe Spielernamen'!I:I,MATCH(B50,'Eingabe Spielernamen'!B:B,)),\" \")","v":0},0,{"$f":"IF($B50<>0,INDEX('Eingabe Spielernamen'!K:K,MATCH(B50,'Eingabe Spielernamen'!B:B,)),\" \")","v":0},{"$f":"IF($B50<>0,INDEX('Eingabe Spielernamen'!L:L,MATCH(B50,'Eingabe Spielernamen'!B:B,)),\" \")","v":0},0,0,{"$f":"IF($B50<>0,INDEX('Eingabe Spielernamen'!O:O,MATCH(B50,'Eingabe Spielernamen'!B:B,)),\" \")","v":0},{"$f":"IF($B50<>0,INDEX('Eingabe Spielernamen'!P:P,MATCH(B50,'Eingabe Spielernamen'!B:B,)),\" \")","v":0},0,0]
[48,316,{"$f":"IF($B51<>0,INDEX('Eingabe Spielernamen'!A:A,MATCH(B51,'Eingabe Spielernamen'!B:B,)),\" \")","v":0},{"$f":"IF($B51<>0,INDEX('Eingabe Spielernamen'!F:F,MATCH(B51,'Eingabe Spielernamen'!B:B,)),\" \")","v":0},{"$f":"IF($B51<>0,INDEX('Eingabe Spielernamen'!G:G,MATCH(B51,'Eingabe Spielernamen'!B:B,)),\" \")","v":0},{"$f":"IF($B51<>0,INDEX('Eingabe Spielernamen'!H:H,MATCH(B51,'Eingabe Spielernamen'!B:B,)),\" \")","v":0},{"$f":"IF($B51<>0,INDEX('Eingabe Spielernamen'!I:I,MATCH(B51,'Eingabe Spielernamen'!B:B,)),\" \")","v":0},0,{"$f":"IF($B51<>0,INDEX('Eingabe Spielernamen'!K:K,MATCH(B51,'Eingabe Spielernamen'!B:B,)),\" \")","v":0},{"$f":"IF($B51<>0,INDEX('Eingabe Spielernamen'!L:L,MATCH(B51,'Eingabe Spielernamen'!B:B,)),\" \")","v":0},0,0,{"$f":"IF($B51<>0,INDEX('Eingabe Spielernamen'!O:O,MATCH(B51,'Eingabe Spielernamen'!B:B,)),\" \")","v":0},{"$f":"IF($B51<>0,INDEX('Eingabe Spielernamen'!P:P,MATCH(B51,'Eingabe Spielernamen'!B:B,)),\" \")","v":0},0,0]
[49,401,{"$f":"IF($B52<>0,INDEX('Eingabe Spielernamen'!A:A,MATCH(B52,'Eingabe Spielernamen'!B:B,)),\" \")","v":0},{"$f":"IF($B52<>0,INDEX('Eingabe Spielernamen'!F:F,MATCH(B52,'Eingabe Spielernamen'!B:B,)),\" \")","v":0},{"$f":"IF($B52<>0,INDEX('Eingabe Spielernamen'!G:G,MATCH(B52,'Eingabe Spielernamen'!B:B,)),\" \")","v":0},{"$f":"IF($B52<>0,INDEX('Eingabe Spielernamen'!H:H,MATCH(B52,'Eingabe Spielernamen'!B:B,)),\" \")","v":0},{"$f":"IF($B52<>0,INDEX('Eingabe Spielernamen'!I:I,MATCH(B52,'Eingabe Spielernamen'!B:B,)),\" \")","v":0},0,{"$f":"IF($B52<>0,INDEX('Eingabe Spielernamen'!K:K,MATCH(B52,'Eingabe Spielernamen'!B:B,)),\" \")","v":0},{"$f":"IF($B52<>0,INDEX('Eingabe Spielernamen'!L:L,MATCH(B52,'Eingabe Spielernamen'!B:B,)),\" \")","v":0},0,0,{"$f":"IF($B52<>0,INDEX('Eingabe Spielernamen'!O:O,MATCH(B52,'Eingabe Spielernamen'!B:B,)),\" \")","v":0},{"$f":"IF($B52<>0,INDEX('Eingabe Spielernamen'!P:P,MATCH(B52,'Eingabe Spielernamen'!B:B,)),\" \")","v":0},0,0]
[50,402,{"$f":"IF($B53<>0,INDEX('Eingabe Spielernamen'!A:A,MATCH(B53,'Eingabe Spielernamen'!B:B,)),\" \")","v":0},{"$f":"IF($B53<>0,INDEX('Eingabe Spielernamen'!F:F,MATCH(B53,'Eingabe Spielernamen'!B:B,)),\" \")","v":0},{"$f":"IF($B53<>0,INDEX('Eingabe Spielernamen'!G:G,MATCH(B53,'Eingabe Spielernamen'!B:B,)),\" \")","v":0},{"$f":"IF($B53<>0,INDEX('Eingabe Spielernamen'!H:H,MATCH(B53,'Eingabe Spielernamen'!B:B,)),\" \")","v":0},{"$f":"IF($B53<>0,INDEX('Eingabe Spielernamen'!I:I,MATCH(B53,'Eingabe Spielernamen'!B:B,)),\" \")","v":0},0,{"$f":"IF($B53<>0,INDEX('Eingabe Spielernamen'!K:K,MATCH(B53,'Eingabe Spielernamen'!B:B,)),\" \")","v":0},{"$f":"IF($B53<>0,INDEX('Eingabe Spielernamen'!L:L,MATCH(B53,'Eingabe Spielernamen'!B:B,)),\" \")","v":0},0,0,{"$f":"IF($B53<>0,INDEX('Eingabe Spielernamen'!O:O,MATCH(B53,'Eingabe Spielernamen'!B:B,)),\" \")","v":0},{"$f":"IF($B53<>0,INDEX('Eingabe Spielernamen'!P:P,MATCH(B53,'Eingabe Spielernamen'!B:B,)),\" \")","v":0},0,0]
[51,403,{"$f":"IF($B54<>0,INDEX('Eingabe Spielernamen'!A:A,MATCH(B54,'Eingabe Spielernamen'!B:B,)),\" \")","v":0},{"$f":"IF($B54<>0,INDEX('Eingabe Spielernamen'!F:F,MATCH(B54,'Eingabe Spielernamen'!B:B,)),\" \")","v":0},{"$f":"IF($B54<>0,INDEX('Eingabe Spielernamen'!G:G,MATCH(B54,'Eingabe Spielernamen'!B:B,)),\" \")","v":0},{"$f":"IF($B54<>0,INDEX('Eingabe Spielernamen'!H:H,MATCH(B54,'Eingabe Spielernamen'!B:B,)),\" \")","v":0},{"$f":"IF($B54<>0,INDEX('Eingabe Spielernamen'!I:I,MATCH(B54,'Eingabe Spielernamen'!B:B,)),\" \")","v":0},0,{"$f":"IF($B54<>0,INDEX('Eingabe Spielernamen'!K:K,MATCH(B54,'Eingabe Spielernamen'!B:B,)),\" \")","v":0},{"$f":"IF($B54<>0,INDEX('Eingabe Spielernamen'!L:L,MATCH(B54,'Eingabe Spielernamen'!B:B,)),\" \")","v":0},0,0,{"$f":"IF($B54<>0,INDEX('Eingabe Spielernamen'!O:O,MATCH(B54,'Eingabe Spielernamen'!B:B,)),\" \")","v":0},{"$f":"IF($B54<>0,INDEX('Eingabe Spielernamen'!P:P,MATCH(B54,'Eingabe Spielernamen'!B:B,)),\" \")","v":0},0,0]
[52,404,{"$f":"IF($B55<>0,INDEX('Eingabe Spielernamen'!A:A,MATCH(B55,'Eingabe Spielernamen'!B:B,)),\" \")","v":0},{"$f":"IF($B55<>0,INDEX('Eingabe Spielernamen'!F:F,MATCH(B55,'Eingabe Spielernamen'!B:B,)),\" \")","v":0},{"$f":"IF($B55<>0,INDEX('Eingabe Spielernamen'!G:G,MATCH(B55,'Eingabe Spielernamen'!B:B,)),\" \")","v":0},{"$f":"IF($B55<>0,INDEX('Eingabe Spielernamen'!H:H,MATCH(B55,'Eingabe Spielernamen'!B:B,)),\" \")","v":0},{"$f":"IF($B55<>0,INDEX('Eingabe Spielernamen'!I:I,MATCH(B55,'Eingabe Spielernamen'!B:B,)),\" \")","v":0},0,{"$f":"IF($B55<>0,INDEX('Eingabe Spielernamen'!K:K,MATCH(B55,'Eingabe Spielernamen'!B:B,)),\" \")","v":0},{"$f":"IF($B55<>0,INDEX('Eingabe Spielernamen'!L:L,MATCH(B55,'Eingabe Spielernamen'!B:B,)),\" \")","v":0},0,0,{"$f":"IF($B55<>0,INDEX('Eingabe Spielernamen'!O:O,MATCH(B55,'Eingabe Spielernamen'!B:B,)),\" \")","v":0},{"$f":"IF($B55<>0,INDEX('Eingabe Spielernamen'!P:P,MATCH(B55,'Eingabe Spielernamen'!B:B,)),\" \")","v":0},0,0]
[53,405,{"$f":"IF($B56<>0,INDEX('Eingabe Spielernamen'!A:A,MATCH(B56,'Eingabe Spielernamen'!B:B,)),\" \")","v":0},{"$f":"IF($B56<>0,INDEX('Eingabe Spielernamen'!F:F,MATCH(B56,'Eingabe Spielernamen'!B:B,)),\" \")","v":0},{"$f":"IF($B56<>0,INDEX('Eingabe Spielernamen'!G:G,MATCH(B56,'Eingabe Spielernamen'!B:B,)),\" \")","v":0},{"$f":"IF($B56<>0,INDEX('Eingabe Spielernamen'!H:H,MATCH(B56,'Eingabe Spielernamen'!B:B,)),\" \")","v":0},{"$f":"IF($B56<>0,INDEX('Eingabe Spielernamen'!I:I,MATCH(B56,'Eingabe Spielernamen'!B:B,)),\" \")","v":0},0,{"$f":"IF($B56<>0,INDEX('Eingabe Spielernamen'!K:K,MATCH(B56,'Eingabe Spielernamen'!B:B,)),\" \")","v":0},{"$f":"IF($B56<>0,INDEX('Eingabe Spielernamen'!L:L,MATCH(B56,'Eingabe Spielernamen'!B:B,)),\" \")","v":0},0,0,{"$f":"IF($B56<>0,INDEX('Eingabe Spielernamen'!O:O,MATCH(B56,'Eingabe Spielernamen'!B:B,)),\" \")","v":0},{"$f":"IF($B56<>0,INDEX('Eingabe Spielernamen'!P:P,MATCH(B56,'Eingabe Spielernamen'!B:B,)),\" \")","v":0},0,0]
[54,406,{"$f":"IF($B57<>0,INDEX('Eingabe Spielernamen'!A:A,MATCH(B57,'Eingabe Spielernamen'!B:B,)),\" \")","v":0},{"$f":"IF($B57<>0,INDEX('Eingabe Spielernamen'!F:F,MATCH(B57,'Eingabe Spielernamen'!B:B,)),\" \")","v":0},{"$f":"IF($B57<>0,INDEX('Eingabe Spielernamen'!G:G,MATCH(B57,'Eingabe Spielernamen'!B:B,)),\" \")","v":0},{"$f":"IF($B57<>0,INDEX('Eingabe Spielernamen'!H:H,MATCH(B57,'Eingabe Spielernamen'!B:B,)),\" \")","v":0},{"$f":"IF($B57<>0,INDEX('Eingabe Spielernamen'!I:I,MATCH(B57,'Eingabe Spielernamen'!B:B,)),\" \")","v":0},0,{"$f":"IF($B57<>0,INDEX('Eingabe Spielernamen'!K:K,MATCH(B57,'Eingabe Spielernamen'!B:B,)),\" \")","v":0},{"$f":"IF($B57<>0,INDEX('Eingabe Spielernamen'!L:L,MATCH(B57,'Eingabe Spielernamen'!B:B,)),\" \")","v":0},0,0,{"$f":"IF($B57<>0,INDEX('Eingabe Spielernamen'!O:O,MATCH(B57,'Eingabe Spielernamen'!B:B,)),\" \")","v":0},{"$f":"IF($B57<>0,INDEX('Eingabe Spielernamen'!P:P,MATCH(B57,'Eingabe Spielernamen'!B:B,)),\" \")","v":0},0,0]
[55,407,{"$f":"IF($B58<>0,INDEX('Eingabe Spielernamen'!A:A,MATCH(B58,'Eingabe Spielernamen'!B:B,)),\" \")","v":0},{"$f":"IF($B58<>0,INDEX('Eingabe Spielernamen'!F:F,MATCH(B58,'Eingabe Spielernamen'!B:B,)),\" \")","v":0},{"$f":"IF($B58<>0,INDEX('Eingabe Spielernamen'!G:G,MATCH(B58,'Eingabe Spielernamen'!B:B,)),\" \")","v":0},{"$f":"IF($B58<>0,INDEX('Eingabe Spielernamen'!H:H,MATCH(B58,'Eingabe Spielernamen'!B:B,)),\" \")","v":0},{"$f":"IF($B58<>0,INDEX('Eingabe Spielernamen'!I:I,MATCH(B58,'Eingabe Spielernamen'!B:B,)),\" \")","v":0},0,{"$f":"IF($B58<>0,INDEX('Eingabe Spielernamen'!K:K,MATCH(B58,'Eingabe Spielernamen'!B:B,)),\" \")","v":0},{"$f":"IF($B58<>0,INDEX('Eingabe Spielernamen'!L:L,MATCH(B58,'Eingabe Spielernamen'!B:B,)),\" \")","v":0},0,0,{"$f":"IF($B58<>0,INDEX('Eingabe Spielernamen'!O:O,MATCH(B58,'Eingabe Spielernamen'!B:B,)),\" \")","v":0},{"$f":"IF($B58<>0,INDEX('Eingabe Spielernamen'!P:P,MATCH(B58,'Eingabe Spielernamen'!B:B,)),\" \")","v":0},0,0]
[56,408,{"$f":"IF($B59<>0,INDEX('Eingabe Spielernamen'!A:A,MATCH(B59,'Eingabe Spielernamen'!B:B,)),\" \")","v":0},{"$f":"IF($B59<>0,INDEX('Eingabe Spielernamen'!F:F,MATCH(B59,'Eingabe Spielernamen'!B:B,)),\" \")","v":0},{"$f":"IF($B59<>0,INDEX('Eingabe Spielernamen'!G:G,MATCH(B59,'Eingabe Spielernamen'!B:B,)),\" \")","v":0},{"$f":"IF($B59<>0,INDEX('Eingabe Spielernamen'!H:H,MATCH(B59,'Eingabe Spielernamen'!B:B,)),\" \")","v":0},{"$f":"IF($B59<>0,INDEX('Eingabe Spielernamen'!I:I,MATCH(B59,'Eingabe Spielernamen'!B:B,)),\" \")","v":0},0,{"$f":"IF($B59<>0,INDEX('Eingabe Spielernamen'!K:K,MATCH(B59,'Eingabe Spielernamen'!B:B,)),\" \")","v":0},{"$f":"IF($B59<>0,INDEX('Eingabe Spielernamen'!L:L,MATCH(B59,'Eingabe Spielernamen'!B:B,)),\" \")","v":0},0,0,{"$f":"IF($B59<>0,INDEX('Eingabe Spielernamen'!O:O,MATCH(B59,'Eingabe Spielernamen'!B:B,)),\" \")","v":0},{"$f":"IF($B59<>0,INDEX('Eingabe Spielernamen'!P:P,MATCH(B59,'Eingabe Spielernamen'!B:B,)),\" \")","v":0},0,0]
[57,409,{"$f":"IF($B60<>0,INDEX('Eingabe Spielernamen'!A:A,MATCH(B60,'Eingabe Spielernamen'!B:B,)),\" \")","v":0},{"$f":"IF($B60<>0,INDEX('Eingabe Spielernamen'!F:F,MATCH(B60,'Eingabe Spielernamen'!B:B,)),\" \")","v":0},{"$f":"IF($B60<>0,INDEX('Eingabe Spielernamen'!G:G,MATCH(B60,'Eingabe Spielernamen'!B:B,)),\" \")","v":0},{"$f":"IF($B60<>0,INDEX('Eingabe Spielernamen'!H:H,MATCH(B60,'Eingabe Spielernamen'!B:B,)),\" \")","v":0},{"$f":"IF($B60<>0,INDEX('Eingabe Spielernamen'!I:I,MATCH(B60,'Eingabe Spielernamen'!B:B,)),\" \")","v":0},0,{"$f":"IF($B60<>0,INDEX('Eingabe Spielernamen'!K:K,MATCH(B60,'Eingabe Spielernamen'!B:B,)),\" \")","v":0},{"$f":"IF($B60<>0,INDEX('Eingabe Spielernamen'!L:L,MATCH(B60,'Eingabe Spielernamen'!B:B,)),\" \")","v":0},0,0,{"$f":"IF($B60<>0,INDEX('Eingabe Spielernamen'!O:O,MATCH(B60,'Eingabe Spielernamen'!B:B,)),\" \")","v":0},{"$f":"IF($B60<>0,INDEX('Eingabe Spielernamen'!P:P,MATCH(B60,'Eingabe Spielernamen'!B:B,)),\" \")","v":0},0,0]
[58,410,{"$f":"IF($B61<>0,INDEX('Eingabe Spielernamen'!A:A,MATCH(B61,'Eingabe Spielernamen'!B:B,)),\" \")","v":0},{"$f":"IF($B61<>0,INDEX('Eingabe Spielernamen'!F:F,MATCH(B61,'Eingabe Spielernamen'!B:B,)),\" \")","v":0},{"$f":"IF($B61<>0,INDEX('Eingabe Spielernamen'!G:G,MATCH(B61,'Eingabe Spielernamen'!B:B,)),\" \")","v":0},{"$f":"IF($B61<>0,INDEX('Eingabe Spielernamen'!H:H,MATCH(B61,'Eingabe Spielernamen'!B:B,)),\" \")","v":0},{"$f":"IF($B61<>0,INDEX('Eingabe Spielernamen'!I:I,MATCH(B61,'Eingabe Spielernamen'!B:B,)),\" \")","v":0},0,{"$f":"IF($B61<>0,INDEX('Eingabe Spielernamen'!K:K,MATCH(B61,'Eingabe Spielernamen'!B:B,)),\" \")","v":0},{"$f":"IF($B61<>0,INDEX('Eingabe Spielernamen'!L:L,MATCH(B61,'Eingabe Spielernamen'!B:B,)),\" \")","v":0},0,0,{"$f":"IF($B61<>0,INDEX('Eingabe Spielernamen'!O:O,MATCH(B61,'Eingabe Spielernamen'!B:B,)),\" \")","v":0},{"$f":"IF($B61<>0,INDEX('Eingabe Spielernamen'!P:P,MATCH(B61,'Eingabe Spielernamen'!B:B,)),\" \")","v":0},0,0]
[59,411,{"$f":"IF($B62<>0,INDEX('Eingabe Spielernamen'!A:A,MATCH(B62,'Eingabe Spielernamen'!B:B,)),\" \")","v":0},{"$f":"IF($B62<>0,INDEX('Eingabe Spielernamen'!F:F,MATCH(B62,'Eingabe Spielernamen'!B:B,)),\" \")","v":0},{"$f":"IF($B62<>0,INDEX('Eingabe Spielernamen'!G:G,MATCH(B62,'Eingabe Spielernamen'!B:B,)),\" \")","v":0},{"$f":"IF($B62<>0,INDEX('Eingabe Spielernamen'!H:H,MATCH(B62,'Eingabe Spielernamen'!B:B,)),\" \")","v":0},{"$f":"IF($B62<>0,INDEX('Eingabe Spielernamen'!I:I,MATCH(B62,'Eingabe Spielernamen'!B:B,)),\" \")","v":0},0,{"$f":"IF($B62<>0,INDEX('Eingabe Spielernamen'!K:K,MATCH(B62,'Eingabe Spielernamen'!B:B,)),\" \")","v":0},{"$f":"IF($B62<>0,INDEX('Eingabe Spielernamen'!L:L,MATCH(B62,'Eingabe Spielernamen'!B:B,)),\" \")","v":0},0,0,{"$f":"IF($B62<>0,INDEX('Eingabe Spielernamen'!O:O,MATCH(B62,'Eingabe Spielernamen'!B:B,)),\" \")","v":0},{"$f":"IF($B62<>0,INDEX('Eingabe Spielernamen'!P:P,MATCH(B62,'Eingabe Spielernamen'!B:B,)),\" \")","v":0},0,0]
[60,412,{"$f":"IF($B63<>0,INDEX('Eingabe Spielernamen'!A:A,MATCH(B63,'Eingabe Spielernamen'!B:B,)),\" \")","v":0},{"$f":"IF($B63<>0,INDEX('Eingabe Spielernamen'!F:F,MATCH(B63,'Eingabe Spielernamen'!B:B,)),\" \")","v":0},{"$f":"IF($B63<>0,INDEX('Eingabe Spielernamen'!G:G,MATCH(B63,'Eingabe Spielernamen'!B:B,)),\" \")","v":0},{"$f":"IF($B63<>0,INDEX('Eingabe Spielernamen'!H:H,MATCH(B63,'Eingabe Spielernamen'!B:B,)),\" \")","v":0},{"$f":"IF($B63<>0,INDEX('Eingabe Spielernamen'!I:I,MATCH(B63,'Eingabe Spielernamen'!B:B,)),\" \")","v":0},0,{"$f":"IF($B63<>0,INDEX('Eingabe Spielernamen'!K:K,MATCH(B63,'Eingabe Spielernamen'!B:B,)),\" \")","v":0},{"$f":"IF($B63<>0,INDEX('Eingabe Spielernamen'!L:L,MATCH(B63,'Eingabe Spielernamen'!B:B,)),\" \")","v":0},0,0,{"$f":"IF($B63<>0,INDEX('Eingabe Spielernamen'!O:O,MATCH(B63,'Eingabe Spielernamen'!B:B,)),\" \")","v":0},{"$f":"IF($B63<>0,INDEX('Eingabe Spielernamen'!P:P,MATCH(B63,'Eingabe Spielernamen'!B:B,)),\" \")","v":0},0,0]
[61,413,{"$f":"IF($B64<>0,INDEX('Eingabe Spielernamen'!A:A,MATCH(B64,'Eingabe Spielernamen'!B:B,)),\" \")","v":0},{"$f":"IF($B64<>0,INDEX('Eingabe Spielernamen'!F:F,MATCH(B64,'Eingabe Spielernamen'!B:B,)),\" \")","v":0},{"$f":"IF($B64<>0,INDEX('Eingabe Spielernamen'!G:G,MATCH(B64,'Eingabe Spielernamen'!B:B,)),\" \")","v":0},{"$f":"IF($B64<>0,INDEX('Eingabe Spielernamen'!H:H,MATCH(B64,'Eingabe Spielernamen'!B:B,)),\" \")","v":0},{"$f":"IF($B64<>0,INDEX('Eingabe Spielernamen'!I:I,MATCH(B64,'Eingabe Spielernamen'!B:B,)),\" \")","v":0},0,{"$f":"IF($B64<>0,INDEX('Eingabe Spielernamen'!K:K,MATCH(B64,'Eingabe Spielernamen'!B:B,)),\" \")","v":0},{"$f":"IF($B64<>0,INDEX('Eingabe Spielernamen'!L:L,MATCH(B64,'Eingabe Spielernamen'!B:B,)),\" \")","v":0},0,0,{"$f":"IF($B64<>0,INDEX('Eingabe Spielernamen'!O:O,MATCH(B64,'Eingabe Spielernamen'!B:B,)),\" \")","v":0},{"$f":"IF($B64<>0,INDEX('Eingabe Spielernamen'!P:P,MATCH(B64,'Eingabe Spielernamen'!B:B,)),\" \")","v":0},0,0]
[62,414,{"$f":"IF($B65<>0,INDEX('Eingabe Spielernamen'!A:A,MATCH(B65,'Eingabe Spielernamen'!B:B,)),\" \")","v":0},{"$f":"IF($B65<>0,INDEX('Eingabe Spielernamen'!F:F,MATCH(B65,'Eingabe Spielernamen'!B:B,)),\" \")","v":0},{"$f":"IF($B65<>0,INDEX('Eingabe Spielernamen'!G:G,MATCH(B65,'Eingabe Spielernamen'!B:B,)),\" \")","v":0},{"$f":"IF($B65<>0,INDEX('Eingabe Spielernamen'!H:H,MATCH(B65,'Eingabe Spielernamen'!B:B,)),\" \")","v":0},{"$f":"IF($B65<>0,INDEX('Eingabe Spielernamen'!I:I,MATCH(B65,'Eingabe Spielernamen'!B:B,)),\" \")","v":0},0,{"$f":"IF($B65<>0,INDEX('Eingabe Spielernamen'!K:K,MATCH(B65,'Eingabe Spielernamen'!B:B,)),\" \")","v":0},{"$f":"IF($B65<>0,INDEX('Eingabe Spielernamen'!L:L,MATCH(B65,'Eingabe Spielernamen'!B:B,)),\" \")","v":0},0,0,{"$f":"IF($B65<>0,INDEX('Eingabe Spielernamen'!O:O,MATCH(B65,'Eingabe Spielernamen'!B:B,)),\" \")","v":0},{"$f":"IF($B65<>0,INDEX('Eingabe Spielernamen'!P:P,MATCH(B65,'Eingabe Spielernamen'!B:B,)),\" \")","v":0},0,0]
[63,415,{"$f":"IF($B66<>0,INDEX('Eingabe Spielernamen'!A:A,MATCH(B66,'Eingabe Spielernamen'!B:B,)),\" \")","v":0},{"$f":"IF($B66<>0,INDEX('Eingabe Spielernamen'!F:F,MATCH(B66,'Eingabe Spielernamen'!B:B,)),\" \")","v":0},{"$f":"IF($B66<>0,INDEX('Eingabe Spielernamen'!G:G,MATCH(B66,'Eingabe Spielernamen'!B:B,)),\" \")","v":0},{"$f":"IF($B66<>0,INDEX('Eingabe Spielernamen'!H:H,MATCH(B66,'Eingabe Spielernamen'!B:B,)),\" \")","v":0},{"$f":"IF($B66<>0,INDEX('Eingabe Spielernamen'!I:I,MATCH(B66,'Eingabe Spielernamen'!B:B,)),\" \")","v":0},0,{"$f":"IF($B66<>0,INDEX('Eingabe Spielernamen'!K:K,MATCH(B66,'Eingabe Spielernamen'!B:B,)),\" \")","v":0},{"$f":"IF($B66<>0,INDEX('Eingabe Spielernamen'!L:L,MATCH(B66,'Eingabe Spielernamen'!B:B,)),\" \")","v":0},0,0,{"$f":"IF($B66<>0,INDEX('Eingabe Spielernamen'!O:O,MATCH(B66,'Eingabe Spielernamen'!B:B,)),\" \")","v":0},{"$f":"IF($B66<>0,INDEX('Eingabe Spielernamen'!P:P,MATCH(B66,'Eingabe Spielernamen'!B:B,)),\" \")","v":0},0,0]
[64,416,{"$f":"IF($B67<>0,INDEX('Eingabe Spielernamen'!A:A,MATCH(B67,'Eingabe Spielernamen'!B:B,)),\" \")","v":0},{"$f":"IF($B67<>0,INDEX('Eingabe Spielernamen'!F:F,MATCH(B67,'Eingabe Spielernamen'!B:B,)),\" \")","v":0},{"$f":"IF($B67<>0,INDEX('Eingabe Spielernamen'!G:G,MATCH(B67,'Eingabe Spielernamen'!B:B,)),\" \")","v":0},{"$f":"IF($B67<>0,INDEX('Eingabe Spielernamen'!H:H,MATCH(B67,'Eingabe Spielernamen'!B:B,)),\" \")","v":0},{"$f":"IF($B67<>0,INDEX('Eingabe Spielernamen'!I:I,MATCH(B67,'Eingabe Spielernamen'!B:B,)),\" \")","v":0},0,{"$f":"IF($B67<>0,INDEX('Eingabe Spielernamen'!K:K,MATCH(B67,'Eingabe Spielernamen'!B:B,)),\" \")","v":0},{"$f":"IF($B67<>0,INDEX('Eingabe Spielernamen'!L:L,MATCH(B67,'Eingabe Spielernamen'!B:B,)),\" \")","v":0},0,0,{"$f":"IF($B67<>0,INDEX('Eingabe Spielernamen'!O:O,MATCH(B67,'Eingabe Spielernamen'!B:B,)),\" \")","v":0},{"$f":"IF($B67<>0,INDEX('Eingabe Spielernamen'!P:P,MATCH(B67,'Eingabe Spielernamen'!B:B,)),\" \")","v":0},0,0]

{"sheet":"Ausgabe Städte","index":4,"n_rows":16,"n_cols":14,"rows_kept":16,"cut":false,"hidden":false,"merged":[]}
[null,"Automatische Sortierung!",null,null,null,null,null,{"$f":"'Eingabe Spielernamen'!G3","v":"Vier - Städte - Turnier"},{"$f":"'Eingabe Spielernamen'!H3","v":2020}]
[null,"Platzierung","Delegation","Serie:","Serie:","Summe","Serie:","Serie:","Summe","Summe","Serie:","Serie:","Summe","Summe"]
[null,null,null,1,2,"1+2",3,4,"3+4","1 - 4",5,6,"5+6","1. bis 6. Serie"]
[1,{"$f":"VLOOKUP($A4,$A$13:$I$16,2,0)","v":1},{"$f":"VLOOKUP($A4,$A$13:$N$16,3,0)","v":0},{"$f":"VLOOKUP($A4,$A$13:$N$16,4,0)","v":0},{"$f":"VLOOKUP($A4,$A$13:$N$16,5,0)","v":0},{"$f":"VLOOKUP($A4,$A$13:$N$16,6,0)","v":0},{"$f":"VLOOKUP($A4,$A$13:$N$16,7,0)","v":0},{"$f":"VLOOKUP($A4,$A$13:$N$16,8,0)","v":0},{"$f":"VLOOKUP($A4,$A$13:$N$16,9,0)","v":0},{"$f":"VLOOKUP($A4,$A$13:$N$16,10,0)","v":0},{"$f":"VLOOKUP($A4,$A$13:$N$16,11,0)","v":0},{"$f":"VLOOKUP($A4,$A$13:$N$16,12,0)","v":0},{"$f":"VLOOKUP($A4,$A$13:$N$16,13,0)","v":0},{"$f":"VLOOKUP($A4,$A$13:$N$16,14,0)","v":0}]
[2,{"$f":"VLOOKUP($A5,$A$13:$I$16,2,0)","v":2},{"$f":"VLOOKUP($A5,$A$13:$N$16,3,0)","v":0},{"$f":"VLOOKUP($A5,$A$13:$N$16,4,0)","v":0},{"$f":"VLOOKUP($A5,$A$13:$N$16,5,0)","v":0},{"$f":"VLOOKUP($A5,$A$13:$N$16,6,0)","v":0},{"$f":"VLOOKUP($A5,$A$13:$N$16,7,0)","v":0},{"$f":"VLOOKUP($A5,$A$13:$N$16,8,0)","v":0},{"$f":"VLOOKUP($A5,$A$13:$N$16,9,0)","v":0},{"$f":"VLOOKUP($A5,$A$13:$N$16,10,0)","v":0},{"$f":"VLOOKUP($A5,$A$13:$N$16,11,0)","v":0},{"$f":"VLOOKUP($A5,$A$13:$N$16,12,0)","v":0},{"$f":"VLOOKUP($A5,$A$13:$N$16,13,0)","v":0},{"$f":"VLOOKUP($A5,$A$13:$N$16,14,0)","v":0}]
[3,3,0,{"$f":"VLOOKUP($A6,$A$13:$N$16,4,0)","v":0},{"$f":"VLOOKUP($A6,$A$13:$N$16,5,0)","v":0},{"$f":"VLOOKUP($A6,$A$13:$N$16,6,0)","v":0},{"$f":"VLOOKUP($A6,$A$13:$N$16,7,0)","v":0},{"$f":"VLOOKUP($A6,$A$13:$N$16,8,0)","v":0},{"$f":"VLOOKUP($A6,$A$13:$N$16,9,0)","v":0},{"$f":"VLOOKUP($A6,$A$13:$N$16,10,0)","v":0},{"$f":"VLOOKUP($A6,$A$13:$N$16,11,0)","v":0},{"$f":"VLOOKUP($A6,$A$13:$N$16,12,0)","v":0},{"$f":"VLOOKUP($A6,$A$13:$N$16,13,0)","v":0},{"$f":"VLOOKUP($A6,$A$13:$N$16,14,0)","v":0}]
[4,4,0,{"$f":"VLOOKUP($A7,$A$13:$N$16,4,0)","v":0},{"$f":"VLOOKUP($A7,$A$13:$N$16,5,0)","v":0},{"$f":"VLOOKUP($A7,$A$13:$N$16,6,0)","v":0},{"$f":"VLOOKUP($A7,$A$13:$N$16,7,0)","v":0},{"$f":"VLOOKUP($A7,$A$13:$N$16,8,0)","v":0},{"$f":"VLOOKUP($A7,$A$13:$N$16,9,0)","v":0},{"$f":"VLOOKUP($A7,$A$13:$N$16,10,0)","v":0},{"$f":"VLOOKUP($A7,$A$13:$N$16,11,0)","v":0},{"$f":"VLOOKUP($A7,$A$13:$N$16,12,0)","v":0},{"$f":"VLOOKUP($A7,$A$13:$N$16,13,0)","v":0},{"$f":"VLOOKUP($A7,$A$13:$N$16,14,0)","v":0}]
[]
[]
[]
[]
[]
[{"$f":"B13","v":4},{"$f":"RANK(N13,N$13:N$28)+COUNTIF(N13:N$16,N13)-1","v":4},{"$f":"'Eingabe Spielernamen'!A23","v":0},{"$f":"'Eingabe Spielernamen'!H23","v":0},{"$f":"'Eingabe Spielernamen'!I23","v":0},{"$f":"'Eingabe Spielernamen'!J23","v":0},{"$f":"'Eingabe Spielernamen'!K23","v":0},{"$f":"'Eingabe Spielernamen'!L23","v":0},{"$f":"'Eingabe Spielernamen'!M23","v":0},{"$f":"'Eingabe Spielernamen'!N23","v":0},{"$f":"'Eingabe Spielernamen'!O23","v":0},{"$f":"'Eingabe Spielernamen'!P23","v":0},{"$f":"'Eingabe Spielernamen'!Q23","v":0},{"$f":"'Eingabe Spielernamen'!R23","v":0}]
[{"$f":"B14","v":3},{"$f":"RANK(N14,N$13:N$28)+COUNTIF(N14:N$16,N14)-1","v":3},{"$f":"'Eingabe Spielernamen'!A40","v":0},{"$f":"'Eingabe Spielernamen'!H40","v":0},{"$f":"'Eingabe Spielernamen'!I40","v":0},{"$f":"'Eingabe Spielernamen'!J40","v":0},{"$f":"'Eingabe Spielernamen'!K40","v":0},{"$f":"'Eingabe Spielernamen'!L40","v":0},{"$f":"'Eingabe Spielernamen'!M40","v":0},{"$f":"'Eingabe Spielernamen'!N40","v":0},{"$f":"'Eingabe Spielernamen'!O40","v":0},{"$f":"'Eingabe Spielernamen'!P40","v":0},{"$f":"'Eingabe Spielernamen'!Q40","v":0},{"$f":"'Eingabe Spielernamen'!R40","v":0}]
[2,{"$f":"RANK(N15,N$13:N$28)+COUNTIF(N15:N$16,N15)-1","v":2},{"$f":"'Eingabe Spielernamen'!A57","v":0},{"$f":"'Eingabe Spielernamen'!H57","v":0},{"$f":"'Eingabe Spielernamen'!I57","v":0},{"$f":"'Eingabe Spielernamen'!J57","v":0},{"$f":"'Eingabe Spielernamen'!K57","v":0},{"$f":"'Eingabe Spielernamen'!L57","v":0},{"$f":"'Eingabe Spielernamen'!M57","v":0},{"$f":"'Eingabe Spielernamen'!N57","v":0},{"$f":"'Eingabe Spielernamen'!O57","v":0},{"$f":"'Eingabe Spielernamen'!P57","v":0},{"$f":"'Eingabe Spielernamen'!Q57","v":0},{"$f":"'Eingabe Spielernamen'!R57","v":0}]
[1,{"$f":"RANK(N16,N$13:N$28)+COUNTIF(N16:N$16,N16)-1","v":1},{"$f":"'Eingabe Spielernamen'!A74","v":0},{"$f":"'Eingabe Spielernamen'!H74","v":0},{"$f":"'Eingabe Spielernamen'!I74","v":0},{"$f":"'Eingabe Spielernamen'!J74","v":0},{"$f":"'Eingabe Spielernamen'!K74","v":0},{"$f":"'Eingabe Spielernamen'!L74","v":0},{"$f":"'Eingabe Spielernamen'!M74","v":0},{"$f":"'Eingabe Spielernamen'!N74","v":0},{"$f":"'Eingabe Spielernamen'!O74","v":0},{"$f":"'Eingabe Spielernamen'!P74","v":0},{"$f":"'Eingabe Spielernamen'!Q74","v":0},{"$f":"'Eingabe Spielernamen'!R74","v":0}]

{"sheet":"Mixed-Paarungen","index":5,"n_rows":275,"n_cols":22,"rows_kept":275,"cut":false,"hidden":false,"merged":[]}
[{"$f":"COUNTA(A4:A298)","v":1},{"$f":"COUNTA(B4:B298)","v":1},{"$f":"COUNTA(C4:C298)","v":1},null,"Mixed - Tabelle",null,null,null,null,null,null,null,null,null,null,null,null,null,null,null,null,"Zum Drucken jeweils oben ein/ausblenden,"]
[{"$f":"A1*5","v":5},{"$f":"B1*5","v":5},5,null,{"$f":"'Eingabe Spielernamen'!G3","v":"Vier - Städte - Turnier"},{"$f":"'Eingabe Spielernamen'!H3","v":2020},null,null,{"$f":"'Eingabe Spielernamen'!I6","v":"2020-05-29"},null,null,null,{"$f":"'Eingabe Spielernamen'!L6","v":"2020-05-30"},null,null,null,{"$f":"'Eingabe Spielernamen'!P6","v":"2020-05-31"},null,null,null,{"$f":"SUM(U4:U300)","v":1362},"was nicht gebraucht wird! (+) und (-)"]
["1. Tag","2. Tag","3. Tag","Start-Nr.","Name, Vorname","Start-Nr.","Name, Vorname",null,"Spieler 1","Spieler 2","1. Tag",null,"Spieler 1","Spieler 2","2. Tag",null,"Spieler 1","Spieler 2","3. Tag",null,"Preise:","Vorher Blattschutz aufheben!"]
["x","x","x",103,{"$f":"IF(ISBLANK(D4),\" \",INDEX('Eingabe Spielernamen'!$F:$F,MATCH(D4,'Eingabe Spielernamen'!$B:$B,0))&\", \"&INDEX('Eingabe Spielernamen'!$G:$G,MATCH(D4,'Eingabe Spielernamen'!$B:$B,0)))","v":", "},205,{"$f":"IF(ISBLANK(F4),\" \",INDEX('Eingabe Spielernamen'!$F:$F,MATCH(F4,'Eingabe Spielernamen'!$B:$B,0))&\", \"&INDEX('Eingabe Spielernamen'!$G:$G,MATCH(F4,'Eingabe Spielernamen'!$B:$B,0)))","v":", "},null,{"$f":"IF(A4=\"x\",INDEX('Eingabe Spielernamen'!J:J,MATCH(D4,'Eingabe Spielernamen'!B:B,)),\" \")","v":0},{"$f":"IF(A4=\"x\",INDEX('Eingabe Spielernamen'!J:J,MATCH(F4,'Eingabe Spielernamen'!B:B,)),\" \")","v":0},{"$f":"IF(A4=\"x\",I4+J4,\"\")","v":0},null,{"$f":"IF(A4=\"x\",INDEX('Eingabe Spielernamen'!M:M,MATCH(D4,'Eingabe Spielernamen'!B:B,)),\" \")","v":0},{"$f":"IF(A4=\"x\",INDEX('Eingabe Spielernamen'!M:M,MATCH(F4,'Eingabe Spielernamen'!B:B,)),\" \")","v":0},{"$f":"IF(B4=\"x\",M4+N4,\"\")","v":0},null,{"$f":"IF(A4=\"x\",INDEX('Eingabe Spielernamen'!Q:Q,MATCH(D4,'Eingabe Spielernamen'!B:B,)),\" \")","v":0},{"$f":"IF(A4=\"x\",INDEX('Eingabe Spielernamen'!Q:Q,MATCH(F4,'Eingabe Spielernamen'!B:B,)),\" \")","v":0},{"$f":"IF(C4=\"x\",Q4+R4,\"\")","v":0},null,50,"Sortierung möglich für:"]
[null,null,null,null,{"$f":"IF(ISBLANK(D5),\" \",INDEX('Eingabe Spielernamen'!$F:$F,MATCH(D5,'Eingabe Spielernamen'!$B:$B,0))&\", \"&INDEX('Eingabe Spielernamen'!$G:$G,MATCH(D5,'Eingabe Spielernamen'!$B:$B,0)))","v":" "},null,{"$f":"IF(ISBLANK(F5),\" \",INDEX('Eingabe Spielernamen'!$F:$F,MATCH(F5,'Eingabe Spielernamen'!$B:$B,0))&\", \"&INDEX('Eingabe Spielernamen'!$G:$G,MATCH(F5,'Eingabe Spielernamen'!$B:$B,0)))","v":" "},null,{"$f":"IF(A5=\"x\",INDEX('Eingabe Spielernamen'!J:J,MATCH(D5,'Eingabe Spielernamen'!B:B,)),\" \")","v":" "},{"$f":"IF(A5=\"x\",INDEX('Eingabe Spielernamen'!J:J,MATCH(F5,'Eingabe Spielernamen'!B:B,)),\" \")","v":" "},"",null,{"$f":"IF(A5=\"x\",INDEX('Eingabe Spielernamen'!M:M,MATCH(D5,'Eingabe Spielernamen'!B:B,)),\" \")","v":" "},{"$f":"IF(A5=\"x\",INDEX('Eingabe Spielernamen'!M:M,MATCH(F5,'Eingabe Spielernamen'!B:B,)),\" \")","v":" "},"",null,{"$f":"IF(A5=\"x\",INDEX('Eingabe Spielernamen'!Q:Q,MATCH(D5,'Eingabe Spielernamen'!B:B,)),\" \")","v":" "},{"$f":"IF(A5=\"x\",INDEX('Eingabe Spielernamen'!Q:Q,MATCH(F5,'Eingabe Spielernamen'!B:B,)),\" \")","v":" "},"",null,48,"Start-Nr. Spieler 1 (D)"]
[null,null,null,null,{"$f":"IF(ISBLANK(D6),\" \",INDEX('Eingabe Spielernamen'!$F:$F,MATCH(D6,'Eingabe Spielernamen'!$B:$B,0))&\", \"&INDEX('Eingabe Spielernamen'!$G:$G,MATCH(D6,'Eingabe Spielernamen'!$B:$B,0)))","v":" "},null,{"$f":"IF(ISBLANK(F6),\" \",INDEX('Eingabe Spielernamen'!$F:$F,MATCH(F6,'Eingabe Spielernamen'!$B:$B,0))&\", \"&INDEX('Eingabe Spielernamen'!$G:$G,MATCH(F6,'Eingabe Spielernamen'!$B:$B,0)))","v":" "},null,{"$f":"IF(A6=\"x\",INDEX('Eingabe Spielernamen'!J:J,MATCH(D6,'Eingabe Spielernamen'!B:B,)),\" \")","v":" "},{"$f":"IF(A6=\"x\",INDEX('Eingabe Spielernamen'!J:J,MATCH(F6,'Eingabe Spielernamen'!B:B,)),\" \")","v":" "},"",null,{"$f":"IF(A6=\"x\",INDEX('Eingabe Spielernamen'!M:M,MATCH(D6,'Eingabe Spielernamen'!B:B,)),\" \")","v":" "},{"$f":"IF(A6=\"x\",INDEX('Eingabe Spielernamen'!M:M,MATCH(F6,'Eingabe Spielernamen'!B:B,)),\" \")","v":" "},"",null,{"$f":"IF(A6=\"x\",INDEX('Eingabe Spielernamen'!Q:Q,MATCH(D6,'Eingabe Spielernamen'!B:B,)),\" \")","v":" "},{"$f":"IF(A6=\"x\",INDEX('Eingabe Spielernamen'!Q:Q,MATCH(F6,'Eingabe Spielernamen'!B:B,)),\" \")","v":" "},"",null,46,"Start-Nr. Spieler 2 (F)"]
[null,null,null,null,{"$f":"IF(ISBLANK(D7),\" \",INDEX('Eingabe Spielernamen'!$F:$F,MATCH(D7,'Eingabe Spielernamen'!$B:$B,0))&\", \"&INDEX('Eingabe Spielernamen'!$G:$G,MATCH(D7,'Eingabe Spielernamen'!$B:$B,0)))","v":" "},null,{"$f":"IF(ISBLANK(F7),\" \",INDEX('Eingabe Spielernamen'!$F:$F,MATCH(F7,'Eingabe Spielernamen'!$B:$B,0))&\", \"&INDEX('Eingabe Spielernamen'!$G:$G,MATCH(F7,'Eingabe Spielernamen'!$B:$B,0)))","v":" "},null,{"$f":"IF(A7=\"x\",INDEX('Eingabe Spielernamen'!J:J,MATCH(D7,'Eingabe Spielernamen'!B:B,)),\" \")","v":" "},{"$f":"IF(A7=\"x\",INDEX('Eingabe Spielernamen'!J:J,MATCH(F7,'Eingabe Spielernamen'!B:B,)),\" \")","v":" "},"",null,{"$f":"IF(A7=\"x\",INDEX('Eingabe Spielernamen'!M:M,MATCH(D7,'Eingabe Spielernamen'!B:B,)),\" \")","v":" "},{"$f":"IF(A7=\"x\",INDEX('Eingabe Spielernamen'!M:M,MATCH(F7,'Eingabe Spielernamen'!B:B,)),\" \")","v":" "},"",null,{"$f":"IF(A7=\"x\",INDEX('Eingabe Spielernamen'!Q:Q,MATCH(D7,'Eingabe Spielernamen'!B:B,)),\" \")","v":" "},{"$f":"IF(A7=\"x\",INDEX('Eingabe Spielernamen'!Q:Q,MATCH(F7,'Eingabe Spielernamen'!B:B,)),\" \")","v":" "},"",null,44,"Mixed-Sieger 1. Tag (K)"]
[null,null,null,null,{"$f":"IF(ISBLANK(D8),\" \",INDEX('Eingabe Spielernamen'!$F:$F,MATCH(D8,'Eingabe Spielernamen'!$B:$B,0))&\", \"&INDEX('Eingabe Spielernamen'!$G:$G,MATCH(D8,'Eingabe Spielernamen'!$B:$B,0)))","v":" "},null,{"$f":"IF(ISBLANK(F8),\" \",INDEX('Eingabe Spielernamen'!$F:$F,MATCH(F8,'Eingabe Spielernamen'!$B:$B,0))&\", \"&INDEX('Eingabe Spielernamen'!$G:$G,MATCH(F8,'Eingabe Spielernamen'!$B:$B,0)))","v":" "},null,{"$f":"IF(A8=\"x\",INDEX('Eingabe Spielernamen'!J:J,MATCH(D8,'Eingabe Spielernamen'!B:B,)),\" \")","v":" "},{"$f":"IF(A8=\"x\",INDEX('Eingabe Spielernamen'!J:J,MATCH(F8,'Eingabe Spielernamen'!B:B,)),\" \")","v":" "},"",null,{"$f":"IF(A8=\"x\",INDEX('Eingabe Spielernamen'!M:M,MATCH(D8,'Eingabe Spielernamen'!B:B,)),\" \")","v":" "},{"$f":"IF(A8=\"x\",INDEX('Eingabe Spielernamen'!M:M,MATCH(F8,'Eingabe Spielernamen'!B:B,)),\" \")","v":" "},"",null,{"$f":"IF(A8=\"x\",INDEX('Eingabe Spielernamen'!Q:Q,MATCH(D8,'Eingabe Spielernamen'!B:B,)),\" \")","v":" "},{"$f":"IF(A8=\"x\",INDEX('Eingabe Spielernamen'!Q:Q,MATCH(F8,'Eingabe Spielernamen'!B:B,)),\" \")","v":" "},"",null,42,"Mixed-Sieger 2. Tag (O)"]
[null,null,null,null,{"$f":"IF(ISBLANK(D9),\" \",INDEX('Eingabe Spielernamen'!$F:$F,MATCH(D9,'Eingabe Spielernamen'!$B:$B,0))&\", \"&INDEX('Eingabe Spielernamen'!$G:$G,MATCH(D9,'Eingabe Spielernamen'!$B:$B,0)))","v":" "},null,{"$f":"IF(ISBLANK(F9),\" \",INDEX('Eingabe Spielernamen'!$F:$F,MATCH(F9,'Eingabe Spielernamen'!$B:$B,0))&\", \"&INDEX('Eingabe Spielernamen'!$G:$G,MATCH(F9,'Eingabe Spielernamen'!$B:$B,0)))","v":" "},null,{"$f":"IF(A9=\"x\",INDEX('Eingabe Spielernamen'!J:J,MATCH(D9,'Eingabe Spielernamen'!B:B,)),\" \")","v":" "},{"$f":"IF(A9=\"x\",INDEX('Eingabe Spielernamen'!J:J,MATCH(F9,'Eingabe Spielernamen'!B:B,)),\" \")","v":" "},"",null,{"$f":"IF(A9=\"x\",INDEX('Eingabe Spielernamen'!M:M,MATCH(D9,'Eingabe Spielernamen'!B:B,)),\" \")","v":" "},{"$f":"IF(A9=\"x\",INDEX('Eingabe Spielernamen'!M:M,MATCH(F9,'Eingabe Spielernamen'!B:B,)),\" \")","v":" "},"",null,{"$f":"IF(A9=\"x\",INDEX('Eingabe Spielernamen'!Q:Q,MATCH(D9,'Eingabe Spielernamen'!B:B,)),\" \")","v":" "},{"$f":"IF(A9=\"x\",INDEX('Eingabe Spielernamen'!Q:Q,MATCH(F9,'Eingabe Spielernamen'!B:B,)),\" \")","v":" "},"",null,40,"Mixed-Sieger 3. Tag (S)"]
[null,null,null,null,{"$f":"IF(ISBLANK(D10),\" \",INDEX('Eingabe Spielernamen'!$F:$F,MATCH(D10,'Eingabe Spielernamen'!$B:$B,0))&\", \"&INDEX('Eingabe Spielernamen'!$G:$G,MATCH(D10,'Eingabe Spielernamen'!$B:$B,0)))","v":" "},null,{"$f":"IF(ISBLANK(F10),\" \",INDEX('Eingabe Spielernamen'!$F:$F,MATCH(F10,'Eingabe Spielernamen'!$B:$B,0))&\", \"&INDEX('Eingabe Spielernamen'!$G:$G,MATCH(F10,'Eingabe Spielernamen'!$B:$B,0)))","v":" "},null,{"$f":"IF(A10=\"x\",INDEX('Eingabe Spielernamen'!J:J,MATCH(D10,'Eingabe Spielernamen'!B:B,)),\" \")","v":" "},{"$f":"IF(A10=\"x\",INDEX('Eingabe Spielernamen'!J:J,MATCH(F10,'Eingabe Spielernamen'!B:B,)),\" \")","v":" "},"",null,{"$f":"IF(A10=\"x\",INDEX('Eingabe Spielernamen'!M:M,MATCH(D10,'Eingabe Spielernamen'!B:B,)),\" \")","v":" "},{"$f":"IF(A10=\"x\",INDEX('Eingabe Spielernamen'!M:M,MATCH(F10,'Eingabe Spielernamen'!B:B,)),\" \")","v":" "},"",null,{"$f":"IF(A10=\"x\",INDEX('Eingabe Spielernamen'!Q:Q,MATCH(D10,'Eingabe Spielernamen'!B:B,)),\" \")","v":" "},{"$f":"IF(A10=\"x\",INDEX('Eingabe Spielernamen'!Q:Q,MATCH(F10,'Eingabe Spielernamen'!B:B,)),\" \")","v":" "},"",null,38,"Erst D und F eingeben, dann A-C!"]
[null,null,null,null,{"$f":"IF(ISBLANK(D11),\" \",INDEX('Eingabe Spielernamen'!$F:$F,MATCH(D11,'Eingabe Spielernamen'!$B:$B,0))&\", \"&INDEX('Eingabe Spielernamen'!$G:$G,MATCH(D11,'Eingabe Spielernamen'!$B:$B,0)))","v":" "},null,{"$f":"IF(ISBLANK(F11),\" \",INDEX('Eingabe Spielernamen'!$F:$F,MATCH(F11,'Eingabe Spielernamen'!$B:$B,0))&\", \"&INDEX('Eingabe Spielernamen'!$G:$G,MATCH(F11,'Eingabe Spielernamen'!$B:$B,0)))","v":" "},null,{"$f":"IF(A11=\"x\",INDEX('Eingabe Spielernamen'!J:J,MATCH(D11,'Eingabe Spielernamen'!B:B,)),\" \")","v":" "},{"$f":"IF(A11=\"x\",INDEX('Eingabe Spielernamen'!J:J,MATCH(F11,'Eingabe Spielernamen'!B:B,)),\" \")","v":" "},"",null,{"$f":"IF(A11=\"x\",INDEX('Eingabe Spielernamen'!M:M,MATCH(D11,'Eingabe Spielernamen'!B:B,)),\" \")","v":" "},{"$f":"IF(A11=\"x\",INDEX('Eingabe Spielernamen'!M:M,MATCH(F11,'Eingabe Spielernamen'!B:B,)),\" \")","v":" "},"",null,{"$f":"IF(A11=\"x\",INDEX('Eingabe Spielernamen'!Q:Q,MATCH(D11,'Eingabe Spielernamen'!B:B,)),\" \")","v":" "},{"$f":"IF(A11=\"x\",INDEX('Eingabe Spielernamen'!Q:Q,MATCH(F11,'Eingabe Spielernamen'!B:B,)),\" \")","v":" "},"",null,38]
[null,null,null,null,{"$f":"IF(ISBLANK(D12),\" \",INDEX('Eingabe Spielernamen'!$F:$F,MATCH(D12,'Eingabe Spielernamen'!$B:$B,0))&\", \"&INDEX('Eingabe Spielernamen'!$G:$G,MATCH(D12,'Eingabe Spielernamen'!$B:$B,0)))","v":" "},null,{"$f":"IF(ISBLANK(F12),\" \",INDEX('Eingabe Spielernamen'!$F:$F,MATCH(F12,'Eingabe Spielernamen'!$B:$B,0))&\", \"&INDEX('Eingabe Spielernamen'!$G:$G,MATCH(F12,'Eingabe Spielernamen'!$B:$B,0)))","v":" "},null,{"$f":"IF(A12=\"x\",INDEX('Eingabe Spielernamen'!J:J,MATCH(D12,'Eingabe Spielernamen'!B:B,)),\" \")","v":" "},{"$f":"IF(A12=\"x\",INDEX('Eingabe Spielernamen'!J:J,MATCH(F12,'Eingabe Spielernamen'!B:B,)),\" \")","v":" "},"",null,{"$f":"IF(A12=\"x\",INDEX('Eingabe Spielernamen'!M:M,MATCH(D12,'Eingabe Spielernamen'!B:B,)),\" \")","v":" "},{"$f":"IF(A12=\"x\",INDEX('Eingabe Spielernamen'!M:M,MATCH(F12,'Eingabe Spielernamen'!B:B,)),\" \")","v":" "},"",null,{"$f":"IF(A12=\"x\",INDEX('Eingabe Spielernamen'!Q:Q,MATCH(D12,'Eingabe Spielernamen'!B:B,)),\" \")","v":" "},{"$f":"IF(A12=\"x\",INDEX('Eingabe Spielernamen'!Q:Q,MATCH(F12,'Eingabe Spielernamen'!B:B,)),\" \")","v":" "},"",null,38]
[null,null,null,null,{"$f":"IF(ISBLANK(D13),\" \",INDEX('Eingabe Spielernamen'!$F:$F,MATCH(D13,'Eingabe Spielernamen'!$B:$B,0))&\", \"&INDEX('Eingabe Spielernamen'!$G:$G,MATCH(D13,'Eingabe Spielernamen'!$B:$B,0)))","v":" "},null,{"$f":"IF(ISBLANK(F13),\" \",INDEX('Eingabe Spielernamen'!$F:$F,MATCH(F13,'Eingabe Spielernamen'!$B:$B,0))&\", \"&INDEX('Eingabe Spielernamen'!$G:$G,MATCH(F13,'Eingabe Spielernamen'!$B:$B,0)))","v":" "},null,{"$f":"IF(A13=\"x\",INDEX('Eingabe Spielernamen'!J:J,MATCH(D13,'Eingabe Spielernamen'!B:B,)),\" \")","v":" "},{"$f":"IF(A13=\"x\",INDEX('Eingabe Spielernamen'!J:J,MATCH(F13,'Eingabe Spielernamen'!B:B,)),\" \")","v":" "},"",null,{"$f":"IF(A13=\"x\",INDEX('Eingabe Spielernamen'!M:M,MATCH(D13,'Eingabe Spielernamen'!B:B,)),\" \")","v":" "},{"$f":"IF(A13=\"x\",INDEX('Eingabe Spielernamen'!M:M,MATCH(F13,'Eingabe Spielernamen'!B:B,)),\" \")","v":" "},"",null,{"$f":"IF(A13=\"x\",INDEX('Eingabe Spielernamen'!Q:Q,MATCH(D13,'Eingabe Spielernamen'!B:B,)),\" \")","v":" "},{"$f":"IF(A13=\"x\",INDEX('Eingabe Spielernamen'!Q:Q,MATCH(F13,'Eingabe Spielernamen'!B:B,)),\" \")","v":" "},"",null,36]
[null,null,null,null,{"$f":"IF(ISBLANK(D14),\" \",INDEX('Eingabe Spielernamen'!$F:$F,MATCH(D14,'Eingabe Spielernamen'!$B:$B,0))&\", \"&INDEX('Eingabe Spielernamen'!$G:$G,MATCH(D14,'Eingabe Spielernamen'!$B:$B,0)))","v":" "},null,{"$f":"IF(ISBLANK(F14),\" \",INDEX('Eingabe Spielernamen'!$F:$F,MATCH(F14,'Eingabe Spielernamen'!$B:$B,0))&\", \"&INDEX('Eingabe Spielernamen'!$G:$G,MATCH(F14,'Eingabe Spielernamen'!$B:$B,0)))","v":" "},null,{"$f":"IF(A14=\"x\",INDEX('Eingabe Spielernamen'!J:J,MATCH(D14,'Eingabe Spielernamen'!B:B,)),\" \")","v":" "},{"$f":"IF(A14=\"x\",INDEX('Eingabe Spielernamen'!J:J,MATCH(F14,'Eingabe Spielernamen'!B:B,)),\" \")","v":" "},"",null,{"$f":"IF(A14=\"x\",INDEX('Eingabe Spielernamen'!M:M,MATCH(D14,'Eingabe Spielernamen'!B:B,)),\" \")","v":" "},{"$f":"IF(A14=\"x\",INDEX('Eingabe Spielernamen'!M:M,MATCH(F14,'Eingabe Spielernamen'!B:B,)),\" \")","v":" "},"",null,{"$f":"IF(A14=\"x\",INDEX('Eingabe Spielernamen'!Q:Q,MATCH(D14,'Eingabe Spielernamen'!B:B,)),\" \")","v":" "},{"$f":"IF(A14=\"x\",INDEX('Eingabe Spielernamen'!Q:Q,MATCH(F14,'Eingabe Spielernamen'!B:B,)),\" \")","v":" "},"",null,36]
[null,null,null,null,{"$f":"IF(ISBLANK(D15),\" \",INDEX('Eingabe Spielernamen'!$F:$F,MATCH(D15,'Eingabe Spielernamen'!$B:$B,0))&\", \"&INDEX('Eingabe Spielernamen'!$G:$G,MATCH(D15,'Eingabe Spielernamen'!$B:$B,0)))","v":" "},null,{"$f":"IF(ISBLANK(F15),\" \",INDEX('Eingabe Spielernamen'!$F:$F,MATCH(F15,'Eingabe Spielernamen'!$B:$B,0))&\", \"&INDEX('Eingabe Spielernamen'!$G:$G,MATCH(F15,'Eingabe Spielernamen'!$B:$B,0)))","v":" "},null,{"$f":"IF(A15=\"x\",INDEX('Eingabe Spielernamen'!J:J,MATCH(D15,'Eingabe Spielernamen'!B:B,)),\" \")","v":" "},{"$f":"IF(A15=\"x\",INDEX('Eingabe Spielernamen'!J:J,MATCH(F15,'Eingabe Spielernamen'!B:B,)),\" \")","v":" "},"",null,{"$f":"IF(A15=\"x\",INDEX('Eingabe Spielernamen'!M:M,MATCH(D15,'Eingabe Spielernamen'!B:B,)),\" \")","v":" "},{"$f":"IF(A15=\"x\",INDEX('Eingabe Spielernamen'!M:M,MATCH(F15,'Eingabe Spielernamen'!B:B,)),\" \")","v":" "},"",null,{"$f":"IF(A15=\"x\",INDEX('Eingabe Spielernamen'!Q:Q,MATCH(D15,'Eingabe Spielernamen'!B:B,)),\" \")","v":" "},{"$f":"IF(A15=\"x\",INDEX('Eingabe Spielernamen'!Q:Q,MATCH(F15,'Eingabe Spielernamen'!B:B,)),\" \")","v":" "},"",null,36]
[null,null,null,null,{"$f":"IF(ISBLANK(D16),\" \",INDEX('Eingabe Spielernamen'!$F:$F,MATCH(D16,'Eingabe Spielernamen'!$B:$B,0))&\", \"&INDEX('Eingabe Spielernamen'!$G:$G,MATCH(D16,'Eingabe Spielernamen'!$B:$B,0)))","v":" "},null,{"$f":"IF(ISBLANK(F16),\" \",INDEX('Eingabe Spielernamen'!$F:$F,MATCH(F16,'Eingabe Spielernamen'!$B:$B,0))&\", \"&INDEX('Eingabe Spielernamen'!$G:$G,MATCH(F16,'Eingabe Spielernamen'!$B:$B,0)))","v":" "},null,{"$f":"IF(A16=\"x\",INDEX('Eingabe Spielernamen'!J:J,MATCH(D16,'Eingabe Spielernamen'!B:B,)),\" \")","v":" "},{"$f":"IF(A16=\"x\",INDEX('Eingabe Spielernamen'!J:J,MATCH(F16,'Eingabe Spielernamen'!B:B,)),\" \")","v":" "},"",null,{"$f":"IF(A16=\"x\",INDEX('Eingabe Spielernamen'!M:M,MATCH(D16,'Eingabe Spielernamen'!B:B,)),\" \")","v":" "},{"$f":"IF(A16=\"x\",INDEX('Eingabe Spielernamen'!M:M,MATCH(F16,'Eingabe Spielernamen'!B:B,)),\" \")","v":" "},"",null,{"$f":"IF(A16=\"x\",INDEX('Eingabe Spielernamen'!Q:Q,MATCH(D16,'Eingabe Spielernamen'!B:B,)),\" \")","v":" "},{"$f":"IF(A16=\"x\",INDEX('Eingabe Spielernamen'!Q:Q,MATCH(F16,'Eingabe Spielernamen'!B:B,)),\" \")","v":" "},"",null,34]
[null,null,null,null,{"$f":"IF(ISBLANK(D17),\" \",INDEX('Eingabe Spielernamen'!$F:$F,MATCH(D17,'Eingabe Spielernamen'!$B:$B,0))&\", \"&INDEX('Eingabe Spielernamen'!$G:$G,MATCH(D17,'Eingabe Spielernamen'!$B:$B,0)))","v":" "},null,{"$f":"IF(ISBLANK(F17),\" \",INDEX('Eingabe Spielernamen'!$F:$F,MATCH(F17,'Eingabe Spielernamen'!$B:$B,0))&\", \"&INDEX('Eingabe Spielernamen'!$G:$G,MATCH(F17,'Eingabe Spielernamen'!$B:$B,0)))","v":" "},null,{"$f":"IF(A17=\"x\",INDEX('Eingabe Spielernamen'!J:J,MATCH(D17,'Eingabe Spielernamen'!B:B,)),\" \")","v":" "},{"$f":"IF(A17=\"x\",INDEX('Eingabe Spielernamen'!J:J,MATCH(F17,'Eingabe Spielernamen'!B:B,)),\" \")","v":" "},"",null,{"$f":"IF(A17=\"x\",INDEX('Eingabe Spielernamen'!M:M,MATCH(D17,'Eingabe Spielernamen'!B:B,)),\" \")","v":" "},{"$f":"IF(A17=\"x\",INDEX('Eingabe Spielernamen'!M:M,MATCH(F17,'Eingabe Spielernamen'!B:B,)),\" \")","v":" "},"",null,{"$f":"IF(A17=\"x\",INDEX('Eingabe Spielernamen'!Q:Q,MATCH(D17,'Eingabe Spielernamen'!B:B,)),\" \")","v":" "},{"$f":"IF(A17=\"x\",INDEX('Eingabe Spielernamen'!Q:Q,MATCH(F17,'Eingabe Spielernamen'!B:B,)),\" \")","v":" "},"",null,34]
[null,null,null,null,{"$f":"IF(ISBLANK(D18),\" \",INDEX('Eingabe Spielernamen'!$F:$F,MATCH(D18,'Eingabe Spielernamen'!$B:$B,0))&\", \"&INDEX('Eingabe Spielernamen'!$G:$G,MATCH(D18,'Eingabe Spielernamen'!$B:$B,0)))","v":" "},null,{"$f":"IF(ISBLANK(F18),\" \",INDEX('Eingabe Spielernamen'!$F:$F,MATCH(F18,'Eingabe Spielernamen'!$B:$B,0))&\", \"&INDEX('Eingabe Spielernamen'!$G:$G,MATCH(F18,'Eingabe Spielernamen'!$B:$B,0)))","v":" "},null,{"$f":"IF(A18=\"x\",INDEX('Eingabe Spielernamen'!J:J,MATCH(D18,'Eingabe Spielernamen'!B:B,)),\" \")","v":" "},{"$f":"IF(A18=\"x\",INDEX('Eingabe Spielernamen'!J:J,MATCH(F18,'Eingabe Spielernamen'!B:B,)),\" \")","v":" "},"",null,{"$f":"IF(A18=\"x\",INDEX('Eingabe Spielernamen'!M:M,MATCH(D18,'Eingabe Spielernamen'!B:B,)),\" \")","v":" "},{"$f":"IF(A18=\"x\",INDEX('Eingabe Spielernamen'!M:M,MATCH(F18,'Eingabe Spielernamen'!B:B,)),\" \")","v":" "},"",null,{"$f":"IF(A18=\"x\",INDEX('Eingabe Spielernamen'!Q:Q,MATCH(D18,'Eingabe Spielernamen'!B:B,)),\" \")","v":" "},{"$f":"IF(A18=\"x\",INDEX('Eingabe Spielernamen'!Q:Q,MATCH(F18,'Eingabe Spielernamen'!B:B,)),\" \")","v":" "},"",null,34]
[null,null,null,null,{"$f":"IF(ISBLANK(D19),\" \",INDEX('Eingabe Spielernamen'!$F:$F,MATCH(D19,'Eingabe Spielernamen'!$B:$B,0))&\", \"&INDEX('Eingabe Spielernamen'!$G:$G,MATCH(D19,'Eingabe Spielernamen'!$B:$B,0)))","v":" "},null,{"$f":"IF(ISBLANK(F19),\" \",INDEX('Eingabe Spielernamen'!$F:$F,MATCH(F19,'Eingabe Spielernamen'!$B:$B,0))&\", \"&INDEX('Eingabe Spielernamen'!$G:$G,MATCH(F19,'Eingabe Spielernamen'!$B:$B,0)))","v":" "},null,{"$f":"IF(A19=\"x\",INDEX('Eingabe Spielernamen'!J:J,MATCH(D19,'Eingabe Spielernamen'!B:B,)),\" \")","v":" "},{"$f":"IF(A19=\"x\",INDEX('Eingabe Spielernamen'!J:J,MATCH(F19,'Eingabe Spielernamen'!B:B,)),\" \")","v":" "},"",null,{"$f":"IF(A19=\"x\",INDEX('Eingabe Spielernamen'!M:M,MATCH(D19,'Eingabe Spielernamen'!B:B,)),\" \")","v":" "},{"$f":"IF(A19=\"x\",INDEX('Eingabe Spielernamen'!M:M,MATCH(F19,'Eingabe Spielernamen'!B:B,)),\" \")","v":" "},"",null,{"$f":"IF(A19=\"x\",INDEX('Eingabe Spielernamen'!Q:Q,MATCH(D19,'Eingabe Spielernamen'!B:B,)),\" \")","v":" "},{"$f":"IF(A19=\"x\",INDEX('Eingabe Spielernamen'!Q:Q,MATCH(F19,'Eingabe Spielernamen'!B:B,)),\" \")","v":" "},"",null,32]
[null,null,null,null,{"$f":"IF(ISBLANK(D20),\" \",INDEX('Eingabe Spielernamen'!$F:$F,MATCH(D20,'Eingabe Spielernamen'!$B:$B,0))&\", \"&INDEX('Eingabe Spielernamen'!$G:$G,MATCH(D20,'Eingabe Spielernamen'!$B:$B,0)))","v":" "},null,{"$f":"IF(ISBLANK(F20),\" \",INDEX('Eingabe Spielernamen'!$F:$F,MATCH(F20,'Eingabe Spielernamen'!$B:$B,0))&\", \"&INDEX('Eingabe Spielernamen'!$G:$G,MATCH(F20,'Eingabe Spielernamen'!$B:$B,0)))","v":" "},null,{"$f":"IF(A20=\"x\",INDEX('Eingabe Spielernamen'!J:J,MATCH(D20,'Eingabe Spielernamen'!B:B,)),\" \")","v":" "},{"$f":"IF(A20=\"x\",INDEX('Eingabe Spielernamen'!J:J,MATCH(F20,'Eingabe Spielernamen'!B:B,)),\" \")","v":" "},"",null,{"$f":"IF(A20=\"x\",INDEX('Eingabe Spielernamen'!M:M,MATCH(D20,'Eingabe Spielernamen'!B:B,)),\" \")","v":" "},{"$f":"IF(A20=\"x\",INDEX('Eingabe Spielernamen'!M:M,MATCH(F20,'Eingabe Spielernamen'!B:B,)),\" \")","v":" "},"",null,{"$f":"IF(A20=\"x\",INDEX('Eingabe Spielernamen'!Q:Q,MATCH(D20,'Eingabe Spielernamen'!B:B,)),\" \")","v":" "},{"$f":"IF(A20=\"x\",INDEX('Eingabe Spielernamen'!Q:Q,MATCH(F20,'Eingabe Spielernamen'!B:B,)),\" \")","v":" "},"",null,32]
[null,null,null,null,{"$f":"IF(ISBLANK(D21),\" \",INDEX('Eingabe Spielernamen'!$F:$F,MATCH(D21,'Eingabe Spielernamen'!$B:$B,0))&\", \"&INDEX('Eingabe Spielernamen'!$G:$G,MATCH(D21,'Eingabe Spielernamen'!$B:$B,0)))","v":" "},null,{"$f":"IF(ISBLANK(F21),\" \",INDEX('Eingabe Spielernamen'!$F:$F,MATCH(F21,'Eingabe Spielernamen'!$B:$B,0))&\", \"&INDEX('Eingabe Spielernamen'!$G:$G,MATCH(F21,'Eingabe Spielernamen'!$B:$B,0)))","v":" "},null,{"$f":"IF(A21=\"x\",INDEX('Eingabe Spielernamen'!J:J,MATCH(D21,'Eingabe Spielernamen'!B:B,)),\" \")","v":" "},{"$f":"IF(A21=\"x\",INDEX('Eingabe Spielernamen'!J:J,MATCH(F21,'Eingabe Spielernamen'!B:B,)),\" \")","v":" "},"",null,{"$f":"IF(A21=\"x\",INDEX('Eingabe Spielernamen'!M:M,MATCH(D21,'Eingabe Spielernamen'!B:B,)),\" \")","v":" "},{"$f":"IF(A21=\"x\",INDEX('Eingabe Spielernamen'!M:M,MATCH(F21,'Eingabe Spielernamen'!B:B,)),\" \")","v":" "},"",null,{"$f":"IF(A21=\"x\",INDEX('Eingabe Spielernamen'!Q:Q,MATCH(D21,'Eingabe Spielernamen'!B:B,)),\" \")","v":" "},{"$f":"IF(A21=\"x\",INDEX('Eingabe Spielernamen'!Q:Q,MATCH(F21,'Eingabe Spielernamen'!B:B,)),\" \")","v":" "},"",null,32]
[null,null,null,null,{"$f":"IF(ISBLANK(D22),\" \",INDEX('Eingabe Spielernamen'!$F:$F,MATCH(D22,'Eingabe Spielernamen'!$B:$B,0))&\", \"&INDEX('Eingabe Spielernamen'!$G:$G,MATCH(D22,'Eingabe Spielernamen'!$B:$B,0)))","v":" "},null,{"$f":"IF(ISBLANK(F22),\" \",INDEX('Eingabe Spielernamen'!$F:$F,MATCH(F22,'Eingabe Spielernamen'!$B:$B,0))&\", \"&INDEX('Eingabe Spielernamen'!$G:$G,MATCH(F22,'Eingabe Spielernamen'!$B:$B,0)))","v":" "},null,{"$f":"IF(A22=\"x\",INDEX('Eingabe Spielernamen'!J:J,MATCH(D22,'Eingabe Spielernamen'!B:B,)),\" \")","v":" "},{"$f":"IF(A22=\"x\",INDEX('Eingabe Spielernamen'!J:J,MATCH(F22,'Eingabe Spielernamen'!B:B,)),\" \")","v":" "},"",null,{"$f":"IF(A22=\"x\",INDEX('Eingabe Spielernamen'!M:M,MATCH(D22,'Eingabe Spielernamen'!B:B,)),\" \")","v":" "},{"$f":"IF(A22=\"x\",INDEX('Eingabe Spielernamen'!M:M,MATCH(F22,'Eingabe Spielernamen'!B:B,)),\" \")","v":" "},"",null,{"$f":"IF(A22=\"x\",INDEX('Eingabe Spielernamen'!Q:Q,MATCH(D22,'Eingabe Spielernamen'!B:B,)),\" \")","v":" "},{"$f":"IF(A22=\"x\",INDEX('Eingabe Spielernamen'!Q:Q,MATCH(F22,'Eingabe Spielernamen'!B:B,)),\" \")","v":" "},"",null,28]
[null,null,null,null,{"$f":"IF(ISBLANK(D23),\" \",INDEX('Eingabe Spielernamen'!$F:$F,MATCH(D23,'Eingabe Spielernamen'!$B:$B,0))&\", \"&INDEX('Eingabe Spielernamen'!$G:$G,MATCH(D23,'Eingabe Spielernamen'!$B:$B,0)))","v":" "},null,{"$f":"IF(ISBLANK(F23),\" \",INDEX('Eingabe Spielernamen'!$F:$F,MATCH(F23,'Eingabe Spielernamen'!$B:$B,0))&\", \"&INDEX('Eingabe Spielernamen'!$G:$G,MATCH(F23,'Eingabe Spielernamen'!$B:$B,0)))","v":" "},null,{"$f":"IF(A23=\"x\",INDEX('Eingabe Spielernamen'!J:J,MATCH(D23,'Eingabe Spielernamen'!B:B,)),\" \")","v":" "},{"$f":"IF(A23=\"x\",INDEX('Eingabe Spielernamen'!J:J,MATCH(F23,'Eingabe Spielernamen'!B:B,)),\" \")","v":" "},"",null,{"$f":"IF(A23=\"x\",INDEX('Eingabe Spielernamen'!M:M,MATCH(D23,'Eingabe Spielernamen'!B:B,)),\" \")","v":" "},{"$f":"IF(A23=\"x\",INDEX('Eingabe Spielernamen'!M:M,MATCH(F23,'Eingabe Spielernamen'!B:B,)),\" \")","v":" "},"",null,{"$f":"IF(A23=\"x\",INDEX('Eingabe Spielernamen'!Q:Q,MATCH(D23,'Eingabe Spielernamen'!B:B,)),\" \")","v":" "},{"$f":"IF(A23=\"x\",INDEX('Eingabe Spielernamen'!Q:Q,MATCH(F23,'Eingabe Spielernamen'!B:B,)),\" \")","v":" "},"",null,28]
[null,null,null,null,{"$f":"IF(ISBLANK(D24),\" \",INDEX('Eingabe Spielernamen'!$F:$F,MATCH(D24,'Eingabe Spielernamen'!$B:$B,0))&\", \"&INDEX('Eingabe Spielernamen'!$G:$G,MATCH(D24,'Eingabe Spielernamen'!$B:$B,0)))","v":" "},null,{"$f":"IF(ISBLANK(F24),\" \",INDEX('Eingabe Spielernamen'!$F:$F,MATCH(F24,'Eingabe Spielernamen'!$B:$B,0))&\", \"&INDEX('Eingabe Spielernamen'!$G:$G,MATCH(F24,'Eingabe Spielernamen'!$B:$B,0)))","v":" "},null,{"$f":"IF(A24=\"x\",INDEX('Eingabe Spielernamen'!J:J,MATCH(D24,'Eingabe Spielernamen'!B:B,)),\" \")","v":" "},{"$f":"IF(A24=\"x\",INDEX('Eingabe Spielernamen'!J:J,MATCH(F24,'Eingabe Spielernamen'!B:B,)),\" \")","v":" "},"",null,{"$f":"IF(A24=\"x\",INDEX('Eingabe Spielernamen'!M:M,MATCH(D24,'Eingabe Spielernamen'!B:B,)),\" \")","v":" "},{"$f":"IF(A24=\"x\",INDEX('Eingabe Spielernamen'!M:M,MATCH(F24,'Eingabe Spielernamen'!B:B,)),\" \")","v":" "},"",null,{"$f":"IF(A24=\"x\",INDEX('Eingabe Spielernamen'!Q:Q,MATCH(D24,'Eingabe Spielernamen'!B:B,)),\" \")","v":" "},{"$f":"IF(A24=\"x\",INDEX('Eingabe Spielernamen'!Q:Q,MATCH(F24,'Eingabe Spielernamen'!B:B,)),\" \")","v":" "},"",null,28]
[null,null,null,null,{"$f":"IF(ISBLANK(D25),\" \",INDEX('Eingabe Spielernamen'!$F:$F,MATCH(D25,'Eingabe Spielernamen'!$B:$B,0))&\", \"&INDEX('Eingabe Spielernamen'!$G:$G,MATCH(D25,'Eingabe Spielernamen'!$B:$B,0)))","v":" "},null,{"$f":"IF(ISBLANK(F25),\" \",INDEX('Eingabe Spielernamen'!$F:$F,MATCH(F25,'Eingabe Spielernamen'!$B:$B,0))&\", \"&INDEX('Eingabe Spielernamen'!$G:$G,MATCH(F25,'Eingabe Spielernamen'!$B:$B,0)))","v":" "},null,{"$f":"IF(A25=\"x\",INDEX('Eingabe Spielernamen'!J:J,MATCH(D25,'Eingabe Spielernamen'!B:B,)),\" \")","v":" "},{"$f":"IF(A25=\"x\",INDEX('Eingabe Spielernamen'!J:J,MATCH(F25,'Eingabe Spielernamen'!B:B,)),\" \")","v":" "},"",null,{"$f":"IF(A25=\"x\",INDEX('Eingabe Spielernamen'!M:M,MATCH(D25,'Eingabe Spielernamen'!B:B,)),\" \")","v":" "},{"$f":"IF(A25=\"x\",INDEX('Eingabe Spielernamen'!M:M,MATCH(F25,'Eingabe Spielernamen'!B:B,)),\" \")","v":" "},"",null,{"$f":"IF(A25=\"x\",INDEX('Eingabe Spielernamen'!Q:Q,MATCH(D25,'Eingabe Spielernamen'!B:B,)),\" \")","v":" "},{"$f":"IF(A25=\"x\",INDEX('Eingabe Spielernamen'!Q:Q,MATCH(F25,'Eingabe Spielernamen'!B:B,)),\" \")","v":" "},"",null,26]
[null,null,null,null,{"$f":"IF(ISBLANK(D26),\" \",INDEX('Eingabe Spielernamen'!$F:$F,MATCH(D26,'Eingabe Spielernamen'!$B:$B,0))&\", \"&INDEX('Eingabe Spielernamen'!$G:$G,MATCH(D26,'Eingabe Spielernamen'!$B:$B,0)))","v":" "},null,{"$f":"IF(ISBLANK(F26),\" \",INDEX('Eingabe Spielernamen'!$F:$F,MATCH(F26,'Eingabe Spielernamen'!$B:$B,0))&\", \"&INDEX('Eingabe Spielernamen'!$G:$G,MATCH(F26,'Eingabe Spielernamen'!$B:$B,0)))","v":" "},null,{"$f":"IF(A26=\"x\",INDEX('Eingabe Spielernamen'!J:J,MATCH(D26,'Eingabe Spielernamen'!B:B,)),\" \")","v":" "},{"$f":"IF(A26=\"x\",INDEX('Eingabe Spielernamen'!J:J,MATCH(F26,'Eingabe Spielernamen'!B:B,)),\" \")","v":" "},"",null,{"$f":"IF(A26=\"x\",INDEX('Eingabe Spielernamen'!M:M,MATCH(D26,'Eingabe Spielernamen'!B:B,)),\" \")","v":" "},{"$f":"IF(A26=\"x\",INDEX('Eingabe Spielernamen'!M:M,MATCH(F26,'Eingabe Spielernamen'!B:B,)),\" \")","v":" "},"",null,{"$f":"IF(A26=\"x\",INDEX('Eingabe Spielernamen'!Q:Q,MATCH(D26,'Eingabe Spielernamen'!B:B,)),\" \")","v":" "},{"$f":"IF(A26=\"x\",INDEX('Eingabe Spielernamen'!Q:Q,MATCH(F26,'Eingabe Spielernamen'!B:B,)),\" \")","v":" "},"",null,26]
[null,null,null,null,{"$f":"IF(ISBLANK(D27),\" \",INDEX('Eingabe Spielernamen'!$F:$F,MATCH(D27,'Eingabe Spielernamen'!$B:$B,0))&\", \"&INDEX('Eingabe Spielernamen'!$G:$G,MATCH(D27,'Eingabe Spielernamen'!$B:$B,0)))","v":" "},null,{"$f":"IF(ISBLANK(F27),\" \",INDEX('Eingabe Spielernamen'!$F:$F,MATCH(F27,'Eingabe Spielernamen'!$B:$B,0))&\", \"&INDEX('Eingabe Spielernamen'!$G:$G,MATCH(F27,'Eingabe Spielernamen'!$B:$B,0)))","v":" "},null,{"$f":"IF(A27=\"x\",INDEX('Eingabe Spielernamen'!J:J,MATCH(D27,'Eingabe Spielernamen'!B:B,)),\" \")","v":" "},{"$f":"IF(A27=\"x\",INDEX('Eingabe Spielernamen'!J:J,MATCH(F27,'Eingabe Spielernamen'!B:B,)),\" \")","v":" "},"",null,{"$f":"IF(A27=\"x\",INDEX('Eingabe Spielernamen'!M:M,MATCH(D27,'Eingabe Spielernamen'!B:B,)),\" \")","v":" "},{"$f":"IF(A27=\"x\",INDEX('Eingabe Spielernamen'!M:M,MATCH(F27,'Eingabe Spielernamen'!B:B,)),\" \")","v":" "},"",null,{"$f":"IF(A27=\"x\",INDEX('Eingabe Spielernamen'!Q:Q,MATCH(D27,'Eingabe Spielernamen'!B:B,)),\" \")","v":" "},{"$f":"IF(A27=\"x\",INDEX('Eingabe Spielernamen'!Q:Q,MATCH(F27,'Eingabe Spielernamen'!B:B,)),\" \")","v":" "},"",null,26]
[null,null,null,null,{"$f":"IF(ISBLANK(D28),\" \",INDEX('Eingabe Spielernamen'!$F:$F,MATCH(D28,'Eingabe Spielernamen'!$B:$B,0))&\", \"&INDEX('Eingabe Spielernamen'!$G:$G,MATCH(D28,'Eingabe Spielernamen'!$B:$B,0)))","v":" "},null,{"$f":"IF(ISBLANK(F28),\" \",INDEX('Eingabe Spielernamen'!$F:$F,MATCH(F28,'Eingabe Spielernamen'!$B:$B,0))&\", \"&INDEX('Eingabe Spielernamen'!$G:$G,MATCH(F28,'Eingabe Spielernamen'!$B:$B,0)))","v":" "},null,{"$f":"IF(A28=\"x\",INDEX('Eingabe Spielernamen'!J:J,MATCH(D28,'Eingabe Spielernamen'!B:B,)),\" \")","v":" "},{"$f":"IF(A28=\"x\",INDEX('Eingabe Spielernamen'!J:J,MATCH(F28,'Eingabe Spielernamen'!B:B,)),\" \")","v":" "},"",null,{"$f":"IF(A28=\"x\",INDEX('Eingabe Spielernamen'!M:M,MATCH(D28,'Eingabe Spielernamen'!B:B,)),\" \")","v":" "},{"$f":"IF(A28=\"x\",INDEX('Eingabe Spielernamen'!M:M,MATCH(F28,'Eingabe Spielernamen'!B:B,)),\" \")","v":" "},"",null,{"$f":"IF(A28=\"x\",INDEX('Eingabe Spielernamen'!Q:Q,MATCH(D28,'Eingabe Spielernamen'!B:B,)),\" \")","v":" "},{"$f":"IF(A28=\"x\",INDEX('Eingabe Spielernamen'!Q:Q,MATCH(F28,'Eingabe Spielernamen'!B:B,)),\" \")","v":" "},"",null,24]
[null,null,null,null,{"$f":"IF(ISBLANK(D29),\" \",INDEX('Eingabe Spielernamen'!$F:$F,MATCH(D29,'Eingabe Spielernamen'!$B:$B,0))&\", \"&INDEX('Eingabe Spielernamen'!$G:$G,MATCH(D29,'Eingabe Spielernamen'!$B:$B,0)))","v":" "},null,{"$f":"IF(ISBLANK(F29),\" \",INDEX('Eingabe Spielernamen'!$F:$F,MATCH(F29,'Eingabe Spielernamen'!$B:$B,0))&\", \"&INDEX('Eingabe Spielernamen'!$G:$G,MATCH(F29,'Eingabe Spielernamen'!$B:$B,0)))","v":" "},null,{"$f":"IF(A29=\"x\",INDEX('Eingabe Spielernamen'!J:J,MATCH(D29,'Eingabe Spielernamen'!B:B,)),\" \")","v":" "},{"$f":"IF(A29=\"x\",INDEX('Eingabe Spielernamen'!J:J,MATCH(F29,'Eingabe Spielernamen'!B:B,)),\" \")","v":" "},"",null,{"$f":"IF(A29=\"x\",INDEX('Eingabe Spielernamen'!M:M,MATCH(D29,'Eingabe Spielernamen'!B:B,)),\" \")","v":" "},{"$f":"IF(A29=\"x\",INDEX('Eingabe Spielernamen'!M:M,MATCH(F29,'Eingabe Spielernamen'!B:B,)),\" \")","v":" "},"",null,{"$f":"IF(A29=\"x\",INDEX('Eingabe Spielernamen'!Q:Q,MATCH(D29,'Eingabe Spielernamen'!B:B,)),\" \")","v":" "},{"$f":"IF(A29=\"x\",INDEX('Eingabe Spielernamen'!Q:Q,MATCH(F29,'Eingabe Spielernamen'!B:B,)),\" \")","v":" "},"",null,24]
[null,null,null,null,{"$f":"IF(ISBLANK(D30),\" \",INDEX('Eingabe Spielernamen'!$F:$F,MATCH(D30,'Eingabe Spielernamen'!$B:$B,0))&\", \"&INDEX('Eingabe Spielernamen'!$G:$G,MATCH(D30,'Eingabe Spielernamen'!$B:$B,0)))","v":" "},null,{"$f":"IF(ISBLANK(F30),\" \",INDEX('Eingabe Spielernamen'!$F:$F,MATCH(F30,'Eingabe Spielernamen'!$B:$B,0))&\", \"&INDEX('Eingabe Spielernamen'!$G:$G,MATCH(F30,'Eingabe Spielernamen'!$B:$B,0)))","v":" "},null,{"$f":"IF(A30=\"x\",INDEX('Eingabe Spielernamen'!J:J,MATCH(D30,'Eingabe Spielernamen'!B:B,)),\" \")","v":" "},{"$f":"IF(A30=\"x\",INDEX('Eingabe Spielernamen'!J:J,MATCH(F30,'Eingabe Spielernamen'!B:B,)),\" \")","v":" "},"",null,{"$f":"IF(A30=\"x\",INDEX('Eingabe Spielernamen'!M:M,MATCH(D30,'Eingabe Spielernamen'!B:B,)),\" \")","v":" "},{"$f":"IF(A30=\"x\",INDEX('Eingabe Spielernamen'!M:M,MATCH(F30,'Eingabe Spielernamen'!B:B,)),\" \")","v":" "},"",null,{"$f":"IF(A30=\"x\",INDEX('Eingabe Spielernamen'!Q:Q,MATCH(D30,'Eingabe Spielernamen'!B:B,)),\" \")","v":" "},{"$f":"IF(A30=\"x\",INDEX('Eingabe Spielernamen'!Q:Q,MATCH(F30,'Eingabe Spielernamen'!B:B,)),\" \")","v":" "},"",null,24]
[null,null,null,null,{"$f":"IF(ISBLANK(D31),\" \",INDEX('Eingabe Spielernamen'!$F:$F,MATCH(D31,'Eingabe Spielernamen'!$B:$B,0))&\", \"&INDEX('Eingabe Spielernamen'!$G:$G,MATCH(D31,'Eingabe Spielernamen'!$B:$B,0)))","v":" "},null,{"$f":"IF(ISBLANK(F31),\" \",INDEX('Eingabe Spielernamen'!$F:$F,MATCH(F31,'Eingabe Spielernamen'!$B:$B,0))&\", \"&INDEX('Eingabe Spielernamen'!$G:$G,MATCH(F31,'Eingabe Spielernamen'!$B:$B,0)))","v":" "},null,{"$f":"IF(A31=\"x\",INDEX('Eingabe Spielernamen'!J:J,MATCH(D31,'Eingabe Spielernamen'!B:B,)),\" \")","v":" "},{"$f":"IF(A31=\"x\",INDEX('Eingabe Spielernamen'!J:J,MATCH(F31,'Eingabe Spielernamen'!B:B,)),\" \")","v":" "},"",null,{"$f":"IF(A31=\"x\",INDEX('Eingabe Spielernamen'!M:M,MATCH(D31,'Eingabe Spielernamen'!B:B,)),\" \")","v":" "},{"$f":"IF(A31=\"x\",INDEX('Eingabe Spielernamen'!M:M,MATCH(F31,'Eingabe Spielernamen'!B:B,)),\" \")","v":" "},"",null,{"$f":"IF(A31=\"x\",INDEX('Eingabe Spielernamen'!Q:Q,MATCH(D31,'Eingabe Spielernamen'!B:B,)),\" \")","v":" "},{"$f":"IF(A31=\"x\",INDEX('Eingabe Spielernamen'!Q:Q,MATCH(F31,'Eingabe Spielernamen'!B:B,)),\" \")","v":" "},"",null,22]
[null,null,null,null,{"$f":"IF(ISBLANK(D32),\" \",INDEX('Eingabe Spielernamen'!$F:$F,MATCH(D32,'Eingabe Spielernamen'!$B:$B,0))&\", \"&INDEX('Eingabe Spielernamen'!$G:$G,MATCH(D32,'Eingabe Spielernamen'!$B:$B,0)))","v":" "},null,{"$f":"IF(ISBLANK(F32),\" \",INDEX('Eingabe Spielernamen'!$F:$F,MATCH(F32,'Eingabe Spielernamen'!$B:$B,0))&\", \"&INDEX('Eingabe Spielernamen'!$G:$G,MATCH(F32,'Eingabe Spielernamen'!$B:$B,0)))","v":" "},null,{"$f":"IF(A32=\"x\",INDEX('Eingabe Spielernamen'!J:J,MATCH(D32,'Eingabe Spielernamen'!B:B,)),\" \")","v":" "},{"$f":"IF(A32=\"x\",INDEX('Eingabe Spielernamen'!J:J,MATCH(F32,'Eingabe Spielernamen'!B:B,)),\" \")","v":" "},"",null,{"$f":"IF(A32=\"x\",INDEX('Eingabe Spielernamen'!M:M,MATCH(D32,'Eingabe Spielernamen'!B:B,)),\" \")","v":" "},{"$f":"IF(A32=\"x\",INDEX('Eingabe Spielernamen'!M:M,MATCH(F32,'Eingabe Spielernamen'!B:B,)),\" \")","v":" "},"",null,{"$f":"IF(A32=\"x\",INDEX('Eingabe Spielernamen'!Q:Q,MATCH(D32,'Eingabe Spielernamen'!B:B,)),\" \")","v":" "},{"$f":"IF(A32=\"x\",INDEX('Eingabe Spielernamen'!Q:Q,MATCH(F32,'Eingabe Spielernamen'!B:B,)),\" \")","v":" "},"",null,22]
[null,null,null,null,{"$f":"IF(ISBLANK(D33),\" \",INDEX('Eingabe Spielernamen'!$F:$F,MATCH(D33,'Eingabe Spielernamen'!$B:$B,0))&\", \"&INDEX('Eingabe Spielernamen'!$G:$G,MATCH(D33,'Eingabe Spielernamen'!$B:$B,0)))","v":" "},null,{"$f":"IF(ISBLANK(F33),\" \",INDEX('Eingabe Spielernamen'!$F:$F,MATCH(F33,'Eingabe Spielernamen'!$B:$B,0))&\", \"&INDEX('Eingabe Spielernamen'!$G:$G,MATCH(F33,'Eingabe Spielernamen'!$B:$B,0)))","v":" "},null,{"$f":"IF(A33=\"x\",INDEX('Eingabe Spielernamen'!J:J,MATCH(D33,'Eingabe Spielernamen'!B:B,)),\" \")","v":" "},{"$f":"IF(A33=\"x\",INDEX('Eingabe Spielernamen'!J:J,MATCH(F33,'Eingabe Spielernamen'!B:B,)),\" \")","v":" "},"",null,{"$f":"IF(A33=\"x\",INDEX('Eingabe Spielernamen'!M:M,MATCH(D33,'Eingabe Spielernamen'!B:B,)),\" \")","v":" "},{"$f":"IF(A33=\"x\",INDEX('Eingabe Spielernamen'!M:M,MATCH(F33,'Eingabe Spielernamen'!B:B,)),\" \")","v":" "},"",null,{"$f":"IF(A33=\"x\",INDEX('Eingabe Spielernamen'!Q:Q,MATCH(D33,'Eingabe Spielernamen'!B:B,)),\" \")","v":" "},{"$f":"IF(A33=\"x\",INDEX('Eingabe Spielernamen'!Q:Q,MATCH(F33,'Eingabe Spielernamen'!B:B,)),\" \")","v":" "},"",null,22]
[null,null,null,null,{"$f":"IF(ISBLANK(D34),\" \",INDEX('Eingabe Spielernamen'!$F:$F,MATCH(D34,'Eingabe Spielernamen'!$B:$B,0))&\", \"&INDEX('Eingabe Spielernamen'!$G:$G,MATCH(D34,'Eingabe Spielernamen'!$B:$B,0)))","v":" "},null,{"$f":"IF(ISBLANK(F34),\" \",INDEX('Eingabe Spielernamen'!$F:$F,MATCH(F34,'Eingabe Spielernamen'!$B:$B,0))&\", \"&INDEX('Eingabe Spielernamen'!$G:$G,MATCH(F34,'Eingabe Spielernamen'!$B:$B,0)))","v":" "},null,{"$f":"IF(A34=\"x\",INDEX('Eingabe Spielernamen'!J:J,MATCH(D34,'Eingabe Spielernamen'!B:B,)),\" \")","v":" "},{"$f":"IF(A34=\"x\",INDEX('Eingabe Spielernamen'!J:J,MATCH(F34,'Eingabe Spielernamen'!B:B,)),\" \")","v":" "},"",null,{"$f":"IF(A34=\"x\",INDEX('Eingabe Spielernamen'!M:M,MATCH(D34,'Eingabe Spielernamen'!B:B,)),\" \")","v":" "},{"$f":"IF(A34=\"x\",INDEX('Eingabe Spielernamen'!M:M,MATCH(F34,'Eingabe Spielernamen'!B:B,)),\" \")","v":" "},"",null,{"$f":"IF(A34=\"x\",INDEX('Eingabe Spielernamen'!Q:Q,MATCH(D34,'Eingabe Spielernamen'!B:B,)),\" \")","v":" "},{"$f":"IF(A34=\"x\",INDEX('Eingabe Spielernamen'!Q:Q,MATCH(F34,'Eingabe Spielernamen'!B:B,)),\" \")","v":" "},"",null,20]
[null,null,null,null,{"$f":"IF(ISBLANK(D35),\" \",INDEX('Eingabe Spielernamen'!$F:$F,MATCH(D35,'Eingabe Spielernamen'!$B:$B,0))&\", \"&INDEX('Eingabe Spielernamen'!$G:$G,MATCH(D35,'Eingabe Spielernamen'!$B:$B,0)))","v":" "},null,{"$f":"IF(ISBLANK(F35),\" \",INDEX('Eingabe Spielernamen'!$F:$F,MATCH(F35,'Eingabe Spielernamen'!$B:$B,0))&\", \"&INDEX('Eingabe Spielernamen'!$G:$G,MATCH(F35,'Eingabe Spielernamen'!$B:$B,0)))","v":" "},null,{"$f":"IF(A35=\"x\",INDEX('Eingabe Spielernamen'!J:J,MATCH(D35,'Eingabe Spielernamen'!B:B,)),\" \")","v":" "},{"$f":"IF(A35=\"x\",INDEX('Eingabe Spielernamen'!J:J,MATCH(F35,'Eingabe Spielernamen'!B:B,)),\" \")","v":" "},"",null,{"$f":"IF(A35=\"x\",INDEX('Eingabe Spielernamen'!M:M,MATCH(D35,'Eingabe Spielernamen'!B:B,)),\" \")","v":" "},{"$f":"IF(A35=\"x\",INDEX('Eingabe Spielernamen'!M:M,MATCH(F35,'Eingabe Spielernamen'!B:B,)),\" \")","v":" "},"",null,{"$f":"IF(A35=\"x\",INDEX('Eingabe Spielernamen'!Q:Q,MATCH(D35,'Eingabe Spielernamen'!B:B,)),\" \")","v":" "},{"$f":"IF(A35=\"x\",INDEX('Eingabe Spielernamen'!Q:Q,MATCH(F35,'Eingabe Spielernamen'!B:B,)),\" \")","v":" "},"",null,20]
[null,null,null,null,{"$f":"IF(ISBLANK(D36),\" \",INDEX('Eingabe Spielernamen'!$F:$F,MATCH(D36,'Eingabe Spielernamen'!$B:$B,0))&\", \"&INDEX('Eingabe Spielernamen'!$G:$G,MATCH(D36,'Eingabe Spielernamen'!$B:$B,0)))","v":" "},null,{"$f":"IF(ISBLANK(F36),\" \",INDEX('Eingabe Spielernamen'!$F:$F,MATCH(F36,'Eingabe Spielernamen'!$B:$B,0))&\", \"&INDEX('Eingabe Spielernamen'!$G:$G,MATCH(F36,'Eingabe Spielernamen'!$B:$B,0)))","v":" "},null,{"$f":"IF(A36=\"x\",INDEX('Eingabe Spielernamen'!J:J,MATCH(D36,'Eingabe Spielernamen'!B:B,)),\" \")","v":" "},{"$f":"IF(A36=\"x\",INDEX('Eingabe Spielernamen'!J:J,MATCH(F36,'Eingabe Spielernamen'!B:B,)),\" \")","v":" "},"",null,{"$f":"IF(A36=\"x\",INDEX('Eingabe Spielernamen'!M:M,MATCH(D36,'Eingabe Spielernamen'!B:B,)),\" \")","v":" "},{"$f":"IF(A36=\"x\",INDEX('Eingabe Spielernamen'!M:M,MATCH(F36,'Eingabe Spielernamen'!B:B,)),\" \")","v":" "},"",null,{"$f":"IF(A36=\"x\",INDEX('Eingabe Spielernamen'!Q:Q,MATCH(D36,'Eingabe Spielernamen'!B:B,)),\" \")","v":" "},{"$f":"IF(A36=\"x\",INDEX('Eingabe Spielernamen'!Q:Q,MATCH(F36,'Eingabe Spielernamen'!B:B,)),\" \")","v":" "},"",null,20]
[null,null,null,null,{"$f":"IF(ISBLANK(D37),\" \",INDEX('Eingabe Spielernamen'!$F:$F,MATCH(D37,'Eingabe Spielernamen'!$B:$B,0))&\", \"&INDEX('Eingabe Spielernamen'!$G:$G,MATCH(D37,'Eingabe Spielernamen'!$B:$B,0)))","v":" "},null,{"$f":"IF(ISBLANK(F37),\" \",INDEX('Eingabe Spielernamen'!$F:$F,MATCH(F37,'Eingabe Spielernamen'!$B:$B,0))&\", \"&INDEX('Eingabe Spielernamen'!$G:$G,MATCH(F37,'Eingabe Spielernamen'!$B:$B,0)))","v":" "},null,{"$f":"IF(A37=\"x\",INDEX('Eingabe Spielernamen'!J:J,MATCH(D37,'Eingabe Spielernamen'!B:B,)),\" \")","v":" "},{"$f":"IF(A37=\"x\",INDEX('Eingabe Spielernamen'!J:J,MATCH(F37,'Eingabe Spielernamen'!B:B,)),\" \")","v":" "},"",null,{"$f":"IF(A37=\"x\",INDEX('Eingabe Spielernamen'!M:M,MATCH(D37,'Eingabe Spielernamen'!B:B,)),\" \")","v":" "},{"$f":"IF(A37=\"x\",INDEX('Eingabe Spielernamen'!M:M,MATCH(F37,'Eingabe Spielernamen'!B:B,)),\" \")","v":" "},"",null,{"$f":"IF(A37=\"x\",INDEX('Eingabe Spielernamen'!Q:Q,MATCH(D37,'Eingabe Spielernamen'!B:B,)),\" \")","v":" "},{"$f":"IF(A37=\"x\",INDEX('Eingabe Spielernamen'!Q:Q,MATCH(F37,'Eingabe Spielernamen'!B:B,)),\" \")","v":" "},"",null,18]
[null,null,null,null,{"$f":"IF(ISBLANK(D38),\" \",INDEX('Eingabe Spielernamen'!$F:$F,MATCH(D38,'Eingabe Spielernamen'!$B:$B,0))&\", \"&INDEX('Eingabe Spielernamen'!$G:$G,MATCH(D38,'Eingabe Spielernamen'!$B:$B,0)))","v":" "},null,{"$f":"IF(ISBLANK(F38),\" \",INDEX('Eingabe Spielernamen'!$F:$F,MATCH(F38,'Eingabe Spielernamen'!$B:$B,0))&\", \"&INDEX('Eingabe Spielernamen'!$G:$G,MATCH(F38,'Eingabe Spielernamen'!$B:$B,0)))","v":" "},null,{"$f":"IF(A38=\"x\",INDEX('Eingabe Spielernamen'!J:J,MATCH(D38,'Eingabe Spielernamen'!B:B,)),\" \")","v":" "},{"$f":"IF(A38=\"x\",INDEX('Eingabe Spielernamen'!J:J,MATCH(F38,'Eingabe Spielernamen'!B:B,)),\" \")","v":" "},"",null,{"$f":"IF(A38=\"x\",INDEX('Eingabe Spielernamen'!M:M,MATCH(D38,'Eingabe Spielernamen'!B:B,)),\" \")","v":" "},{"$f":"IF(A38=\"x\",INDEX('Eingabe Spielernamen'!M:M,MATCH(F38,'Eingabe Spielernamen'!B:B,)),\" \")","v":" "},"",null,{"$f":"IF(A38=\"x\",INDEX('Eingabe Spielernamen'!Q:Q,MATCH(D38,'Eingabe Spielernamen'!B:B,)),\" \")","v":" "},{"$f":"IF(A38=\"x\",INDEX('Eingabe Spielernamen'!Q:Q,MATCH(F38,'Eingabe Spielernamen'!B:B,)),\" \")","v":" "},"",null,18]
[null,null,null,null,{"$f":"IF(ISBLANK(D39),\" \",INDEX('Eingabe Spielernamen'!$F:$F,MATCH(D39,'Eingabe Spielernamen'!$B:$B,0))&\", \"&INDEX('Eingabe Spielernamen'!$G:$G,MATCH(D39,'Eingabe Spielernamen'!$B:$B,0)))","v":" "},null,{"$f":"IF(ISBLANK(F39),\" \",INDEX('Eingabe Spielernamen'!$F:$F,MATCH(F39,'Eingabe Spielernamen'!$B:$B,0))&\", \"&INDEX('Eingabe Spielernamen'!$G:$G,MATCH(F39,'Eingabe Spielernamen'!$B:$B,0)))","v":" "},null,{"$f":"IF(A39=\"x\",INDEX('Eingabe Spielernamen'!J:J,MATCH(D39,'Eingabe Spielernamen'!B:B,)),\" \")","v":" "},{"$f":"IF(A39=\"x\",INDEX('Eingabe Spielernamen'!J:J,MATCH(F39,'Eingabe Spielernamen'!B:B,)),\" \")","v":" "},"",null,{"$f":"IF(A39=\"x\",INDEX('Eingabe Spielernamen'!M:M,MATCH(D39,'Eingabe Spielernamen'!B:B,)),\" \")","v":" "},{"$f":"IF(A39=\"x\",INDEX('Eingabe Spielernamen'!M:M,MATCH(F39,'Eingabe Spielernamen'!B:B,)),\" \")","v":" "},"",null,{"$f":"IF(A39=\"x\",INDEX('Eingabe Spielernamen'!Q:Q,MATCH(D39,'Eingabe Spielernamen'!B:B,)),\" \")","v":" "},{"$f":"IF(A39=\"x\",INDEX('Eingabe Spielernamen'!Q:Q,MATCH(F39,'Eingabe Spielernamen'!B:B,)),\" \")","v":" "},"",null,18]
[null,null,null,null,{"$f":"IF(ISBLANK(D40),\" \",INDEX('Eingabe Spielernamen'!$F:$F,MATCH(D40,'Eingabe Spielernamen'!$B:$B,0))&\", \"&INDEX('Eingabe Spielernamen'!$G:$G,MATCH(D40,'Eingabe Spielernamen'!$B:$B,0)))","v":" "},null,{"$f":"IF(ISBLANK(F40),\" \",INDEX('Eingabe Spielernamen'!$F:$F,MATCH(F40,'Eingabe Spielernamen'!$B:$B,0))&\", \"&INDEX('Eingabe Spielernamen'!$G:$G,MATCH(F40,'Eingabe Spielernamen'!$B:$B,0)))","v":" "},null,{"$f":"IF(A40=\"x\",INDEX('Eingabe Spielernamen'!J:J,MATCH(D40,'Eingabe Spielernamen'!B:B,)),\" \")","v":" "},{"$f":"IF(A40=\"x\",INDEX('Eingabe Spielernamen'!J:J,MATCH(F40,'Eingabe Spielernamen'!B:B,)),\" \")","v":" "},"",null,{"$f":"IF(A40=\"x\",INDEX('Eingabe Spielernamen'!M:M,MATCH(D40,'Eingabe Spielernamen'!B:B,)),\" \")","v":" "},{"$f":"IF(A40=\"x\",INDEX('Eingabe Spielernamen'!M:M,MATCH(F40,'Eingabe Spielernamen'!B:B,)),\" \")","v":" "},"",null,{"$f":"IF(A40=\"x\",INDEX('Eingabe Spielernamen'!Q:Q,MATCH(D40,'Eingabe Spielernamen'!B:B,)),\" \")","v":" "},{"$f":"IF(A40=\"x\",INDEX('Eingabe Spielernamen'!Q:Q,MATCH(F40,'Eingabe Spielernamen'!B:B,)),\" \")","v":" "},"",null,16]
[null,null,null,null,{"$f":"IF(ISBLANK(D41),\" \",INDEX('Eingabe Spielernamen'!$F:$F,MATCH(D41,'Eingabe Spielernamen'!$B:$B,0))&\", \"&INDEX('Eingabe Spielernamen'!$G:$G,MATCH(D41,'Eingabe Spielernamen'!$B:$B,0)))","v":" "},null,{"$f":"IF(ISBLANK(F41),\" \",INDEX('Eingabe Spielernamen'!$F:$F,MATCH(F41,'Eingabe Spielernamen'!$B:$B,0))&\", \"&INDEX('Eingabe Spielernamen'!$G:$G,MATCH(F41,'Eingabe Spielernamen'!$B:$B,0)))","v":" "},null,{"$f":"IF(A41=\"x\",INDEX('Eingabe Spielernamen'!J:J,MATCH(D41,'Eingabe Spielernamen'!B:B,)),\" \")","v":" "},{"$f":"IF(A41=\"x\",INDEX('Eingabe Spielernamen'!J:J,MATCH(F41,'Eingabe Spielernamen'!B:B,)),\" \")","v":" "},"",null,{"$f":"IF(A41=\"x\",INDEX('Eingabe Spielernamen'!M:M,MATCH(D41,'Eingabe Spielernamen'!B:B,)),\" \")","v":" "},{"$f":"IF(A41=\"x\",INDEX('Eingabe Spielernamen'!M:M,MATCH(F41,'Eingabe Spielernamen'!B:B,)),\" \")","v":" "},"",null,{"$f":"IF(A41=\"x\",INDEX('Eingabe Spielernamen'!Q:Q,MATCH(D41,'Eingabe Spielernamen'!B:B,)),\" \")","v":" "},{"$f":"IF(A41=\"x\",INDEX('Eingabe Spielernamen'!Q:Q,MATCH(F41,'Eingabe Spielernamen'!B:B,)),\" \")","v":" "},"",null,16]
[null,null,null,null,{"$f":"IF(ISBLANK(D42),\" \",INDEX('Eingabe Spielernamen'!$F:$F,MATCH(D42,'Eingabe Spielernamen'!$B:$B,0))&\", \"&INDEX('Eingabe Spielernamen'!$G:$G,MATCH(D42,'Eingabe Spielernamen'!$B:$B,0)))","v":" "},null,{"$f":"IF(ISBLANK(F42),\" \",INDEX('Eingabe Spielernamen'!$F:$F,MATCH(F42,'Eingabe Spielernamen'!$B:$B,0))&\", \"&INDEX('Eingabe Spielernamen'!$G:$G,MATCH(F42,'Eingabe Spielernamen'!$B:$B,0)))","v":" "},null,{"$f":"IF(A42=\"x\",INDEX('Eingabe Spielernamen'!J:J,MATCH(D42,'Eingabe Spielernamen'!B:B,)),\" \")","v":" "},{"$f":"IF(A42=\"x\",INDEX('Eingabe Spielernamen'!J:J,MATCH(F42,'Eingabe Spielernamen'!B:B,)),\" \")","v":" "},"",null,{"$f":"IF(A42=\"x\",INDEX('Eingabe Spielernamen'!M:M,MATCH(D42,'Eingabe Spielernamen'!B:B,)),\" \")","v":" "},{"$f":"IF(A42=\"x\",INDEX('Eingabe Spielernamen'!M:M,MATCH(F42,'Eingabe Spielernamen'!B:B,)),\" \")","v":" "},"",null,{"$f":"IF(A42=\"x\",INDEX('Eingabe Spielernamen'!Q:Q,MATCH(D42,'Eingabe Spielernamen'!B:B,)),\" \")","v":" "},{"$f":"IF(A42=\"x\",INDEX('Eingabe Spielernamen'!Q:Q,MATCH(F42,'Eingabe Spielernamen'!B:B,)),\" \")","v":" "},"",null,16]
[null,null,null,null,{"$f":"IF(ISBLANK(D43),\" \",INDEX('Eingabe Spielernamen'!$F:$F,MATCH(D43,'Eingabe Spielernamen'!$B:$B,0))&\", \"&INDEX('Eingabe Spielernamen'!$G:$G,MATCH(D43,'Eingabe Spielernamen'!$B:$B,0)))","v":" "},null,{"$f":"IF(ISBLANK(F43),\" \",INDEX('Eingabe Spielernamen'!$F:$F,MATCH(F43,'Eingabe Spielernamen'!$B:$B,0))&\", \"&INDEX('Eingabe Spielernamen'!$G:$G,MATCH(F43,'Eingabe Spielernamen'!$B:$B,0)))","v":" "},null,{"$f":"IF(A43=\"x\",INDEX('Eingabe Spielernamen'!J:J,MATCH(D43,'Eingabe Spielernamen'!B:B,)),\" \")","v":" "},{"$f":"IF(A43=\"x\",INDEX('Eingabe Spielernamen'!J:J,MATCH(F43,'Eingabe Spielernamen'!B:B,)),\" \")","v":" "},"",null,{"$f":"IF(A43=\"x\",INDEX('Eingabe Spielernamen'!M:M,MATCH(D43,'Eingabe Spielernamen'!B:B,)),\" \")","v":" "},{"$f":"IF(A43=\"x\",INDEX('Eingabe Spielernamen'!M:M,MATCH(F43,'Eingabe Spielernamen'!B:B,)),\" \")","v":" "},"",null,{"$f":"IF(A43=\"x\",INDEX('Eingabe Spielernamen'!Q:Q,MATCH(D43,'Eingabe Spielernamen'!B:B,)),\" \")","v":" "},{"$f":"IF(A43=\"x\",INDEX('Eingabe Spielernamen'!Q:Q,MATCH(F43,'Eingabe Spielernamen'!B:B,)),\" \")","v":" "},"",null,14]
[null,null,null,null,{"$f":"IF(ISBLANK(D44),\" \",INDEX('Eingabe Spielernamen'!$F:$F,MATCH(D44,'Eingabe Spielernamen'!$B:$B,0))&\", \"&INDEX('Eingabe Spielernamen'!$G:$G,MATCH(D44,'Eingabe Spielernamen'!$B:$B,0)))","v":" "},null,{"$f":"IF(ISBLANK(F44),\" \",INDEX('Eingabe Spielernamen'!$F:$F,MATCH(F44,'Eingabe Spielernamen'!$B:$B,0))&\", \"&INDEX('Eingabe Spielernamen'!$G:$G,MATCH(F44,'Eingabe Spielernamen'!$B:$B,0)))","v":" "},null,{"$f":"IF(A44=\"x\",INDEX('Eingabe Spielernamen'!J:J,MATCH(D44,'Eingabe Spielernamen'!B:B,)),\" \")","v":" "},{"$f":"IF(A44=\"x\",INDEX('Eingabe Spielernamen'!J:J,MATCH(F44,'Eingabe Spielernamen'!B:B,)),\" \")","v":" "},"",null,{"$f":"IF(A44=\"x\",INDEX('Eingabe Spielernamen'!M:M,MATCH(D44,'Eingabe Spielernamen'!B:B,)),\" \")","v":" "},{"$f":"IF(A44=\"x\",INDEX('Eingabe Spielernamen'!M:M,MATCH(F44,'Eingabe Spielernamen'!B:B,)),\" \")","v":" "},"",null,{"$f":"IF(A44=\"x\",INDEX('Eingabe Spielernamen'!Q:Q,MATCH(D44,'Eingabe Spielernamen'!B:B,)),\" \")","v":" "},{"$f":"IF(A44=\"x\",INDEX('Eingabe Spielernamen'!Q:Q,MATCH(F44,'Eingabe Spielernamen'!B:B,)),\" \")","v":" "},"",null,14]
[null,null,null,null,{"$f":"IF(ISBLANK(D45),\" \",INDEX('Eingabe Spielernamen'!$F:$F,MATCH(D45,'Eingabe Spielernamen'!$B:$B,0))&\", \"&INDEX('Eingabe Spielernamen'!$G:$G,MATCH(D45,'Eingabe Spielernamen'!$B:$B,0)))","v":" "},null,{"$f":"IF(ISBLANK(F45),\" \",INDEX('Eingabe Spielernamen'!$F:$F,MATCH(F45,'Eingabe Spielernamen'!$B:$B,0))&\", \"&INDEX('Eingabe Spielernamen'!$G:$G,MATCH(F45,'Eingabe Spielernamen'!$B:$B,0)))","v":" "},null,{"$f":"IF(A45=\"x\",INDEX('Eingabe Spielernamen'!J:J,MATCH(D45,'Eingabe Spielernamen'!B:B,)),\" \")","v":" "},{"$f":"IF(A45=\"x\",INDEX('Eingabe Spielernamen'!J:J,MATCH(F45,'Eingabe Spielernamen'!B:B,)),\" \")","v":" "},"",null,{"$f":"IF(A45=\"x\",INDEX('Eingabe Spielernamen'!M:M,MATCH(D45,'Eingabe Spielernamen'!B:B,)),\" \")","v":" "},{"$f":"IF(A45=\"x\",INDEX('Eingabe Spielernamen'!M:M,MATCH(F45,'Eingabe Spielernamen'!B:B,)),\" \")","v":" "},"",null,{"$f":"IF(A45=\"x\",INDEX('Eingabe Spielernamen'!Q:Q,MATCH(D45,'Eingabe Spielernamen'!B:B,)),\" \")","v":" "},{"$f":"IF(A45=\"x\",INDEX('Eingabe Spielernamen'!Q:Q,MATCH(F45,'Eingabe Spielernamen'!B:B,)),\" \")","v":" "},"",null,14]
[null,null,null,null,{"$f":"IF(ISBLANK(D46),\" \",INDEX('Eingabe Spielernamen'!$F:$F,MATCH(D46,'Eingabe Spielernamen'!$B:$B,0))&\", \"&INDEX('Eingabe Spielernamen'!$G:$G,MATCH(D46,'Eingabe Spielernamen'!$B:$B,0)))","v":" "},null,{"$f":"IF(ISBLANK(F46),\" \",INDEX('Eingabe Spielernamen'!$F:$F,MATCH(F46,'Eingabe Spielernamen'!$B:$B,0))&\", \"&INDEX('Eingabe Spielernamen'!$G:$G,MATCH(F46,'Eingabe Spielernamen'!$B:$B,0)))","v":" "},null,{"$f":"IF(A46=\"x\",INDEX('Eingabe Spielernamen'!J:J,MATCH(D46,'Eingabe Spielernamen'!B:B,)),\" \")","v":" "},{"$f":"IF(A46=\"x\",INDEX('Eingabe Spielernamen'!J:J,MATCH(F46,'Eingabe Spielernamen'!B:B,)),\" \")","v":" "},"",null,{"$f":"IF(A46=\"x\",INDEX('Eingabe Spielernamen'!M:M,MATCH(D46,'Eingabe Spielernamen'!B:B,)),\" \")","v":" "},{"$f":"IF(A46=\"x\",INDEX('Eingabe Spielernamen'!M:M,MATCH(F46,'Eingabe Spielernamen'!B:B,)),\" \")","v":" "},"",null,{"$f":"IF(A46=\"x\",INDEX('Eingabe Spielernamen'!Q:Q,MATCH(D46,'Eingabe Spielernamen'!B:B,)),\" \")","v":" "},{"$f":"IF(A46=\"x\",INDEX('Eingabe Spielernamen'!Q:Q,MATCH(F46,'Eingabe Spielernamen'!B:B,)),\" \")","v":" "},"",null,12]
[null,null,null,null,{"$f":"IF(ISBLANK(D47),\" \",INDEX('Eingabe Spielernamen'!$F:$F,MATCH(D47,'Eingabe Spielernamen'!$B:$B,0))&\", \"&INDEX('Eingabe Spielernamen'!$G:$G,MATCH(D47,'Eingabe Spielernamen'!$B:$B,0)))","v":" "},null,{"$f":"IF(ISBLANK(F47),\" \",INDEX('Eingabe Spielernamen'!$F:$F,MATCH(F47,'Eingabe Spielernamen'!$B:$B,0))&\", \"&INDEX('Eingabe Spielernamen'!$G:$G,MATCH(F47,'Eingabe Spielernamen'!$B:$B,0)))","v":" "},null,{"$f":"IF(A47=\"x\",INDEX('Eingabe Spielernamen'!J:J,MATCH(D47,'Eingabe Spielernamen'!B:B,)),\" \")","v":" "},{"$f":"IF(A47=\"x\",INDEX('Eingabe Spielernamen'!J:J,MATCH(F47,'Eingabe Spielernamen'!B:B,)),\" \")","v":" "},"",null,{"$f":"IF(A47=\"x\",INDEX('Eingabe Spielernamen'!M:M,MATCH(D47,'Eingabe Spielernamen'!B:B,)),\" \")","v":" "},{"$f":"IF(A47=\"x\",INDEX('Eingabe Spielernamen'!M:M,MATCH(F47,'Eingabe Spielernamen'!B:B,)),\" \")","v":" "},"",null,{"$f":"IF(A47=\"x\",INDEX('Eingabe Spielernamen'!Q:Q,MATCH(D47,'Eingabe Spielernamen'!B:B,)),\" \")","v":" "},{"$f":"IF(A47=\"x\",INDEX('Eingabe Spielernamen'!Q:Q,MATCH(F47,'Eingabe Spielernamen'!B:B,)),\" \")","v":" "},"",null,12]
[null,null,null,null,{"$f":"IF(ISBLANK(D48),\" \",INDEX('Eingabe Spielernamen'!$F:$F,MATCH(D48,'Eingabe Spielernamen'!$B:$B,0))&\", \"&INDEX('Eingabe Spielernamen'!$G:$G,MATCH(D48,'Eingabe Spielernamen'!$B:$B,0)))","v":" "},null,{"$f":"IF(ISBLANK(F48),\" \",INDEX('Eingabe Spielernamen'!$F:$F,MATCH(F48,'Eingabe Spielernamen'!$B:$B,0))&\", \"&INDEX('Eingabe Spielernamen'!$G:$G,MATCH(F48,'Eingabe Spielernamen'!$B:$B,0)))","v":" "},null,{"$f":"IF(A48=\"x\",INDEX('Eingabe Spielernamen'!J:J,MATCH(D48,'Eingabe Spielernamen'!B:B,)),\" \")","v":" "},{"$f":"IF(A48=\"x\",INDEX('Eingabe Spielernamen'!J:J,MATCH(F48,'Eingabe Spielernamen'!B:B,)),\" \")","v":" "},"",null,{"$f":"IF(A48=\"x\",INDEX('Eingabe Spielernamen'!M:M,MATCH(D48,'Eingabe Spielernamen'!B:B,)),\" \")","v":" "},{"$f":"IF(A48=\"x\",INDEX('Eingabe Spielernamen'!M:M,MATCH(F48,'Eingabe Spielernamen'!B:B,)),\" \")","v":" "},"",null,{"$f":"IF(A48=\"x\",INDEX('Eingabe Spielernamen'!Q:Q,MATCH(D48,'Eingabe Spielernamen'!B:B,)),\" \")","v":" "},{"$f":"IF(A48=\"x\",INDEX('Eingabe Spielernamen'!Q:Q,MATCH(F48,'Eingabe Spielernamen'!B:B,)),\" \")","v":" "},"",null,12]
[null,null,null,null,{"$f":"IF(ISBLANK(D49),\" \",INDEX('Eingabe Spielernamen'!$F:$F,MATCH(D49,'Eingabe Spielernamen'!$B:$B,0))&\", \"&INDEX('Eingabe Spielernamen'!$G:$G,MATCH(D49,'Eingabe Spielernamen'!$B:$B,0)))","v":" "},null,{"$f":"IF(ISBLANK(F49),\" \",INDEX('Eingabe Spielernamen'!$F:$F,MATCH(F49,'Eingabe Spielernamen'!$B:$B,0))&\", \"&INDEX('Eingabe Spielernamen'!$G:$G,MATCH(F49,'Eingabe Spielernamen'!$B:$B,0)))","v":" "},null,{"$f":"IF(A49=\"x\",INDEX('Eingabe Spielernamen'!J:J,MATCH(D49,'Eingabe Spielernamen'!B:B,)),\" \")","v":" "},{"$f":"IF(A49=\"x\",INDEX('Eingabe Spielernamen'!J:J,MATCH(F49,'Eingabe Spielernamen'!B:B,)),\" \")","v":" "},"",null,{"$f":"IF(A49=\"x\",INDEX('Eingabe Spielernamen'!M:M,MATCH(D49,'Eingabe Spielernamen'!B:B,)),\" \")","v":" "},{"$f":"IF(A49=\"x\",INDEX('Eingabe Spielernamen'!M:M,MATCH(F49,'Eingabe Spielernamen'!B:B,)),\" \")","v":" "},"",null,{"$f":"IF(A49=\"x\",INDEX('Eingabe Spielernamen'!Q:Q,MATCH(D49,'Eingabe Spielernamen'!B:B,)),\" \")","v":" "},{"$f":"IF(A49=\"x\",INDEX('Eingabe Spielernamen'!Q:Q,MATCH(F49,'Eingabe Spielernamen'!B:B,)),\" \")","v":" "},"",null,12]
[null,null,null,null,{"$f":"IF(ISBLANK(D50),\" \",INDEX('Eingabe Spielernamen'!$F:$F,MATCH(D50,'Eingabe Spielernamen'!$B:$B,0))&\", \"&INDEX('Eingabe Spielernamen'!$G:$G,MATCH(D50,'Eingabe Spielernamen'!$B:$B,0)))","v":" "},null,{"$f":"IF(ISBLANK(F50),\" \",INDEX('Eingabe Spielernamen'!$F:$F,MATCH(F50,'Eingabe Spielernamen'!$B:$B,0))&\", \"&INDEX('Eingabe Spielernamen'!$G:$G,MATCH(F50,'Eingabe Spielernamen'!$B:$B,0)))","v":" "},null,{"$f":"IF(A50=\"x\",INDEX('Eingabe Spielernamen'!J:J,MATCH(D50,'Eingabe Spielernamen'!B:B,)),\" \")","v":" "},{"$f":"IF(A50=\"x\",INDEX('Eingabe Spielernamen'!J:J,MATCH(F50,'Eingabe Spielernamen'!B:B,)),\" \")","v":" "},"",null,{"$f":"IF(A50=\"x\",INDEX('Eingabe Spielernamen'!M:M,MATCH(D50,'Eingabe Spielernamen'!B:B,)),\" \")","v":" "},{"$f":"IF(A50=\"x\",INDEX('Eingabe Spielernamen'!M:M,MATCH(F50,'Eingabe Spielernamen'!B:B,)),\" \")","v":" "},"",null,{"$f":"IF(A50=\"x\",INDEX('Eingabe Spielernamen'!Q:Q,MATCH(D50,'Eingabe Spielernamen'!B:B,)),\" \")","v":" "},{"$f":"IF(A50=\"x\",INDEX('Eingabe Spielernamen'!Q:Q,MATCH(F50,'Eingabe Spielernamen'!B:B,)),\" \")","v":" "},"",null,10]
[null,null,null,null,{"$f":"IF(ISBLANK(D51),\" \",INDEX('Eingabe Spielernamen'!$F:$F,MATCH(D51,'Eingabe Spielernamen'!$B:$B,0))&\", \"&INDEX('Eingabe Spielernamen'!$G:$G,MATCH(D51,'Eingabe Spielernamen'!$B:$B,0)))","v":" "},null,{"$f":"IF(ISBLANK(F51),\" \",INDEX('Eingabe Spielernamen'!$F:$F,MATCH(F51,'Eingabe Spielernamen'!$B:$B,0))&\", \"&INDEX('Eingabe Spielernamen'!$G:$G,MATCH(F51,'Eingabe Spielernamen'!$B:$B,0)))","v":" "},null,{"$f":"IF(A51=\"x\",INDEX('Eingabe Spielernamen'!J:J,MATCH(D51,'Eingabe Spielernamen'!B:B,)),\" \")","v":" "},{"$f":"IF(A51=\"x\",INDEX('Eingabe Spielernamen'!J:J,MATCH(F51,'Eingabe Spielernamen'!B:B,)),\" \")","v":" "},"",null,{"$f":"IF(A51=\"x\",INDEX('Eingabe Spielernamen'!M:M,MATCH(D51,'Eingabe Spielernamen'!B:B,)),\" \")","v":" "},{"$f":"IF(A51=\"x\",INDEX('Eingabe Spielernamen'!M:M,MATCH(F51,'Eingabe Spielernamen'!B:B,)),\" \")","v":" "},"",null,{"$f":"IF(A51=\"x\",INDEX('Eingabe Spielernamen'!Q:Q,MATCH(D51,'Eingabe Spielernamen'!B:B,)),\" \")","v":" "},{"$f":"IF(A51=\"x\",INDEX('Eingabe Spielernamen'!Q:Q,MATCH(F51,'Eingabe Spielernamen'!B:B,)),\" \")","v":" "},"",null,10]
[null,null,null,null,{"$f":"IF(ISBLANK(D52),\" \",INDEX('Eingabe Spielernamen'!$F:$F,MATCH(D52,'Eingabe Spielernamen'!$B:$B,0))&\", \"&INDEX('Eingabe Spielernamen'!$G:$G,MATCH(D52,'Eingabe Spielernamen'!$B:$B,0)))","v":" "},null,{"$f":"IF(ISBLANK(F52),\" \",INDEX('Eingabe Spielernamen'!$F:$F,MATCH(F52,'Eingabe Spielernamen'!$B:$B,0))&\", \"&INDEX('Eingabe Spielernamen'!$G:$G,MATCH(F52,'Eingabe Spielernamen'!$B:$B,0)))","v":" "},null,{"$f":"IF(A52=\"x\",INDEX('Eingabe Spielernamen'!J:J,MATCH(D52,'Eingabe Spielernamen'!B:B,)),\" \")","v":" "},{"$f":"IF(A52=\"x\",INDEX('Eingabe Spielernamen'!J:J,MATCH(F52,'Eingabe Spielernamen'!B:B,)),\" \")","v":" "},"",null,{"$f":"IF(A52=\"x\",INDEX('Eingabe Spielernamen'!M:M,MATCH(D52,'Eingabe Spielernamen'!B:B,)),\" \")","v":" "},{"$f":"IF(A52=\"x\",INDEX('Eingabe Spielernamen'!M:M,MATCH(F52,'Eingabe Spielernamen'!B:B,)),\" \")","v":" "},"",null,{"$f":"IF(A52=\"x\",INDEX('Eingabe Spielernamen'!Q:Q,MATCH(D52,'Eingabe Spielernamen'!B:B,)),\" \")","v":" "},{"$f":"IF(A52=\"x\",INDEX('Eingabe Spielernamen'!Q:Q,MATCH(F52,'Eingabe Spielernamen'!B:B,)),\" \")","v":" "},"",null,10]
[null,null,null,null,{"$f":"IF(ISBLANK(D53),\" \",INDEX('Eingabe Spielernamen'!$F:$F,MATCH(D53,'Eingabe Spielernamen'!$B:$B,0))&\", \"&INDEX('Eingabe Spielernamen'!$G:$G,MATCH(D53,'Eingabe Spielernamen'!$B:$B,0)))","v":" "},null,{"$f":"IF(ISBLANK(F53),\" \",INDEX('Eingabe Spielernamen'!$F:$F,MATCH(F53,'Eingabe Spielernamen'!$B:$B,0))&\", \"&INDEX('Eingabe Spielernamen'!$G:$G,MATCH(F53,'Eingabe Spielernamen'!$B:$B,0)))","v":" "},null,{"$f":"IF(A53=\"x\",INDEX('Eingabe Spielernamen'!J:J,MATCH(D53,'Eingabe Spielernamen'!B:B,)),\" \")","v":" "},{"$f":"IF(A53=\"x\",INDEX('Eingabe Spielernamen'!J:J,MATCH(F53,'Eingabe Spielernamen'!B:B,)),\" \")","v":" "},"",null,{"$f":"IF(A53=\"x\",INDEX('Eingabe Spielernamen'!M:M,MATCH(D53,'Eingabe Spielernamen'!B:B,)),\" \")","v":" "},{"$f":"IF(A53=\"x\",INDEX('Eingabe Spielernamen'!M:M,MATCH(F53,'Eingabe Spielernamen'!B:B,)),\" \")","v":" "},"",null,{"$f":"IF(A53=\"x\",INDEX('Eingabe Spielernamen'!Q:Q,MATCH(D53,'Eingabe Spielernamen'!B:B,)),\" \")","v":" "},{"$f":"IF(A53=\"x\",INDEX('Eingabe Spielernamen'!Q:Q,MATCH(F53,'Eingabe Spielernamen'!B:B,)),\" \")","v":" "},"",null,10]
[null,null,null,null,{"$f":"IF(ISBLANK(D54),\" \",INDEX('Eingabe Spielernamen'!$F:$F,MATCH(D54,'Eingabe Spielernamen'!$B:$B,0))&\", \"&INDEX('Eingabe Spielernamen'!$G:$G,MATCH(D54,'Eingabe Spielernamen'!$B:$B,0)))","v":" "},null,{"$f":"IF(ISBLANK(F54),\" \",INDEX('Eingabe Spielernamen'!$F:$F,MATCH(F54,'Eingabe Spielernamen'!$B:$B,0))&\", \"&INDEX('Eingabe Spielernamen'!$G:$G,MATCH(F54,'Eingabe Spielernamen'!$B:$B,0)))","v":" "},null,{"$f":"IF(A54=\"x\",INDEX('Eingabe Spielernamen'!J:J,MATCH(D54,'Eingabe Spielernamen'!B:B,)),\" \")","v":" "},{"$f":"IF(A54=\"x\",INDEX('Eingabe Spielernamen'!J:J,MATCH(F54,'Eingabe Spielernamen'!B:B,)),\" \")","v":" "},"",null,{"$f":"IF(A54=\"x\",INDEX('Eingabe Spielernamen'!M:M,MATCH(D54,'Eingabe Spielernamen'!B:B,)),\" \")","v":" "},{"$f":"IF(A54=\"x\",INDEX('Eingabe Spielernamen'!M:M,MATCH(F54,'Eingabe Spielernamen'!B:B,)),\" \")","v":" "},"",null,{"$f":"IF(A54=\"x\",INDEX('Eingabe Spielernamen'!Q:Q,MATCH(D54,'Eingabe Spielernamen'!B:B,)),\" \")","v":" "},{"$f":"IF(A54=\"x\",INDEX('Eingabe Spielernamen'!Q:Q,MATCH(F54,'Eingabe Spielernamen'!B:B,)),\" \")","v":" "},"",null,8]
[null,null,null,null,{"$f":"IF(ISBLANK(D55),\" \",INDEX('Eingabe Spielernamen'!$F:$F,MATCH(D55,'Eingabe Spielernamen'!$B:$B,0))&\", \"&INDEX('Eingabe Spielernamen'!$G:$G,MATCH(D55,'Eingabe Spielernamen'!$B:$B,0)))","v":" "},null,{"$f":"IF(ISBLANK(F55),\" \",INDEX('Eingabe Spielernamen'!$F:$F,MATCH(F55,'Eingabe Spielernamen'!$B:$B,0))&\", \"&INDEX('Eingabe Spielernamen'!$G:$G,MATCH(F55,'Eingabe Spielernamen'!$B:$B,0)))","v":" "},null,{"$f":"IF(A55=\"x\",INDEX('Eingabe Spielernamen'!J:J,MATCH(D55,'Eingabe Spielernamen'!B:B,)),\" \")","v":" "},{"$f":"IF(A55=\"x\",INDEX('Eingabe Spielernamen'!J:J,MATCH(F55,'Eingabe Spielernamen'!B:B,)),\" \")","v":" "},"",null,{"$f":"IF(A55=\"x\",INDEX('Eingabe Spielernamen'!M:M,MATCH(D55,'Eingabe Spielernamen'!B:B,)),\" \")","v":" "},{"$f":"IF(A55=\"x\",INDEX('Eingabe Spielernamen'!M:M,MATCH(F55,'Eingabe Spielernamen'!B:B,)),\" \")","v":" "},"",null,{"$f":"IF(A55=\"x\",INDEX('Eingabe Spielernamen'!Q:Q,MATCH(D55,'Eingabe Spielernamen'!B:B,)),\" \")","v":" "},{"$f":"IF(A55=\"x\",INDEX('Eingabe Spielernamen'!Q:Q,MATCH(F55,'Eingabe Spielernamen'!B:B,)),\" \")","v":" "},"",null,8]
[null,null,null,null,{"$f":"IF(ISBLANK(D56),\" \",INDEX('Eingabe Spielernamen'!$F:$F,MATCH(D56,'Eingabe Spielernamen'!$B:$B,0))&\", \"&INDEX('Eingabe Spielernamen'!$G:$G,MATCH(D56,'Eingabe Spielernamen'!$B:$B,0)))","v":" "},null,{"$f":"IF(ISBLANK(F56),\" \",INDEX('Eingabe Spielernamen'!$F:$F,MATCH(F56,'Eingabe Spielernamen'!$B:$B,0))&\", \"&INDEX('Eingabe Spielernamen'!$G:$G,MATCH(F56,'Eingabe Spielernamen'!$B:$B,0)))","v":" "},null,{"$f":"IF(A56=\"x\",INDEX('Eingabe Spielernamen'!J:J,MATCH(D56,'Eingabe Spielernamen'!B:B,)),\" \")","v":" "},{"$f":"IF(A56=\"x\",INDEX('Eingabe Spielernamen'!J:J,MATCH(F56,'Eingabe Spielernamen'!B:B,)),\" \")","v":" "},"",null,{"$f":"IF(A56=\"x\",INDEX('Eingabe Spielernamen'!M:M,MATCH(D56,'Eingabe Spielernamen'!B:B,)),\" \")","v":" "},{"$f":"IF(A56=\"x\",INDEX('Eingabe Spielernamen'!M:M,MATCH(F56,'Eingabe Spielernamen'!B:B,)),\" \")","v":" "},"",null,{"$f":"IF(A56=\"x\",INDEX('Eingabe Spielernamen'!Q:Q,MATCH(D56,'Eingabe Spielernamen'!B:B,)),\" \")","v":" "},{"$f":"IF(A56=\"x\",INDEX('Eingabe Spielernamen'!Q:Q,MATCH(F56,'Eingabe Spielernamen'!B:B,)),\" \")","v":" "},"",null,8]
[null,null,null,null,{"$f":"IF(ISBLANK(D57),\" \",INDEX('Eingabe Spielernamen'!$F:$F,MATCH(D57,'Eingabe Spielernamen'!$B:$B,0))&\", \"&INDEX('Eingabe Spielernamen'!$G:$G,MATCH(D57,'Eingabe Spielernamen'!$B:$B,0)))","v":" "},null,{"$f":"IF(ISBLANK(F57),\" \",INDEX('Eingabe Spielernamen'!$F:$F,MATCH(F57,'Eingabe Spielernamen'!$B:$B,0))&\", \"&INDEX('Eingabe Spielernamen'!$G:$G,MATCH(F57,'Eingabe Spielernamen'!$B:$B,0)))","v":" "},null,{"$f":"IF(A57=\"x\",INDEX('Eingabe Spielernamen'!J:J,MATCH(D57,'Eingabe Spielernamen'!B:B,)),\" \")","v":" "},{"$f":"IF(A57=\"x\",INDEX('Eingabe Spielernamen'!J:J,MATCH(F57,'Eingabe Spielernamen'!B:B,)),\" \")","v":" "},"",null,{"$f":"IF(A57=\"x\",INDEX('Eingabe Spielernamen'!M:M,MATCH(D57,'Eingabe Spielernamen'!B:B,)),\" \")","v":" "},{"$f":"IF(A57=\"x\",INDEX('Eingabe Spielernamen'!M:M,MATCH(F57,'Eingabe Spielernamen'!B:B,)),\" \")","v":" "},"",null,{"$f":"IF(A57=\"x\",INDEX('Eingabe Spielernamen'!Q:Q,MATCH(D57,'Eingabe Spielernamen'!B:B,)),\" \")","v":" "},{"$f":"IF(A57=\"x\",INDEX('Eingabe Spielernamen'!Q:Q,MATCH(F57,'Eingabe Spielernamen'!B:B,)),\" \")","v":" "},"",null,8]
[null,null,null,null,{"$f":"IF(ISBLANK(D58),\" \",INDEX('Eingabe Spielernamen'!$F:$F,MATCH(D58,'Eingabe Spielernamen'!$B:$B,0))&\", \"&INDEX('Eingabe Spielernamen'!$G:$G,MATCH(D58,'Eingabe Spielernamen'!$B:$B,0)))","v":" "},null,{"$f":"IF(ISBLANK(F58),\" \",INDEX('Eingabe Spielernamen'!$F:$F,MATCH(F58,'Eingabe Spielernamen'!$B:$B,0))&\", \"&INDEX('Eingabe Spielernamen'!$G:$G,MATCH(F58,'Eingabe Spielernamen'!$B:$B,0)))","v":" "},null,{"$f":"IF(A58=\"x\",INDEX('Eingabe Spielernamen'!J:J,MATCH(D58,'Eingabe Spielernamen'!B:B,)),\" \")","v":" "},{"$f":"IF(A58=\"x\",INDEX('Eingabe Spielernamen'!J:J,MATCH(F58,'Eingabe Spielernamen'!B:B,)),\" \")","v":" "},"",null,{"$f":"IF(A58=\"x\",INDEX('Eingabe Spielernamen'!M:M,MATCH(D58,'Eingabe Spielernamen'!B:B,)),\" \")","v":" "},{"$f":"IF(A58=\"x\",INDEX('Eingabe Spielernamen'!M:M,MATCH(F58,'Eingabe Spielernamen'!B:B,)),\" \")","v":" "},"",null,{"$f":"IF(A58=\"x\",INDEX('Eingabe Spielernamen'!Q:Q,MATCH(D58,'Eingabe Spielernamen'!B:B,)),\" \")","v":" "},{"$f":"IF(A58=\"x\",INDEX('Eingabe Spielernamen'!Q:Q,MATCH(F58,'Eingabe Spielernamen'!B:B,)),\" \")","v":" "},"",null,8]
[null,null,null,null,{"$f":"IF(ISBLANK(D59),\" \",INDEX('Eingabe Spielernamen'!$F:$F,MATCH(D59,'Eingabe Spielernamen'!$B:$B,0))&\", \"&INDEX('Eingabe Spielernamen'!$G:$G,MATCH(D59,'Eingabe Spielernamen'!$B:$B,0)))","v":" "},null,{"$f":"IF(ISBLANK(F59),\" \",INDEX('Eingabe Spielernamen'!$F:$F,MATCH(F59,'Eingabe Spielernamen'!$B:$B,0))&\", \"&INDEX('Eingabe Spielernamen'!$G:$G,MATCH(F59,'Eingabe Spielernamen'!$B:$B,0)))","v":" "},null,{"$f":"IF(A59=\"x\",INDEX('Eingabe Spielernamen'!J:J,MATCH(D59,'Eingabe Spielernamen'!B:B,)),\" \")","v":" "},{"$f":"IF(A59=\"x\",INDEX('Eingabe Spielernamen'!J:J,MATCH(F59,'Eingabe Spielernamen'!B:B,)),\" \")","v":" "},"",null,{"$f":"IF(A59=\"x\",INDEX('Eingabe Spielernamen'!M:M,MATCH(D59,'Eingabe Spielernamen'!B:B,)),\" \")","v":" "},{"$f":"IF(A59=\"x\",INDEX('Eingabe Spielernamen'!M:M,MATCH(F59,'Eingabe Spielernamen'!B:B,)),\" \")","v":" "},"",null,{"$f":"IF(A59=\"x\",INDEX('Eingabe Spielernamen'!Q:Q,MATCH(D59,'Eingabe Spielernamen'!B:B,)),\" \")","v":" "},{"$f":"IF(A59=\"x\",INDEX('Eingabe Spielernamen'!Q:Q,MATCH(F59,'Eingabe Spielernamen'!B:B,)),\" \")","v":" "},"",null,8]
[null,null,null,null,{"$f":"IF(ISBLANK(D60),\" \",INDEX('Eingabe Spielernamen'!$F:$F,MATCH(D60,'Eingabe Spielernamen'!$B:$B,0))&\", \"&INDEX('Eingabe Spielernamen'!$G:$G,MATCH(D60,'Eingabe Spielernamen'!$B:$B,0)))","v":" "},null,{"$f":"IF(ISBLANK(F60),\" \",INDEX('Eingabe Spielernamen'!$F:$F,MATCH(F60,'Eingabe Spielernamen'!$B:$B,0))&\", \"&INDEX('Eingabe Spielernamen'!$G:$G,MATCH(F60,'Eingabe Spielernamen'!$B:$B,0)))","v":" "},null,{"$f":"IF(A60=\"x\",INDEX('Eingabe Spielernamen'!J:J,MATCH(D60,'Eingabe Spielernamen'!B:B,)),\" \")","v":" "},{"$f":"IF(A60=\"x\",INDEX('Eingabe Spielernamen'!J:J,MATCH(F60,'Eingabe Spielernamen'!B:B,)),\" \")","v":" "},"",null,{"$f":"IF(A60=\"x\",INDEX('Eingabe Spielernamen'!M:M,MATCH(D60,'Eingabe Spielernamen'!B:B,)),\" \")","v":" "},{"$f":"IF(A60=\"x\",INDEX('Eingabe Spielernamen'!M:M,MATCH(F60,'Eingabe Spielernamen'!B:B,)),\" \")","v":" "},"",null,{"$f":"IF(A60=\"x\",INDEX('Eingabe Spielernamen'!Q:Q,MATCH(D60,'Eingabe Spielernamen'!B:B,)),\" \")","v":" "},{"$f":"IF(A60=\"x\",INDEX('Eingabe Spielernamen'!Q:Q,MATCH(F60,'Eingabe Spielernamen'!B:B,)),\" \")","v":" "},"",null,8]
[null,null,null,null,{"$f":"IF(ISBLANK(D61),\" \",INDEX('Eingabe Spielernamen'!$F:$F,MATCH(D61,'Eingabe Spielernamen'!$B:$B,0))&\", \"&INDEX('Eingabe Spielernamen'!$G:$G,MATCH(D61,'Eingabe Spielernamen'!$B:$B,0)))","v":" "},null,{"$f":"IF(ISBLANK(F61),\" \",INDEX('Eingabe Spielernamen'!$F:$F,MATCH(F61,'Eingabe Spielernamen'!$B:$B,0))&\", \"&INDEX('Eingabe Spielernamen'!$G:$G,MATCH(F61,'Eingabe Spielernamen'!$B:$B,0)))","v":" "},null,{"$f":"IF(A61=\"x\",INDEX('Eingabe Spielernamen'!J:J,MATCH(D61,'Eingabe Spielernamen'!B:B,)),\" \")","v":" "},{"$f":"IF(A61=\"x\",INDEX('Eingabe Spielernamen'!J:J,MATCH(F61,'Eingabe Spielernamen'!B:B,)),\" \")","v":" "},"",null,{"$f":"IF(A61=\"x\",INDEX('Eingabe Spielernamen'!M:M,MATCH(D61,'Eingabe Spielernamen'!B:B,)),\" \")","v":" "},{"$f":"IF(A61=\"x\",INDEX('Eingabe Spielernamen'!M:M,MATCH(F61,'Eingabe Spielernamen'!B:B,)),\" \")","v":" "},"",null,{"$f":"IF(A61=\"x\",INDEX('Eingabe Spielernamen'!Q:Q,MATCH(D61,'Eingabe Spielernamen'!B:B,)),\" \")","v":" "},{"$f":"IF(A61=\"x\",INDEX('Eingabe Spielernamen'!Q:Q,MATCH(F61,'Eingabe Spielernamen'!B:B,)),\" \")","v":" "},"",null,8]
[null,null,null,null,{"$f":"IF(ISBLANK(D62),\" \",INDEX('Eingabe Spielernamen'!$F:$F,MATCH(D62,'Eingabe Spielernamen'!$B:$B,0))&\", \"&INDEX('Eingabe Spielernamen'!$G:$G,MATCH(D62,'Eingabe Spielernamen'!$B:$B,0)))","v":" "},null,{"$f":"IF(ISBLANK(F62),\" \",INDEX('Eingabe Spielernamen'!$F:$F,MATCH(F62,'Eingabe Spielernamen'!$B:$B,0))&\", \"&INDEX('Eingabe Spielernamen'!$G:$G,MATCH(F62,'Eingabe Spielernamen'!$B:$B,0)))","v":" "},null,{"$f":"IF(A62=\"x\",INDEX('Eingabe Spielernamen'!J:J,MATCH(D62,'Eingabe Spielernamen'!B:B,)),\" \")","v":" "},{"$f":"IF(A62=\"x\",INDEX('Eingabe Spielernamen'!J:J,MATCH(F62,'Eingabe Spielernamen'!B:B,)),\" \")","v":" "},"",null,{"$f":"IF(A62=\"x\",INDEX('Eingabe Spielernamen'!M:M,MATCH(D62,'Eingabe Spielernamen'!B:B,)),\" \")","v":" "},{"$f":"IF(A62=\"x\",INDEX('Eingabe Spielernamen'!M:M,MATCH(F62,'Eingabe Spielernamen'!B:B,)),\" \")","v":" "},"",null,{"$f":"IF(A62=\"x\",INDEX('Eingabe Spielernamen'!Q:Q,MATCH(D62,'Eingabe Spielernamen'!B:B,)),\" \")","v":" "},{"$f":"IF(A62=\"x\",INDEX('Eingabe Spielernamen'!Q:Q,MATCH(F62,'Eingabe Spielernamen'!B:B,)),\" \")","v":" "},"",null,8]
[null,null,null,null,{"$f":"IF(ISBLANK(D63),\" \",INDEX('Eingabe Spielernamen'!$F:$F,MATCH(D63,'Eingabe Spielernamen'!$B:$B,0))&\", \"&INDEX('Eingabe Spielernamen'!$G:$G,MATCH(D63,'Eingabe Spielernamen'!$B:$B,0)))","v":" "},null,{"$f":"IF(ISBLANK(F63),\" \",INDEX('Eingabe Spielernamen'!$F:$F,MATCH(F63,'Eingabe Spielernamen'!$B:$B,0))&\", \"&INDEX('Eingabe Spielernamen'!$G:$G,MATCH(F63,'Eingabe Spielernamen'!$B:$B,0)))","v":" "},null,{"$f":"IF(A63=\"x\",INDEX('Eingabe Spielernamen'!J:J,MATCH(D63,'Eingabe Spielernamen'!B:B,)),\" \")","v":" "},{"$f":"IF(A63=\"x\",INDEX('Eingabe Spielernamen'!J:J,MATCH(F63,'Eingabe Spielernamen'!B:B,)),\" \")","v":" "},"",null,{"$f":"IF(A63=\"x\",INDEX('Eingabe Spielernamen'!M:M,MATCH(D63,'Eingabe Spielernamen'!B:B,)),\" \")","v":" "},{"$f":"IF(A63=\"x\",INDEX('Eingabe Spielernamen'!M:M,MATCH(F63,'Eingabe Spielernamen'!B:B,)),\" \")","v":" "},"",null,{"$f":"IF(A63=\"x\",INDEX('Eingabe Spielernamen'!Q:Q,MATCH(D63,'Eingabe Spielernamen'!B:B,)),\" \")","v":" "},{"$f":"IF(A63=\"x\",INDEX('Eingabe Spielernamen'!Q:Q,MATCH(F63,'Eingabe Spielernamen'!B:B,)),\" \")","v":" "},"",null,8]
[null,null,null,null,{"$f":"IF(ISBLANK(D64),\" \",INDEX('Eingabe Spielernamen'!$F:$F,MATCH(D64,'Eingabe Spielernamen'!$B:$B,0))&\", \"&INDEX('Eingabe Spielernamen'!$G:$G,MATCH(D64,'Eingabe Spielernamen'!$B:$B,0)))","v":" "},null,{"$f":"IF(ISBLANK(F64),\" \",INDEX('Eingabe Spielernamen'!$F:$F,MATCH(F64,'Eingabe Spielernamen'!$B:$B,0))&\", \"&INDEX('Eingabe Spielernamen'!$G:$G,MATCH(F64,'Eingabe Spielernamen'!$B:$B,0)))","v":" "},null,{"$f":"IF(A64=\"x\",INDEX('Eingabe Spielernamen'!J:J,MATCH(D64,'Eingabe Spielernamen'!B:B,)),\" \")","v":" "},{"$f":"IF(A64=\"x\",INDEX('Eingabe Spielernamen'!J:J,MATCH(F64,'Eingabe Spielernamen'!B:B,)),\" \")","v":" "},"",null,{"$f":"IF(A64=\"x\",INDEX('Eingabe Spielernamen'!M:M,MATCH(D64,'Eingabe Spielernamen'!B:B,)),\" \")","v":" "},{"$f":"IF(A64=\"x\",INDEX('Eingabe Spielernamen'!M:M,MATCH(F64,'Eingabe Spielernamen'!B:B,)),\" \")","v":" "},"",null,{"$f":"IF(A64=\"x\",INDEX('Eingabe Spielernamen'!Q:Q,MATCH(D64,'Eingabe Spielernamen'!B:B,)),\" \")","v":" "},{"$f":"IF(A64=\"x\",INDEX('Eingabe Spielernamen'!Q:Q,MATCH(F64,'Eingabe Spielernamen'!B:B,)),\" \")","v":" "},""]
[null,null,null,null,{"$f":"IF(ISBLANK(D65),\" \",INDEX('Eingabe Spielernamen'!$F:$F,MATCH(D65,'Eingabe Spielernamen'!$B:$B,0))&\", \"&INDEX('Eingabe Spielernamen'!$G:$G,MATCH(D65,'Eingabe Spielernamen'!$B:$B,0)))","v":" "},null,{"$f":"IF(ISBLANK(F65),\" \",INDEX('Eingabe Spielernamen'!$F:$F,MATCH(F65,'Eingabe Spielernamen'!$B:$B,0))&\", \"&INDEX('Eingabe Spielernamen'!$G:$G,MATCH(F65,'Eingabe Spielernamen'!$B:$B,0)))","v":" "},null,{"$f":"IF(A65=\"x\",INDEX('Eingabe Spielernamen'!J:J,MATCH(D65,'Eingabe Spielernamen'!B:B,)),\" \")","v":" "},{"$f":"IF(A65=\"x\",INDEX('Eingabe Spielernamen'!J:J,MATCH(F65,'Eingabe Spielernamen'!B:B,)),\" \")","v":" "},"",null,{"$f":"IF(A65=\"x\",INDEX('Eingabe Spielernamen'!M:M,MATCH(D65,'Eingabe Spielernamen'!B:B,)),\" \")","v":" "},{"$f":"IF(A65=\"x\",INDEX('Eingabe Spielernamen'!M:M,MATCH(F65,'Eingabe Spielernamen'!B:B,)),\" \")","v":" "},"",null,{"$f":"IF(A65=\"x\",INDEX('Eingabe Spielernamen'!Q:Q,MATCH(D65,'Eingabe Spielernamen'!B:B,)),\" \")","v":" "},{"$f":"IF(A65=\"x\",INDEX('Eingabe Spielernamen'!Q:Q,MATCH(F65,'Eingabe Spielernamen'!B:B,)),\" \")","v":" "},""]
[null,null,null,null,{"$f":"IF(ISBLANK(D66),\" \",INDEX('Eingabe Spielernamen'!$F:$F,MATCH(D66,'Eingabe Spielernamen'!$B:$B,0))&\", \"&INDEX('Eingabe Spielernamen'!$G:$G,MATCH(D66,'Eingabe Spielernamen'!$B:$B,0)))","v":" "},null,{"$f":"IF(ISBLANK(F66),\" \",INDEX('Eingabe Spielernamen'!$F:$F,MATCH(F66,'Eingabe Spielernamen'!$B:$B,0))&\", \"&INDEX('Eingabe Spielernamen'!$G:$G,MATCH(F66,'Eingabe Spielernamen'!$B:$B,0)))","v":" "},null,{"$f":"IF(A66=\"x\",INDEX('Eingabe Spielernamen'!J:J,MATCH(D66,'Eingabe Spielernamen'!B:B,)),\" \")","v":" "},{"$f":"IF(A66=\"x\",INDEX('Eingabe Spielernamen'!J:J,MATCH(F66,'Eingabe Spielernamen'!B:B,)),\" \")","v":" "},"",null,{"$f":"IF(A66=\"x\",INDEX('Eingabe Spielernamen'!M:M,MATCH(D66,'Eingabe Spielernamen'!B:B,)),\" \")","v":" "},{"$f":"IF(A66=\"x\",INDEX('Eingabe Spielernamen'!M:M,MATCH(F66,'Eingabe Spielernamen'!B:B,)),\" \")","v":" "},"",null,{"$f":"IF(A66=\"x\",INDEX('Eingabe Spielernamen'!Q:Q,MATCH(D66,'Eingabe Spielernamen'!B:B,)),\" \")","v":" "},{"$f":"IF(A66=\"x\",INDEX('Eingabe Spielernamen'!Q:Q,MATCH(F66,'Eingabe Spielernamen'!B:B,)),\" \")","v":" "},""]
[null,null,null,null,{"$f":"IF(ISBLANK(D67),\" \",INDEX('Eingabe Spielernamen'!$F:$F,MATCH(D67,'Eingabe Spielernamen'!$B:$B,0))&\", \"&INDEX('Eingabe Spielernamen'!$G:$G,MATCH(D67,'Eingabe Spielernamen'!$B:$B,0)))","v":" "},null,{"$f":"IF(ISBLANK(F67),\" \",INDEX('Eingabe Spielernamen'!$F:$F,MATCH(F67,'Eingabe Spielernamen'!$B:$B,0))&\", \"&INDEX('Eingabe Spielernamen'!$G:$G,MATCH(F67,'Eingabe Spielernamen'!$B:$B,0)))","v":" "},null,{"$f":"IF(A67=\"x\",INDEX('Eingabe Spielernamen'!J:J,MATCH(D67,'Eingabe Spielernamen'!B:B,)),\" \")","v":" "},{"$f":"IF(A67=\"x\",INDEX('Eingabe Spielernamen'!J:J,MATCH(F67,'Eingabe Spielernamen'!B:B,)),\" \")","v":" "},"",null,{"$f":"IF(A67=\"x\",INDEX('Eingabe Spielernamen'!M:M,MATCH(D67,'Eingabe Spielernamen'!B:B,)),\" \")","v":" "},{"$f":"IF(A67=\"x\",INDEX('Eingabe Spielernamen'!M:M,MATCH(F67,'Eingabe Spielernamen'!B:B,)),\" \")","v":" "},"",null,{"$f":"IF(A67=\"x\",INDEX('Eingabe Spielernamen'!Q:Q,MATCH(D67,'Eingabe Spielernamen'!B:B,)),\" \")","v":" "},{"$f":"IF(A67=\"x\",INDEX('Eingabe Spielernamen'!Q:Q,MATCH(F67,'Eingabe Spielernamen'!B:B,)),\" \")","v":" "},""]
[null,null,null,null,{"$f":"IF(ISBLANK(D68),\" \",INDEX('Eingabe Spielernamen'!$F:$F,MATCH(D68,'Eingabe Spielernamen'!$B:$B,0))&\", \"&INDEX('Eingabe Spielernamen'!$G:$G,MATCH(D68,'Eingabe Spielernamen'!$B:$B,0)))","v":" "},null,{"$f":"IF(ISBLANK(F68),\" \",INDEX('Eingabe Spielernamen'!$F:$F,MATCH(F68,'Eingabe Spielernamen'!$B:$B,0))&\", \"&INDEX('Eingabe Spielernamen'!$G:$G,MATCH(F68,'Eingabe Spielernamen'!$B:$B,0)))","v":" "},null,{"$f":"IF(A68=\"x\",INDEX('Eingabe Spielernamen'!J:J,MATCH(D68,'Eingabe Spielernamen'!B:B,)),\" \")","v":" "},{"$f":"IF(A68=\"x\",INDEX('Eingabe Spielernamen'!J:J,MATCH(F68,'Eingabe Spielernamen'!B:B,)),\" \")","v":" "},{"$f":"IF(A68=\"x\",I68+J68,\"\")","v":""},null,{"$f":"IF(A68=\"x\",INDEX('Eingabe Spielernamen'!M:M,MATCH(D68,'Eingabe Spielernamen'!B:B,)),\" \")","v":" "},{"$f":"IF(A68=\"x\",INDEX('Eingabe Spielernamen'!M:M,MATCH(F68,'Eingabe Spielernamen'!B:B,)),\" \")","v":" "},{"$f":"IF(B68=\"x\",M68+N68,\"\")","v":""},null,{"$f":"IF(A68=\"x\",INDEX('Eingabe Spielernamen'!Q:Q,MATCH(D68,'Eingabe Spielernamen'!B:B,)),\" \")","v":" "},{"$f":"IF(A68=\"x\",INDEX('Eingabe Spielernamen'!Q:Q,MATCH(F68,'Eingabe Spielernamen'!B:B,)),\" \")","v":" "},{"$f":"IF(C68=\"x\",Q68+R68,\"\")","v":""}]
[null,null,null,null,{"$f":"IF(ISBLANK(D69),\" \",INDEX('Eingabe Spielernamen'!$F:$F,MATCH(D69,'Eingabe Spielernamen'!$B:$B,0))&\", \"&INDEX('Eingabe Spielernamen'!$G:$G,MATCH(D69,'Eingabe Spielernamen'!$B:$B,0)))","v":" "},null,{"$f":"IF(ISBLANK(F69),\" \",INDEX('Eingabe Spielernamen'!$F:$F,MATCH(F69,'Eingabe Spielernamen'!$B:$B,0))&\", \"&INDEX('Eingabe Spielernamen'!$G:$G,MATCH(F69,'Eingabe Spielernamen'!$B:$B,0)))","v":" "},null,{"$f":"IF(A69=\"x\",INDEX('Eingabe Spielernamen'!J:J,MATCH(D69,'Eingabe Spielernamen'!B:B,)),\" \")","v":" "},{"$f":"IF(A69=\"x\",INDEX('Eingabe Spielernamen'!J:J,MATCH(F69,'Eingabe Spielernamen'!B:B,)),\" \")","v":" "},"",null,{"$f":"IF(A69=\"x\",INDEX('Eingabe Spielernamen'!M:M,MATCH(D69,'Eingabe Spielernamen'!B:B,)),\" \")","v":" "},{"$f":"IF(A69=\"x\",INDEX('Eingabe Spielernamen'!M:M,MATCH(F69,'Eingabe Spielernamen'!B:B,)),\" \")","v":" "},"",null,{"$f":"IF(A69=\"x\",INDEX('Eingabe Spielernamen'!Q:Q,MATCH(D69,'Eingabe Spielernamen'!B:B,)),\" \")","v":" "},{"$f":"IF(A69=\"x\",INDEX('Eingabe Spielernamen'!Q:Q,MATCH(F69,'Eingabe Spielernamen'!B:B,)),\" \")","v":" "},""]
[null,null,null,null,{"$f":"IF(ISBLANK(D70),\" \",INDEX('Eingabe Spielernamen'!$F:$F,MATCH(D70,'Eingabe Spielernamen'!$B:$B,0))&\", \"&INDEX('Eingabe Spielernamen'!$G:$G,MATCH(D70,'Eingabe Spielernamen'!$B:$B,0)))","v":" "},null,{"$f":"IF(ISBLANK(F70),\" \",INDEX('Eingabe Spielernamen'!$F:$F,MATCH(F70,'Eingabe Spielernamen'!$B:$B,0))&\", \"&INDEX('Eingabe Spielernamen'!$G:$G,MATCH(F70,'Eingabe Spielernamen'!$B:$B,0)))","v":" "},null,{"$f":"IF(A70=\"x\",INDEX('Eingabe Spielernamen'!J:J,MATCH(D70,'Eingabe Spielernamen'!B:B,)),\" \")","v":" "},{"$f":"IF(A70=\"x\",INDEX('Eingabe Spielernamen'!J:J,MATCH(F70,'Eingabe Spielernamen'!B:B,)),\" \")","v":" "},"",null,{"$f":"IF(A70=\"x\",INDEX('Eingabe Spielernamen'!M:M,MATCH(D70,'Eingabe Spielernamen'!B:B,)),\" \")","v":" "},{"$f":"IF(A70=\"x\",INDEX('Eingabe Spielernamen'!M:M,MATCH(F70,'Eingabe Spielernamen'!B:B,)),\" \")","v":" "},"",null,{"$f":"IF(A70=\"x\",INDEX('Eingabe Spielernamen'!Q:Q,MATCH(D70,'Eingabe Spielernamen'!B:B,)),\" \")","v":" "},{"$f":"IF(A70=\"x\",INDEX('Eingabe Spielernamen'!Q:Q,MATCH(F70,'Eingabe Spielernamen'!B:B,)),\" \")","v":" "},""]
[null,null,null,null,{"$f":"IF(ISBLANK(D71),\" \",INDEX('Eingabe Spielernamen'!$F:$F,MATCH(D71,'Eingabe Spielernamen'!$B:$B,0))&\", \"&INDEX('Eingabe Spielernamen'!$G:$G,MATCH(D71,'Eingabe Spielernamen'!$B:$B,0)))","v":" "},null,{"$f":"IF(ISBLANK(F71),\" \",INDEX('Eingabe Spielernamen'!$F:$F,MATCH(F71,'Eingabe Spielernamen'!$B:$B,0))&\", \"&INDEX('Eingabe Spielernamen'!$G:$G,MATCH(F71,'Eingabe Spielernamen'!$B:$B,0)))","v":" "},null,{"$f":"IF(A71=\"x\",INDEX('Eingabe Spielernamen'!J:J,MATCH(D71,'Eingabe Spielernamen'!B:B,)),\" \")","v":" "},{"$f":"IF(A71=\"x\",INDEX('Eingabe Spielernamen'!J:J,MATCH(F71,'Eingabe Spielernamen'!B:B,)),\" \")","v":" "},"",null,{"$f":"IF(A71=\"x\",INDEX('Eingabe Spielernamen'!M:M,MATCH(D71,'Eingabe Spielernamen'!B:B,)),\" \")","v":" "},{"$f":"IF(A71=\"x\",INDEX('Eingabe Spielernamen'!M:M,MATCH(F71,'Eingabe Spielernamen'!B:B,)),\" \")","v":" "},"",null,{"$f":"IF(A71=\"x\",INDEX('Eingabe Spielernamen'!Q:Q,MATCH(D71,'Eingabe Spielernamen'!B:B,)),\" \")","v":" "},{"$f":"IF(A71=\"x\",INDEX('Eingabe Spielernamen'!Q:Q,MATCH(F71,'Eingabe Spielernamen'!B:B,)),\" \")","v":" "},""]
[null,null,null,null,{"$f":"IF(ISBLANK(D72),\" \",INDEX('Eingabe Spielernamen'!$F:$F,MATCH(D72,'Eingabe Spielernamen'!$B:$B,0))&\", \"&INDEX('Eingabe Spielernamen'!$G:$G,MATCH(D72,'Eingabe Spielernamen'!$B:$B,0)))","v":" "},null,{"$f":"IF(ISBLANK(F72),\" \",INDEX('Eingabe Spielernamen'!$F:$F,MATCH(F72,'Eingabe Spielernamen'!$B:$B,0))&\", \"&INDEX('Eingabe Spielernamen'!$G:$G,MATCH(F72,'Eingabe Spielernamen'!$B:$B,0)))","v":" "},null,{"$f":"IF(A72=\"x\",INDEX('Eingabe Spielernamen'!J:J,MATCH(D72,'Eingabe Spielernamen'!B:B,)),\" \")","v":" "},{"$f":"IF(A72=\"x\",INDEX('Eingabe Spielernamen'!J:J,MATCH(F72,'Eingabe Spielernamen'!B:B,)),\" \")","v":" "},"",null,{"$f":"IF(A72=\"x\",INDEX('Eingabe Spielernamen'!M:M,MATCH(D72,'Eingabe Spielernamen'!B:B,)),\" \")","v":" "},{"$f":"IF(A72=\"x\",INDEX('Eingabe Spielernamen'!M:M,MATCH(F72,'Eingabe Spielernamen'!B:B,)),\" \")","v":" "},"",null,{"$f":"IF(A72=\"x\",INDEX('Eingabe Spielernamen'!Q:Q,MATCH(D72,'Eingabe Spielernamen'!B:B,)),\" \")","v":" "},{"$f":"IF(A72=\"x\",INDEX('Eingabe Spielernamen'!Q:Q,MATCH(F72,'Eingabe Spielernamen'!B:B,)),\" \")","v":" "},""]
[null,null,null,null,{"$f":"IF(ISBLANK(D73),\" \",INDEX('Eingabe Spielernamen'!$F:$F,MATCH(D73,'Eingabe Spielernamen'!$B:$B,0))&\", \"&INDEX('Eingabe Spielernamen'!$G:$G,MATCH(D73,'Eingabe Spielernamen'!$B:$B,0)))","v":" "},null,{"$f":"IF(ISBLANK(F73),\" \",INDEX('Eingabe Spielernamen'!$F:$F,MATCH(F73,'Eingabe Spielernamen'!$B:$B,0))&\", \"&INDEX('Eingabe Spielernamen'!$G:$G,MATCH(F73,'Eingabe Spielernamen'!$B:$B,0)))","v":" "},null,{"$f":"IF(A73=\"x\",INDEX('Eingabe Spielernamen'!J:J,MATCH(D73,'Eingabe Spielernamen'!B:B,)),\" \")","v":" "},{"$f":"IF(A73=\"x\",INDEX('Eingabe Spielernamen'!J:J,MATCH(F73,'Eingabe Spielernamen'!B:B,)),\" \")","v":" "},"",null,{"$f":"IF(A73=\"x\",INDEX('Eingabe Spielernamen'!M:M,MATCH(D73,'Eingabe Spielernamen'!B:B,)),\" \")","v":" "},{"$f":"IF(A73=\"x\",INDEX('Eingabe Spielernamen'!M:M,MATCH(F73,'Eingabe Spielernamen'!B:B,)),\" \")","v":" "},"",null,{"$f":"IF(A73=\"x\",INDEX('Eingabe Spielernamen'!Q:Q,MATCH(D73,'Eingabe Spielernamen'!B:B,)),\" \")","v":" "},{"$f":"IF(A73=\"x\",INDEX('Eingabe Spielernamen'!Q:Q,MATCH(F73,'Eingabe Spielernamen'!B:B,)),\" \")","v":" "},""]
[null,null,null,null,{"$f":"IF(ISBLANK(D74),\" \",INDEX('Eingabe Spielernamen'!$F:$F,MATCH(D74,'Eingabe Spielernamen'!$B:$B,0))&\", \"&INDEX('Eingabe Spielernamen'!$G:$G,MATCH(D74,'Eingabe Spielernamen'!$B:$B,0)))","v":" "},null,{"$f":"IF(ISBLANK(F74),\" \",INDEX('Eingabe Spielernamen'!$F:$F,MATCH(F74,'Eingabe Spielernamen'!$B:$B,0))&\", \"&INDEX('Eingabe Spielernamen'!$G:$G,MATCH(F74,'Eingabe Spielernamen'!$B:$B,0)))","v":" "},null,{"$f":"IF(A74=\"x\",INDEX('Eingabe Spielernamen'!J:J,MATCH(D74,'Eingabe Spielernamen'!B:B,)),\" \")","v":" "},{"$f":"IF(A74=\"x\",INDEX('Eingabe Spielernamen'!J:J,MATCH(F74,'Eingabe Spielernamen'!B:B,)),\" \")","v":" "},"",null,{"$f":"IF(A74=\"x\",INDEX('Eingabe Spielernamen'!M:M,MATCH(D74,'Eingabe Spielernamen'!B:B,)),\" \")","v":" "},{"$f":"IF(A74=\"x\",INDEX('Eingabe Spielernamen'!M:M,MATCH(F74,'Eingabe Spielernamen'!B:B,)),\" \")","v":" "},"",null,{"$f":"IF(A74=\"x\",INDEX('Eingabe Spielernamen'!Q:Q,MATCH(D74,'Eingabe Spielernamen'!B:B,)),\" \")","v":" "},{"$f":"IF(A74=\"x\",INDEX('Eingabe Spielernamen'!Q:Q,MATCH(F74,'Eingabe Spielernamen'!B:B,)),\" \")","v":" "},""]
[null,null,null,null,{"$f":"IF(ISBLANK(D75),\" \",INDEX('Eingabe Spielernamen'!$F:$F,MATCH(D75,'Eingabe Spielernamen'!$B:$B,0))&\", \"&INDEX('Eingabe Spielernamen'!$G:$G,MATCH(D75,'Eingabe Spielernamen'!$B:$B,0)))","v":" "},null,{"$f":"IF(ISBLANK(F75),\" \",INDEX('Eingabe Spielernamen'!$F:$F,MATCH(F75,'Eingabe Spielernamen'!$B:$B,0))&\", \"&INDEX('Eingabe Spielernamen'!$G:$G,MATCH(F75,'Eingabe Spielernamen'!$B:$B,0)))","v":" "},null,{"$f":"IF(A75=\"x\",INDEX('Eingabe Spielernamen'!J:J,MATCH(D75,'Eingabe Spielernamen'!B:B,)),\" \")","v":" "},{"$f":"IF(A75=\"x\",INDEX('Eingabe Spielernamen'!J:J,MATCH(F75,'Eingabe Spielernamen'!B:B,)),\" \")","v":" "},"",null,{"$f":"IF(A75=\"x\",INDEX('Eingabe Spielernamen'!M:M,MATCH(D75,'Eingabe Spielernamen'!B:B,)),\" \")","v":" "},{"$f":"IF(A75=\"x\",INDEX('Eingabe Spielernamen'!M:M,MATCH(F75,'Eingabe Spielernamen'!B:B,)),\" \")","v":" "},"",null,{"$f":"IF(A75=\"x\",INDEX('Eingabe Spielernamen'!Q:Q,MATCH(D75,'Eingabe Spielernamen'!B:B,)),\" \")","v":" "},{"$f":"IF(A75=\"x\",INDEX('Eingabe Spielernamen'!Q:Q,MATCH(F75,'Eingabe Spielernamen'!B:B,)),\" \")","v":" "},""]
[null,null,null,null,{"$f":"IF(ISBLANK(D76),\" \",INDEX('Eingabe Spielernamen'!$F:$F,MATCH(D76,'Eingabe Spielernamen'!$B:$B,0))&\", \"&INDEX('Eingabe Spielernamen'!$G:$G,MATCH(D76,'Eingabe Spielernamen'!$B:$B,0)))","v":" "},null,{"$f":"IF(ISBLANK(F76),\" \",INDEX('Eingabe Spielernamen'!$F:$F,MATCH(F76,'Eingabe Spielernamen'!$B:$B,0))&\", \"&INDEX('Eingabe Spielernamen'!$G:$G,MATCH(F76,'Eingabe Spielernamen'!$B:$B,0)))","v":" "},null,{"$f":"IF(A76=\"x\",INDEX('Eingabe Spielernamen'!J:J,MATCH(D76,'Eingabe Spielernamen'!B:B,)),\" \")","v":" "},{"$f":"IF(A76=\"x\",INDEX('Eingabe Spielernamen'!J:J,MATCH(F76,'Eingabe Spielernamen'!B:B,)),\" \")","v":" "},"",null,{"$f":"IF(A76=\"x\",INDEX('Eingabe Spielernamen'!M:M,MATCH(D76,'Eingabe Spielernamen'!B:B,)),\" \")","v":" "},{"$f":"IF(A76=\"x\",INDEX('Eingabe Spielernamen'!M:M,MATCH(F76,'Eingabe Spielernamen'!B:B,)),\" \")","v":" "},"",null,{"$f":"IF(A76=\"x\",INDEX('Eingabe Spielernamen'!Q:Q,MATCH(D76,'Eingabe Spielernamen'!B:B,)),\" \")","v":" "},{"$f":"IF(A76=\"x\",INDEX('Eingabe Spielernamen'!Q:Q,MATCH(F76,'Eingabe Spielernamen'!B:B,)),\" \")","v":" "},""]
[null,null,null,null,{"$f":"IF(ISBLANK(D77),\" \",INDEX('Eingabe Spielernamen'!$F:$F,MATCH(D77,'Eingabe Spielernamen'!$B:$B,0))&\", \"&INDEX('Eingabe Spielernamen'!$G:$G,MATCH(D77,'Eingabe Spielernamen'!$B:$B,0)))","v":" "},null,{"$f":"IF(ISBLANK(F77),\" \",INDEX('Eingabe Spielernamen'!$F:$F,MATCH(F77,'Eingabe Spielernamen'!$B:$B,0))&\", \"&INDEX('Eingabe Spielernamen'!$G:$G,MATCH(F77,'Eingabe Spielernamen'!$B:$B,0)))","v":" "},null,{"$f":"IF(A77=\"x\",INDEX('Eingabe Spielernamen'!J:J,MATCH(D77,'Eingabe Spielernamen'!B:B,)),\" \")","v":" "},{"$f":"IF(A77=\"x\",INDEX('Eingabe Spielernamen'!J:J,MATCH(F77,'Eingabe Spielernamen'!B:B,)),\" \")","v":" "},"",null,{"$f":"IF(A77=\"x\",INDEX('Eingabe Spielernamen'!M:M,MATCH(D77,'Eingabe Spielernamen'!B:B,)),\" \")","v":" "},{"$f":"IF(A77=\"x\",INDEX('Eingabe Spielernamen'!M:M,MATCH(F77,'Eingabe Spielernamen'!B:B,)),\" \")","v":" "},"",null,{"$f":"IF(A77=\"x\",INDEX('Eingabe Spielernamen'!Q:Q,MATCH(D77,'Eingabe Spielernamen'!B:B,)),\" \")","v":" "},{"$f":"IF(A77=\"x\",INDEX('Eingabe Spielernamen'!Q:Q,MATCH(F77,'Eingabe Spielernamen'!B:B,)),\" \")","v":" "},""]
[null,null,null,null,{"$f":"IF(ISBLANK(D78),\" \",INDEX('Eingabe Spielernamen'!$F:$F,MATCH(D78,'Eingabe Spielernamen'!$B:$B,0))&\", \"&INDEX('Eingabe Spielernamen'!$G:$G,MATCH(D78,'Eingabe Spielernamen'!$B:$B,0)))","v":" "},null,{"$f":"IF(ISBLANK(F78),\" \",INDEX('Eingabe Spielernamen'!$F:$F,MATCH(F78,'Eingabe Spielernamen'!$B:$B,0))&\", \"&INDEX('Eingabe Spielernamen'!$G:$G,MATCH(F78,'Eingabe Spielernamen'!$B:$B,0)))","v":" "},null,{"$f":"IF(A78=\"x\",INDEX('Eingabe Spielernamen'!J:J,MATCH(D78,'Eingabe Spielernamen'!B:B,)),\" \")","v":" "},{"$f":"IF(A78=\"x\",INDEX('Eingabe Spielernamen'!J:J,MATCH(F78,'Eingabe Spielernamen'!B:B,)),\" \")","v":" "},"",null,{"$f":"IF(A78=\"x\",INDEX('Eingabe Spielernamen'!M:M,MATCH(D78,'Eingabe Spielernamen'!B:B,)),\" \")","v":" "},{"$f":"IF(A78=\"x\",INDEX('Eingabe Spielernamen'!M:M,MATCH(F78,'Eingabe Spielernamen'!B:B,)),\" \")","v":" "},"",null,{"$f":"IF(A78=\"x\",INDEX('Eingabe Spielernamen'!Q:Q,MATCH(D78,'Eingabe Spielernamen'!B:B,)),\" \")","v":" "},{"$f":"IF(A78=\"x\",INDEX('Eingabe Spielernamen'!Q:Q,MATCH(F78,'Eingabe Spielernamen'!B:B,)),\" \")","v":" "},""]
[null,null,null,null,{"$f":"IF(ISBLANK(D79),\" \",INDEX('Eingabe Spielernamen'!$F:$F,MATCH(D79,'Eingabe Spielernamen'!$B:$B,0))&\", \"&INDEX('Eingabe Spielernamen'!$G:$G,MATCH(D79,'Eingabe Spielernamen'!$B:$B,0)))","v":" "},null,{"$f":"IF(ISBLANK(F79),\" \",INDEX('Eingabe Spielernamen'!$F:$F,MATCH(F79,'Eingabe Spielernamen'!$B:$B,0))&\", \"&INDEX('Eingabe Spielernamen'!$G:$G,MATCH(F79,'Eingabe Spielernamen'!$B:$B,0)))","v":" "},null,{"$f":"IF(A79=\"x\",INDEX('Eingabe Spielernamen'!J:J,MATCH(D79,'Eingabe Spielernamen'!B:B,)),\" \")","v":" "},{"$f":"IF(A79=\"x\",INDEX('Eingabe Spielernamen'!J:J,MATCH(F79,'Eingabe Spielernamen'!B:B,)),\" \")","v":" "},"",null,{"$f":"IF(A79=\"x\",INDEX('Eingabe Spielernamen'!M:M,MATCH(D79,'Eingabe Spielernamen'!B:B,)),\" \")","v":" "},{"$f":"IF(A79=\"x\",INDEX('Eingabe Spielernamen'!M:M,MATCH(F79,'Eingabe Spielernamen'!B:B,)),\" \")","v":" "},"",null,{"$f":"IF(A79=\"x\",INDEX('Eingabe Spielernamen'!Q:Q,MATCH(D79,'Eingabe Spielernamen'!B:B,)),\" \")","v":" "},{"$f":"IF(A79=\"x\",INDEX('Eingabe Spielernamen'!Q:Q,MATCH(F79,'Eingabe Spielernamen'!B:B,)),\" \")","v":" "},""]
[null,null,null,null,{"$f":"IF(ISBLANK(D80),\" \",INDEX('Eingabe Spielernamen'!$F:$F,MATCH(D80,'Eingabe Spielernamen'!$B:$B,0))&\", \"&INDEX('Eingabe Spielernamen'!$G:$G,MATCH(D80,'Eingabe Spielernamen'!$B:$B,0)))","v":" "},null,{"$f":"IF(ISBLANK(F80),\" \",INDEX('Eingabe Spielernamen'!$F:$F,MATCH(F80,'Eingabe Spielernamen'!$B:$B,0))&\", \"&INDEX('Eingabe Spielernamen'!$G:$G,MATCH(F80,'Eingabe Spielernamen'!$B:$B,0)))","v":" "},null,{"$f":"IF(A80=\"x\",INDEX('Eingabe Spielernamen'!J:J,MATCH(D80,'Eingabe Spielernamen'!B:B,)),\" \")","v":" "},{"$f":"IF(A80=\"x\",INDEX('Eingabe Spielernamen'!J:J,MATCH(F80,'Eingabe Spielernamen'!B:B,)),\" \")","v":" "},"",null,{"$f":"IF(A80=\"x\",INDEX('Eingabe Spielernamen'!M:M,MATCH(D80,'Eingabe Spielernamen'!B:B,)),\" \")","v":" "},{"$f":"IF(A80=\"x\",INDEX('Eingabe Spielernamen'!M:M,MATCH(F80,'Eingabe Spielernamen'!B:B,)),\" \")","v":" "},"",null,{"$f":"IF(A80=\"x\",INDEX('Eingabe Spielernamen'!Q:Q,MATCH(D80,'Eingabe Spielernamen'!B:B,)),\" \")","v":" "},{"$f":"IF(A80=\"x\",INDEX('Eingabe Spielernamen'!Q:Q,MATCH(F80,'Eingabe Spielernamen'!B:B,)),\" \")","v":" "},""]
[null,null,null,null,{"$f":"IF(ISBLANK(D81),\" \",INDEX('Eingabe Spielernamen'!$F:$F,MATCH(D81,'Eingabe Spielernamen'!$B:$B,0))&\", \"&INDEX('Eingabe Spielernamen'!$G:$G,MATCH(D81,'Eingabe Spielernamen'!$B:$B,0)))","v":" "},null,{"$f":"IF(ISBLANK(F81),\" \",INDEX('Eingabe Spielernamen'!$F:$F,MATCH(F81,'Eingabe Spielernamen'!$B:$B,0))&\", \"&INDEX('Eingabe Spielernamen'!$G:$G,MATCH(F81,'Eingabe Spielernamen'!$B:$B,0)))","v":" "},null,{"$f":"IF(A81=\"x\",INDEX('Eingabe Spielernamen'!J:J,MATCH(D81,'Eingabe Spielernamen'!B:B,)),\" \")","v":" "},{"$f":"IF(A81=\"x\",INDEX('Eingabe Spielernamen'!J:J,MATCH(F81,'Eingabe Spielernamen'!B:B,)),\" \")","v":" "},"",null,{"$f":"IF(A81=\"x\",INDEX('Eingabe Spielernamen'!M:M,MATCH(D81,'Eingabe Spielernamen'!B:B,)),\" \")","v":" "},{"$f":"IF(A81=\"x\",INDEX('Eingabe Spielernamen'!M:M,MATCH(F81,'Eingabe Spielernamen'!B:B,)),\" \")","v":" "},"",null,{"$f":"IF(A81=\"x\",INDEX('Eingabe Spielernamen'!Q:Q,MATCH(D81,'Eingabe Spielernamen'!B:B,)),\" \")","v":" "},{"$f":"IF(A81=\"x\",INDEX('Eingabe Spielernamen'!Q:Q,MATCH(F81,'Eingabe Spielernamen'!B:B,)),\" \")","v":" "},""]
[null,null,null,null,{"$f":"IF(ISBLANK(D82),\" \",INDEX('Eingabe Spielernamen'!$F:$F,MATCH(D82,'Eingabe Spielernamen'!$B:$B,0))&\", \"&INDEX('Eingabe Spielernamen'!$G:$G,MATCH(D82,'Eingabe Spielernamen'!$B:$B,0)))","v":" "},null,{"$f":"IF(ISBLANK(F82),\" \",INDEX('Eingabe Spielernamen'!$F:$F,MATCH(F82,'Eingabe Spielernamen'!$B:$B,0))&\", \"&INDEX('Eingabe Spielernamen'!$G:$G,MATCH(F82,'Eingabe Spielernamen'!$B:$B,0)))","v":" "},null,{"$f":"IF(A82=\"x\",INDEX('Eingabe Spielernamen'!J:J,MATCH(D82,'Eingabe Spielernamen'!B:B,)),\" \")","v":" "},{"$f":"IF(A82=\"x\",INDEX('Eingabe Spielernamen'!J:J,MATCH(F82,'Eingabe Spielernamen'!B:B,)),\" \")","v":" "},"",null,{"$f":"IF(A82=\"x\",INDEX('Eingabe Spielernamen'!M:M,MATCH(D82,'Eingabe Spielernamen'!B:B,)),\" \")","v":" "},{"$f":"IF(A82=\"x\",INDEX('Eingabe Spielernamen'!M:M,MATCH(F82,'Eingabe Spielernamen'!B:B,)),\" \")","v":" "},"",null,{"$f":"IF(A82=\"x\",INDEX('Eingabe Spielernamen'!Q:Q,MATCH(D82,'Eingabe Spielernamen'!B:B,)),\" \")","v":" "},{"$f":"IF(A82=\"x\",INDEX('Eingabe Spielernamen'!Q:Q,MATCH(F82,'Eingabe Spielernamen'!B:B,)),\" \")","v":" "},""]
[null,null,null,null,{"$f":"IF(ISBLANK(D83),\" \",INDEX('Eingabe Spielernamen'!$F:$F,MATCH(D83,'Eingabe Spielernamen'!$B:$B,0))&\", \"&INDEX('Eingabe Spielernamen'!$G:$G,MATCH(D83,'Eingabe Spielernamen'!$B:$B,0)))","v":" "},null,{"$f":"IF(ISBLANK(F83),\" \",INDEX('Eingabe Spielernamen'!$F:$F,MATCH(F83,'Eingabe Spielernamen'!$B:$B,0))&\", \"&INDEX('Eingabe Spielernamen'!$G:$G,MATCH(F83,'Eingabe Spielernamen'!$B:$B,0)))","v":" "},null,{"$f":"IF(A83=\"x\",INDEX('Eingabe Spielernamen'!J:J,MATCH(D83,'Eingabe Spielernamen'!B:B,)),\" \")","v":" "},{"$f":"IF(A83=\"x\",INDEX('Eingabe Spielernamen'!J:J,MATCH(F83,'Eingabe Spielernamen'!B:B,)),\" \")","v":" "},"",null,{"$f":"IF(A83=\"x\",INDEX('Eingabe Spielernamen'!M:M,MATCH(D83,'Eingabe Spielernamen'!B:B,)),\" \")","v":" "},{"$f":"IF(A83=\"x\",INDEX('Eingabe Spielernamen'!M:M,MATCH(F83,'Eingabe Spielernamen'!B:B,)),\" \")","v":" "},"",null,{"$f":"IF(A83=\"x\",INDEX('Eingabe Spielernamen'!Q:Q,MATCH(D83,'Eingabe Spielernamen'!B:B,)),\" \")","v":" "},{"$f":"IF(A83=\"x\",INDEX('Eingabe Spielernamen'!Q:Q,MATCH(F83,'Eingabe Spielernamen'!B:B,)),\" \")","v":" "},""]
[null,null,null,null,{"$f":"IF(ISBLANK(D84),\" \",INDEX('Eingabe Spielernamen'!$F:$F,MATCH(D84,'Eingabe Spielernamen'!$B:$B,0))&\", \"&INDEX('Eingabe Spielernamen'!$G:$G,MATCH(D84,'Eingabe Spielernamen'!$B:$B,0)))","v":" "},null,{"$f":"IF(ISBLANK(F84),\" \",INDEX('Eingabe Spielernamen'!$F:$F,MATCH(F84,'Eingabe Spielernamen'!$B:$B,0))&\", \"&INDEX('Eingabe Spielernamen'!$G:$G,MATCH(F84,'Eingabe Spielernamen'!$B:$B,0)))","v":" "},null,{"$f":"IF(A84=\"x\",INDEX('Eingabe Spielernamen'!J:J,MATCH(D84,'Eingabe Spielernamen'!B:B,)),\" \")","v":" "},{"$f":"IF(A84=\"x\",INDEX('Eingabe Spielernamen'!J:J,MATCH(F84,'Eingabe Spielernamen'!B:B,)),\" \")","v":" "},"",null,{"$f":"IF(A84=\"x\",INDEX('Eingabe Spielernamen'!M:M,MATCH(D84,'Eingabe Spielernamen'!B:B,)),\" \")","v":" "},{"$f":"IF(A84=\"x\",INDEX('Eingabe Spielernamen'!M:M,MATCH(F84,'Eingabe Spielernamen'!B:B,)),\" \")","v":" "},"",null,{"$f":"IF(A84=\"x\",INDEX('Eingabe Spielernamen'!Q:Q,MATCH(D84,'Eingabe Spielernamen'!B:B,)),\" \")","v":" "},{"$f":"IF(A84=\"x\",INDEX('Eingabe Spielernamen'!Q:Q,MATCH(F84,'Eingabe Spielernamen'!B:B,)),\" \")","v":" "},""]
[null,null,null,null,{"$f":"IF(ISBLANK(D85),\" \",INDEX('Eingabe Spielernamen'!$F:$F,MATCH(D85,'Eingabe Spielernamen'!$B:$B,0))&\", \"&INDEX('Eingabe Spielernamen'!$G:$G,MATCH(D85,'Eingabe Spielernamen'!$B:$B,0)))","v":" "},null,{"$f":"IF(ISBLANK(F85),\" \",INDEX('Eingabe Spielernamen'!$F:$F,MATCH(F85,'Eingabe Spielernamen'!$B:$B,0))&\", \"&INDEX('Eingabe Spielernamen'!$G:$G,MATCH(F85,'Eingabe Spielernamen'!$B:$B,0)))","v":" "},null,{"$f":"IF(A85=\"x\",INDEX('Eingabe Spielernamen'!J:J,MATCH(D85,'Eingabe Spielernamen'!B:B,)),\" \")","v":" "},{"$f":"IF(A85=\"x\",INDEX('Eingabe Spielernamen'!J:J,MATCH(F85,'Eingabe Spielernamen'!B:B,)),\" \")","v":" "},"",null,{"$f":"IF(A85=\"x\",INDEX('Eingabe Spielernamen'!M:M,MATCH(D85,'Eingabe Spielernamen'!B:B,)),\" \")","v":" "},{"$f":"IF(A85=\"x\",INDEX('Eingabe Spielernamen'!M:M,MATCH(F85,'Eingabe Spielernamen'!B:B,)),\" \")","v":" "},"",null,{"$f":"IF(A85=\"x\",INDEX('Eingabe Spielernamen'!Q:Q,MATCH(D85,'Eingabe Spielernamen'!B:B,)),\" \")","v":" "},{"$f":"IF(A85=\"x\",INDEX('Eingabe Spielernamen'!Q:Q,MATCH(F85,'Eingabe Spielernamen'!B:B,)),\" \")","v":" "},""]
[null,null,null,null,{"$f":"IF(ISBLANK(D86),\" \",INDEX('Eingabe Spielernamen'!$F:$F,MATCH(D86,'Eingabe Spielernamen'!$B:$B,0))&\", \"&INDEX('Eingabe Spielernamen'!$G:$G,MATCH(D86,'Eingabe Spielernamen'!$B:$B,0)))","v":" "},null,{"$f":"IF(ISBLANK(F86),\" \",INDEX('Eingabe Spielernamen'!$F:$F,MATCH(F86,'Eingabe Spielernamen'!$B:$B,0))&\", \"&INDEX('Eingabe Spielernamen'!$G:$G,MATCH(F86,'Eingabe Spielernamen'!$B:$B,0)))","v":" "},null,{"$f":"IF(A86=\"x\",INDEX('Eingabe Spielernamen'!J:J,MATCH(D86,'Eingabe Spielernamen'!B:B,)),\" \")","v":" "},{"$f":"IF(A86=\"x\",INDEX('Eingabe Spielernamen'!J:J,MATCH(F86,'Eingabe Spielernamen'!B:B,)),\" \")","v":" "},"",null,{"$f":"IF(A86=\"x\",INDEX('Eingabe Spielernamen'!M:M,MATCH(D86,'Eingabe Spielernamen'!B:B,)),\" \")","v":" "},{"$f":"IF(A86=\"x\",INDEX('Eingabe Spielernamen'!M:M,MATCH(F86,'Eingabe Spielernamen'!B:B,)),\" \")","v":" "},"",null,{"$f":"IF(A86=\"x\",INDEX('Eingabe Spielernamen'!Q:Q,MATCH(D86,'Eingabe Spielernamen'!B:B,)),\" \")","v":" "},{"$f":"IF(A86=\"x\",INDEX('Eingabe Spielernamen'!Q:Q,MATCH(F86,'Eingabe Spielernamen'!B:B,)),\" \")","v":" "},""]
[null,null,null,null,{"$f":"IF(ISBLANK(D87),\" \",INDEX('Eingabe Spielernamen'!$F:$F,MATCH(D87,'Eingabe Spielernamen'!$B:$B,0))&\", \"&INDEX('Eingabe Spielernamen'!$G:$G,MATCH(D87,'Eingabe Spielernamen'!$B:$B,0)))","v":" "},null,{"$f":"IF(ISBLANK(F87),\" \",INDEX('Eingabe Spielernamen'!$F:$F,MATCH(F87,'Eingabe Spielernamen'!$B:$B,0))&\", \"&INDEX('Eingabe Spielernamen'!$G:$G,MATCH(F87,'Eingabe Spielernamen'!$B:$B,0)))","v":" "},null,{"$f":"IF(A87=\"x\",INDEX('Eingabe Spielernamen'!J:J,MATCH(D87,'Eingabe Spielernamen'!B:B,)),\" \")","v":" "},{"$f":"IF(A87=\"x\",INDEX('Eingabe Spielernamen'!J:J,MATCH(F87,'Eingabe Spielernamen'!B:B,)),\" \")","v":" "},"",null,{"$f":"IF(A87=\"x\",INDEX('Eingabe Spielernamen'!M:M,MATCH(D87,'Eingabe Spielernamen'!B:B,)),\" \")","v":" "},{"$f":"IF(A87=\"x\",INDEX('Eingabe Spielernamen'!M:M,MATCH(F87,'Eingabe Spielernamen'!B:B,)),\" \")","v":" "},"",null,{"$f":"IF(A87=\"x\",INDEX('Eingabe Spielernamen'!Q:Q,MATCH(D87,'Eingabe Spielernamen'!B:B,)),\" \")","v":" "},{"$f":"IF(A87=\"x\",INDEX('Eingabe Spielernamen'!Q:Q,MATCH(F87,'Eingabe Spielernamen'!B:B,)),\" \")","v":" "},""]
[null,null,null,null,{"$f":"IF(ISBLANK(D88),\" \",INDEX('Eingabe Spielernamen'!$F:$F,MATCH(D88,'Eingabe Spielernamen'!$B:$B,0))&\", \"&INDEX('Eingabe Spielernamen'!$G:$G,MATCH(D88,'Eingabe Spielernamen'!$B:$B,0)))","v":" "},null,{"$f":"IF(ISBLANK(F88),\" \",INDEX('Eingabe Spielernamen'!$F:$F,MATCH(F88,'Eingabe Spielernamen'!$B:$B,0))&\", \"&INDEX('Eingabe Spielernamen'!$G:$G,MATCH(F88,'Eingabe Spielernamen'!$B:$B,0)))","v":" "},null,{"$f":"IF(A88=\"x\",INDEX('Eingabe Spielernamen'!J:J,MATCH(D88,'Eingabe Spielernamen'!B:B,)),\" \")","v":" "},{"$f":"IF(A88=\"x\",INDEX('Eingabe Spielernamen'!J:J,MATCH(F88,'Eingabe Spielernamen'!B:B,)),\" \")","v":" "},"",null,{"$f":"IF(A88=\"x\",INDEX('Eingabe Spielernamen'!M:M,MATCH(D88,'Eingabe Spielernamen'!B:B,)),\" \")","v":" "},{"$f":"IF(A88=\"x\",INDEX('Eingabe Spielernamen'!M:M,MATCH(F88,'Eingabe Spielernamen'!B:B,)),\" \")","v":" "},"",null,{"$f":"IF(A88=\"x\",INDEX('Eingabe Spielernamen'!Q:Q,MATCH(D88,'Eingabe Spielernamen'!B:B,)),\" \")","v":" "},{"$f":"IF(A88=\"x\",INDEX('Eingabe Spielernamen'!Q:Q,MATCH(F88,'Eingabe Spielernamen'!B:B,)),\" \")","v":" "},""]
[null,null,null,null,{"$f":"IF(ISBLANK(D89),\" \",INDEX('Eingabe Spielernamen'!$F:$F,MATCH(D89,'Eingabe Spielernamen'!$B:$B,0))&\", \"&INDEX('Eingabe Spielernamen'!$G:$G,MATCH(D89,'Eingabe Spielernamen'!$B:$B,0)))","v":" "},null,{"$f":"IF(ISBLANK(F89),\" \",INDEX('Eingabe Spielernamen'!$F:$F,MATCH(F89,'Eingabe Spielernamen'!$B:$B,0))&\", \"&INDEX('Eingabe Spielernamen'!$G:$G,MATCH(F89,'Eingabe Spielernamen'!$B:$B,0)))","v":" "},null,{"$f":"IF(A89=\"x\",INDEX('Eingabe Spielernamen'!J:J,MATCH(D89,'Eingabe Spielernamen'!B:B,)),\" \")","v":" "},{"$f":"IF(A89=\"x\",INDEX('Eingabe Spielernamen'!J:J,MATCH(F89,'Eingabe Spielernamen'!B:B,)),\" \")","v":" "},"",null,{"$f":"IF(A89=\"x\",INDEX('Eingabe Spielernamen'!M:M,MATCH(D89,'Eingabe Spielernamen'!B:B,)),\" \")","v":" "},{"$f":"IF(A89=\"x\",INDEX('Eingabe Spielernamen'!M:M,MATCH(F89,'Eingabe Spielernamen'!B:B,)),\" \")","v":" "},"",null,{"$f":"IF(A89=\"x\",INDEX('Eingabe Spielernamen'!Q:Q,MATCH(D89,'Eingabe Spielernamen'!B:B,)),\" \")","v":" "},{"$f":"IF(A89=\"x\",INDEX('Eingabe Spielernamen'!Q:Q,MATCH(F89,'Eingabe Spielernamen'!B:B,)),\" \")","v":" "},""]
[null,null,null,null,{"$f":"IF(ISBLANK(D90),\" \",INDEX('Eingabe Spielernamen'!$F:$F,MATCH(D90,'Eingabe Spielernamen'!$B:$B,0))&\", \"&INDEX('Eingabe Spielernamen'!$G:$G,MATCH(D90,'Eingabe Spielernamen'!$B:$B,0)))","v":" "},null,{"$f":"IF(ISBLANK(F90),\" \",INDEX('Eingabe Spielernamen'!$F:$F,MATCH(F90,'Eingabe Spielernamen'!$B:$B,0))&\", \"&INDEX('Eingabe Spielernamen'!$G:$G,MATCH(F90,'Eingabe Spielernamen'!$B:$B,0)))","v":" "},null,{"$f":"IF(A90=\"x\",INDEX('Eingabe Spielernamen'!J:J,MATCH(D90,'Eingabe Spielernamen'!B:B,)),\" \")","v":" "},{"$f":"IF(A90=\"x\",INDEX('Eingabe Spielernamen'!J:J,MATCH(F90,'Eingabe Spielernamen'!B:B,)),\" \")","v":" "},"",null,{"$f":"IF(A90=\"x\",INDEX('Eingabe Spielernamen'!M:M,MATCH(D90,'Eingabe Spielernamen'!B:B,)),\" \")","v":" "},{"$f":"IF(A90=\"x\",INDEX('Eingabe Spielernamen'!M:M,MATCH(F90,'Eingabe Spielernamen'!B:B,)),\" \")","v":" "},"",null,{"$f":"IF(A90=\"x\",INDEX('Eingabe Spielernamen'!Q:Q,MATCH(D90,'Eingabe Spielernamen'!B:B,)),\" \")","v":" "},{"$f":"IF(A90=\"x\",INDEX('Eingabe Spielernamen'!Q:Q,MATCH(F90,'Eingabe Spielernamen'!B:B,)),\" \")","v":" "},""]
[null,null,null,null,{"$f":"IF(ISBLANK(D91),\" \",INDEX('Eingabe Spielernamen'!$F:$F,MATCH(D91,'Eingabe Spielernamen'!$B:$B,0))&\", \"&INDEX('Eingabe Spielernamen'!$G:$G,MATCH(D91,'Eingabe Spielernamen'!$B:$B,0)))","v":" "},null,{"$f":"IF(ISBLANK(F91),\" \",INDEX('Eingabe Spielernamen'!$F:$F,MATCH(F91,'Eingabe Spielernamen'!$B:$B,0))&\", \"&INDEX('Eingabe Spielernamen'!$G:$G,MATCH(F91,'Eingabe Spielernamen'!$B:$B,0)))","v":" "},null,{"$f":"IF(A91=\"x\",INDEX('Eingabe Spielernamen'!J:J,MATCH(D91,'Eingabe Spielernamen'!B:B,)),\" \")","v":" "},{"$f":"IF(A91=\"x\",INDEX('Eingabe Spielernamen'!J:J,MATCH(F91,'Eingabe Spielernamen'!B:B,)),\" \")","v":" "},"",null,{"$f":"IF(A91=\"x\",INDEX('Eingabe Spielernamen'!M:M,MATCH(D91,'Eingabe Spielernamen'!B:B,)),\" \")","v":" "},{"$f":"IF(A91=\"x\",INDEX('Eingabe Spielernamen'!M:M,MATCH(F91,'Eingabe Spielernamen'!B:B,)),\" \")","v":" "},"",null,{"$f":"IF(A91=\"x\",INDEX('Eingabe Spielernamen'!Q:Q,MATCH(D91,'Eingabe Spielernamen'!B:B,)),\" \")","v":" "},{"$f":"IF(A91=\"x\",INDEX('Eingabe Spielernamen'!Q:Q,MATCH(F91,'Eingabe Spielernamen'!B:B,)),\" \")","v":" "},""]
[null,null,null,null,{"$f":"IF(ISBLANK(D92),\" \",INDEX('Eingabe Spielernamen'!$F:$F,MATCH(D92,'Eingabe Spielernamen'!$B:$B,0))&\", \"&INDEX('Eingabe Spielernamen'!$G:$G,MATCH(D92,'Eingabe Spielernamen'!$B:$B,0)))","v":" "},null,{"$f":"IF(ISBLANK(F92),\" \",INDEX('Eingabe Spielernamen'!$F:$F,MATCH(F92,'Eingabe Spielernamen'!$B:$B,0))&\", \"&INDEX('Eingabe Spielernamen'!$G:$G,MATCH(F92,'Eingabe Spielernamen'!$B:$B,0)))","v":" "},null,{"$f":"IF(A92=\"x\",INDEX('Eingabe Spielernamen'!J:J,MATCH(D92,'Eingabe Spielernamen'!B:B,)),\" \")","v":" "},{"$f":"IF(A92=\"x\",INDEX('Eingabe Spielernamen'!J:J,MATCH(F92,'Eingabe Spielernamen'!B:B,)),\" \")","v":" "},"",null,{"$f":"IF(A92=\"x\",INDEX('Eingabe Spielernamen'!M:M,MATCH(D92,'Eingabe Spielernamen'!B:B,)),\" \")","v":" "},{"$f":"IF(A92=\"x\",INDEX('Eingabe Spielernamen'!M:M,MATCH(F92,'Eingabe Spielernamen'!B:B,)),\" \")","v":" "},"",null,{"$f":"IF(A92=\"x\",INDEX('Eingabe Spielernamen'!Q:Q,MATCH(D92,'Eingabe Spielernamen'!B:B,)),\" \")","v":" "},{"$f":"IF(A92=\"x\",INDEX('Eingabe Spielernamen'!Q:Q,MATCH(F92,'Eingabe Spielernamen'!B:B,)),\" \")","v":" "},""]
[null,null,null,null,{"$f":"IF(ISBLANK(D93),\" \",INDEX('Eingabe Spielernamen'!$F:$F,MATCH(D93,'Eingabe Spielernamen'!$B:$B,0))&\", \"&INDEX('Eingabe Spielernamen'!$G:$G,MATCH(D93,'Eingabe Spielernamen'!$B:$B,0)))","v":" "},null,{"$f":"IF(ISBLANK(F93),\" \",INDEX('Eingabe Spielernamen'!$F:$F,MATCH(F93,'Eingabe Spielernamen'!$B:$B,0))&\", \"&INDEX('Eingabe Spielernamen'!$G:$G,MATCH(F93,'Eingabe Spielernamen'!$B:$B,0)))","v":" "},null,{"$f":"IF(A93=\"x\",INDEX('Eingabe Spielernamen'!J:J,MATCH(D93,'Eingabe Spielernamen'!B:B,)),\" \")","v":" "},{"$f":"IF(A93=\"x\",INDEX('Eingabe Spielernamen'!J:J,MATCH(F93,'Eingabe Spielernamen'!B:B,)),\" \")","v":" "},"",null,{"$f":"IF(A93=\"x\",INDEX('Eingabe Spielernamen'!M:M,MATCH(D93,'Eingabe Spielernamen'!B:B,)),\" \")","v":" "},{"$f":"IF(A93=\"x\",INDEX('Eingabe Spielernamen'!M:M,MATCH(F93,'Eingabe Spielernamen'!B:B,)),\" \")","v":" "},"",null,{"$f":"IF(A93=\"x\",INDEX('Eingabe Spielernamen'!Q:Q,MATCH(D93,'Eingabe Spielernamen'!B:B,)),\" \")","v":" "},{"$f":"IF(A93=\"x\",INDEX('Eingabe Spielernamen'!Q:Q,MATCH(F93,'Eingabe Spielernamen'!B:B,)),\" \")","v":" "},""]
[null,null,null,null,{"$f":"IF(ISBLANK(D94),\" \",INDEX('Eingabe Spielernamen'!$F:$F,MATCH(D94,'Eingabe Spielernamen'!$B:$B,0))&\", \"&INDEX('Eingabe Spielernamen'!$G:$G,MATCH(D94,'Eingabe Spielernamen'!$B:$B,0)))","v":" "},null,{"$f":"IF(ISBLANK(F94),\" \",INDEX('Eingabe Spielernamen'!$F:$F,MATCH(F94,'Eingabe Spielernamen'!$B:$B,0))&\", \"&INDEX('Eingabe Spielernamen'!$G:$G,MATCH(F94,'Eingabe Spielernamen'!$B:$B,0)))","v":" "},null,{"$f":"IF(A94=\"x\",INDEX('Eingabe Spielernamen'!J:J,MATCH(D94,'Eingabe Spielernamen'!B:B,)),\" \")","v":" "},{"$f":"IF(A94=\"x\",INDEX('Eingabe Spielernamen'!J:J,MATCH(F94,'Eingabe Spielernamen'!B:B,)),\" \")","v":" "},"",null,{"$f":"IF(A94=\"x\",INDEX('Eingabe Spielernamen'!M:M,MATCH(D94,'Eingabe Spielernamen'!B:B,)),\" \")","v":" "},{"$f":"IF(A94=\"x\",INDEX('Eingabe Spielernamen'!M:M,MATCH(F94,'Eingabe Spielernamen'!B:B,)),\" \")","v":" "},"",null,{"$f":"IF(A94=\"x\",INDEX('Eingabe Spielernamen'!Q:Q,MATCH(D94,'Eingabe Spielernamen'!B:B,)),\" \")","v":" "},{"$f":"IF(A94=\"x\",INDEX('Eingabe Spielernamen'!Q:Q,MATCH(F94,'Eingabe Spielernamen'!B:B,)),\" \")","v":" "},""]
[null,null,null,null,{"$f":"IF(ISBLANK(D95),\" \",INDEX('Eingabe Spielernamen'!$F:$F,MATCH(D95,'Eingabe Spielernamen'!$B:$B,0))&\", \"&INDEX('Eingabe Spielernamen'!$G:$G,MATCH(D95,'Eingabe Spielernamen'!$B:$B,0)))","v":" "},null,{"$f":"IF(ISBLANK(F95),\" \",INDEX('Eingabe Spielernamen'!$F:$F,MATCH(F95,'Eingabe Spielernamen'!$B:$B,0))&\", \"&INDEX('Eingabe Spielernamen'!$G:$G,MATCH(F95,'Eingabe Spielernamen'!$B:$B,0)))","v":" "},null,{"$f":"IF(A95=\"x\",INDEX('Eingabe Spielernamen'!J:J,MATCH(D95,'Eingabe Spielernamen'!B:B,)),\" \")","v":" "},{"$f":"IF(A95=\"x\",INDEX('Eingabe Spielernamen'!J:J,MATCH(F95,'Eingabe Spielernamen'!B:B,)),\" \")","v":" "},"",null,{"$f":"IF(A95=\"x\",INDEX('Eingabe Spielernamen'!M:M,MATCH(D95,'Eingabe Spielernamen'!B:B,)),\" \")","v":" "},{"$f":"IF(A95=\"x\",INDEX('Eingabe Spielernamen'!M:M,MATCH(F95,'Eingabe Spielernamen'!B:B,)),\" \")","v":" "},"",null,{"$f":"IF(A95=\"x\",INDEX('Eingabe Spielernamen'!Q:Q,MATCH(D95,'Eingabe Spielernamen'!B:B,)),\" \")","v":" "},{"$f":"IF(A95=\"x\",INDEX('Eingabe Spielernamen'!Q:Q,MATCH(F95,'Eingabe Spielernamen'!B:B,)),\" \")","v":" "},""]
[null,null,null,null,{"$f":"IF(ISBLANK(D96),\" \",INDEX('Eingabe Spielernamen'!$F:$F,MATCH(D96,'Eingabe Spielernamen'!$B:$B,0))&\", \"&INDEX('Eingabe Spielernamen'!$G:$G,MATCH(D96,'Eingabe Spielernamen'!$B:$B,0)))","v":" "},null,{"$f":"IF(ISBLANK(F96),\" \",INDEX('Eingabe Spielernamen'!$F:$F,MATCH(F96,'Eingabe Spielernamen'!$B:$B,0))&\", \"&INDEX('Eingabe Spielernamen'!$G:$G,MATCH(F96,'Eingabe Spielernamen'!$B:$B,0)))","v":" "},null,{"$f":"IF(A96=\"x\",INDEX('Eingabe Spielernamen'!J:J,MATCH(D96,'Eingabe Spielernamen'!B:B,)),\" \")","v":" "},{"$f":"IF(A96=\"x\",INDEX('Eingabe Spielernamen'!J:J,MATCH(F96,'Eingabe Spielernamen'!B:B,)),\" \")","v":" "},"",null,{"$f":"IF(A96=\"x\",INDEX('Eingabe Spielernamen'!M:M,MATCH(D96,'Eingabe Spielernamen'!B:B,)),\" \")","v":" "},{"$f":"IF(A96=\"x\",INDEX('Eingabe Spielernamen'!M:M,MATCH(F96,'Eingabe Spielernamen'!B:B,)),\" \")","v":" "},"",null,{"$f":"IF(A96=\"x\",INDEX('Eingabe Spielernamen'!Q:Q,MATCH(D96,'Eingabe Spielernamen'!B:B,)),\" \")","v":" "},{"$f":"IF(A96=\"x\",INDEX('Eingabe Spielernamen'!Q:Q,MATCH(F96,'Eingabe Spielernamen'!B:B,)),\" \")","v":" "},""]
[null,null,null,null,{"$f":"IF(ISBLANK(D97),\" \",INDEX('Eingabe Spielernamen'!$F:$F,MATCH(D97,'Eingabe Spielernamen'!$B:$B,0))&\", \"&INDEX('Eingabe Spielernamen'!$G:$G,MATCH(D97,'Eingabe Spielernamen'!$B:$B,0)))","v":" "},null,{"$f":"IF(ISBLANK(F97),\" \",INDEX('Eingabe Spielernamen'!$F:$F,MATCH(F97,'Eingabe Spielernamen'!$B:$B,0))&\", \"&INDEX('Eingabe Spielernamen'!$G:$G,MATCH(F97,'Eingabe Spielernamen'!$B:$B,0)))","v":" "},null,{"$f":"IF(A97=\"x\",INDEX('Eingabe Spielernamen'!J:J,MATCH(D97,'Eingabe Spielernamen'!B:B,)),\" \")","v":" "},{"$f":"IF(A97=\"x\",INDEX('Eingabe Spielernamen'!J:J,MATCH(F97,'Eingabe Spielernamen'!B:B,)),\" \")","v":" "},"",null,{"$f":"IF(A97=\"x\",INDEX('Eingabe Spielernamen'!M:M,MATCH(D97,'Eingabe Spielernamen'!B:B,)),\" \")","v":" "},{"$f":"IF(A97=\"x\",INDEX('Eingabe Spielernamen'!M:M,MATCH(F97,'Eingabe Spielernamen'!B:B,)),\" \")","v":" "},"",null,{"$f":"IF(A97=\"x\",INDEX('Eingabe Spielernamen'!Q:Q,MATCH(D97,'Eingabe Spielernamen'!B:B,)),\" \")","v":" "},{"$f":"IF(A97=\"x\",INDEX('Eingabe Spielernamen'!Q:Q,MATCH(F97,'Eingabe Spielernamen'!B:B,)),\" \")","v":" "},""]
[null,null,null,null,{"$f":"IF(ISBLANK(D98),\" \",INDEX('Eingabe Spielernamen'!$F:$F,MATCH(D98,'Eingabe Spielernamen'!$B:$B,0))&\", \"&INDEX('Eingabe Spielernamen'!$G:$G,MATCH(D98,'Eingabe Spielernamen'!$B:$B,0)))","v":" "},null,{"$f":"IF(ISBLANK(F98),\" \",INDEX('Eingabe Spielernamen'!$F:$F,MATCH(F98,'Eingabe Spielernamen'!$B:$B,0))&\", \"&INDEX('Eingabe Spielernamen'!$G:$G,MATCH(F98,'Eingabe Spielernamen'!$B:$B,0)))","v":" "},null,{"$f":"IF(A98=\"x\",INDEX('Eingabe Spielernamen'!J:J,MATCH(D98,'Eingabe Spielernamen'!B:B,)),\" \")","v":" "},{"$f":"IF(A98=\"x\",INDEX('Eingabe Spielernamen'!J:J,MATCH(F98,'Eingabe Spielernamen'!B:B,)),\" \")","v":" "},"",null,{"$f":"IF(A98=\"x\",INDEX('Eingabe Spielernamen'!M:M,MATCH(D98,'Eingabe Spielernamen'!B:B,)),\" \")","v":" "},{"$f":"IF(A98=\"x\",INDEX('Eingabe Spielernamen'!M:M,MATCH(F98,'Eingabe Spielernamen'!B:B,)),\" \")","v":" "},"",null,{"$f":"IF(A98=\"x\",INDEX('Eingabe Spielernamen'!Q:Q,MATCH(D98,'Eingabe Spielernamen'!B:B,)),\" \")","v":" "},{"$f":"IF(A98=\"x\",INDEX('Eingabe Spielernamen'!Q:Q,MATCH(F98,'Eingabe Spielernamen'!B:B,)),\" \")","v":" "},""]
[null,null,null,null,{"$f":"IF(ISBLANK(D99),\" \",INDEX('Eingabe Spielernamen'!$F:$F,MATCH(D99,'Eingabe Spielernamen'!$B:$B,0))&\", \"&INDEX('Eingabe Spielernamen'!$G:$G,MATCH(D99,'Eingabe Spielernamen'!$B:$B,0)))","v":" "},null,{"$f":"IF(ISBLANK(F99),\" \",INDEX('Eingabe Spielernamen'!$F:$F,MATCH(F99,'Eingabe Spielernamen'!$B:$B,0))&\", \"&INDEX('Eingabe Spielernamen'!$G:$G,MATCH(F99,'Eingabe Spielernamen'!$B:$B,0)))","v":" "},null,{"$f":"IF(A99=\"x\",INDEX('Eingabe Spielernamen'!J:J,MATCH(D99,'Eingabe Spielernamen'!B:B,)),\" \")","v":" "},{"$f":"IF(A99=\"x\",INDEX('Eingabe Spielernamen'!J:J,MATCH(F99,'Eingabe Spielernamen'!B:B,)),\" \")","v":" "},"",null,{"$f":"IF(A99=\"x\",INDEX('Eingabe Spielernamen'!M:M,MATCH(D99,'Eingabe Spielernamen'!B:B,)),\" \")","v":" "},{"$f":"IF(A99=\"x\",INDEX('Eingabe Spielernamen'!M:M,MATCH(F99,'Eingabe Spielernamen'!B:B,)),\" \")","v":" "},"",null,{"$f":"IF(A99=\"x\",INDEX('Eingabe Spielernamen'!Q:Q,MATCH(D99,'Eingabe Spielernamen'!B:B,)),\" \")","v":" "},{"$f":"IF(A99=\"x\",INDEX('Eingabe Spielernamen'!Q:Q,MATCH(F99,'Eingabe Spielernamen'!B:B,)),\" \")","v":" "},""]
[null,null,null,null,{"$f":"IF(ISBLANK(D100),\" \",INDEX('Eingabe Spielernamen'!$F:$F,MATCH(D100,'Eingabe Spielernamen'!$B:$B,0))&\", \"&INDEX('Eingabe Spielernamen'!$G:$G,MATCH(D100,'Eingabe Spielernamen'!$B:$B,0)))","v":" "},null,{"$f":"IF(ISBLANK(F100),\" \",INDEX('Eingabe Spielernamen'!$F:$F,MATCH(F100,'Eingabe Spielernamen'!$B:$B,0))&\", \"&INDEX('Eingabe Spielernamen'!$G:$G,MATCH(F100,'Eingabe Spielernamen'!$B:$B,0)))","v":" "},null,{"$f":"IF(A100=\"x\",INDEX('Eingabe Spielernamen'!J:J,MATCH(D100,'Eingabe Spielernamen'!B:B,)),\" \")","v":" "},{"$f":"IF(A100=\"x\",INDEX('Eingabe Spielernamen'!J:J,MATCH(F100,'Eingabe Spielernamen'!B:B,)),\" \")","v":" "},"",null,{"$f":"IF(A100=\"x\",INDEX('Eingabe Spielernamen'!M:M,MATCH(D100,'Eingabe Spielernamen'!B:B,)),\" \")","v":" "},{"$f":"IF(A100=\"x\",INDEX('Eingabe Spielernamen'!M:M,MATCH(F100,'Eingabe Spielernamen'!B:B,)),\" \")","v":" "},"",null,{"$f":"IF(A100=\"x\",INDEX('Eingabe Spielernamen'!Q:Q,MATCH(D100,'Eingabe Spielernamen'!B:B,)),\" \")","v":" "},{"$f":"IF(A100=\"x\",INDEX('Eingabe Spielernamen'!Q:Q,MATCH(F100,'Eingabe Spielernamen'!B:B,)),\" \")","v":" "},""]
[null,null,null,null,{"$f":"IF(ISBLANK(D101),\" \",INDEX('Eingabe Spielernamen'!$F:$F,MATCH(D101,'Eingabe Spielernamen'!$B:$B,0))&\", \"&INDEX('Eingabe Spielernamen'!$G:$G,MATCH(D101,'Eingabe Spielernamen'!$B:$B,0)))","v":" "},null,{"$f":"IF(ISBLANK(F101),\" \",INDEX('Eingabe Spielernamen'!$F:$F,MATCH(F101,'Eingabe Spielernamen'!$B:$B,0))&\", \"&INDEX('Eingabe Spielernamen'!$G:$G,MATCH(F101,'Eingabe Spielernamen'!$B:$B,0)))","v":" "},null,{"$f":"IF(A101=\"x\",INDEX('Eingabe Spielernamen'!J:J,MATCH(D101,'Eingabe Spielernamen'!B:B,)),\" \")","v":" "},{"$f":"IF(A101=\"x\",INDEX('Eingabe Spielernamen'!J:J,MATCH(F101,'Eingabe Spielernamen'!B:B,)),\" \")","v":" "},"",null,{"$f":"IF(A101=\"x\",INDEX('Eingabe Spielernamen'!M:M,MATCH(D101,'Eingabe Spielernamen'!B:B,)),\" \")","v":" "},{"$f":"IF(A101=\"x\",INDEX('Eingabe Spielernamen'!M:M,MATCH(F101,'Eingabe Spielernamen'!B:B,)),\" \")","v":" "},"",null,{"$f":"IF(A101=\"x\",INDEX('Eingabe Spielernamen'!Q:Q,MATCH(D101,'Eingabe Spielernamen'!B:B,)),\" \")","v":" "},{"$f":"IF(A101=\"x\",INDEX('Eingabe Spielernamen'!Q:Q,MATCH(F101,'Eingabe Spielernamen'!B:B,)),\" \")","v":" "},""]
[null,null,null,null,{"$f":"IF(ISBLANK(D102),\" \",INDEX('Eingabe Spielernamen'!$F:$F,MATCH(D102,'Eingabe Spielernamen'!$B:$B,0))&\", \"&INDEX('Eingabe Spielernamen'!$G:$G,MATCH(D102,'Eingabe Spielernamen'!$B:$B,0)))","v":" "},null,{"$f":"IF(ISBLANK(F102),\" \",INDEX('Eingabe Spielernamen'!$F:$F,MATCH(F102,'Eingabe Spielernamen'!$B:$B,0))&\", \"&INDEX('Eingabe Spielernamen'!$G:$G,MATCH(F102,'Eingabe Spielernamen'!$B:$B,0)))","v":" "},null,{"$f":"IF(A102=\"x\",INDEX('Eingabe Spielernamen'!J:J,MATCH(D102,'Eingabe Spielernamen'!B:B,)),\" \")","v":" "},{"$f":"IF(A102=\"x\",INDEX('Eingabe Spielernamen'!J:J,MATCH(F102,'Eingabe Spielernamen'!B:B,)),\" \")","v":" "},"",null,{"$f":"IF(A102=\"x\",INDEX('Eingabe Spielernamen'!M:M,MATCH(D102,'Eingabe Spielernamen'!B:B,)),\" \")","v":" "},{"$f":"IF(A102=\"x\",INDEX('Eingabe Spielernamen'!M:M,MATCH(F102,'Eingabe Spielernamen'!B:B,)),\" \")","v":" "},"",null,{"$f":"IF(A102=\"x\",INDEX('Eingabe Spielernamen'!Q:Q,MATCH(D102,'Eingabe Spielernamen'!B:B,)),\" \")","v":" "},{"$f":"IF(A102=\"x\",INDEX('Eingabe Spielernamen'!Q:Q,MATCH(F102,'Eingabe Spielernamen'!B:B,)),\" \")","v":" "},""]
[null,null,null,null,{"$f":"IF(ISBLANK(D103),\" \",INDEX('Eingabe Spielernamen'!$F:$F,MATCH(D103,'Eingabe Spielernamen'!$B:$B,0))&\", \"&INDEX('Eingabe Spielernamen'!$G:$G,MATCH(D103,'Eingabe Spielernamen'!$B:$B,0)))","v":" "},null,{"$f":"IF(ISBLANK(F103),\" \",INDEX('Eingabe Spielernamen'!$F:$F,MATCH(F103,'Eingabe Spielernamen'!$B:$B,0))&\", \"&INDEX('Eingabe Spielernamen'!$G:$G,MATCH(F103,'Eingabe Spielernamen'!$B:$B,0)))","v":" "},null,{"$f":"IF(A103=\"x\",INDEX('Eingabe Spielernamen'!J:J,MATCH(D103,'Eingabe Spielernamen'!B:B,)),\" \")","v":" "},{"$f":"IF(A103=\"x\",INDEX('Eingabe Spielernamen'!J:J,MATCH(F103,'Eingabe Spielernamen'!B:B,)),\" \")","v":" "},"",null,{"$f":"IF(A103=\"x\",INDEX('Eingabe Spielernamen'!M:M,MATCH(D103,'Eingabe Spielernamen'!B:B,)),\" \")","v":" "},{"$f":"IF(A103=\"x\",INDEX('Eingabe Spielernamen'!M:M,MATCH(F103,'Eingabe Spielernamen'!B:B,)),\" \")","v":" "},"",null,{"$f":"IF(A103=\"x\",INDEX('Eingabe Spielernamen'!Q:Q,MATCH(D103,'Eingabe Spielernamen'!B:B,)),\" \")","v":" "},{"$f":"IF(A103=\"x\",INDEX('Eingabe Spielernamen'!Q:Q,MATCH(F103,'Eingabe Spielernamen'!B:B,)),\" \")","v":" "},""]
[null,null,null,null,{"$f":"IF(ISBLANK(D104),\" \",INDEX('Eingabe Spielernamen'!$F:$F,MATCH(D104,'Eingabe Spielernamen'!$B:$B,0))&\", \"&INDEX('Eingabe Spielernamen'!$G:$G,MATCH(D104,'Eingabe Spielernamen'!$B:$B,0)))","v":" "},null,{"$f":"IF(ISBLANK(F104),\" \",INDEX('Eingabe Spielernamen'!$F:$F,MATCH(F104,'Eingabe Spielernamen'!$B:$B,0))&\", \"&INDEX('Eingabe Spielernamen'!$G:$G,MATCH(F104,'Eingabe Spielernamen'!$B:$B,0)))","v":" "},null,{"$f":"IF(A104=\"x\",INDEX('Eingabe Spielernamen'!J:J,MATCH(D104,'Eingabe Spielernamen'!B:B,)),\" \")","v":" "},{"$f":"IF(A104=\"x\",INDEX('Eingabe Spielernamen'!J:J,MATCH(F104,'Eingabe Spielernamen'!B:B,)),\" \")","v":" "},"",null,{"$f":"IF(A104=\"x\",INDEX('Eingabe Spielernamen'!M:M,MATCH(D104,'Eingabe Spielernamen'!B:B,)),\" \")","v":" "},{"$f":"IF(A104=\"x\",INDEX('Eingabe Spielernamen'!M:M,MATCH(F104,'Eingabe Spielernamen'!B:B,)),\" \")","v":" "},"",null,{"$f":"IF(A104=\"x\",INDEX('Eingabe Spielernamen'!Q:Q,MATCH(D104,'Eingabe Spielernamen'!B:B,)),\" \")","v":" "},{"$f":"IF(A104=\"x\",INDEX('Eingabe Spielernamen'!Q:Q,MATCH(F104,'Eingabe Spielernamen'!B:B,)),\" \")","v":" "},""]
[null,null,null,null,{"$f":"IF(ISBLANK(D105),\" \",INDEX('Eingabe Spielernamen'!$F:$F,MATCH(D105,'Eingabe Spielernamen'!$B:$B,0))&\", \"&INDEX('Eingabe Spielernamen'!$G:$G,MATCH(D105,'Eingabe Spielernamen'!$B:$B,0)))","v":" "},null,{"$f":"IF(ISBLANK(F105),\" \",INDEX('Eingabe Spielernamen'!$F:$F,MATCH(F105,'Eingabe Spielernamen'!$B:$B,0))&\", \"&INDEX('Eingabe Spielernamen'!$G:$G,MATCH(F105,'Eingabe Spielernamen'!$B:$B,0)))","v":" "},null,{"$f":"IF(A105=\"x\",INDEX('Eingabe Spielernamen'!J:J,MATCH(D105,'Eingabe Spielernamen'!B:B,)),\" \")","v":" "},{"$f":"IF(A105=\"x\",INDEX('Eingabe Spielernamen'!J:J,MATCH(F105,'Eingabe Spielernamen'!B:B,)),\" \")","v":" "},"",null,{"$f":"IF(A105=\"x\",INDEX('Eingabe Spielernamen'!M:M,MATCH(D105,'Eingabe Spielernamen'!B:B,)),\" \")","v":" "},{"$f":"IF(A105=\"x\",INDEX('Eingabe Spielernamen'!M:M,MATCH(F105,'Eingabe Spielernamen'!B:B,)),\" \")","v":" "},"",null,{"$f":"IF(A105=\"x\",INDEX('Eingabe Spielernamen'!Q:Q,MATCH(D105,'Eingabe Spielernamen'!B:B,)),\" \")","v":" "},{"$f":"IF(A105=\"x\",INDEX('Eingabe Spielernamen'!Q:Q,MATCH(F105,'Eingabe Spielernamen'!B:B,)),\" \")","v":" "},""]
[null,null,null,null,{"$f":"IF(ISBLANK(D106),\" \",INDEX('Eingabe Spielernamen'!$F:$F,MATCH(D106,'Eingabe Spielernamen'!$B:$B,0))&\", \"&INDEX('Eingabe Spielernamen'!$G:$G,MATCH(D106,'Eingabe Spielernamen'!$B:$B,0)))","v":" "},null,{"$f":"IF(ISBLANK(F106),\" \",INDEX('Eingabe Spielernamen'!$F:$F,MATCH(F106,'Eingabe Spielernamen'!$B:$B,0))&\", \"&INDEX('Eingabe Spielernamen'!$G:$G,MATCH(F106,'Eingabe Spielernamen'!$B:$B,0)))","v":" "},null,{"$f":"IF(A106=\"x\",INDEX('Eingabe Spielernamen'!J:J,MATCH(D106,'Eingabe Spielernamen'!B:B,)),\" \")","v":" "},{"$f":"IF(A106=\"x\",INDEX('Eingabe Spielernamen'!J:J,MATCH(F106,'Eingabe Spielernamen'!B:B,)),\" \")","v":" "},"",null,{"$f":"IF(A106=\"x\",INDEX('Eingabe Spielernamen'!M:M,MATCH(D106,'Eingabe Spielernamen'!B:B,)),\" \")","v":" "},{"$f":"IF(A106=\"x\",INDEX('Eingabe Spielernamen'!M:M,MATCH(F106,'Eingabe Spielernamen'!B:B,)),\" \")","v":" "},"",null,{"$f":"IF(A106=\"x\",INDEX('Eingabe Spielernamen'!Q:Q,MATCH(D106,'Eingabe Spielernamen'!B:B,)),\" \")","v":" "},{"$f":"IF(A106=\"x\",INDEX('Eingabe Spielernamen'!Q:Q,MATCH(F106,'Eingabe Spielernamen'!B:B,)),\" \")","v":" "},""]
[null,null,null,null,{"$f":"IF(ISBLANK(D107),\" \",INDEX('Eingabe Spielernamen'!$F:$F,MATCH(D107,'Eingabe Spielernamen'!$B:$B,0))&\", \"&INDEX('Eingabe Spielernamen'!$G:$G,MATCH(D107,'Eingabe Spielernamen'!$B:$B,0)))","v":" "},null,{"$f":"IF(ISBLANK(F107),\" \",INDEX('Eingabe Spielernamen'!$F:$F,MATCH(F107,'Eingabe Spielernamen'!$B:$B,0))&\", \"&INDEX('Eingabe Spielernamen'!$G:$G,MATCH(F107,'Eingabe Spielernamen'!$B:$B,0)))","v":" "},null,{"$f":"IF(A107=\"x\",INDEX('Eingabe Spielernamen'!J:J,MATCH(D107,'Eingabe Spielernamen'!B:B,)),\" \")","v":" "},{"$f":"IF(A107=\"x\",INDEX('Eingabe Spielernamen'!J:J,MATCH(F107,'Eingabe Spielernamen'!B:B,)),\" \")","v":" "},"",null,{"$f":"IF(A107=\"x\",INDEX('Eingabe Spielernamen'!M:M,MATCH(D107,'Eingabe Spielernamen'!B:B,)),\" \")","v":" "},{"$f":"IF(A107=\"x\",INDEX('Eingabe Spielernamen'!M:M,MATCH(F107,'Eingabe Spielernamen'!B:B,)),\" \")","v":" "},"",null,{"$f":"IF(A107=\"x\",INDEX('Eingabe Spielernamen'!Q:Q,MATCH(D107,'Eingabe Spielernamen'!B:B,)),\" \")","v":" "},{"$f":"IF(A107=\"x\",INDEX('Eingabe Spielernamen'!Q:Q,MATCH(F107,'Eingabe Spielernamen'!B:B,)),\" \")","v":" "},""]
[null,null,null,null,{"$f":"IF(ISBLANK(D108),\" \",INDEX('Eingabe Spielernamen'!$F:$F,MATCH(D108,'Eingabe Spielernamen'!$B:$B,0))&\", \"&INDEX('Eingabe Spielernamen'!$G:$G,MATCH(D108,'Eingabe Spielernamen'!$B:$B,0)))","v":" "},null,{"$f":"IF(ISBLANK(F108),\" \",INDEX('Eingabe Spielernamen'!$F:$F,MATCH(F108,'Eingabe Spielernamen'!$B:$B,0))&\", \"&INDEX('Eingabe Spielernamen'!$G:$G,MATCH(F108,'Eingabe Spielernamen'!$B:$B,0)))","v":" "},null,{"$f":"IF(A108=\"x\",INDEX('Eingabe Spielernamen'!J:J,MATCH(D108,'Eingabe Spielernamen'!B:B,)),\" \")","v":" "},{"$f":"IF(A108=\"x\",INDEX('Eingabe Spielernamen'!J:J,MATCH(F108,'Eingabe Spielernamen'!B:B,)),\" \")","v":" "},"",null,{"$f":"IF(A108=\"x\",INDEX('Eingabe Spielernamen'!M:M,MATCH(D108,'Eingabe Spielernamen'!B:B,)),\" \")","v":" "},{"$f":"IF(A108=\"x\",INDEX('Eingabe Spielernamen'!M:M,MATCH(F108,'Eingabe Spielernamen'!B:B,)),\" \")","v":" "},"",null,{"$f":"IF(A108=\"x\",INDEX('Eingabe Spielernamen'!Q:Q,MATCH(D108,'Eingabe Spielernamen'!B:B,)),\" \")","v":" "},{"$f":"IF(A108=\"x\",INDEX('Eingabe Spielernamen'!Q:Q,MATCH(F108,'Eingabe Spielernamen'!B:B,)),\" \")","v":" "},""]
[null,null,null,null,{"$f":"IF(ISBLANK(D109),\" \",INDEX('Eingabe Spielernamen'!$F:$F,MATCH(D109,'Eingabe Spielernamen'!$B:$B,0))&\", \"&INDEX('Eingabe Spielernamen'!$G:$G,MATCH(D109,'Eingabe Spielernamen'!$B:$B,0)))","v":" "},null,{"$f":"IF(ISBLANK(F109),\" \",INDEX('Eingabe Spielernamen'!$F:$F,MATCH(F109,'Eingabe Spielernamen'!$B:$B,0))&\", \"&INDEX('Eingabe Spielernamen'!$G:$G,MATCH(F109,'Eingabe Spielernamen'!$B:$B,0)))","v":" "},null,{"$f":"IF(A109=\"x\",INDEX('Eingabe Spielernamen'!J:J,MATCH(D109,'Eingabe Spielernamen'!B:B,)),\" \")","v":" "},{"$f":"IF(A109=\"x\",INDEX('Eingabe Spielernamen'!J:J,MATCH(F109,'Eingabe Spielernamen'!B:B,)),\" \")","v":" "},"",null,{"$f":"IF(A109=\"x\",INDEX('Eingabe Spielernamen'!M:M,MATCH(D109,'Eingabe Spielernamen'!B:B,)),\" \")","v":" "},{"$f":"IF(A109=\"x\",INDEX('Eingabe Spielernamen'!M:M,MATCH(F109,'Eingabe Spielernamen'!B:B,)),\" \")","v":" "},"",null,{"$f":"IF(A109=\"x\",INDEX('Eingabe Spielernamen'!Q:Q,MATCH(D109,'Eingabe Spielernamen'!B:B,)),\" \")","v":" "},{"$f":"IF(A109=\"x\",INDEX('Eingabe Spielernamen'!Q:Q,MATCH(F109,'Eingabe Spielernamen'!B:B,)),\" \")","v":" "},""]
[null,null,null,null,{"$f":"IF(ISBLANK(D110),\" \",INDEX('Eingabe Spielernamen'!$F:$F,MATCH(D110,'Eingabe Spielernamen'!$B:$B,0))&\", \"&INDEX('Eingabe Spielernamen'!$G:$G,MATCH(D110,'Eingabe Spielernamen'!$B:$B,0)))","v":" "},null,{"$f":"IF(ISBLANK(F110),\" \",INDEX('Eingabe Spielernamen'!$F:$F,MATCH(F110,'Eingabe Spielernamen'!$B:$B,0))&\", \"&INDEX('Eingabe Spielernamen'!$G:$G,MATCH(F110,'Eingabe Spielernamen'!$B:$B,0)))","v":" "},null,{"$f":"IF(A110=\"x\",INDEX('Eingabe Spielernamen'!J:J,MATCH(D110,'Eingabe Spielernamen'!B:B,)),\" \")","v":" "},{"$f":"IF(A110=\"x\",INDEX('Eingabe Spielernamen'!J:J,MATCH(F110,'Eingabe Spielernamen'!B:B,)),\" \")","v":" "},"",null,{"$f":"IF(A110=\"x\",INDEX('Eingabe Spielernamen'!M:M,MATCH(D110,'Eingabe Spielernamen'!B:B,)),\" \")","v":" "},{"$f":"IF(A110=\"x\",INDEX('Eingabe Spielernamen'!M:M,MATCH(F110,'Eingabe Spielernamen'!B:B,)),\" \")","v":" "},"",null,{"$f":"IF(A110=\"x\",INDEX('Eingabe Spielernamen'!Q:Q,MATCH(D110,'Eingabe Spielernamen'!B:B,)),\" \")","v":" "},{"$f":"IF(A110=\"x\",INDEX('Eingabe Spielernamen'!Q:Q,MATCH(F110,'Eingabe Spielernamen'!B:B,)),\" \")","v":" "},""]
[null,null,null,null,{"$f":"IF(ISBLANK(D111),\" \",INDEX('Eingabe Spielernamen'!$F:$F,MATCH(D111,'Eingabe Spielernamen'!$B:$B,0))&\", \"&INDEX('Eingabe Spielernamen'!$G:$G,MATCH(D111,'Eingabe Spielernamen'!$B:$B,0)))","v":" "},null,{"$f":"IF(ISBLANK(F111),\" \",INDEX('Eingabe Spielernamen'!$F:$F,MATCH(F111,'Eingabe Spielernamen'!$B:$B,0))&\", \"&INDEX('Eingabe Spielernamen'!$G:$G,MATCH(F111,'Eingabe Spielernamen'!$B:$B,0)))","v":" "},null,{"$f":"IF(A111=\"x\",INDEX('Eingabe Spielernamen'!J:J,MATCH(D111,'Eingabe Spielernamen'!B:B,)),\" \")","v":" "},{"$f":"IF(A111=\"x\",INDEX('Eingabe Spielernamen'!J:J,MATCH(F111,'Eingabe Spielernamen'!B:B,)),\" \")","v":" "},"",null,{"$f":"IF(A111=\"x\",INDEX('Eingabe Spielernamen'!M:M,MATCH(D111,'Eingabe Spielernamen'!B:B,)),\" \")","v":" "},{"$f":"IF(A111=\"x\",INDEX('Eingabe Spielernamen'!M:M,MATCH(F111,'Eingabe Spielernamen'!B:B,)),\" \")","v":" "},"",null,{"$f":"IF(A111=\"x\",INDEX('Eingabe Spielernamen'!Q:Q,MATCH(D111,'Eingabe Spielernamen'!B:B,)),\" \")","v":" "},{"$f":"IF(A111=\"x\",INDEX('Eingabe Spielernamen'!Q:Q,MATCH(F111,'Eingabe Spielernamen'!B:B,)),\" \")","v":" "},""]
[null,null,null,null,{"$f":"IF(ISBLANK(D112),\" \",INDEX('Eingabe Spielernamen'!$F:$F,MATCH(D112,'Eingabe Spielernamen'!$B:$B,0))&\", \"&INDEX('Eingabe Spielernamen'!$G:$G,MATCH(D112,'Eingabe Spielernamen'!$B:$B,0)))","v":" "},null,{"$f":"IF(ISBLANK(F112),\" \",INDEX('Eingabe Spielernamen'!$F:$F,MATCH(F112,'Eingabe Spielernamen'!$B:$B,0))&\", \"&INDEX('Eingabe Spielernamen'!$G:$G,MATCH(F112,'Eingabe Spielernamen'!$B:$B,0)))","v":" "},null,{"$f":"IF(A112=\"x\",INDEX('Eingabe Spielernamen'!J:J,MATCH(D112,'Eingabe Spielernamen'!B:B,)),\" \")","v":" "},{"$f":"IF(A112=\"x\",INDEX('Eingabe Spielernamen'!J:J,MATCH(F112,'Eingabe Spielernamen'!B:B,)),\" \")","v":" "},"",null,{"$f":"IF(A112=\"x\",INDEX('Eingabe Spielernamen'!M:M,MATCH(D112,'Eingabe Spielernamen'!B:B,)),\" \")","v":" "},{"$f":"IF(A112=\"x\",INDEX('Eingabe Spielernamen'!M:M,MATCH(F112,'Eingabe Spielernamen'!B:B,)),\" \")","v":" "},"",null,{"$f":"IF(A112=\"x\",INDEX('Eingabe Spielernamen'!Q:Q,MATCH(D112,'Eingabe Spielernamen'!B:B,)),\" \")","v":" "},{"$f":"IF(A112=\"x\",INDEX('Eingabe Spielernamen'!Q:Q,MATCH(F112,'Eingabe Spielernamen'!B:B,)),\" \")","v":" "},""]
[null,null,null,null,{"$f":"IF(ISBLANK(D113),\" \",INDEX('Eingabe Spielernamen'!$F:$F,MATCH(D113,'Eingabe Spielernamen'!$B:$B,0))&\", \"&INDEX('Eingabe Spielernamen'!$G:$G,MATCH(D113,'Eingabe Spielernamen'!$B:$B,0)))","v":" "},null,{"$f":"IF(ISBLANK(F113),\" \",INDEX('Eingabe Spielernamen'!$F:$F,MATCH(F113,'Eingabe Spielernamen'!$B:$B,0))&\", \"&INDEX('Eingabe Spielernamen'!$G:$G,MATCH(F113,'Eingabe Spielernamen'!$B:$B,0)))","v":" "},null,{"$f":"IF(A113=\"x\",INDEX('Eingabe Spielernamen'!J:J,MATCH(D113,'Eingabe Spielernamen'!B:B,)),\" \")","v":" "},{"$f":"IF(A113=\"x\",INDEX('Eingabe Spielernamen'!J:J,MATCH(F113,'Eingabe Spielernamen'!B:B,)),\" \")","v":" "},"",null,{"$f":"IF(A113=\"x\",INDEX('Eingabe Spielernamen'!M:M,MATCH(D113,'Eingabe Spielernamen'!B:B,)),\" \")","v":" "},{"$f":"IF(A113=\"x\",INDEX('Eingabe Spielernamen'!M:M,MATCH(F113,'Eingabe Spielernamen'!B:B,)),\" \")","v":" "},"",null,{"$f":"IF(A113=\"x\",INDEX('Eingabe Spielernamen'!Q:Q,MATCH(D113,'Eingabe Spielernamen'!B:B,)),\" \")","v":" "},{"$f":"IF(A113=\"x\",INDEX('Eingabe Spielernamen'!Q:Q,MATCH(F113,'Eingabe Spielernamen'!B:B,)),\" \")","v":" "},""]
[null,null,null,null,{"$f":"IF(ISBLANK(D114),\" \",INDEX('Eingabe Spielernamen'!$F:$F,MATCH(D114,'Eingabe Spielernamen'!$B:$B,0))&\", \"&INDEX('Eingabe Spielernamen'!$G:$G,MATCH(D114,'Eingabe Spielernamen'!$B:$B,0)))","v":" "},null,{"$f":"IF(ISBLANK(F114),\" \",INDEX('Eingabe Spielernamen'!$F:$F,MATCH(F114,'Eingabe Spielernamen'!$B:$B,0))&\", \"&INDEX('Eingabe Spielernamen'!$G:$G,MATCH(F114,'Eingabe Spielernamen'!$B:$B,0)))","v":" "},null,{"$f":"IF(A114=\"x\",INDEX('Eingabe Spielernamen'!J:J,MATCH(D114,'Eingabe Spielernamen'!B:B,)),\" \")","v":" "},{"$f":"IF(A114=\"x\",INDEX('Eingabe Spielernamen'!J:J,MATCH(F114,'Eingabe Spielernamen'!B:B,)),\" \")","v":" "},"",null,{"$f":"IF(A114=\"x\",INDEX('Eingabe Spielernamen'!M:M,MATCH(D114,'Eingabe Spielernamen'!B:B,)),\" \")","v":" "},{"$f":"IF(A114=\"x\",INDEX('Eingabe Spielernamen'!M:M,MATCH(F114,'Eingabe Spielernamen'!B:B,)),\" \")","v":" "},"",null,{"$f":"IF(A114=\"x\",INDEX('Eingabe Spielernamen'!Q:Q,MATCH(D114,'Eingabe Spielernamen'!B:B,)),\" \")","v":" "},{"$f":"IF(A114=\"x\",INDEX('Eingabe Spielernamen'!Q:Q,MATCH(F114,'Eingabe Spielernamen'!B:B,)),\" \")","v":" "},""]
[null,null,null,null,{"$f":"IF(ISBLANK(D115),\" \",INDEX('Eingabe Spielernamen'!$F:$F,MATCH(D115,'Eingabe Spielernamen'!$B:$B,0))&\", \"&INDEX('Eingabe Spielernamen'!$G:$G,MATCH(D115,'Eingabe Spielernamen'!$B:$B,0)))","v":" "},null,{"$f":"IF(ISBLANK(F115),\" \",INDEX('Eingabe Spielernamen'!$F:$F,MATCH(F115,'Eingabe Spielernamen'!$B:$B,0))&\", \"&INDEX('Eingabe Spielernamen'!$G:$G,MATCH(F115,'Eingabe Spielernamen'!$B:$B,0)))","v":" "},null,{"$f":"IF(A115=\"x\",INDEX('Eingabe Spielernamen'!J:J,MATCH(D115,'Eingabe Spielernamen'!B:B,)),\" \")","v":" "},{"$f":"IF(A115=\"x\",INDEX('Eingabe Spielernamen'!J:J,MATCH(F115,'Eingabe Spielernamen'!B:B,)),\" \")","v":" "},"",null,{"$f":"IF(A115=\"x\",INDEX('Eingabe Spielernamen'!M:M,MATCH(D115,'Eingabe Spielernamen'!B:B,)),\" \")","v":" "},{"$f":"IF(A115=\"x\",INDEX('Eingabe Spielernamen'!M:M,MATCH(F115,'Eingabe Spielernamen'!B:B,)),\" \")","v":" "},"",null,{"$f":"IF(A115=\"x\",INDEX('Eingabe Spielernamen'!Q:Q,MATCH(D115,'Eingabe Spielernamen'!B:B,)),\" \")","v":" "},{"$f":"IF(A115=\"x\",INDEX('Eingabe Spielernamen'!Q:Q,MATCH(F115,'Eingabe Spielernamen'!B:B,)),\" \")","v":" "},""]
[null,null,null,null,{"$f":"IF(ISBLANK(D116),\" \",INDEX('Eingabe Spielernamen'!$F:$F,MATCH(D116,'Eingabe Spielernamen'!$B:$B,0))&\", \"&INDEX('Eingabe Spielernamen'!$G:$G,MATCH(D116,'Eingabe Spielernamen'!$B:$B,0)))","v":" "},null,{"$f":"IF(ISBLANK(F116),\" \",INDEX('Eingabe Spielernamen'!$F:$F,MATCH(F116,'Eingabe Spielernamen'!$B:$B,0))&\", \"&INDEX('Eingabe Spielernamen'!$G:$G,MATCH(F116,'Eingabe Spielernamen'!$B:$B,0)))","v":" "},null,{"$f":"IF(A116=\"x\",INDEX('Eingabe Spielernamen'!J:J,MATCH(D116,'Eingabe Spielernamen'!B:B,)),\" \")","v":" "},{"$f":"IF(A116=\"x\",INDEX('Eingabe Spielernamen'!J:J,MATCH(F116,'Eingabe Spielernamen'!B:B,)),\" \")","v":" "},"",null,{"$f":"IF(A116=\"x\",INDEX('Eingabe Spielernamen'!M:M,MATCH(D116,'Eingabe Spielernamen'!B:B,)),\" \")","v":" "},{"$f":"IF(A116=\"x\",INDEX('Eingabe Spielernamen'!M:M,MATCH(F116,'Eingabe Spielernamen'!B:B,)),\" \")","v":" "},"",null,{"$f":"IF(A116=\"x\",INDEX('Eingabe Spielernamen'!Q:Q,MATCH(D116,'Eingabe Spielernamen'!B:B,)),\" \")","v":" "},{"$f":"IF(A116=\"x\",INDEX('Eingabe Spielernamen'!Q:Q,MATCH(F116,'Eingabe Spielernamen'!B:B,)),\" \")","v":" "},""]
[null,null,null,null,{"$f":"IF(ISBLANK(D117),\" \",INDEX('Eingabe Spielernamen'!$F:$F,MATCH(D117,'Eingabe Spielernamen'!$B:$B,0))&\", \"&INDEX('Eingabe Spielernamen'!$G:$G,MATCH(D117,'Eingabe Spielernamen'!$B:$B,0)))","v":" "},null,{"$f":"IF(ISBLANK(F117),\" \",INDEX('Eingabe Spielernamen'!$F:$F,MATCH(F117,'Eingabe Spielernamen'!$B:$B,0))&\", \"&INDEX('Eingabe Spielernamen'!$G:$G,MATCH(F117,'Eingabe Spielernamen'!$B:$B,0)))","v":" "},null,{"$f":"IF(A117=\"x\",INDEX('Eingabe Spielernamen'!J:J,MATCH(D117,'Eingabe Spielernamen'!B:B,)),\" \")","v":" "},{"$f":"IF(A117=\"x\",INDEX('Eingabe Spielernamen'!J:J,MATCH(F117,'Eingabe Spielernamen'!B:B,)),\" \")","v":" "},"",null,{"$f":"IF(A117=\"x\",INDEX('Eingabe Spielernamen'!M:M,MATCH(D117,'Eingabe Spielernamen'!B:B,)),\" \")","v":" "},{"$f":"IF(A117=\"x\",INDEX('Eingabe Spielernamen'!M:M,MATCH(F117,'Eingabe Spielernamen'!B:B,)),\" \")","v":" "},"",null,{"$f":"IF(A117=\"x\",INDEX('Eingabe Spielernamen'!Q:Q,MATCH(D117,'Eingabe Spielernamen'!B:B,)),\" \")","v":" "},{"$f":"IF(A117=\"x\",INDEX('Eingabe Spielernamen'!Q:Q,MATCH(F117,'Eingabe Spielernamen'!B:B,)),\" \")","v":" "},""]
[null,null,null,null,{"$f":"IF(ISBLANK(D118),\" \",INDEX('Eingabe Spielernamen'!$F:$F,MATCH(D118,'Eingabe Spielernamen'!$B:$B,0))&\", \"&INDEX('Eingabe Spielernamen'!$G:$G,MATCH(D118,'Eingabe Spielernamen'!$B:$B,0)))","v":" "},null,{"$f":"IF(ISBLANK(F118),\" \",INDEX('Eingabe Spielernamen'!$F:$F,MATCH(F118,'Eingabe Spielernamen'!$B:$B,0))&\", \"&INDEX('Eingabe Spielernamen'!$G:$G,MATCH(F118,'Eingabe Spielernamen'!$B:$B,0)))","v":" "},null,{"$f":"IF(A118=\"x\",INDEX('Eingabe Spielernamen'!J:J,MATCH(D118,'Eingabe Spielernamen'!B:B,)),\" \")","v":" "},{"$f":"IF(A118=\"x\",INDEX('Eingabe Spielernamen'!J:J,MATCH(F118,'Eingabe Spielernamen'!B:B,)),\" \")","v":" "},"",null,{"$f":"IF(A118=\"x\",INDEX('Eingabe Spielernamen'!M:M,MATCH(D118,'Eingabe Spielernamen'!B:B,)),\" \")","v":" "},{"$f":"IF(A118=\"x\",INDEX('Eingabe Spielernamen'!M:M,MATCH(F118,'Eingabe Spielernamen'!B:B,)),\" \")","v":" "},"",null,{"$f":"IF(A118=\"x\",INDEX('Eingabe Spielernamen'!Q:Q,MATCH(D118,'Eingabe Spielernamen'!B:B,)),\" \")","v":" "},{"$f":"IF(A118=\"x\",INDEX('Eingabe Spielernamen'!Q:Q,MATCH(F118,'Eingabe Spielernamen'!B:B,)),\" \")","v":" "},""]
[null,null,null,null,{"$f":"IF(ISBLANK(D119),\" \",INDEX('Eingabe Spielernamen'!$F:$F,MATCH(D119,'Eingabe Spielernamen'!$B:$B,0))&\", \"&INDEX('Eingabe Spielernamen'!$G:$G,MATCH(D119,'Eingabe Spielernamen'!$B:$B,0)))","v":" "},null,{"$f":"IF(ISBLANK(F119),\" \",INDEX('Eingabe Spielernamen'!$F:$F,MATCH(F119,'Eingabe Spielernamen'!$B:$B,0))&\", \"&INDEX('Eingabe Spielernamen'!$G:$G,MATCH(F119,'Eingabe Spielernamen'!$B:$B,0)))","v":" "},null,{"$f":"IF(A119=\"x\",INDEX('Eingabe Spielernamen'!J:J,MATCH(D119,'Eingabe Spielernamen'!B:B,)),\" \")","v":" "},{"$f":"IF(A119=\"x\",INDEX('Eingabe Spielernamen'!J:J,MATCH(F119,'Eingabe Spielernamen'!B:B,)),\" \")","v":" "},"",null,{"$f":"IF(A119=\"x\",INDEX('Eingabe Spielernamen'!M:M,MATCH(D119,'Eingabe Spielernamen'!B:B,)),\" \")","v":" "},{"$f":"IF(A119=\"x\",INDEX('Eingabe Spielernamen'!M:M,MATCH(F119,'Eingabe Spielernamen'!B:B,)),\" \")","v":" "},"",null,{"$f":"IF(A119=\"x\",INDEX('Eingabe Spielernamen'!Q:Q,MATCH(D119,'Eingabe Spielernamen'!B:B,)),\" \")","v":" "},{"$f":"IF(A119=\"x\",INDEX('Eingabe Spielernamen'!Q:Q,MATCH(F119,'Eingabe Spielernamen'!B:B,)),\" \")","v":" "},""]
[null,null,null,null,{"$f":"IF(ISBLANK(D120),\" \",INDEX('Eingabe Spielernamen'!$F:$F,MATCH(D120,'Eingabe Spielernamen'!$B:$B,0))&\", \"&INDEX('Eingabe Spielernamen'!$G:$G,MATCH(D120,'Eingabe Spielernamen'!$B:$B,0)))","v":" "},null,{"$f":"IF(ISBLANK(F120),\" \",INDEX('Eingabe Spielernamen'!$F:$F,MATCH(F120,'Eingabe Spielernamen'!$B:$B,0))&\", \"&INDEX('Eingabe Spielernamen'!$G:$G,MATCH(F120,'Eingabe Spielernamen'!$B:$B,0)))","v":" "},null,{"$f":"IF(A120=\"x\",INDEX('Eingabe Spielernamen'!J:J,MATCH(D120,'Eingabe Spielernamen'!B:B,)),\" \")","v":" "},{"$f":"IF(A120=\"x\",INDEX('Eingabe Spielernamen'!J:J,MATCH(F120,'Eingabe Spielernamen'!B:B,)),\" \")","v":" "},"",null,{"$f":"IF(A120=\"x\",INDEX('Eingabe Spielernamen'!M:M,MATCH(D120,'Eingabe Spielernamen'!B:B,)),\" \")","v":" "},{"$f":"IF(A120=\"x\",INDEX('Eingabe Spielernamen'!M:M,MATCH(F120,'Eingabe Spielernamen'!B:B,)),\" \")","v":" "},"",null,{"$f":"IF(A120=\"x\",INDEX('Eingabe Spielernamen'!Q:Q,MATCH(D120,'Eingabe Spielernamen'!B:B,)),\" \")","v":" "},{"$f":"IF(A120=\"x\",INDEX('Eingabe Spielernamen'!Q:Q,MATCH(F120,'Eingabe Spielernamen'!B:B,)),\" \")","v":" "},""]
[null,null,null,null,{"$f":"IF(ISBLANK(D121),\" \",INDEX('Eingabe Spielernamen'!$F:$F,MATCH(D121,'Eingabe Spielernamen'!$B:$B,0))&\", \"&INDEX('Eingabe Spielernamen'!$G:$G,MATCH(D121,'Eingabe Spielernamen'!$B:$B,0)))","v":" "},null,{"$f":"IF(ISBLANK(F121),\" \",INDEX('Eingabe Spielernamen'!$F:$F,MATCH(F121,'Eingabe Spielernamen'!$B:$B,0))&\", \"&INDEX('Eingabe Spielernamen'!$G:$G,MATCH(F121,'Eingabe Spielernamen'!$B:$B,0)))","v":" "},null,{"$f":"IF(A121=\"x\",INDEX('Eingabe Spielernamen'!J:J,MATCH(D121,'Eingabe Spielernamen'!B:B,)),\" \")","v":" "},{"$f":"IF(A121=\"x\",INDEX('Eingabe Spielernamen'!J:J,MATCH(F121,'Eingabe Spielernamen'!B:B,)),\" \")","v":" "},"",null,{"$f":"IF(A121=\"x\",INDEX('Eingabe Spielernamen'!M:M,MATCH(D121,'Eingabe Spielernamen'!B:B,)),\" \")","v":" "},{"$f":"IF(A121=\"x\",INDEX('Eingabe Spielernamen'!M:M,MATCH(F121,'Eingabe Spielernamen'!B:B,)),\" \")","v":" "},"",null,{"$f":"IF(A121=\"x\",INDEX('Eingabe Spielernamen'!Q:Q,MATCH(D121,'Eingabe Spielernamen'!B:B,)),\" \")","v":" "},{"$f":"IF(A121=\"x\",INDEX('Eingabe Spielernamen'!Q:Q,MATCH(F121,'Eingabe Spielernamen'!B:B,)),\" \")","v":" "},""]
[null,null,null,null,{"$f":"IF(ISBLANK(D122),\" \",INDEX('Eingabe Spielernamen'!$F:$F,MATCH(D122,'Eingabe Spielernamen'!$B:$B,0))&\", \"&INDEX('Eingabe Spielernamen'!$G:$G,MATCH(D122,'Eingabe Spielernamen'!$B:$B,0)))","v":" "},null,{"$f":"IF(ISBLANK(F122),\" \",INDEX('Eingabe Spielernamen'!$F:$F,MATCH(F122,'Eingabe Spielernamen'!$B:$B,0))&\", \"&INDEX('Eingabe Spielernamen'!$G:$G,MATCH(F122,'Eingabe Spielernamen'!$B:$B,0)))","v":" "},null,{"$f":"IF(A122=\"x\",INDEX('Eingabe Spielernamen'!J:J,MATCH(D122,'Eingabe Spielernamen'!B:B,)),\" \")","v":" "},{"$f":"IF(A122=\"x\",INDEX('Eingabe Spielernamen'!J:J,MATCH(F122,'Eingabe Spielernamen'!B:B,)),\" \")","v":" "},"",null,{"$f":"IF(A122=\"x\",INDEX('Eingabe Spielernamen'!M:M,MATCH(D122,'Eingabe Spielernamen'!B:B,)),\" \")","v":" "},{"$f":"IF(A122=\"x\",INDEX('Eingabe Spielernamen'!M:M,MATCH(F122,'Eingabe Spielernamen'!B:B,)),\" \")","v":" "},"",null,{"$f":"IF(A122=\"x\",INDEX('Eingabe Spielernamen'!Q:Q,MATCH(D122,'Eingabe Spielernamen'!B:B,)),\" \")","v":" "},{"$f":"IF(A122=\"x\",INDEX('Eingabe Spielernamen'!Q:Q,MATCH(F122,'Eingabe Spielernamen'!B:B,)),\" \")","v":" "},""]
[null,null,null,null,{"$f":"IF(ISBLANK(D123),\" \",INDEX('Eingabe Spielernamen'!$F:$F,MATCH(D123,'Eingabe Spielernamen'!$B:$B,0))&\", \"&INDEX('Eingabe Spielernamen'!$G:$G,MATCH(D123,'Eingabe Spielernamen'!$B:$B,0)))","v":" "},null,{"$f":"IF(ISBLANK(F123),\" \",INDEX('Eingabe Spielernamen'!$F:$F,MATCH(F123,'Eingabe Spielernamen'!$B:$B,0))&\", \"&INDEX('Eingabe Spielernamen'!$G:$G,MATCH(F123,'Eingabe Spielernamen'!$B:$B,0)))","v":" "},null,{"$f":"IF(A123=\"x\",INDEX('Eingabe Spielernamen'!J:J,MATCH(D123,'Eingabe Spielernamen'!B:B,)),\" \")","v":" "},{"$f":"IF(A123=\"x\",INDEX('Eingabe Spielernamen'!J:J,MATCH(F123,'Eingabe Spielernamen'!B:B,)),\" \")","v":" "},"",null,{"$f":"IF(A123=\"x\",INDEX('Eingabe Spielernamen'!M:M,MATCH(D123,'Eingabe Spielernamen'!B:B,)),\" \")","v":" "},{"$f":"IF(A123=\"x\",INDEX('Eingabe Spielernamen'!M:M,MATCH(F123,'Eingabe Spielernamen'!B:B,)),\" \")","v":" "},"",null,{"$f":"IF(A123=\"x\",INDEX('Eingabe Spielernamen'!Q:Q,MATCH(D123,'Eingabe Spielernamen'!B:B,)),\" \")","v":" "},{"$f":"IF(A123=\"x\",INDEX('Eingabe Spielernamen'!Q:Q,MATCH(F123,'Eingabe Spielernamen'!B:B,)),\" \")","v":" "},""]
[null,null,null,null,{"$f":"IF(ISBLANK(D124),\" \",INDEX('Eingabe Spielernamen'!$F:$F,MATCH(D124,'Eingabe Spielernamen'!$B:$B,0))&\", \"&INDEX('Eingabe Spielernamen'!$G:$G,MATCH(D124,'Eingabe Spielernamen'!$B:$B,0)))","v":" "},null,{"$f":"IF(ISBLANK(F124),\" \",INDEX('Eingabe Spielernamen'!$F:$F,MATCH(F124,'Eingabe Spielernamen'!$B:$B,0))&\", \"&INDEX('Eingabe Spielernamen'!$G:$G,MATCH(F124,'Eingabe Spielernamen'!$B:$B,0)))","v":" "},null,{"$f":"IF(A124=\"x\",INDEX('Eingabe Spielernamen'!J:J,MATCH(D124,'Eingabe Spielernamen'!B:B,)),\" \")","v":" "},{"$f":"IF(A124=\"x\",INDEX('Eingabe Spielernamen'!J:J,MATCH(F124,'Eingabe Spielernamen'!B:B,)),\" \")","v":" "},"",null,{"$f":"IF(A124=\"x\",INDEX('Eingabe Spielernamen'!M:M,MATCH(D124,'Eingabe Spielernamen'!B:B,)),\" \")","v":" "},{"$f":"IF(A124=\"x\",INDEX('Eingabe Spielernamen'!M:M,MATCH(F124,'Eingabe Spielernamen'!B:B,)),\" \")","v":" "},"",null,{"$f":"IF(A124=\"x\",INDEX('Eingabe Spielernamen'!Q:Q,MATCH(D124,'Eingabe Spielernamen'!B:B,)),\" \")","v":" "},{"$f":"IF(A124=\"x\",INDEX('Eingabe Spielernamen'!Q:Q,MATCH(F124,'Eingabe Spielernamen'!B:B,)),\" \")","v":" "},""]
[null,null,null,null,{"$f":"IF(ISBLANK(D125),\" \",INDEX('Eingabe Spielernamen'!$F:$F,MATCH(D125,'Eingabe Spielernamen'!$B:$B,0))&\", \"&INDEX('Eingabe Spielernamen'!$G:$G,MATCH(D125,'Eingabe Spielernamen'!$B:$B,0)))","v":" "},null,{"$f":"IF(ISBLANK(F125),\" \",INDEX('Eingabe Spielernamen'!$F:$F,MATCH(F125,'Eingabe Spielernamen'!$B:$B,0))&\", \"&INDEX('Eingabe Spielernamen'!$G:$G,MATCH(F125,'Eingabe Spielernamen'!$B:$B,0)))","v":" "},null,{"$f":"IF(A125=\"x\",INDEX('Eingabe Spielernamen'!J:J,MATCH(D125,'Eingabe Spielernamen'!B:B,)),\" \")","v":" "},{"$f":"IF(A125=\"x\",INDEX('Eingabe Spielernamen'!J:J,MATCH(F125,'Eingabe Spielernamen'!B:B,)),\" \")","v":" "},"",null,{"$f":"IF(A125=\"x\",INDEX('Eingabe Spielernamen'!M:M,MATCH(D125,'Eingabe Spielernamen'!B:B,)),\" \")","v":" "},{"$f":"IF(A125=\"x\",INDEX('Eingabe Spielernamen'!M:M,MATCH(F125,'Eingabe Spielernamen'!B:B,)),\" \")","v":" "},"",null,{"$f":"IF(A125=\"x\",INDEX('Eingabe Spielernamen'!Q:Q,MATCH(D125,'Eingabe Spielernamen'!B:B,)),\" \")","v":" "},{"$f":"IF(A125=\"x\",INDEX('Eingabe Spielernamen'!Q:Q,MATCH(F125,'Eingabe Spielernamen'!B:B,)),\" \")","v":" "},""]
[null,null,null,null,{"$f":"IF(ISBLANK(D126),\" \",INDEX('Eingabe Spielernamen'!$F:$F,MATCH(D126,'Eingabe Spielernamen'!$B:$B,0))&\", \"&INDEX('Eingabe Spielernamen'!$G:$G,MATCH(D126,'Eingabe Spielernamen'!$B:$B,0)))","v":" "},null,{"$f":"IF(ISBLANK(F126),\" \",INDEX('Eingabe Spielernamen'!$F:$F,MATCH(F126,'Eingabe Spielernamen'!$B:$B,0))&\", \"&INDEX('Eingabe Spielernamen'!$G:$G,MATCH(F126,'Eingabe Spielernamen'!$B:$B,0)))","v":" "},null,{"$f":"IF(A126=\"x\",INDEX('Eingabe Spielernamen'!J:J,MATCH(D126,'Eingabe Spielernamen'!B:B,)),\" \")","v":" "},{"$f":"IF(A126=\"x\",INDEX('Eingabe Spielernamen'!J:J,MATCH(F126,'Eingabe Spielernamen'!B:B,)),\" \")","v":" "},"",null,{"$f":"IF(A126=\"x\",INDEX('Eingabe Spielernamen'!M:M,MATCH(D126,'Eingabe Spielernamen'!B:B,)),\" \")","v":" "},{"$f":"IF(A126=\"x\",INDEX('Eingabe Spielernamen'!M:M,MATCH(F126,'Eingabe Spielernamen'!B:B,)),\" \")","v":" "},"",null,{"$f":"IF(A126=\"x\",INDEX('Eingabe Spielernamen'!Q:Q,MATCH(D126,'Eingabe Spielernamen'!B:B,)),\" \")","v":" "},{"$f":"IF(A126=\"x\",INDEX('Eingabe Spielernamen'!Q:Q,MATCH(F126,'Eingabe Spielernamen'!B:B,)),\" \")","v":" "},""]
[null,null,null,null,{"$f":"IF(ISBLANK(D127),\" \",INDEX('Eingabe Spielernamen'!$F:$F,MATCH(D127,'Eingabe Spielernamen'!$B:$B,0))&\", \"&INDEX('Eingabe Spielernamen'!$G:$G,MATCH(D127,'Eingabe Spielernamen'!$B:$B,0)))","v":" "},null,{"$f":"IF(ISBLANK(F127),\" \",INDEX('Eingabe Spielernamen'!$F:$F,MATCH(F127,'Eingabe Spielernamen'!$B:$B,0))&\", \"&INDEX('Eingabe Spielernamen'!$G:$G,MATCH(F127,'Eingabe Spielernamen'!$B:$B,0)))","v":" "},null,{"$f":"IF(A127=\"x\",INDEX('Eingabe Spielernamen'!J:J,MATCH(D127,'Eingabe Spielernamen'!B:B,)),\" \")","v":" "},{"$f":"IF(A127=\"x\",INDEX('Eingabe Spielernamen'!J:J,MATCH(F127,'Eingabe Spielernamen'!B:B,)),\" \")","v":" "},"",null,{"$f":"IF(A127=\"x\",INDEX('Eingabe Spielernamen'!M:M,MATCH(D127,'Eingabe Spielernamen'!B:B,)),\" \")","v":" "},{"$f":"IF(A127=\"x\",INDEX('Eingabe Spielernamen'!M:M,MATCH(F127,'Eingabe Spielernamen'!B:B,)),\" \")","v":" "},"",null,{"$f":"IF(A127=\"x\",INDEX('Eingabe Spielernamen'!Q:Q,MATCH(D127,'Eingabe Spielernamen'!B:B,)),\" \")","v":" "},{"$f":"IF(A127=\"x\",INDEX('Eingabe Spielernamen'!Q:Q,MATCH(F127,'Eingabe Spielernamen'!B:B,)),\" \")","v":" "},""]
[null,null,null,null,{"$f":"IF(ISBLANK(D128),\" \",INDEX('Eingabe Spielernamen'!$F:$F,MATCH(D128,'Eingabe Spielernamen'!$B:$B,0))&\", \"&INDEX('Eingabe Spielernamen'!$G:$G,MATCH(D128,'Eingabe Spielernamen'!$B:$B,0)))","v":" "},null,{"$f":"IF(ISBLANK(F128),\" \",INDEX('Eingabe Spielernamen'!$F:$F,MATCH(F128,'Eingabe Spielernamen'!$B:$B,0))&\", \"&INDEX('Eingabe Spielernamen'!$G:$G,MATCH(F128,'Eingabe Spielernamen'!$B:$B,0)))","v":" "},null,{"$f":"IF(A128=\"x\",INDEX('Eingabe Spielernamen'!J:J,MATCH(D128,'Eingabe Spielernamen'!B:B,)),\" \")","v":" "},{"$f":"IF(A128=\"x\",INDEX('Eingabe Spielernamen'!J:J,MATCH(F128,'Eingabe Spielernamen'!B:B,)),\" \")","v":" "},"",null,{"$f":"IF(A128=\"x\",INDEX('Eingabe Spielernamen'!M:M,MATCH(D128,'Eingabe Spielernamen'!B:B,)),\" \")","v":" "},{"$f":"IF(A128=\"x\",INDEX('Eingabe Spielernamen'!M:M,MATCH(F128,'Eingabe Spielernamen'!B:B,)),\" \")","v":" "},"",null,{"$f":"IF(A128=\"x\",INDEX('Eingabe Spielernamen'!Q:Q,MATCH(D128,'Eingabe Spielernamen'!B:B,)),\" \")","v":" "},{"$f":"IF(A128=\"x\",INDEX('Eingabe Spielernamen'!Q:Q,MATCH(F128,'Eingabe Spielernamen'!B:B,)),\" \")","v":" "},""]
[null,null,null,null,{"$f":"IF(ISBLANK(D129),\" \",INDEX('Eingabe Spielernamen'!$F:$F,MATCH(D129,'Eingabe Spielernamen'!$B:$B,0))&\", \"&INDEX('Eingabe Spielernamen'!$G:$G,MATCH(D129,'Eingabe Spielernamen'!$B:$B,0)))","v":" "},null,{"$f":"IF(ISBLANK(F129),\" \",INDEX('Eingabe Spielernamen'!$F:$F,MATCH(F129,'Eingabe Spielernamen'!$B:$B,0))&\", \"&INDEX('Eingabe Spielernamen'!$G:$G,MATCH(F129,'Eingabe Spielernamen'!$B:$B,0)))","v":" "},null,{"$f":"IF(A129=\"x\",INDEX('Eingabe Spielernamen'!J:J,MATCH(D129,'Eingabe Spielernamen'!B:B,)),\" \")","v":" "},{"$f":"IF(A129=\"x\",INDEX('Eingabe Spielernamen'!J:J,MATCH(F129,'Eingabe Spielernamen'!B:B,)),\" \")","v":" "},"",null,{"$f":"IF(A129=\"x\",INDEX('Eingabe Spielernamen'!M:M,MATCH(D129,'Eingabe Spielernamen'!B:B,)),\" \")","v":" "},{"$f":"IF(A129=\"x\",INDEX('Eingabe Spielernamen'!M:M,MATCH(F129,'Eingabe Spielernamen'!B:B,)),\" \")","v":" "},"",null,{"$f":"IF(A129=\"x\",INDEX('Eingabe Spielernamen'!Q:Q,MATCH(D129,'Eingabe Spielernamen'!B:B,)),\" \")","v":" "},{"$f":"IF(A129=\"x\",INDEX('Eingabe Spielernamen'!Q:Q,MATCH(F129,'Eingabe Spielernamen'!B:B,)),\" \")","v":" "},""]
[null,null,null,null,{"$f":"IF(ISBLANK(D130),\" \",INDEX('Eingabe Spielernamen'!$F:$F,MATCH(D130,'Eingabe Spielernamen'!$B:$B,0))&\", \"&INDEX('Eingabe Spielernamen'!$G:$G,MATCH(D130,'Eingabe Spielernamen'!$B:$B,0)))","v":" "},null,{"$f":"IF(ISBLANK(F130),\" \",INDEX('Eingabe Spielernamen'!$F:$F,MATCH(F130,'Eingabe Spielernamen'!$B:$B,0))&\", \"&INDEX('Eingabe Spielernamen'!$G:$G,MATCH(F130,'Eingabe Spielernamen'!$B:$B,0)))","v":" "},null,{"$f":"IF(A130=\"x\",INDEX('Eingabe Spielernamen'!J:J,MATCH(D130,'Eingabe Spielernamen'!B:B,)),\" \")","v":" "},{"$f":"IF(A130=\"x\",INDEX('Eingabe Spielernamen'!J:J,MATCH(F130,'Eingabe Spielernamen'!B:B,)),\" \")","v":" "},"",null,{"$f":"IF(A130=\"x\",INDEX('Eingabe Spielernamen'!M:M,MATCH(D130,'Eingabe Spielernamen'!B:B,)),\" \")","v":" "},{"$f":"IF(A130=\"x\",INDEX('Eingabe Spielernamen'!M:M,MATCH(F130,'Eingabe Spielernamen'!B:B,)),\" \")","v":" "},"",null,{"$f":"IF(A130=\"x\",INDEX('Eingabe Spielernamen'!Q:Q,MATCH(D130,'Eingabe Spielernamen'!B:B,)),\" \")","v":" "},{"$f":"IF(A130=\"x\",INDEX('Eingabe Spielernamen'!Q:Q,MATCH(F130,'Eingabe Spielernamen'!B:B,)),\" \")","v":" "},""]
[null,null,null,null,{"$f":"IF(ISBLANK(D131),\" \",INDEX('Eingabe Spielernamen'!$F:$F,MATCH(D131,'Eingabe Spielernamen'!$B:$B,0))&\", \"&INDEX('Eingabe Spielernamen'!$G:$G,MATCH(D131,'Eingabe Spielernamen'!$B:$B,0)))","v":" "},null,{"$f":"IF(ISBLANK(F131),\" \",INDEX('Eingabe Spielernamen'!$F:$F,MATCH(F131,'Eingabe Spielernamen'!$B:$B,0))&\", \"&INDEX('Eingabe Spielernamen'!$G:$G,MATCH(F131,'Eingabe Spielernamen'!$B:$B,0)))","v":" "},null,{"$f":"IF(A131=\"x\",INDEX('Eingabe Spielernamen'!J:J,MATCH(D131,'Eingabe Spielernamen'!B:B,)),\" \")","v":" "},{"$f":"IF(A131=\"x\",INDEX('Eingabe Spielernamen'!J:J,MATCH(F131,'Eingabe Spielernamen'!B:B,)),\" \")","v":" "},"",null,{"$f":"IF(A131=\"x\",INDEX('Eingabe Spielernamen'!M:M,MATCH(D131,'Eingabe Spielernamen'!B:B,)),\" \")","v":" "},{"$f":"IF(A131=\"x\",INDEX('Eingabe Spielernamen'!M:M,MATCH(F131,'Eingabe Spielernamen'!B:B,)),\" \")","v":" "},"",null,{"$f":"IF(A131=\"x\",INDEX('Eingabe Spielernamen'!Q:Q,MATCH(D131,'Eingabe Spielernamen'!B:B,)),\" \")","v":" "},{"$f":"IF(A131=\"x\",INDEX('Eingabe Spielernamen'!Q:Q,MATCH(F131,'Eingabe Spielernamen'!B:B,)),\" \")","v":" "},""]
[null,null,null,null,{"$f":"IF(ISBLANK(D132),\" \",INDEX('Eingabe Spielernamen'!$F:$F,MATCH(D132,'Eingabe Spielernamen'!$B:$B,0))&\", \"&INDEX('Eingabe Spielernamen'!$G:$G,MATCH(D132,'Eingabe Spielernamen'!$B:$B,0)))","v":" "},null,{"$f":"IF(ISBLANK(F132),\" \",INDEX('Eingabe Spielernamen'!$F:$F,MATCH(F132,'Eingabe Spielernamen'!$B:$B,0))&\", \"&INDEX('Eingabe Spielernamen'!$G:$G,MATCH(F132,'Eingabe Spielernamen'!$B:$B,0)))","v":" "},null,{"$f":"IF(A132=\"x\",INDEX('Eingabe Spielernamen'!J:J,MATCH(D132,'Eingabe Spielernamen'!B:B,)),\" \")","v":" "},{"$f":"IF(A132=\"x\",INDEX('Eingabe Spielernamen'!J:J,MATCH(F132,'Eingabe Spielernamen'!B:B,)),\" \")","v":" "},{"$f":"IF(A132=\"x\",I132+J132,\"\")","v":""},null,{"$f":"IF(A132=\"x\",INDEX('Eingabe Spielernamen'!M:M,MATCH(D132,'Eingabe Spielernamen'!B:B,)),\" \")","v":" "},{"$f":"IF(A132=\"x\",INDEX('Eingabe Spielernamen'!M:M,MATCH(F132,'Eingabe Spielernamen'!B:B,)),\" \")","v":" "},{"$f":"IF(B132=\"x\",M132+N132,\"\")","v":""},null,{"$f":"IF(A132=\"x\",INDEX('Eingabe Spielernamen'!Q:Q,MATCH(D132,'Eingabe Spielernamen'!B:B,)),\" \")","v":" "},{"$f":"IF(A132=\"x\",INDEX('Eingabe Spielernamen'!Q:Q,MATCH(F132,'Eingabe Spielernamen'!B:B,)),\" \")","v":" "},{"$f":"IF(C132=\"x\",Q132+R132,\"\")","v":""}]
[null,null,null,null,{"$f":"IF(ISBLANK(D133),\" \",INDEX('Eingabe Spielernamen'!$F:$F,MATCH(D133,'Eingabe Spielernamen'!$B:$B,0))&\", \"&INDEX('Eingabe Spielernamen'!$G:$G,MATCH(D133,'Eingabe Spielernamen'!$B:$B,0)))","v":" "},null,{"$f":"IF(ISBLANK(F133),\" \",INDEX('Eingabe Spielernamen'!$F:$F,MATCH(F133,'Eingabe Spielernamen'!$B:$B,0))&\", \"&INDEX('Eingabe Spielernamen'!$G:$G,MATCH(F133,'Eingabe Spielernamen'!$B:$B,0)))","v":" "},null,{"$f":"IF(A133=\"x\",INDEX('Eingabe Spielernamen'!J:J,MATCH(D133,'Eingabe Spielernamen'!B:B,)),\" \")","v":" "},{"$f":"IF(A133=\"x\",INDEX('Eingabe Spielernamen'!J:J,MATCH(F133,'Eingabe Spielernamen'!B:B,)),\" \")","v":" "},"",null,{"$f":"IF(A133=\"x\",INDEX('Eingabe Spielernamen'!M:M,MATCH(D133,'Eingabe Spielernamen'!B:B,)),\" \")","v":" "},{"$f":"IF(A133=\"x\",INDEX('Eingabe Spielernamen'!M:M,MATCH(F133,'Eingabe Spielernamen'!B:B,)),\" \")","v":" "},"",null,{"$f":"IF(A133=\"x\",INDEX('Eingabe Spielernamen'!Q:Q,MATCH(D133,'Eingabe Spielernamen'!B:B,)),\" \")","v":" "},{"$f":"IF(A133=\"x\",INDEX('Eingabe Spielernamen'!Q:Q,MATCH(F133,'Eingabe Spielernamen'!B:B,)),\" \")","v":" "},""]
[null,null,null,null,{"$f":"IF(ISBLANK(D134),\" \",INDEX('Eingabe Spielernamen'!$F:$F,MATCH(D134,'Eingabe Spielernamen'!$B:$B,0))&\", \"&INDEX('Eingabe Spielernamen'!$G:$G,MATCH(D134,'Eingabe Spielernamen'!$B:$B,0)))","v":" "},null,{"$f":"IF(ISBLANK(F134),\" \",INDEX('Eingabe Spielernamen'!$F:$F,MATCH(F134,'Eingabe Spielernamen'!$B:$B,0))&\", \"&INDEX('Eingabe Spielernamen'!$G:$G,MATCH(F134,'Eingabe Spielernamen'!$B:$B,0)))","v":" "},null,{"$f":"IF(A134=\"x\",INDEX('Eingabe Spielernamen'!J:J,MATCH(D134,'Eingabe Spielernamen'!B:B,)),\" \")","v":" "},{"$f":"IF(A134=\"x\",INDEX('Eingabe Spielernamen'!J:J,MATCH(F134,'Eingabe Spielernamen'!B:B,)),\" \")","v":" "},"",null,{"$f":"IF(A134=\"x\",INDEX('Eingabe Spielernamen'!M:M,MATCH(D134,'Eingabe Spielernamen'!B:B,)),\" \")","v":" "},{"$f":"IF(A134=\"x\",INDEX('Eingabe Spielernamen'!M:M,MATCH(F134,'Eingabe Spielernamen'!B:B,)),\" \")","v":" "},"",null,{"$f":"IF(A134=\"x\",INDEX('Eingabe Spielernamen'!Q:Q,MATCH(D134,'Eingabe Spielernamen'!B:B,)),\" \")","v":" "},{"$f":"IF(A134=\"x\",INDEX('Eingabe Spielernamen'!Q:Q,MATCH(F134,'Eingabe Spielernamen'!B:B,)),\" \")","v":" "},""]
[null,null,null,null,{"$f":"IF(ISBLANK(D135),\" \",INDEX('Eingabe Spielernamen'!$F:$F,MATCH(D135,'Eingabe Spielernamen'!$B:$B,0))&\", \"&INDEX('Eingabe Spielernamen'!$G:$G,MATCH(D135,'Eingabe Spielernamen'!$B:$B,0)))","v":" "},null,{"$f":"IF(ISBLANK(F135),\" \",INDEX('Eingabe Spielernamen'!$F:$F,MATCH(F135,'Eingabe Spielernamen'!$B:$B,0))&\", \"&INDEX('Eingabe Spielernamen'!$G:$G,MATCH(F135,'Eingabe Spielernamen'!$B:$B,0)))","v":" "},null,{"$f":"IF(A135=\"x\",INDEX('Eingabe Spielernamen'!J:J,MATCH(D135,'Eingabe Spielernamen'!B:B,)),\" \")","v":" "},{"$f":"IF(A135=\"x\",INDEX('Eingabe Spielernamen'!J:J,MATCH(F135,'Eingabe Spielernamen'!B:B,)),\" \")","v":" "},"",null,{"$f":"IF(A135=\"x\",INDEX('Eingabe Spielernamen'!M:M,MATCH(D135,'Eingabe Spielernamen'!B:B,)),\" \")","v":" "},{"$f":"IF(A135=\"x\",INDEX('Eingabe Spielernamen'!M:M,MATCH(F135,'Eingabe Spielernamen'!B:B,)),\" \")","v":" "},"",null,{"$f":"IF(A135=\"x\",INDEX('Eingabe Spielernamen'!Q:Q,MATCH(D135,'Eingabe Spielernamen'!B:B,)),\" \")","v":" "},{"$f":"IF(A135=\"x\",INDEX('Eingabe Spielernamen'!Q:Q,MATCH(F135,'Eingabe Spielernamen'!B:B,)),\" \")","v":" "},""]
[null,null,null,null,{"$f":"IF(ISBLANK(D136),\" \",INDEX('Eingabe Spielernamen'!$F:$F,MATCH(D136,'Eingabe Spielernamen'!$B:$B,0))&\", \"&INDEX('Eingabe Spielernamen'!$G:$G,MATCH(D136,'Eingabe Spielernamen'!$B:$B,0)))","v":" "},null,{"$f":"IF(ISBLANK(F136),\" \",INDEX('Eingabe Spielernamen'!$F:$F,MATCH(F136,'Eingabe Spielernamen'!$B:$B,0))&\", \"&INDEX('Eingabe Spielernamen'!$G:$G,MATCH(F136,'Eingabe Spielernamen'!$B:$B,0)))","v":" "},null,{"$f":"IF(A136=\"x\",INDEX('Eingabe Spielernamen'!J:J,MATCH(D136,'Eingabe Spielernamen'!B:B,)),\" \")","v":" "},{"$f":"IF(A136=\"x\",INDEX('Eingabe Spielernamen'!J:J,MATCH(F136,'Eingabe Spielernamen'!B:B,)),\" \")","v":" "},"",null,{"$f":"IF(A136=\"x\",INDEX('Eingabe Spielernamen'!M:M,MATCH(D136,'Eingabe Spielernamen'!B:B,)),\" \")","v":" "},{"$f":"IF(A136=\"x\",INDEX('Eingabe Spielernamen'!M:M,MATCH(F136,'Eingabe Spielernamen'!B:B,)),\" \")","v":" "},"",null,{"$f":"IF(A136=\"x\",INDEX('Eingabe Spielernamen'!Q:Q,MATCH(D136,'Eingabe Spielernamen'!B:B,)),\" \")","v":" "},{"$f":"IF(A136=\"x\",INDEX('Eingabe Spielernamen'!Q:Q,MATCH(F136,'Eingabe Spielernamen'!B:B,)),\" \")","v":" "},""]
[null,null,null,null,{"$f":"IF(ISBLANK(D137),\" \",INDEX('Eingabe Spielernamen'!$F:$F,MATCH(D137,'Eingabe Spielernamen'!$B:$B,0))&\", \"&INDEX('Eingabe Spielernamen'!$G:$G,MATCH(D137,'Eingabe Spielernamen'!$B:$B,0)))","v":" "},null,{"$f":"IF(ISBLANK(F137),\" \",INDEX('Eingabe Spielernamen'!$F:$F,MATCH(F137,'Eingabe Spielernamen'!$B:$B,0))&\", \"&INDEX('Eingabe Spielernamen'!$G:$G,MATCH(F137,'Eingabe Spielernamen'!$B:$B,0)))","v":" "},null,{"$f":"IF(A137=\"x\",INDEX('Eingabe Spielernamen'!J:J,MATCH(D137,'Eingabe Spielernamen'!B:B,)),\" \")","v":" "},{"$f":"IF(A137=\"x\",INDEX('Eingabe Spielernamen'!J:J,MATCH(F137,'Eingabe Spielernamen'!B:B,)),\" \")","v":" "},"",null,{"$f":"IF(A137=\"x\",INDEX('Eingabe Spielernamen'!M:M,MATCH(D137,'Eingabe Spielernamen'!B:B,)),\" \")","v":" "},{"$f":"IF(A137=\"x\",INDEX('Eingabe Spielernamen'!M:M,MATCH(F137,'Eingabe Spielernamen'!B:B,)),\" \")","v":" "},"",null,{"$f":"IF(A137=\"x\",INDEX('Eingabe Spielernamen'!Q:Q,MATCH(D137,'Eingabe Spielernamen'!B:B,)),\" \")","v":" "},{"$f":"IF(A137=\"x\",INDEX('Eingabe Spielernamen'!Q:Q,MATCH(F137,'Eingabe Spielernamen'!B:B,)),\" \")","v":" "},""]
[null,null,null,null,{"$f":"IF(ISBLANK(D138),\" \",INDEX('Eingabe Spielernamen'!$F:$F,MATCH(D138,'Eingabe Spielernamen'!$B:$B,0))&\", \"&INDEX('Eingabe Spielernamen'!$G:$G,MATCH(D138,'Eingabe Spielernamen'!$B:$B,0)))","v":" "},null,{"$f":"IF(ISBLANK(F138),\" \",INDEX('Eingabe Spielernamen'!$F:$F,MATCH(F138,'Eingabe Spielernamen'!$B:$B,0))&\", \"&INDEX('Eingabe Spielernamen'!$G:$G,MATCH(F138,'Eingabe Spielernamen'!$B:$B,0)))","v":" "},null,{"$f":"IF(A138=\"x\",INDEX('Eingabe Spielernamen'!J:J,MATCH(D138,'Eingabe Spielernamen'!B:B,)),\" \")","v":" "},{"$f":"IF(A138=\"x\",INDEX('Eingabe Spielernamen'!J:J,MATCH(F138,'Eingabe Spielernamen'!B:B,)),\" \")","v":" "},"",null,{"$f":"IF(A138=\"x\",INDEX('Eingabe Spielernamen'!M:M,MATCH(D138,'Eingabe Spielernamen'!B:B,)),\" \")","v":" "},{"$f":"IF(A138=\"x\",INDEX('Eingabe Spielernamen'!M:M,MATCH(F138,'Eingabe Spielernamen'!B:B,)),\" \")","v":" "},"",null,{"$f":"IF(A138=\"x\",INDEX('Eingabe Spielernamen'!Q:Q,MATCH(D138,'Eingabe Spielernamen'!B:B,)),\" \")","v":" "},{"$f":"IF(A138=\"x\",INDEX('Eingabe Spielernamen'!Q:Q,MATCH(F138,'Eingabe Spielernamen'!B:B,)),\" \")","v":" "},""]
[null,null,null,null,{"$f":"IF(ISBLANK(D139),\" \",INDEX('Eingabe Spielernamen'!$F:$F,MATCH(D139,'Eingabe Spielernamen'!$B:$B,0))&\", \"&INDEX('Eingabe Spielernamen'!$G:$G,MATCH(D139,'Eingabe Spielernamen'!$B:$B,0)))","v":" "},null,{"$f":"IF(ISBLANK(F139),\" \",INDEX('Eingabe Spielernamen'!$F:$F,MATCH(F139,'Eingabe Spielernamen'!$B:$B,0))&\", \"&INDEX('Eingabe Spielernamen'!$G:$G,MATCH(F139,'Eingabe Spielernamen'!$B:$B,0)))","v":" "},null,{"$f":"IF(A139=\"x\",INDEX('Eingabe Spielernamen'!J:J,MATCH(D139,'Eingabe Spielernamen'!B:B,)),\" \")","v":" "},{"$f":"IF(A139=\"x\",INDEX('Eingabe Spielernamen'!J:J,MATCH(F139,'Eingabe Spielernamen'!B:B,)),\" \")","v":" "},"",null,{"$f":"IF(A139=\"x\",INDEX('Eingabe Spielernamen'!M:M,MATCH(D139,'Eingabe Spielernamen'!B:B,)),\" \")","v":" "},{"$f":"IF(A139=\"x\",INDEX('Eingabe Spielernamen'!M:M,MATCH(F139,'Eingabe Spielernamen'!B:B,)),\" \")","v":" "},"",null,{"$f":"IF(A139=\"x\",INDEX('Eingabe Spielernamen'!Q:Q,MATCH(D139,'Eingabe Spielernamen'!B:B,)),\" \")","v":" "},{"$f":"IF(A139=\"x\",INDEX('Eingabe Spielernamen'!Q:Q,MATCH(F139,'Eingabe Spielernamen'!B:B,)),\" \")","v":" "},""]
[null,null,null,null,{"$f":"IF(ISBLANK(D140),\" \",INDEX('Eingabe Spielernamen'!$F:$F,MATCH(D140,'Eingabe Spielernamen'!$B:$B,0))&\", \"&INDEX('Eingabe Spielernamen'!$G:$G,MATCH(D140,'Eingabe Spielernamen'!$B:$B,0)))","v":" "},null,{"$f":"IF(ISBLANK(F140),\" \",INDEX('Eingabe Spielernamen'!$F:$F,MATCH(F140,'Eingabe Spielernamen'!$B:$B,0))&\", \"&INDEX('Eingabe Spielernamen'!$G:$G,MATCH(F140,'Eingabe Spielernamen'!$B:$B,0)))","v":" "},null,{"$f":"IF(A140=\"x\",INDEX('Eingabe Spielernamen'!J:J,MATCH(D140,'Eingabe Spielernamen'!B:B,)),\" \")","v":" "},{"$f":"IF(A140=\"x\",INDEX('Eingabe Spielernamen'!J:J,MATCH(F140,'Eingabe Spielernamen'!B:B,)),\" \")","v":" "},"",null,{"$f":"IF(A140=\"x\",INDEX('Eingabe Spielernamen'!M:M,MATCH(D140,'Eingabe Spielernamen'!B:B,)),\" \")","v":" "},{"$f":"IF(A140=\"x\",INDEX('Eingabe Spielernamen'!M:M,MATCH(F140,'Eingabe Spielernamen'!B:B,)),\" \")","v":" "},"",null,{"$f":"IF(A140=\"x\",INDEX('Eingabe Spielernamen'!Q:Q,MATCH(D140,'Eingabe Spielernamen'!B:B,)),\" \")","v":" "},{"$f":"IF(A140=\"x\",INDEX('Eingabe Spielernamen'!Q:Q,MATCH(F140,'Eingabe Spielernamen'!B:B,)),\" \")","v":" "},""]
[null,null,null,null,{"$f":"IF(ISBLANK(D141),\" \",INDEX('Eingabe Spielernamen'!$F:$F,MATCH(D141,'Eingabe Spielernamen'!$B:$B,0))&\", \"&INDEX('Eingabe Spielernamen'!$G:$G,MATCH(D141,'Eingabe Spielernamen'!$B:$B,0)))","v":" "},null,{"$f":"IF(ISBLANK(F141),\" \",INDEX('Eingabe Spielernamen'!$F:$F,MATCH(F141,'Eingabe Spielernamen'!$B:$B,0))&\", \"&INDEX('Eingabe Spielernamen'!$G:$G,MATCH(F141,'Eingabe Spielernamen'!$B:$B,0)))","v":" "},null,{"$f":"IF(A141=\"x\",INDEX('Eingabe Spielernamen'!J:J,MATCH(D141,'Eingabe Spielernamen'!B:B,)),\" \")","v":" "},{"$f":"IF(A141=\"x\",INDEX('Eingabe Spielernamen'!J:J,MATCH(F141,'Eingabe Spielernamen'!B:B,)),\" \")","v":" "},"",null,{"$f":"IF(A141=\"x\",INDEX('Eingabe Spielernamen'!M:M,MATCH(D141,'Eingabe Spielernamen'!B:B,)),\" \")","v":" "},{"$f":"IF(A141=\"x\",INDEX('Eingabe Spielernamen'!M:M,MATCH(F141,'Eingabe Spielernamen'!B:B,)),\" \")","v":" "},"",null,{"$f":"IF(A141=\"x\",INDEX('Eingabe Spielernamen'!Q:Q,MATCH(D141,'Eingabe Spielernamen'!B:B,)),\" \")","v":" "},{"$f":"IF(A141=\"x\",INDEX('Eingabe Spielernamen'!Q:Q,MATCH(F141,'Eingabe Spielernamen'!B:B,)),\" \")","v":" "},""]
[null,null,null,null,{"$f":"IF(ISBLANK(D142),\" \",INDEX('Eingabe Spielernamen'!$F:$F,MATCH(D142,'Eingabe Spielernamen'!$B:$B,0))&\", \"&INDEX('Eingabe Spielernamen'!$G:$G,MATCH(D142,'Eingabe Spielernamen'!$B:$B,0)))","v":" "},null,{"$f":"IF(ISBLANK(F142),\" \",INDEX('Eingabe Spielernamen'!$F:$F,MATCH(F142,'Eingabe Spielernamen'!$B:$B,0))&\", \"&INDEX('Eingabe Spielernamen'!$G:$G,MATCH(F142,'Eingabe Spielernamen'!$B:$B,0)))","v":" "},null,{"$f":"IF(A142=\"x\",INDEX('Eingabe Spielernamen'!J:J,MATCH(D142,'Eingabe Spielernamen'!B:B,)),\" \")","v":" "},{"$f":"IF(A142=\"x\",INDEX('Eingabe Spielernamen'!J:J,MATCH(F142,'Eingabe Spielernamen'!B:B,)),\" \")","v":" "},"",null,{"$f":"IF(A142=\"x\",INDEX('Eingabe Spielernamen'!M:M,MATCH(D142,'Eingabe Spielernamen'!B:B,)),\" \")","v":" "},{"$f":"IF(A142=\"x\",INDEX('Eingabe Spielernamen'!M:M,MATCH(F142,'Eingabe Spielernamen'!B:B,)),\" \")","v":" "},"",null,{"$f":"IF(A142=\"x\",INDEX('Eingabe Spielernamen'!Q:Q,MATCH(D142,'Eingabe Spielernamen'!B:B,)),\" \")","v":" "},{"$f":"IF(A142=\"x\",INDEX('Eingabe Spielernamen'!Q:Q,MATCH(F142,'Eingabe Spielernamen'!B:B,)),\" \")","v":" "},""]
[null,null,null,null,{"$f":"IF(ISBLANK(D143),\" \",INDEX('Eingabe Spielernamen'!$F:$F,MATCH(D143,'Eingabe Spielernamen'!$B:$B,0))&\", \"&INDEX('Eingabe Spielernamen'!$G:$G,MATCH(D143,'Eingabe Spielernamen'!$B:$B,0)))","v":" "},null,{"$f":"IF(ISBLANK(F143),\" \",INDEX('Eingabe Spielernamen'!$F:$F,MATCH(F143,'Eingabe Spielernamen'!$B:$B,0))&\", \"&INDEX('Eingabe Spielernamen'!$G:$G,MATCH(F143,'Eingabe Spielernamen'!$B:$B,0)))","v":" "},null,{"$f":"IF(A143=\"x\",INDEX('Eingabe Spielernamen'!J:J,MATCH(D143,'Eingabe Spielernamen'!B:B,)),\" \")","v":" "},{"$f":"IF(A143=\"x\",INDEX('Eingabe Spielernamen'!J:J,MATCH(F143,'Eingabe Spielernamen'!B:B,)),\" \")","v":" "},"",null,{"$f":"IF(A143=\"x\",INDEX('Eingabe Spielernamen'!M:M,MATCH(D143,'Eingabe Spielernamen'!B:B,)),\" \")","v":" "},{"$f":"IF(A143=\"x\",INDEX('Eingabe Spielernamen'!M:M,MATCH(F143,'Eingabe Spielernamen'!B:B,)),\" \")","v":" "},"",null,{"$f":"IF(A143=\"x\",INDEX('Eingabe Spielernamen'!Q:Q,MATCH(D143,'Eingabe Spielernamen'!B:B,)),\" \")","v":" "},{"$f":"IF(A143=\"x\",INDEX('Eingabe Spielernamen'!Q:Q,MATCH(F143,'Eingabe Spielernamen'!B:B,)),\" \")","v":" "},""]
[null,null,null,null,{"$f":"IF(ISBLANK(D144),\" \",INDEX('Eingabe Spielernamen'!$F:$F,MATCH(D144,'Eingabe Spielernamen'!$B:$B,0))&\", \"&INDEX('Eingabe Spielernamen'!$G:$G,MATCH(D144,'Eingabe Spielernamen'!$B:$B,0)))","v":" "},null,{"$f":"IF(ISBLANK(F144),\" \",INDEX('Eingabe Spielernamen'!$F:$F,MATCH(F144,'Eingabe Spielernamen'!$B:$B,0))&\", \"&INDEX('Eingabe Spielernamen'!$G:$G,MATCH(F144,'Eingabe Spielernamen'!$B:$B,0)))","v":" "},null,{"$f":"IF(A144=\"x\",INDEX('Eingabe Spielernamen'!J:J,MATCH(D144,'Eingabe Spielernamen'!B:B,)),\" \")","v":" "},{"$f":"IF(A144=\"x\",INDEX('Eingabe Spielernamen'!J:J,MATCH(F144,'Eingabe Spielernamen'!B:B,)),\" \")","v":" "},"",null,{"$f":"IF(A144=\"x\",INDEX('Eingabe Spielernamen'!M:M,MATCH(D144,'Eingabe Spielernamen'!B:B,)),\" \")","v":" "},{"$f":"IF(A144=\"x\",INDEX('Eingabe Spielernamen'!M:M,MATCH(F144,'Eingabe Spielernamen'!B:B,)),\" \")","v":" "},"",null,{"$f":"IF(A144=\"x\",INDEX('Eingabe Spielernamen'!Q:Q,MATCH(D144,'Eingabe Spielernamen'!B:B,)),\" \")","v":" "},{"$f":"IF(A144=\"x\",INDEX('Eingabe Spielernamen'!Q:Q,MATCH(F144,'Eingabe Spielernamen'!B:B,)),\" \")","v":" "},""]
[null,null,null,null,{"$f":"IF(ISBLANK(D145),\" \",INDEX('Eingabe Spielernamen'!$F:$F,MATCH(D145,'Eingabe Spielernamen'!$B:$B,0))&\", \"&INDEX('Eingabe Spielernamen'!$G:$G,MATCH(D145,'Eingabe Spielernamen'!$B:$B,0)))","v":" "},null,{"$f":"IF(ISBLANK(F145),\" \",INDEX('Eingabe Spielernamen'!$F:$F,MATCH(F145,'Eingabe Spielernamen'!$B:$B,0))&\", \"&INDEX('Eingabe Spielernamen'!$G:$G,MATCH(F145,'Eingabe Spielernamen'!$B:$B,0)))","v":" "},null,{"$f":"IF(A145=\"x\",INDEX('Eingabe Spielernamen'!J:J,MATCH(D145,'Eingabe Spielernamen'!B:B,)),\" \")","v":" "},{"$f":"IF(A145=\"x\",INDEX('Eingabe Spielernamen'!J:J,MATCH(F145,'Eingabe Spielernamen'!B:B,)),\" \")","v":" "},"",null,{"$f":"IF(A145=\"x\",INDEX('Eingabe Spielernamen'!M:M,MATCH(D145,'Eingabe Spielernamen'!B:B,)),\" \")","v":" "},{"$f":"IF(A145=\"x\",INDEX('Eingabe Spielernamen'!M:M,MATCH(F145,'Eingabe Spielernamen'!B:B,)),\" \")","v":" "},"",null,{"$f":"IF(A145=\"x\",INDEX('Eingabe Spielernamen'!Q:Q,MATCH(D145,'Eingabe Spielernamen'!B:B,)),\" \")","v":" "},{"$f":"IF(A145=\"x\",INDEX('Eingabe Spielernamen'!Q:Q,MATCH(F145,'Eingabe Spielernamen'!B:B,)),\" \")","v":" "},""]
[null,null,null,null,{"$f":"IF(ISBLANK(D146),\" \",INDEX('Eingabe Spielernamen'!$F:$F,MATCH(D146,'Eingabe Spielernamen'!$B:$B,0))&\", \"&INDEX('Eingabe Spielernamen'!$G:$G,MATCH(D146,'Eingabe Spielernamen'!$B:$B,0)))","v":" "},null,{"$f":"IF(ISBLANK(F146),\" \",INDEX('Eingabe Spielernamen'!$F:$F,MATCH(F146,'Eingabe Spielernamen'!$B:$B,0))&\", \"&INDEX('Eingabe Spielernamen'!$G:$G,MATCH(F146,'Eingabe Spielernamen'!$B:$B,0)))","v":" "},null,{"$f":"IF(A146=\"x\",INDEX('Eingabe Spielernamen'!J:J,MATCH(D146,'Eingabe Spielernamen'!B:B,)),\" \")","v":" "},{"$f":"IF(A146=\"x\",INDEX('Eingabe Spielernamen'!J:J,MATCH(F146,'Eingabe Spielernamen'!B:B,)),\" \")","v":" "},"",null,{"$f":"IF(A146=\"x\",INDEX('Eingabe Spielernamen'!M:M,MATCH(D146,'Eingabe Spielernamen'!B:B,)),\" \")","v":" "},{"$f":"IF(A146=\"x\",INDEX('Eingabe Spielernamen'!M:M,MATCH(F146,'Eingabe Spielernamen'!B:B,)),\" \")","v":" "},"",null,{"$f":"IF(A146=\"x\",INDEX('Eingabe Spielernamen'!Q:Q,MATCH(D146,'Eingabe Spielernamen'!B:B,)),\" \")","v":" "},{"$f":"IF(A146=\"x\",INDEX('Eingabe Spielernamen'!Q:Q,MATCH(F146,'Eingabe Spielernamen'!B:B,)),\" \")","v":" "},""]
[null,null,null,null,{"$f":"IF(ISBLANK(D147),\" \",INDEX('Eingabe Spielernamen'!$F:$F,MATCH(D147,'Eingabe Spielernamen'!$B:$B,0))&\", \"&INDEX('Eingabe Spielernamen'!$G:$G,MATCH(D147,'Eingabe Spielernamen'!$B:$B,0)))","v":" "},null,{"$f":"IF(ISBLANK(F147),\" \",INDEX('Eingabe Spielernamen'!$F:$F,MATCH(F147,'Eingabe Spielernamen'!$B:$B,0))&\", \"&INDEX('Eingabe Spielernamen'!$G:$G,MATCH(F147,'Eingabe Spielernamen'!$B:$B,0)))","v":" "},null,{"$f":"IF(A147=\"x\",INDEX('Eingabe Spielernamen'!J:J,MATCH(D147,'Eingabe Spielernamen'!B:B,)),\" \")","v":" "},{"$f":"IF(A147=\"x\",INDEX('Eingabe Spielernamen'!J:J,MATCH(F147,'Eingabe Spielernamen'!B:B,)),\" \")","v":" "},"",null,{"$f":"IF(A147=\"x\",INDEX('Eingabe Spielernamen'!M:M,MATCH(D147,'Eingabe Spielernamen'!B:B,)),\" \")","v":" "},{"$f":"IF(A147=\"x\",INDEX('Eingabe Spielernamen'!M:M,MATCH(F147,'Eingabe Spielernamen'!B:B,)),\" \")","v":" "},"",null,{"$f":"IF(A147=\"x\",INDEX('Eingabe Spielernamen'!Q:Q,MATCH(D147,'Eingabe Spielernamen'!B:B,)),\" \")","v":" "},{"$f":"IF(A147=\"x\",INDEX('Eingabe Spielernamen'!Q:Q,MATCH(F147,'Eingabe Spielernamen'!B:B,)),\" \")","v":" "},""]
[null,null,null,null,{"$f":"IF(ISBLANK(D148),\" \",INDEX('Eingabe Spielernamen'!$F:$F,MATCH(D148,'Eingabe Spielernamen'!$B:$B,0))&\", \"&INDEX('Eingabe Spielernamen'!$G:$G,MATCH(D148,'Eingabe Spielernamen'!$B:$B,0)))","v":" "},null,{"$f":"IF(ISBLANK(F148),\" \",INDEX('Eingabe Spielernamen'!$F:$F,MATCH(F148,'Eingabe Spielernamen'!$B:$B,0))&\", \"&INDEX('Eingabe Spielernamen'!$G:$G,MATCH(F148,'Eingabe Spielernamen'!$B:$B,0)))","v":" "},null,{"$f":"IF(A148=\"x\",INDEX('Eingabe Spielernamen'!J:J,MATCH(D148,'Eingabe Spielernamen'!B:B,)),\" \")","v":" "},{"$f":"IF(A148=\"x\",INDEX('Eingabe Spielernamen'!J:J,MATCH(F148,'Eingabe Spielernamen'!B:B,)),\" \")","v":" "},"",null,{"$f":"IF(A148=\"x\",INDEX('Eingabe Spielernamen'!M:M,MATCH(D148,'Eingabe Spielernamen'!B:B,)),\" \")","v":" "},{"$f":"IF(A148=\"x\",INDEX('Eingabe Spielernamen'!M:M,MATCH(F148,'Eingabe Spielernamen'!B:B,)),\" \")","v":" "},"",null,{"$f":"IF(A148=\"x\",INDEX('Eingabe Spielernamen'!Q:Q,MATCH(D148,'Eingabe Spielernamen'!B:B,)),\" \")","v":" "},{"$f":"IF(A148=\"x\",INDEX('Eingabe Spielernamen'!Q:Q,MATCH(F148,'Eingabe Spielernamen'!B:B,)),\" \")","v":" "},""]
[null,null,null,null,{"$f":"IF(ISBLANK(D149),\" \",INDEX('Eingabe Spielernamen'!$F:$F,MATCH(D149,'Eingabe Spielernamen'!$B:$B,0))&\", \"&INDEX('Eingabe Spielernamen'!$G:$G,MATCH(D149,'Eingabe Spielernamen'!$B:$B,0)))","v":" "},null,{"$f":"IF(ISBLANK(F149),\" \",INDEX('Eingabe Spielernamen'!$F:$F,MATCH(F149,'Eingabe Spielernamen'!$B:$B,0))&\", \"&INDEX('Eingabe Spielernamen'!$G:$G,MATCH(F149,'Eingabe Spielernamen'!$B:$B,0)))","v":" "},null,{"$f":"IF(A149=\"x\",INDEX('Eingabe Spielernamen'!J:J,MATCH(D149,'Eingabe Spielernamen'!B:B,)),\" \")","v":" "},{"$f":"IF(A149=\"x\",INDEX('Eingabe Spielernamen'!J:J,MATCH(F149,'Eingabe Spielernamen'!B:B,)),\" \")","v":" "},"",null,{"$f":"IF(A149=\"x\",INDEX('Eingabe Spielernamen'!M:M,MATCH(D149,'Eingabe Spielernamen'!B:B,)),\" \")","v":" "},{"$f":"IF(A149=\"x\",INDEX('Eingabe Spielernamen'!M:M,MATCH(F149,'Eingabe Spielernamen'!B:B,)),\" \")","v":" "},"",null,{"$f":"IF(A149=\"x\",INDEX('Eingabe Spielernamen'!Q:Q,MATCH(D149,'Eingabe Spielernamen'!B:B,)),\" \")","v":" "},{"$f":"IF(A149=\"x\",INDEX('Eingabe Spielernamen'!Q:Q,MATCH(F149,'Eingabe Spielernamen'!B:B,)),\" \")","v":" "},""]
[null,null,null,null,{"$f":"IF(ISBLANK(D150),\" \",INDEX('Eingabe Spielernamen'!$F:$F,MATCH(D150,'Eingabe Spielernamen'!$B:$B,0))&\", \"&INDEX('Eingabe Spielernamen'!$G:$G,MATCH(D150,'Eingabe Spielernamen'!$B:$B,0)))","v":" "},null,{"$f":"IF(ISBLANK(F150),\" \",INDEX('Eingabe Spielernamen'!$F:$F,MATCH(F150,'Eingabe Spielernamen'!$B:$B,0))&\", \"&INDEX('Eingabe Spielernamen'!$G:$G,MATCH(F150,'Eingabe Spielernamen'!$B:$B,0)))","v":" "},null,{"$f":"IF(A150=\"x\",INDEX('Eingabe Spielernamen'!J:J,MATCH(D150,'Eingabe Spielernamen'!B:B,)),\" \")","v":" "},{"$f":"IF(A150=\"x\",INDEX('Eingabe Spielernamen'!J:J,MATCH(F150,'Eingabe Spielernamen'!B:B,)),\" \")","v":" "},"",null,{"$f":"IF(A150=\"x\",INDEX('Eingabe Spielernamen'!M:M,MATCH(D150,'Eingabe Spielernamen'!B:B,)),\" \")","v":" "},{"$f":"IF(A150=\"x\",INDEX('Eingabe Spielernamen'!M:M,MATCH(F150,'Eingabe Spielernamen'!B:B,)),\" \")","v":" "},"",null,{"$f":"IF(A150=\"x\",INDEX('Eingabe Spielernamen'!Q:Q,MATCH(D150,'Eingabe Spielernamen'!B:B,)),\" \")","v":" "},{"$f":"IF(A150=\"x\",INDEX('Eingabe Spielernamen'!Q:Q,MATCH(F150,'Eingabe Spielernamen'!B:B,)),\" \")","v":" "},""]
[null,null,null,null,{"$f":"IF(ISBLANK(D151),\" \",INDEX('Eingabe Spielernamen'!$F:$F,MATCH(D151,'Eingabe Spielernamen'!$B:$B,0))&\", \"&INDEX('Eingabe Spielernamen'!$G:$G,MATCH(D151,'Eingabe Spielernamen'!$B:$B,0)))","v":" "},null,{"$f":"IF(ISBLANK(F151),\" \",INDEX('Eingabe Spielernamen'!$F:$F,MATCH(F151,'Eingabe Spielernamen'!$B:$B,0))&\", \"&INDEX('Eingabe Spielernamen'!$G:$G,MATCH(F151,'Eingabe Spielernamen'!$B:$B,0)))","v":" "},null,{"$f":"IF(A151=\"x\",INDEX('Eingabe Spielernamen'!J:J,MATCH(D151,'Eingabe Spielernamen'!B:B,)),\" \")","v":" "},{"$f":"IF(A151=\"x\",INDEX('Eingabe Spielernamen'!J:J,MATCH(F151,'Eingabe Spielernamen'!B:B,)),\" \")","v":" "},"",null,{"$f":"IF(A151=\"x\",INDEX('Eingabe Spielernamen'!M:M,MATCH(D151,'Eingabe Spielernamen'!B:B,)),\" \")","v":" "},{"$f":"IF(A151=\"x\",INDEX('Eingabe Spielernamen'!M:M,MATCH(F151,'Eingabe Spielernamen'!B:B,)),\" \")","v":" "},"",null,{"$f":"IF(A151=\"x\",INDEX('Eingabe Spielernamen'!Q:Q,MATCH(D151,'Eingabe Spielernamen'!B:B,)),\" \")","v":" "},{"$f":"IF(A151=\"x\",INDEX('Eingabe Spielernamen'!Q:Q,MATCH(F151,'Eingabe Spielernamen'!B:B,)),\" \")","v":" "},""]
[null,null,null,null,{"$f":"IF(ISBLANK(D152),\" \",INDEX('Eingabe Spielernamen'!$F:$F,MATCH(D152,'Eingabe Spielernamen'!$B:$B,0))&\", \"&INDEX('Eingabe Spielernamen'!$G:$G,MATCH(D152,'Eingabe Spielernamen'!$B:$B,0)))","v":" "},null,{"$f":"IF(ISBLANK(F152),\" \",INDEX('Eingabe Spielernamen'!$F:$F,MATCH(F152,'Eingabe Spielernamen'!$B:$B,0))&\", \"&INDEX('Eingabe Spielernamen'!$G:$G,MATCH(F152,'Eingabe Spielernamen'!$B:$B,0)))","v":" "},null,{"$f":"IF(A152=\"x\",INDEX('Eingabe Spielernamen'!J:J,MATCH(D152,'Eingabe Spielernamen'!B:B,)),\" \")","v":" "},{"$f":"IF(A152=\"x\",INDEX('Eingabe Spielernamen'!J:J,MATCH(F152,'Eingabe Spielernamen'!B:B,)),\" \")","v":" "},"",null,{"$f":"IF(A152=\"x\",INDEX('Eingabe Spielernamen'!M:M,MATCH(D152,'Eingabe Spielernamen'!B:B,)),\" \")","v":" "},{"$f":"IF(A152=\"x\",INDEX('Eingabe Spielernamen'!M:M,MATCH(F152,'Eingabe Spielernamen'!B:B,)),\" \")","v":" "},"",null,{"$f":"IF(A152=\"x\",INDEX('Eingabe Spielernamen'!Q:Q,MATCH(D152,'Eingabe Spielernamen'!B:B,)),\" \")","v":" "},{"$f":"IF(A152=\"x\",INDEX('Eingabe Spielernamen'!Q:Q,MATCH(F152,'Eingabe Spielernamen'!B:B,)),\" \")","v":" "},""]
[null,null,null,null,{"$f":"IF(ISBLANK(D153),\" \",INDEX('Eingabe Spielernamen'!$F:$F,MATCH(D153,'Eingabe Spielernamen'!$B:$B,0))&\", \"&INDEX('Eingabe Spielernamen'!$G:$G,MATCH(D153,'Eingabe Spielernamen'!$B:$B,0)))","v":" "},null,{"$f":"IF(ISBLANK(F153),\" \",INDEX('Eingabe Spielernamen'!$F:$F,MATCH(F153,'Eingabe Spielernamen'!$B:$B,0))&\", \"&INDEX('Eingabe Spielernamen'!$G:$G,MATCH(F153,'Eingabe Spielernamen'!$B:$B,0)))","v":" "},null,{"$f":"IF(A153=\"x\",INDEX('Eingabe Spielernamen'!J:J,MATCH(D153,'Eingabe Spielernamen'!B:B,)),\" \")","v":" "},{"$f":"IF(A153=\"x\",INDEX('Eingabe Spielernamen'!J:J,MATCH(F153,'Eingabe Spielernamen'!B:B,)),\" \")","v":" "},"",null,{"$f":"IF(A153=\"x\",INDEX('Eingabe Spielernamen'!M:M,MATCH(D153,'Eingabe Spielernamen'!B:B,)),\" \")","v":" "},{"$f":"IF(A153=\"x\",INDEX('Eingabe Spielernamen'!M:M,MATCH(F153,'Eingabe Spielernamen'!B:B,)),\" \")","v":" "},"",null,{"$f":"IF(A153=\"x\",INDEX('Eingabe Spielernamen'!Q:Q,MATCH(D153,'Eingabe Spielernamen'!B:B,)),\" \")","v":" "},{"$f":"IF(A153=\"x\",INDEX('Eingabe Spielernamen'!Q:Q,MATCH(F153,'Eingabe Spielernamen'!B:B,)),\" \")","v":" "},""]
[null,null,null,null,{"$f":"IF(ISBLANK(D154),\" \",INDEX('Eingabe Spielernamen'!$F:$F,MATCH(D154,'Eingabe Spielernamen'!$B:$B,0))&\", \"&INDEX('Eingabe Spielernamen'!$G:$G,MATCH(D154,'Eingabe Spielernamen'!$B:$B,0)))","v":" "},null,{"$f":"IF(ISBLANK(F154),\" \",INDEX('Eingabe Spielernamen'!$F:$F,MATCH(F154,'Eingabe Spielernamen'!$B:$B,0))&\", \"&INDEX('Eingabe Spielernamen'!$G:$G,MATCH(F154,'Eingabe Spielernamen'!$B:$B,0)))","v":" "},null,{"$f":"IF(A154=\"x\",INDEX('Eingabe Spielernamen'!J:J,MATCH(D154,'Eingabe Spielernamen'!B:B,)),\" \")","v":" "},{"$f":"IF(A154=\"x\",INDEX('Eingabe Spielernamen'!J:J,MATCH(F154,'Eingabe Spielernamen'!B:B,)),\" \")","v":" "},"",null,{"$f":"IF(A154=\"x\",INDEX('Eingabe Spielernamen'!M:M,MATCH(D154,'Eingabe Spielernamen'!B:B,)),\" \")","v":" "},{"$f":"IF(A154=\"x\",INDEX('Eingabe Spielernamen'!M:M,MATCH(F154,'Eingabe Spielernamen'!B:B,)),\" \")","v":" "},"",null,{"$f":"IF(A154=\"x\",INDEX('Eingabe Spielernamen'!Q:Q,MATCH(D154,'Eingabe Spielernamen'!B:B,)),\" \")","v":" "},{"$f":"IF(A154=\"x\",INDEX('Eingabe Spielernamen'!Q:Q,MATCH(F154,'Eingabe Spielernamen'!B:B,)),\" \")","v":" "},""]
[null,null,null,null,{"$f":"IF(ISBLANK(D155),\" \",INDEX('Eingabe Spielernamen'!$F:$F,MATCH(D155,'Eingabe Spielernamen'!$B:$B,0))&\", \"&INDEX('Eingabe Spielernamen'!$G:$G,MATCH(D155,'Eingabe Spielernamen'!$B:$B,0)))","v":" "},null,{"$f":"IF(ISBLANK(F155),\" \",INDEX('Eingabe Spielernamen'!$F:$F,MATCH(F155,'Eingabe Spielernamen'!$B:$B,0))&\", \"&INDEX('Eingabe Spielernamen'!$G:$G,MATCH(F155,'Eingabe Spielernamen'!$B:$B,0)))","v":" "},null,{"$f":"IF(A155=\"x\",INDEX('Eingabe Spielernamen'!J:J,MATCH(D155,'Eingabe Spielernamen'!B:B,)),\" \")","v":" "},{"$f":"IF(A155=\"x\",INDEX('Eingabe Spielernamen'!J:J,MATCH(F155,'Eingabe Spielernamen'!B:B,)),\" \")","v":" "},"",null,{"$f":"IF(A155=\"x\",INDEX('Eingabe Spielernamen'!M:M,MATCH(D155,'Eingabe Spielernamen'!B:B,)),\" \")","v":" "},{"$f":"IF(A155=\"x\",INDEX('Eingabe Spielernamen'!M:M,MATCH(F155,'Eingabe Spielernamen'!B:B,)),\" \")","v":" "},"",null,{"$f":"IF(A155=\"x\",INDEX('Eingabe Spielernamen'!Q:Q,MATCH(D155,'Eingabe Spielernamen'!B:B,)),\" \")","v":" "},{"$f":"IF(A155=\"x\",INDEX('Eingabe Spielernamen'!Q:Q,MATCH(F155,'Eingabe Spielernamen'!B:B,)),\" \")","v":" "},""]
[null,null,null,null,{"$f":"IF(ISBLANK(D156),\" \",INDEX('Eingabe Spielernamen'!$F:$F,MATCH(D156,'Eingabe Spielernamen'!$B:$B,0))&\", \"&INDEX('Eingabe Spielernamen'!$G:$G,MATCH(D156,'Eingabe Spielernamen'!$B:$B,0)))","v":" "},null,{"$f":"IF(ISBLANK(F156),\" \",INDEX('Eingabe Spielernamen'!$F:$F,MATCH(F156,'Eingabe Spielernamen'!$B:$B,0))&\", \"&INDEX('Eingabe Spielernamen'!$G:$G,MATCH(F156,'Eingabe Spielernamen'!$B:$B,0)))","v":" "},null,{"$f":"IF(A156=\"x\",INDEX('Eingabe Spielernamen'!J:J,MATCH(D156,'Eingabe Spielernamen'!B:B,)),\" \")","v":" "},{"$f":"IF(A156=\"x\",INDEX('Eingabe Spielernamen'!J:J,MATCH(F156,'Eingabe Spielernamen'!B:B,)),\" \")","v":" "},"",null,{"$f":"IF(A156=\"x\",INDEX('Eingabe Spielernamen'!M:M,MATCH(D156,'Eingabe Spielernamen'!B:B,)),\" \")","v":" "},{"$f":"IF(A156=\"x\",INDEX('Eingabe Spielernamen'!M:M,MATCH(F156,'Eingabe Spielernamen'!B:B,)),\" \")","v":" "},"",null,{"$f":"IF(A156=\"x\",INDEX('Eingabe Spielernamen'!Q:Q,MATCH(D156,'Eingabe Spielernamen'!B:B,)),\" \")","v":" "},{"$f":"IF(A156=\"x\",INDEX('Eingabe Spielernamen'!Q:Q,MATCH(F156,'Eingabe Spielernamen'!B:B,)),\" \")","v":" "},""]
[null,null,null,null,{"$f":"IF(ISBLANK(D157),\" \",INDEX('Eingabe Spielernamen'!$F:$F,MATCH(D157,'Eingabe Spielernamen'!$B:$B,0))&\", \"&INDEX('Eingabe Spielernamen'!$G:$G,MATCH(D157,'Eingabe Spielernamen'!$B:$B,0)))","v":" "},null,{"$f":"IF(ISBLANK(F157),\" \",INDEX('Eingabe Spielernamen'!$F:$F,MATCH(F157,'Eingabe Spielernamen'!$B:$B,0))&\", \"&INDEX('Eingabe Spielernamen'!$G:$G,MATCH(F157,'Eingabe Spielernamen'!$B:$B,0)))","v":" "},null,{"$f":"IF(A157=\"x\",INDEX('Eingabe Spielernamen'!J:J,MATCH(D157,'Eingabe Spielernamen'!B:B,)),\" \")","v":" "},{"$f":"IF(A157=\"x\",INDEX('Eingabe Spielernamen'!J:J,MATCH(F157,'Eingabe Spielernamen'!B:B,)),\" \")","v":" "},"",null,{"$f":"IF(A157=\"x\",INDEX('Eingabe Spielernamen'!M:M,MATCH(D157,'Eingabe Spielernamen'!B:B,)),\" \")","v":" "},{"$f":"IF(A157=\"x\",INDEX('Eingabe Spielernamen'!M:M,MATCH(F157,'Eingabe Spielernamen'!B:B,)),\" \")","v":" "},"",null,{"$f":"IF(A157=\"x\",INDEX('Eingabe Spielernamen'!Q:Q,MATCH(D157,'Eingabe Spielernamen'!B:B,)),\" \")","v":" "},{"$f":"IF(A157=\"x\",INDEX('Eingabe Spielernamen'!Q:Q,MATCH(F157,'Eingabe Spielernamen'!B:B,)),\" \")","v":" "},""]
[null,null,null,null,{"$f":"IF(ISBLANK(D158),\" \",INDEX('Eingabe Spielernamen'!$F:$F,MATCH(D158,'Eingabe Spielernamen'!$B:$B,0))&\", \"&INDEX('Eingabe Spielernamen'!$G:$G,MATCH(D158,'Eingabe Spielernamen'!$B:$B,0)))","v":" "},null,{"$f":"IF(ISBLANK(F158),\" \",INDEX('Eingabe Spielernamen'!$F:$F,MATCH(F158,'Eingabe Spielernamen'!$B:$B,0))&\", \"&INDEX('Eingabe Spielernamen'!$G:$G,MATCH(F158,'Eingabe Spielernamen'!$B:$B,0)))","v":" "},null,{"$f":"IF(A158=\"x\",INDEX('Eingabe Spielernamen'!J:J,MATCH(D158,'Eingabe Spielernamen'!B:B,)),\" \")","v":" "},{"$f":"IF(A158=\"x\",INDEX('Eingabe Spielernamen'!J:J,MATCH(F158,'Eingabe Spielernamen'!B:B,)),\" \")","v":" "},"",null,{"$f":"IF(A158=\"x\",INDEX('Eingabe Spielernamen'!M:M,MATCH(D158,'Eingabe Spielernamen'!B:B,)),\" \")","v":" "},{"$f":"IF(A158=\"x\",INDEX('Eingabe Spielernamen'!M:M,MATCH(F158,'Eingabe Spielernamen'!B:B,)),\" \")","v":" "},"",null,{"$f":"IF(A158=\"x\",INDEX('Eingabe Spielernamen'!Q:Q,MATCH(D158,'Eingabe Spielernamen'!B:B,)),\" \")","v":" "},{"$f":"IF(A158=\"x\",INDEX('Eingabe Spielernamen'!Q:Q,MATCH(F158,'Eingabe Spielernamen'!B:B,)),\" \")","v":" "},""]
[null,null,null,null,{"$f":"IF(ISBLANK(D159),\" \",INDEX('Eingabe Spielernamen'!$F:$F,MATCH(D159,'Eingabe Spielernamen'!$B:$B,0))&\", \"&INDEX('Eingabe Spielernamen'!$G:$G,MATCH(D159,'Eingabe Spielernamen'!$B:$B,0)))","v":" "},null,{"$f":"IF(ISBLANK(F159),\" \",INDEX('Eingabe Spielernamen'!$F:$F,MATCH(F159,'Eingabe Spielernamen'!$B:$B,0))&\", \"&INDEX('Eingabe Spielernamen'!$G:$G,MATCH(F159,'Eingabe Spielernamen'!$B:$B,0)))","v":" "},null,{"$f":"IF(A159=\"x\",INDEX('Eingabe Spielernamen'!J:J,MATCH(D159,'Eingabe Spielernamen'!B:B,)),\" \")","v":" "},{"$f":"IF(A159=\"x\",INDEX('Eingabe Spielernamen'!J:J,MATCH(F159,'Eingabe Spielernamen'!B:B,)),\" \")","v":" "},"",null,{"$f":"IF(A159=\"x\",INDEX('Eingabe Spielernamen'!M:M,MATCH(D159,'Eingabe Spielernamen'!B:B,)),\" \")","v":" "},{"$f":"IF(A159=\"x\",INDEX('Eingabe Spielernamen'!M:M,MATCH(F159,'Eingabe Spielernamen'!B:B,)),\" \")","v":" "},"",null,{"$f":"IF(A159=\"x\",INDEX('Eingabe Spielernamen'!Q:Q,MATCH(D159,'Eingabe Spielernamen'!B:B,)),\" \")","v":" "},{"$f":"IF(A159=\"x\",INDEX('Eingabe Spielernamen'!Q:Q,MATCH(F159,'Eingabe Spielernamen'!B:B,)),\" \")","v":" "},""]
[null,null,null,null,{"$f":"IF(ISBLANK(D160),\" \",INDEX('Eingabe Spielernamen'!$F:$F,MATCH(D160,'Eingabe Spielernamen'!$B:$B,0))&\", \"&INDEX('Eingabe Spielernamen'!$G:$G,MATCH(D160,'Eingabe Spielernamen'!$B:$B,0)))","v":" "},null,{"$f":"IF(ISBLANK(F160),\" \",INDEX('Eingabe Spielernamen'!$F:$F,MATCH(F160,'Eingabe Spielernamen'!$B:$B,0))&\", \"&INDEX('Eingabe Spielernamen'!$G:$G,MATCH(F160,'Eingabe Spielernamen'!$B:$B,0)))","v":" "},null,{"$f":"IF(A160=\"x\",INDEX('Eingabe Spielernamen'!J:J,MATCH(D160,'Eingabe Spielernamen'!B:B,)),\" \")","v":" "},{"$f":"IF(A160=\"x\",INDEX('Eingabe Spielernamen'!J:J,MATCH(F160,'Eingabe Spielernamen'!B:B,)),\" \")","v":" "},"",null,{"$f":"IF(A160=\"x\",INDEX('Eingabe Spielernamen'!M:M,MATCH(D160,'Eingabe Spielernamen'!B:B,)),\" \")","v":" "},{"$f":"IF(A160=\"x\",INDEX('Eingabe Spielernamen'!M:M,MATCH(F160,'Eingabe Spielernamen'!B:B,)),\" \")","v":" "},"",null,{"$f":"IF(A160=\"x\",INDEX('Eingabe Spielernamen'!Q:Q,MATCH(D160,'Eingabe Spielernamen'!B:B,)),\" \")","v":" "},{"$f":"IF(A160=\"x\",INDEX('Eingabe Spielernamen'!Q:Q,MATCH(F160,'Eingabe Spielernamen'!B:B,)),\" \")","v":" "},""]
[null,null,null,null,{"$f":"IF(ISBLANK(D161),\" \",INDEX('Eingabe Spielernamen'!$F:$F,MATCH(D161,'Eingabe Spielernamen'!$B:$B,0))&\", \"&INDEX('Eingabe Spielernamen'!$G:$G,MATCH(D161,'Eingabe Spielernamen'!$B:$B,0)))","v":" "},null,{"$f":"IF(ISBLANK(F161),\" \",INDEX('Eingabe Spielernamen'!$F:$F,MATCH(F161,'Eingabe Spielernamen'!$B:$B,0))&\", \"&INDEX('Eingabe Spielernamen'!$G:$G,MATCH(F161,'Eingabe Spielernamen'!$B:$B,0)))","v":" "},null,{"$f":"IF(A161=\"x\",INDEX('Eingabe Spielernamen'!J:J,MATCH(D161,'Eingabe Spielernamen'!B:B,)),\" \")","v":" "},{"$f":"IF(A161=\"x\",INDEX('Eingabe Spielernamen'!J:J,MATCH(F161,'Eingabe Spielernamen'!B:B,)),\" \")","v":" "},"",null,{"$f":"IF(A161=\"x\",INDEX('Eingabe Spielernamen'!M:M,MATCH(D161,'Eingabe Spielernamen'!B:B,)),\" \")","v":" "},{"$f":"IF(A161=\"x\",INDEX('Eingabe Spielernamen'!M:M,MATCH(F161,'Eingabe Spielernamen'!B:B,)),\" \")","v":" "},"",null,{"$f":"IF(A161=\"x\",INDEX('Eingabe Spielernamen'!Q:Q,MATCH(D161,'Eingabe Spielernamen'!B:B,)),\" \")","v":" "},{"$f":"IF(A161=\"x\",INDEX('Eingabe Spielernamen'!Q:Q,MATCH(F161,'Eingabe Spielernamen'!B:B,)),\" \")","v":" "},""]
[null,null,null,null,{"$f":"IF(ISBLANK(D162),\" \",INDEX('Eingabe Spielernamen'!$F:$F,MATCH(D162,'Eingabe Spielernamen'!$B:$B,0))&\", \"&INDEX('Eingabe Spielernamen'!$G:$G,MATCH(D162,'Eingabe Spielernamen'!$B:$B,0)))","v":" "},null,{"$f":"IF(ISBLANK(F162),\" \",INDEX('Eingabe Spielernamen'!$F:$F,MATCH(F162,'Eingabe Spielernamen'!$B:$B,0))&\", \"&INDEX('Eingabe Spielernamen'!$G:$G,MATCH(F162,'Eingabe Spielernamen'!$B:$B,0)))","v":" "},null,{"$f":"IF(A162=\"x\",INDEX('Eingabe Spielernamen'!J:J,MATCH(D162,'Eingabe Spielernamen'!B:B,)),\" \")","v":" "},{"$f":"IF(A162=\"x\",INDEX('Eingabe Spielernamen'!J:J,MATCH(F162,'Eingabe Spielernamen'!B:B,)),\" \")","v":" "},"",null,{"$f":"IF(A162=\"x\",INDEX('Eingabe Spielernamen'!M:M,MATCH(D162,'Eingabe Spielernamen'!B:B,)),\" \")","v":" "},{"$f":"IF(A162=\"x\",INDEX('Eingabe Spielernamen'!M:M,MATCH(F162,'Eingabe Spielernamen'!B:B,)),\" \")","v":" "},"",null,{"$f":"IF(A162=\"x\",INDEX('Eingabe Spielernamen'!Q:Q,MATCH(D162,'Eingabe Spielernamen'!B:B,)),\" \")","v":" "},{"$f":"IF(A162=\"x\",INDEX('Eingabe Spielernamen'!Q:Q,MATCH(F162,'Eingabe Spielernamen'!B:B,)),\" \")","v":" "},""]
[null,null,null,null,{"$f":"IF(ISBLANK(D163),\" \",INDEX('Eingabe Spielernamen'!$F:$F,MATCH(D163,'Eingabe Spielernamen'!$B:$B,0))&\", \"&INDEX('Eingabe Spielernamen'!$G:$G,MATCH(D163,'Eingabe Spielernamen'!$B:$B,0)))","v":" "},null,{"$f":"IF(ISBLANK(F163),\" \",INDEX('Eingabe Spielernamen'!$F:$F,MATCH(F163,'Eingabe Spielernamen'!$B:$B,0))&\", \"&INDEX('Eingabe Spielernamen'!$G:$G,MATCH(F163,'Eingabe Spielernamen'!$B:$B,0)))","v":" "},null,{"$f":"IF(A163=\"x\",INDEX('Eingabe Spielernamen'!J:J,MATCH(D163,'Eingabe Spielernamen'!B:B,)),\" \")","v":" "},{"$f":"IF(A163=\"x\",INDEX('Eingabe Spielernamen'!J:J,MATCH(F163,'Eingabe Spielernamen'!B:B,)),\" \")","v":" "},"",null,{"$f":"IF(A163=\"x\",INDEX('Eingabe Spielernamen'!M:M,MATCH(D163,'Eingabe Spielernamen'!B:B,)),\" \")","v":" "},{"$f":"IF(A163=\"x\",INDEX('Eingabe Spielernamen'!M:M,MATCH(F163,'Eingabe Spielernamen'!B:B,)),\" \")","v":" "},"",null,{"$f":"IF(A163=\"x\",INDEX('Eingabe Spielernamen'!Q:Q,MATCH(D163,'Eingabe Spielernamen'!B:B,)),\" \")","v":" "},{"$f":"IF(A163=\"x\",INDEX('Eingabe Spielernamen'!Q:Q,MATCH(F163,'Eingabe Spielernamen'!B:B,)),\" \")","v":" "},""]
[null,null,null,null,{"$f":"IF(ISBLANK(D164),\" \",INDEX('Eingabe Spielernamen'!$F:$F,MATCH(D164,'Eingabe Spielernamen'!$B:$B,0))&\", \"&INDEX('Eingabe Spielernamen'!$G:$G,MATCH(D164,'Eingabe Spielernamen'!$B:$B,0)))","v":" "},null,{"$f":"IF(ISBLANK(F164),\" \",INDEX('Eingabe Spielernamen'!$F:$F,MATCH(F164,'Eingabe Spielernamen'!$B:$B,0))&\", \"&INDEX('Eingabe Spielernamen'!$G:$G,MATCH(F164,'Eingabe Spielernamen'!$B:$B,0)))","v":" "},null,{"$f":"IF(A164=\"x\",INDEX('Eingabe Spielernamen'!J:J,MATCH(D164,'Eingabe Spielernamen'!B:B,)),\" \")","v":" "},{"$f":"IF(A164=\"x\",INDEX('Eingabe Spielernamen'!J:J,MATCH(F164,'Eingabe Spielernamen'!B:B,)),\" \")","v":" "},"",null,{"$f":"IF(A164=\"x\",INDEX('Eingabe Spielernamen'!M:M,MATCH(D164,'Eingabe Spielernamen'!B:B,)),\" \")","v":" "},{"$f":"IF(A164=\"x\",INDEX('Eingabe Spielernamen'!M:M,MATCH(F164,'Eingabe Spielernamen'!B:B,)),\" \")","v":" "},"",null,{"$f":"IF(A164=\"x\",INDEX('Eingabe Spielernamen'!Q:Q,MATCH(D164,'Eingabe Spielernamen'!B:B,)),\" \")","v":" "},{"$f":"IF(A164=\"x\",INDEX('Eingabe Spielernamen'!Q:Q,MATCH(F164,'Eingabe Spielernamen'!B:B,)),\" \")","v":" "},""]
[null,null,null,null,{"$f":"IF(ISBLANK(D165),\" \",INDEX('Eingabe Spielernamen'!$F:$F,MATCH(D165,'Eingabe Spielernamen'!$B:$B,0))&\", \"&INDEX('Eingabe Spielernamen'!$G:$G,MATCH(D165,'Eingabe Spielernamen'!$B:$B,0)))","v":" "},null,{"$f":"IF(ISBLANK(F165),\" \",INDEX('Eingabe Spielernamen'!$F:$F,MATCH(F165,'Eingabe Spielernamen'!$B:$B,0))&\", \"&INDEX('Eingabe Spielernamen'!$G:$G,MATCH(F165,'Eingabe Spielernamen'!$B:$B,0)))","v":" "},null,{"$f":"IF(A165=\"x\",INDEX('Eingabe Spielernamen'!J:J,MATCH(D165,'Eingabe Spielernamen'!B:B,)),\" \")","v":" "},{"$f":"IF(A165=\"x\",INDEX('Eingabe Spielernamen'!J:J,MATCH(F165,'Eingabe Spielernamen'!B:B,)),\" \")","v":" "},"",null,{"$f":"IF(A165=\"x\",INDEX('Eingabe Spielernamen'!M:M,MATCH(D165,'Eingabe Spielernamen'!B:B,)),\" \")","v":" "},{"$f":"IF(A165=\"x\",INDEX('Eingabe Spielernamen'!M:M,MATCH(F165,'Eingabe Spielernamen'!B:B,)),\" \")","v":" "},"",null,{"$f":"IF(A165=\"x\",INDEX('Eingabe Spielernamen'!Q:Q,MATCH(D165,'Eingabe Spielernamen'!B:B,)),\" \")","v":" "},{"$f":"IF(A165=\"x\",INDEX('Eingabe Spielernamen'!Q:Q,MATCH(F165,'Eingabe Spielernamen'!B:B,)),\" \")","v":" "},""]
[null,null,null,null,{"$f":"IF(ISBLANK(D166),\" \",INDEX('Eingabe Spielernamen'!$F:$F,MATCH(D166,'Eingabe Spielernamen'!$B:$B,0))&\", \"&INDEX('Eingabe Spielernamen'!$G:$G,MATCH(D166,'Eingabe Spielernamen'!$B:$B,0)))","v":" "},null,{"$f":"IF(ISBLANK(F166),\" \",INDEX('Eingabe Spielernamen'!$F:$F,MATCH(F166,'Eingabe Spielernamen'!$B:$B,0))&\", \"&INDEX('Eingabe Spielernamen'!$G:$G,MATCH(F166,'Eingabe Spielernamen'!$B:$B,0)))","v":" "},null,{"$f":"IF(A166=\"x\",INDEX('Eingabe Spielernamen'!J:J,MATCH(D166,'Eingabe Spielernamen'!B:B,)),\" \")","v":" "},{"$f":"IF(A166=\"x\",INDEX('Eingabe Spielernamen'!J:J,MATCH(F166,'Eingabe Spielernamen'!B:B,)),\" \")","v":" "},"",null,{"$f":"IF(A166=\"x\",INDEX('Eingabe Spielernamen'!M:M,MATCH(D166,'Eingabe Spielernamen'!B:B,)),\" \")","v":" "},{"$f":"IF(A166=\"x\",INDEX('Eingabe Spielernamen'!M:M,MATCH(F166,'Eingabe Spielernamen'!B:B,)),\" \")","v":" "},"",null,{"$f":"IF(A166=\"x\",INDEX('Eingabe Spielernamen'!Q:Q,MATCH(D166,'Eingabe Spielernamen'!B:B,)),\" \")","v":" "},{"$f":"IF(A166=\"x\",INDEX('Eingabe Spielernamen'!Q:Q,MATCH(F166,'Eingabe Spielernamen'!B:B,)),\" \")","v":" "},""]
[null,null,null,null,{"$f":"IF(ISBLANK(D167),\" \",INDEX('Eingabe Spielernamen'!$F:$F,MATCH(D167,'Eingabe Spielernamen'!$B:$B,0))&\", \"&INDEX('Eingabe Spielernamen'!$G:$G,MATCH(D167,'Eingabe Spielernamen'!$B:$B,0)))","v":" "},null,{"$f":"IF(ISBLANK(F167),\" \",INDEX('Eingabe Spielernamen'!$F:$F,MATCH(F167,'Eingabe Spielernamen'!$B:$B,0))&\", \"&INDEX('Eingabe Spielernamen'!$G:$G,MATCH(F167,'Eingabe Spielernamen'!$B:$B,0)))","v":" "},null,{"$f":"IF(A167=\"x\",INDEX('Eingabe Spielernamen'!J:J,MATCH(D167,'Eingabe Spielernamen'!B:B,)),\" \")","v":" "},{"$f":"IF(A167=\"x\",INDEX('Eingabe Spielernamen'!J:J,MATCH(F167,'Eingabe Spielernamen'!B:B,)),\" \")","v":" "},"",null,{"$f":"IF(A167=\"x\",INDEX('Eingabe Spielernamen'!M:M,MATCH(D167,'Eingabe Spielernamen'!B:B,)),\" \")","v":" "},{"$f":"IF(A167=\"x\",INDEX('Eingabe Spielernamen'!M:M,MATCH(F167,'Eingabe Spielernamen'!B:B,)),\" \")","v":" "},"",null,{"$f":"IF(A167=\"x\",INDEX('Eingabe Spielernamen'!Q:Q,MATCH(D167,'Eingabe Spielernamen'!B:B,)),\" \")","v":" "},{"$f":"IF(A167=\"x\",INDEX('Eingabe Spielernamen'!Q:Q,MATCH(F167,'Eingabe Spielernamen'!B:B,)),\" \")","v":" "},""]
[null,null,null,null,{"$f":"IF(ISBLANK(D168),\" \",INDEX('Eingabe Spielernamen'!$F:$F,MATCH(D168,'Eingabe Spielernamen'!$B:$B,0))&\", \"&INDEX('Eingabe Spielernamen'!$G:$G,MATCH(D168,'Eingabe Spielernamen'!$B:$B,0)))","v":" "},null,{"$f":"IF(ISBLANK(F168),\" \",INDEX('Eingabe Spielernamen'!$F:$F,MATCH(F168,'Eingabe Spielernamen'!$B:$B,0))&\", \"&INDEX('Eingabe Spielernamen'!$G:$G,MATCH(F168,'Eingabe Spielernamen'!$B:$B,0)))","v":" "},null,{"$f":"IF(A168=\"x\",INDEX('Eingabe Spielernamen'!J:J,MATCH(D168,'Eingabe Spielernamen'!B:B,)),\" \")","v":" "},{"$f":"IF(A168=\"x\",INDEX('Eingabe Spielernamen'!J:J,MATCH(F168,'Eingabe Spielernamen'!B:B,)),\" \")","v":" "},"",null,{"$f":"IF(A168=\"x\",INDEX('Eingabe Spielernamen'!M:M,MATCH(D168,'Eingabe Spielernamen'!B:B,)),\" \")","v":" "},{"$f":"IF(A168=\"x\",INDEX('Eingabe Spielernamen'!M:M,MATCH(F168,'Eingabe Spielernamen'!B:B,)),\" \")","v":" "},"",null,{"$f":"IF(A168=\"x\",INDEX('Eingabe Spielernamen'!Q:Q,MATCH(D168,'Eingabe Spielernamen'!B:B,)),\" \")","v":" "},{"$f":"IF(A168=\"x\",INDEX('Eingabe Spielernamen'!Q:Q,MATCH(F168,'Eingabe Spielernamen'!B:B,)),\" \")","v":" "},""]
[null,null,null,null,{"$f":"IF(ISBLANK(D169),\" \",INDEX('Eingabe Spielernamen'!$F:$F,MATCH(D169,'Eingabe Spielernamen'!$B:$B,0))&\", \"&INDEX('Eingabe Spielernamen'!$G:$G,MATCH(D169,'Eingabe Spielernamen'!$B:$B,0)))","v":" "},null,{"$f":"IF(ISBLANK(F169),\" \",INDEX('Eingabe Spielernamen'!$F:$F,MATCH(F169,'Eingabe Spielernamen'!$B:$B,0))&\", \"&INDEX('Eingabe Spielernamen'!$G:$G,MATCH(F169,'Eingabe Spielernamen'!$B:$B,0)))","v":" "},null,{"$f":"IF(A169=\"x\",INDEX('Eingabe Spielernamen'!J:J,MATCH(D169,'Eingabe Spielernamen'!B:B,)),\" \")","v":" "},{"$f":"IF(A169=\"x\",INDEX('Eingabe Spielernamen'!J:J,MATCH(F169,'Eingabe Spielernamen'!B:B,)),\" \")","v":" "},"",null,{"$f":"IF(A169=\"x\",INDEX('Eingabe Spielernamen'!M:M,MATCH(D169,'Eingabe Spielernamen'!B:B,)),\" \")","v":" "},{"$f":"IF(A169=\"x\",INDEX('Eingabe Spielernamen'!M:M,MATCH(F169,'Eingabe Spielernamen'!B:B,)),\" \")","v":" "},"",null,{"$f":"IF(A169=\"x\",INDEX('Eingabe Spielernamen'!Q:Q,MATCH(D169,'Eingabe Spielernamen'!B:B,)),\" \")","v":" "},{"$f":"IF(A169=\"x\",INDEX('Eingabe Spielernamen'!Q:Q,MATCH(F169,'Eingabe Spielernamen'!B:B,)),\" \")","v":" "},""]
[null,null,null,null,{"$f":"IF(ISBLANK(D170),\" \",INDEX('Eingabe Spielernamen'!$F:$F,MATCH(D170,'Eingabe Spielernamen'!$B:$B,0))&\", \"&INDEX('Eingabe Spielernamen'!$G:$G,MATCH(D170,'Eingabe Spielernamen'!$B:$B,0)))","v":" "},null,{"$f":"IF(ISBLANK(F170),\" \",INDEX('Eingabe Spielernamen'!$F:$F,MATCH(F170,'Eingabe Spielernamen'!$B:$B,0))&\", \"&INDEX('Eingabe Spielernamen'!$G:$G,MATCH(F170,'Eingabe Spielernamen'!$B:$B,0)))","v":" "},null,{"$f":"IF(A170=\"x\",INDEX('Eingabe Spielernamen'!J:J,MATCH(D170,'Eingabe Spielernamen'!B:B,)),\" \")","v":" "},{"$f":"IF(A170=\"x\",INDEX('Eingabe Spielernamen'!J:J,MATCH(F170,'Eingabe Spielernamen'!B:B,)),\" \")","v":" "},"",null,{"$f":"IF(A170=\"x\",INDEX('Eingabe Spielernamen'!M:M,MATCH(D170,'Eingabe Spielernamen'!B:B,)),\" \")","v":" "},{"$f":"IF(A170=\"x\",INDEX('Eingabe Spielernamen'!M:M,MATCH(F170,'Eingabe Spielernamen'!B:B,)),\" \")","v":" "},"",null,{"$f":"IF(A170=\"x\",INDEX('Eingabe Spielernamen'!Q:Q,MATCH(D170,'Eingabe Spielernamen'!B:B,)),\" \")","v":" "},{"$f":"IF(A170=\"x\",INDEX('Eingabe Spielernamen'!Q:Q,MATCH(F170,'Eingabe Spielernamen'!B:B,)),\" \")","v":" "},""]
[null,null,null,null,{"$f":"IF(ISBLANK(D171),\" \",INDEX('Eingabe Spielernamen'!$F:$F,MATCH(D171,'Eingabe Spielernamen'!$B:$B,0))&\", \"&INDEX('Eingabe Spielernamen'!$G:$G,MATCH(D171,'Eingabe Spielernamen'!$B:$B,0)))","v":" "},null,{"$f":"IF(ISBLANK(F171),\" \",INDEX('Eingabe Spielernamen'!$F:$F,MATCH(F171,'Eingabe Spielernamen'!$B:$B,0))&\", \"&INDEX('Eingabe Spielernamen'!$G:$G,MATCH(F171,'Eingabe Spielernamen'!$B:$B,0)))","v":" "},null,{"$f":"IF(A171=\"x\",INDEX('Eingabe Spielernamen'!J:J,MATCH(D171,'Eingabe Spielernamen'!B:B,)),\" \")","v":" "},{"$f":"IF(A171=\"x\",INDEX('Eingabe Spielernamen'!J:J,MATCH(F171,'Eingabe Spielernamen'!B:B,)),\" \")","v":" "},"",null,{"$f":"IF(A171=\"x\",INDEX('Eingabe Spielernamen'!M:M,MATCH(D171,'Eingabe Spielernamen'!B:B,)),\" \")","v":" "},{"$f":"IF(A171=\"x\",INDEX('Eingabe Spielernamen'!M:M,MATCH(F171,'Eingabe Spielernamen'!B:B,)),\" \")","v":" "},"",null,{"$f":"IF(A171=\"x\",INDEX('Eingabe Spielernamen'!Q:Q,MATCH(D171,'Eingabe Spielernamen'!B:B,)),\" \")","v":" "},{"$f":"IF(A171=\"x\",INDEX('Eingabe Spielernamen'!Q:Q,MATCH(F171,'Eingabe Spielernamen'!B:B,)),\" \")","v":" "},""]
[null,null,null,null,{"$f":"IF(ISBLANK(D172),\" \",INDEX('Eingabe Spielernamen'!$F:$F,MATCH(D172,'Eingabe Spielernamen'!$B:$B,0))&\", \"&INDEX('Eingabe Spielernamen'!$G:$G,MATCH(D172,'Eingabe Spielernamen'!$B:$B,0)))","v":" "},null,{"$f":"IF(ISBLANK(F172),\" \",INDEX('Eingabe Spielernamen'!$F:$F,MATCH(F172,'Eingabe Spielernamen'!$B:$B,0))&\", \"&INDEX('Eingabe Spielernamen'!$G:$G,MATCH(F172,'Eingabe Spielernamen'!$B:$B,0)))","v":" "},null,{"$f":"IF(A172=\"x\",INDEX('Eingabe Spielernamen'!J:J,MATCH(D172,'Eingabe Spielernamen'!B:B,)),\" \")","v":" "},{"$f":"IF(A172=\"x\",INDEX('Eingabe Spielernamen'!J:J,MATCH(F172,'Eingabe Spielernamen'!B:B,)),\" \")","v":" "},"",null,{"$f":"IF(A172=\"x\",INDEX('Eingabe Spielernamen'!M:M,MATCH(D172,'Eingabe Spielernamen'!B:B,)),\" \")","v":" "},{"$f":"IF(A172=\"x\",INDEX('Eingabe Spielernamen'!M:M,MATCH(F172,'Eingabe Spielernamen'!B:B,)),\" \")","v":" "},"",null,{"$f":"IF(A172=\"x\",INDEX('Eingabe Spielernamen'!Q:Q,MATCH(D172,'Eingabe Spielernamen'!B:B,)),\" \")","v":" "},{"$f":"IF(A172=\"x\",INDEX('Eingabe Spielernamen'!Q:Q,MATCH(F172,'Eingabe Spielernamen'!B:B,)),\" \")","v":" "},""]
[null,null,null,null,{"$f":"IF(ISBLANK(D173),\" \",INDEX('Eingabe Spielernamen'!$F:$F,MATCH(D173,'Eingabe Spielernamen'!$B:$B,0))&\", \"&INDEX('Eingabe Spielernamen'!$G:$G,MATCH(D173,'Eingabe Spielernamen'!$B:$B,0)))","v":" "},null,{"$f":"IF(ISBLANK(F173),\" \",INDEX('Eingabe Spielernamen'!$F:$F,MATCH(F173,'Eingabe Spielernamen'!$B:$B,0))&\", \"&INDEX('Eingabe Spielernamen'!$G:$G,MATCH(F173,'Eingabe Spielernamen'!$B:$B,0)))","v":" "},null,{"$f":"IF(A173=\"x\",INDEX('Eingabe Spielernamen'!J:J,MATCH(D173,'Eingabe Spielernamen'!B:B,)),\" \")","v":" "},{"$f":"IF(A173=\"x\",INDEX('Eingabe Spielernamen'!J:J,MATCH(F173,'Eingabe Spielernamen'!B:B,)),\" \")","v":" "},"",null,{"$f":"IF(A173=\"x\",INDEX('Eingabe Spielernamen'!M:M,MATCH(D173,'Eingabe Spielernamen'!B:B,)),\" \")","v":" "},{"$f":"IF(A173=\"x\",INDEX('Eingabe Spielernamen'!M:M,MATCH(F173,'Eingabe Spielernamen'!B:B,)),\" \")","v":" "},"",null,{"$f":"IF(A173=\"x\",INDEX('Eingabe Spielernamen'!Q:Q,MATCH(D173,'Eingabe Spielernamen'!B:B,)),\" \")","v":" "},{"$f":"IF(A173=\"x\",INDEX('Eingabe Spielernamen'!Q:Q,MATCH(F173,'Eingabe Spielernamen'!B:B,)),\" \")","v":" "},""]
[null,null,null,null,{"$f":"IF(ISBLANK(D174),\" \",INDEX('Eingabe Spielernamen'!$F:$F,MATCH(D174,'Eingabe Spielernamen'!$B:$B,0))&\", \"&INDEX('Eingabe Spielernamen'!$G:$G,MATCH(D174,'Eingabe Spielernamen'!$B:$B,0)))","v":" "},null,{"$f":"IF(ISBLANK(F174),\" \",INDEX('Eingabe Spielernamen'!$F:$F,MATCH(F174,'Eingabe Spielernamen'!$B:$B,0))&\", \"&INDEX('Eingabe Spielernamen'!$G:$G,MATCH(F174,'Eingabe Spielernamen'!$B:$B,0)))","v":" "},null,{"$f":"IF(A174=\"x\",INDEX('Eingabe Spielernamen'!J:J,MATCH(D174,'Eingabe Spielernamen'!B:B,)),\" \")","v":" "},{"$f":"IF(A174=\"x\",INDEX('Eingabe Spielernamen'!J:J,MATCH(F174,'Eingabe Spielernamen'!B:B,)),\" \")","v":" "},"",null,{"$f":"IF(A174=\"x\",INDEX('Eingabe Spielernamen'!M:M,MATCH(D174,'Eingabe Spielernamen'!B:B,)),\" \")","v":" "},{"$f":"IF(A174=\"x\",INDEX('Eingabe Spielernamen'!M:M,MATCH(F174,'Eingabe Spielernamen'!B:B,)),\" \")","v":" "},"",null,{"$f":"IF(A174=\"x\",INDEX('Eingabe Spielernamen'!Q:Q,MATCH(D174,'Eingabe Spielernamen'!B:B,)),\" \")","v":" "},{"$f":"IF(A174=\"x\",INDEX('Eingabe Spielernamen'!Q:Q,MATCH(F174,'Eingabe Spielernamen'!B:B,)),\" \")","v":" "},""]
[null,null,null,null,{"$f":"IF(ISBLANK(D175),\" \",INDEX('Eingabe Spielernamen'!$F:$F,MATCH(D175,'Eingabe Spielernamen'!$B:$B,0))&\", \"&INDEX('Eingabe Spielernamen'!$G:$G,MATCH(D175,'Eingabe Spielernamen'!$B:$B,0)))","v":" "},null,{"$f":"IF(ISBLANK(F175),\" \",INDEX('Eingabe Spielernamen'!$F:$F,MATCH(F175,'Eingabe Spielernamen'!$B:$B,0))&\", \"&INDEX('Eingabe Spielernamen'!$G:$G,MATCH(F175,'Eingabe Spielernamen'!$B:$B,0)))","v":" "},null,{"$f":"IF(A175=\"x\",INDEX('Eingabe Spielernamen'!J:J,MATCH(D175,'Eingabe Spielernamen'!B:B,)),\" \")","v":" "},{"$f":"IF(A175=\"x\",INDEX('Eingabe Spielernamen'!J:J,MATCH(F175,'Eingabe Spielernamen'!B:B,)),\" \")","v":" "},"",null,{"$f":"IF(A175=\"x\",INDEX('Eingabe Spielernamen'!M:M,MATCH(D175,'Eingabe Spielernamen'!B:B,)),\" \")","v":" "},{"$f":"IF(A175=\"x\",INDEX('Eingabe Spielernamen'!M:M,MATCH(F175,'Eingabe Spielernamen'!B:B,)),\" \")","v":" "},"",null,{"$f":"IF(A175=\"x\",INDEX('Eingabe Spielernamen'!Q:Q,MATCH(D175,'Eingabe Spielernamen'!B:B,)),\" \")","v":" "},{"$f":"IF(A175=\"x\",INDEX('Eingabe Spielernamen'!Q:Q,MATCH(F175,'Eingabe Spielernamen'!B:B,)),\" \")","v":" "},""]
[null,null,null,null,{"$f":"IF(ISBLANK(D176),\" \",INDEX('Eingabe Spielernamen'!$F:$F,MATCH(D176,'Eingabe Spielernamen'!$B:$B,0))&\", \"&INDEX('Eingabe Spielernamen'!$G:$G,MATCH(D176,'Eingabe Spielernamen'!$B:$B,0)))","v":" "},null,{"$f":"IF(ISBLANK(F176),\" \",INDEX('Eingabe Spielernamen'!$F:$F,MATCH(F176,'Eingabe Spielernamen'!$B:$B,0))&\", \"&INDEX('Eingabe Spielernamen'!$G:$G,MATCH(F176,'Eingabe Spielernamen'!$B:$B,0)))","v":" "},null,{"$f":"IF(A176=\"x\",INDEX('Eingabe Spielernamen'!J:J,MATCH(D176,'Eingabe Spielernamen'!B:B,)),\" \")","v":" "},{"$f":"IF(A176=\"x\",INDEX('Eingabe Spielernamen'!J:J,MATCH(F176,'Eingabe Spielernamen'!B:B,)),\" \")","v":" "},"",null,{"$f":"IF(A176=\"x\",INDEX('Eingabe Spielernamen'!M:M,MATCH(D176,'Eingabe Spielernamen'!B:B,)),\" \")","v":" "},{"$f":"IF(A176=\"x\",INDEX('Eingabe Spielernamen'!M:M,MATCH(F176,'Eingabe Spielernamen'!B:B,)),\" \")","v":" "},"",null,{"$f":"IF(A176=\"x\",INDEX('Eingabe Spielernamen'!Q:Q,MATCH(D176,'Eingabe Spielernamen'!B:B,)),\" \")","v":" "},{"$f":"IF(A176=\"x\",INDEX('Eingabe Spielernamen'!Q:Q,MATCH(F176,'Eingabe Spielernamen'!B:B,)),\" \")","v":" "},""]
[null,null,null,null,{"$f":"IF(ISBLANK(D177),\" \",INDEX('Eingabe Spielernamen'!$F:$F,MATCH(D177,'Eingabe Spielernamen'!$B:$B,0))&\", \"&INDEX('Eingabe Spielernamen'!$G:$G,MATCH(D177,'Eingabe Spielernamen'!$B:$B,0)))","v":" "},null,{"$f":"IF(ISBLANK(F177),\" \",INDEX('Eingabe Spielernamen'!$F:$F,MATCH(F177,'Eingabe Spielernamen'!$B:$B,0))&\", \"&INDEX('Eingabe Spielernamen'!$G:$G,MATCH(F177,'Eingabe Spielernamen'!$B:$B,0)))","v":" "},null,{"$f":"IF(A177=\"x\",INDEX('Eingabe Spielernamen'!J:J,MATCH(D177,'Eingabe Spielernamen'!B:B,)),\" \")","v":" "},{"$f":"IF(A177=\"x\",INDEX('Eingabe Spielernamen'!J:J,MATCH(F177,'Eingabe Spielernamen'!B:B,)),\" \")","v":" "},"",null,{"$f":"IF(A177=\"x\",INDEX('Eingabe Spielernamen'!M:M,MATCH(D177,'Eingabe Spielernamen'!B:B,)),\" \")","v":" "},{"$f":"IF(A177=\"x\",INDEX('Eingabe Spielernamen'!M:M,MATCH(F177,'Eingabe Spielernamen'!B:B,)),\" \")","v":" "},"",null,{"$f":"IF(A177=\"x\",INDEX('Eingabe Spielernamen'!Q:Q,MATCH(D177,'Eingabe Spielernamen'!B:B,)),\" \")","v":" "},{"$f":"IF(A177=\"x\",INDEX('Eingabe Spielernamen'!Q:Q,MATCH(F177,'Eingabe Spielernamen'!B:B,)),\" \")","v":" "},""]
[null,null,null,null,{"$f":"IF(ISBLANK(D178),\" \",INDEX('Eingabe Spielernamen'!$F:$F,MATCH(D178,'Eingabe Spielernamen'!$B:$B,0))&\", \"&INDEX('Eingabe Spielernamen'!$G:$G,MATCH(D178,'Eingabe Spielernamen'!$B:$B,0)))","v":" "},null,{"$f":"IF(ISBLANK(F178),\" \",INDEX('Eingabe Spielernamen'!$F:$F,MATCH(F178,'Eingabe Spielernamen'!$B:$B,0))&\", \"&INDEX('Eingabe Spielernamen'!$G:$G,MATCH(F178,'Eingabe Spielernamen'!$B:$B,0)))","v":" "},null,{"$f":"IF(A178=\"x\",INDEX('Eingabe Spielernamen'!J:J,MATCH(D178,'Eingabe Spielernamen'!B:B,)),\" \")","v":" "},{"$f":"IF(A178=\"x\",INDEX('Eingabe Spielernamen'!J:J,MATCH(F178,'Eingabe Spielernamen'!B:B,)),\" \")","v":" "},"",null,{"$f":"IF(A178=\"x\",INDEX('Eingabe Spielernamen'!M:M,MATCH(D178,'Eingabe Spielernamen'!B:B,)),\" \")","v":" "},{"$f":"IF(A178=\"x\",INDEX('Eingabe Spielernamen'!M:M,MATCH(F178,'Eingabe Spielernamen'!B:B,)),\" \")","v":" "},"",null,{"$f":"IF(A178=\"x\",INDEX('Eingabe Spielernamen'!Q:Q,MATCH(D178,'Eingabe Spielernamen'!B:B,)),\" \")","v":" "},{"$f":"IF(A178=\"x\",INDEX('Eingabe Spielernamen'!Q:Q,MATCH(F178,'Eingabe Spielernamen'!B:B,)),\" \")","v":" "},""]
[null,null,null,null,{"$f":"IF(ISBLANK(D179),\" \",INDEX('Eingabe Spielernamen'!$F:$F,MATCH(D179,'Eingabe Spielernamen'!$B:$B,0))&\", \"&INDEX('Eingabe Spielernamen'!$G:$G,MATCH(D179,'Eingabe Spielernamen'!$B:$B,0)))","v":" "},null,{"$f":"IF(ISBLANK(F179),\" \",INDEX('Eingabe Spielernamen'!$F:$F,MATCH(F179,'Eingabe Spielernamen'!$B:$B,0))&\", \"&INDEX('Eingabe Spielernamen'!$G:$G,MATCH(F179,'Eingabe Spielernamen'!$B:$B,0)))","v":" "},null,{"$f":"IF(A179=\"x\",INDEX('Eingabe Spielernamen'!J:J,MATCH(D179,'Eingabe Spielernamen'!B:B,)),\" \")","v":" "},{"$f":"IF(A179=\"x\",INDEX('Eingabe Spielernamen'!J:J,MATCH(F179,'Eingabe Spielernamen'!B:B,)),\" \")","v":" "},"",null,{"$f":"IF(A179=\"x\",INDEX('Eingabe Spielernamen'!M:M,MATCH(D179,'Eingabe Spielernamen'!B:B,)),\" \")","v":" "},{"$f":"IF(A179=\"x\",INDEX('Eingabe Spielernamen'!M:M,MATCH(F179,'Eingabe Spielernamen'!B:B,)),\" \")","v":" "},"",null,{"$f":"IF(A179=\"x\",INDEX('Eingabe Spielernamen'!Q:Q,MATCH(D179,'Eingabe Spielernamen'!B:B,)),\" \")","v":" "},{"$f":"IF(A179=\"x\",INDEX('Eingabe Spielernamen'!Q:Q,MATCH(F179,'Eingabe Spielernamen'!B:B,)),\" \")","v":" "},""]
[null,null,null,null,{"$f":"IF(ISBLANK(D180),\" \",INDEX('Eingabe Spielernamen'!$F:$F,MATCH(D180,'Eingabe Spielernamen'!$B:$B,0))&\", \"&INDEX('Eingabe Spielernamen'!$G:$G,MATCH(D180,'Eingabe Spielernamen'!$B:$B,0)))","v":" "},null,{"$f":"IF(ISBLANK(F180),\" \",INDEX('Eingabe Spielernamen'!$F:$F,MATCH(F180,'Eingabe Spielernamen'!$B:$B,0))&\", \"&INDEX('Eingabe Spielernamen'!$G:$G,MATCH(F180,'Eingabe Spielernamen'!$B:$B,0)))","v":" "},null,{"$f":"IF(A180=\"x\",INDEX('Eingabe Spielernamen'!J:J,MATCH(D180,'Eingabe Spielernamen'!B:B,)),\" \")","v":" "},{"$f":"IF(A180=\"x\",INDEX('Eingabe Spielernamen'!J:J,MATCH(F180,'Eingabe Spielernamen'!B:B,)),\" \")","v":" "},"",null,{"$f":"IF(A180=\"x\",INDEX('Eingabe Spielernamen'!M:M,MATCH(D180,'Eingabe Spielernamen'!B:B,)),\" \")","v":" "},{"$f":"IF(A180=\"x\",INDEX('Eingabe Spielernamen'!M:M,MATCH(F180,'Eingabe Spielernamen'!B:B,)),\" \")","v":" "},"",null,{"$f":"IF(A180=\"x\",INDEX('Eingabe Spielernamen'!Q:Q,MATCH(D180,'Eingabe Spielernamen'!B:B,)),\" \")","v":" "},{"$f":"IF(A180=\"x\",INDEX('Eingabe Spielernamen'!Q:Q,MATCH(F180,'Eingabe Spielernamen'!B:B,)),\" \")","v":" "},""]
[null,null,null,null,{"$f":"IF(ISBLANK(D181),\" \",INDEX('Eingabe Spielernamen'!$F:$F,MATCH(D181,'Eingabe Spielernamen'!$B:$B,0))&\", \"&INDEX('Eingabe Spielernamen'!$G:$G,MATCH(D181,'Eingabe Spielernamen'!$B:$B,0)))","v":" "},null,{"$f":"IF(ISBLANK(F181),\" \",INDEX('Eingabe Spielernamen'!$F:$F,MATCH(F181,'Eingabe Spielernamen'!$B:$B,0))&\", \"&INDEX('Eingabe Spielernamen'!$G:$G,MATCH(F181,'Eingabe Spielernamen'!$B:$B,0)))","v":" "},null,{"$f":"IF(A181=\"x\",INDEX('Eingabe Spielernamen'!J:J,MATCH(D181,'Eingabe Spielernamen'!B:B,)),\" \")","v":" "},{"$f":"IF(A181=\"x\",INDEX('Eingabe Spielernamen'!J:J,MATCH(F181,'Eingabe Spielernamen'!B:B,)),\" \")","v":" "},"",null,{"$f":"IF(A181=\"x\",INDEX('Eingabe Spielernamen'!M:M,MATCH(D181,'Eingabe Spielernamen'!B:B,)),\" \")","v":" "},{"$f":"IF(A181=\"x\",INDEX('Eingabe Spielernamen'!M:M,MATCH(F181,'Eingabe Spielernamen'!B:B,)),\" \")","v":" "},"",null,{"$f":"IF(A181=\"x\",INDEX('Eingabe Spielernamen'!Q:Q,MATCH(D181,'Eingabe Spielernamen'!B:B,)),\" \")","v":" "},{"$f":"IF(A181=\"x\",INDEX('Eingabe Spielernamen'!Q:Q,MATCH(F181,'Eingabe Spielernamen'!B:B,)),\" \")","v":" "},""]
[null,null,null,null,{"$f":"IF(ISBLANK(D182),\" \",INDEX('Eingabe Spielernamen'!$F:$F,MATCH(D182,'Eingabe Spielernamen'!$B:$B,0))&\", \"&INDEX('Eingabe Spielernamen'!$G:$G,MATCH(D182,'Eingabe Spielernamen'!$B:$B,0)))","v":" "},null,{"$f":"IF(ISBLANK(F182),\" \",INDEX('Eingabe Spielernamen'!$F:$F,MATCH(F182,'Eingabe Spielernamen'!$B:$B,0))&\", \"&INDEX('Eingabe Spielernamen'!$G:$G,MATCH(F182,'Eingabe Spielernamen'!$B:$B,0)))","v":" "},null,{"$f":"IF(A182=\"x\",INDEX('Eingabe Spielernamen'!J:J,MATCH(D182,'Eingabe Spielernamen'!B:B,)),\" \")","v":" "},{"$f":"IF(A182=\"x\",INDEX('Eingabe Spielernamen'!J:J,MATCH(F182,'Eingabe Spielernamen'!B:B,)),\" \")","v":" "},"",null,{"$f":"IF(A182=\"x\",INDEX('Eingabe Spielernamen'!M:M,MATCH(D182,'Eingabe Spielernamen'!B:B,)),\" \")","v":" "},{"$f":"IF(A182=\"x\",INDEX('Eingabe Spielernamen'!M:M,MATCH(F182,'Eingabe Spielernamen'!B:B,)),\" \")","v":" "},"",null,{"$f":"IF(A182=\"x\",INDEX('Eingabe Spielernamen'!Q:Q,MATCH(D182,'Eingabe Spielernamen'!B:B,)),\" \")","v":" "},{"$f":"IF(A182=\"x\",INDEX('Eingabe Spielernamen'!Q:Q,MATCH(F182,'Eingabe Spielernamen'!B:B,)),\" \")","v":" "},""]
[null,null,null,null,{"$f":"IF(ISBLANK(D183),\" \",INDEX('Eingabe Spielernamen'!$F:$F,MATCH(D183,'Eingabe Spielernamen'!$B:$B,0))&\", \"&INDEX('Eingabe Spielernamen'!$G:$G,MATCH(D183,'Eingabe Spielernamen'!$B:$B,0)))","v":" "},null,{"$f":"IF(ISBLANK(F183),\" \",INDEX('Eingabe Spielernamen'!$F:$F,MATCH(F183,'Eingabe Spielernamen'!$B:$B,0))&\", \"&INDEX('Eingabe Spielernamen'!$G:$G,MATCH(F183,'Eingabe Spielernamen'!$B:$B,0)))","v":" "},null,{"$f":"IF(A183=\"x\",INDEX('Eingabe Spielernamen'!J:J,MATCH(D183,'Eingabe Spielernamen'!B:B,)),\" \")","v":" "},{"$f":"IF(A183=\"x\",INDEX('Eingabe Spielernamen'!J:J,MATCH(F183,'Eingabe Spielernamen'!B:B,)),\" \")","v":" "},"",null,{"$f":"IF(A183=\"x\",INDEX('Eingabe Spielernamen'!M:M,MATCH(D183,'Eingabe Spielernamen'!B:B,)),\" \")","v":" "},{"$f":"IF(A183=\"x\",INDEX('Eingabe Spielernamen'!M:M,MATCH(F183,'Eingabe Spielernamen'!B:B,)),\" \")","v":" "},"",null,{"$f":"IF(A183=\"x\",INDEX('Eingabe Spielernamen'!Q:Q,MATCH(D183,'Eingabe Spielernamen'!B:B,)),\" \")","v":" "},{"$f":"IF(A183=\"x\",INDEX('Eingabe Spielernamen'!Q:Q,MATCH(F183,'Eingabe Spielernamen'!B:B,)),\" \")","v":" "},""]
[null,null,null,null,{"$f":"IF(ISBLANK(D184),\" \",INDEX('Eingabe Spielernamen'!$F:$F,MATCH(D184,'Eingabe Spielernamen'!$B:$B,0))&\", \"&INDEX('Eingabe Spielernamen'!$G:$G,MATCH(D184,'Eingabe Spielernamen'!$B:$B,0)))","v":" "},null,{"$f":"IF(ISBLANK(F184),\" \",INDEX('Eingabe Spielernamen'!$F:$F,MATCH(F184,'Eingabe Spielernamen'!$B:$B,0))&\", \"&INDEX('Eingabe Spielernamen'!$G:$G,MATCH(F184,'Eingabe Spielernamen'!$B:$B,0)))","v":" "},null,{"$f":"IF(A184=\"x\",INDEX('Eingabe Spielernamen'!J:J,MATCH(D184,'Eingabe Spielernamen'!B:B,)),\" \")","v":" "},{"$f":"IF(A184=\"x\",INDEX('Eingabe Spielernamen'!J:J,MATCH(F184,'Eingabe Spielernamen'!B:B,)),\" \")","v":" "},"",null,{"$f":"IF(A184=\"x\",INDEX('Eingabe Spielernamen'!M:M,MATCH(D184,'Eingabe Spielernamen'!B:B,)),\" \")","v":" "},{"$f":"IF(A184=\"x\",INDEX('Eingabe Spielernamen'!M:M,MATCH(F184,'Eingabe Spielernamen'!B:B,)),\" \")","v":" "},"",null,{"$f":"IF(A184=\"x\",INDEX('Eingabe Spielernamen'!Q:Q,MATCH(D184,'Eingabe Spielernamen'!B:B,)),\" \")","v":" "},{"$f":"IF(A184=\"x\",INDEX('Eingabe Spielernamen'!Q:Q,MATCH(F184,'Eingabe Spielernamen'!B:B,)),\" \")","v":" "},""]
[null,null,null,null,{"$f":"IF(ISBLANK(D185),\" \",INDEX('Eingabe Spielernamen'!$F:$F,MATCH(D185,'Eingabe Spielernamen'!$B:$B,0))&\", \"&INDEX('Eingabe Spielernamen'!$G:$G,MATCH(D185,'Eingabe Spielernamen'!$B:$B,0)))","v":" "},null,{"$f":"IF(ISBLANK(F185),\" \",INDEX('Eingabe Spielernamen'!$F:$F,MATCH(F185,'Eingabe Spielernamen'!$B:$B,0))&\", \"&INDEX('Eingabe Spielernamen'!$G:$G,MATCH(F185,'Eingabe Spielernamen'!$B:$B,0)))","v":" "},null,{"$f":"IF(A185=\"x\",INDEX('Eingabe Spielernamen'!J:J,MATCH(D185,'Eingabe Spielernamen'!B:B,)),\" \")","v":" "},{"$f":"IF(A185=\"x\",INDEX('Eingabe Spielernamen'!J:J,MATCH(F185,'Eingabe Spielernamen'!B:B,)),\" \")","v":" "},"",null,{"$f":"IF(A185=\"x\",INDEX('Eingabe Spielernamen'!M:M,MATCH(D185,'Eingabe Spielernamen'!B:B,)),\" \")","v":" "},{"$f":"IF(A185=\"x\",INDEX('Eingabe Spielernamen'!M:M,MATCH(F185,'Eingabe Spielernamen'!B:B,)),\" \")","v":" "},"",null,{"$f":"IF(A185=\"x\",INDEX('Eingabe Spielernamen'!Q:Q,MATCH(D185,'Eingabe Spielernamen'!B:B,)),\" \")","v":" "},{"$f":"IF(A185=\"x\",INDEX('Eingabe Spielernamen'!Q:Q,MATCH(F185,'Eingabe Spielernamen'!B:B,)),\" \")","v":" "},""]
[null,null,null,null,{"$f":"IF(ISBLANK(D186),\" \",INDEX('Eingabe Spielernamen'!$F:$F,MATCH(D186,'Eingabe Spielernamen'!$B:$B,0))&\", \"&INDEX('Eingabe Spielernamen'!$G:$G,MATCH(D186,'Eingabe Spielernamen'!$B:$B,0)))","v":" "},null,{"$f":"IF(ISBLANK(F186),\" \",INDEX('Eingabe Spielernamen'!$F:$F,MATCH(F186,'Eingabe Spielernamen'!$B:$B,0))&\", \"&INDEX('Eingabe Spielernamen'!$G:$G,MATCH(F186,'Eingabe Spielernamen'!$B:$B,0)))","v":" "},null,{"$f":"IF(A186=\"x\",INDEX('Eingabe Spielernamen'!J:J,MATCH(D186,'Eingabe Spielernamen'!B:B,)),\" \")","v":" "},{"$f":"IF(A186=\"x\",INDEX('Eingabe Spielernamen'!J:J,MATCH(F186,'Eingabe Spielernamen'!B:B,)),\" \")","v":" "},"",null,{"$f":"IF(A186=\"x\",INDEX('Eingabe Spielernamen'!M:M,MATCH(D186,'Eingabe Spielernamen'!B:B,)),\" \")","v":" "},{"$f":"IF(A186=\"x\",INDEX('Eingabe Spielernamen'!M:M,MATCH(F186,'Eingabe Spielernamen'!B:B,)),\" \")","v":" "},"",null,{"$f":"IF(A186=\"x\",INDEX('Eingabe Spielernamen'!Q:Q,MATCH(D186,'Eingabe Spielernamen'!B:B,)),\" \")","v":" "},{"$f":"IF(A186=\"x\",INDEX('Eingabe Spielernamen'!Q:Q,MATCH(F186,'Eingabe Spielernamen'!B:B,)),\" \")","v":" "},""]
[null,null,null,null,{"$f":"IF(ISBLANK(D187),\" \",INDEX('Eingabe Spielernamen'!$F:$F,MATCH(D187,'Eingabe Spielernamen'!$B:$B,0))&\", \"&INDEX('Eingabe Spielernamen'!$G:$G,MATCH(D187,'Eingabe Spielernamen'!$B:$B,0)))","v":" "},null,{"$f":"IF(ISBLANK(F187),\" \",INDEX('Eingabe Spielernamen'!$F:$F,MATCH(F187,'Eingabe Spielernamen'!$B:$B,0))&\", \"&INDEX('Eingabe Spielernamen'!$G:$G,MATCH(F187,'Eingabe Spielernamen'!$B:$B,0)))","v":" "},null,{"$f":"IF(A187=\"x\",INDEX('Eingabe Spielernamen'!J:J,MATCH(D187,'Eingabe Spielernamen'!B:B,)),\" \")","v":" "},{"$f":"IF(A187=\"x\",INDEX('Eingabe Spielernamen'!J:J,MATCH(F187,'Eingabe Spielernamen'!B:B,)),\" \")","v":" "},"",null,{"$f":"IF(A187=\"x\",INDEX('Eingabe Spielernamen'!M:M,MATCH(D187,'Eingabe Spielernamen'!B:B,)),\" \")","v":" "},{"$f":"IF(A187=\"x\",INDEX('Eingabe Spielernamen'!M:M,MATCH(F187,'Eingabe Spielernamen'!B:B,)),\" \")","v":" "},"",null,{"$f":"IF(A187=\"x\",INDEX('Eingabe Spielernamen'!Q:Q,MATCH(D187,'Eingabe Spielernamen'!B:B,)),\" \")","v":" "},{"$f":"IF(A187=\"x\",INDEX('Eingabe Spielernamen'!Q:Q,MATCH(F187,'Eingabe Spielernamen'!B:B,)),\" \")","v":" "},""]
[null,null,null,null,{"$f":"IF(ISBLANK(D188),\" \",INDEX('Eingabe Spielernamen'!$F:$F,MATCH(D188,'Eingabe Spielernamen'!$B:$B,0))&\", \"&INDEX('Eingabe Spielernamen'!$G:$G,MATCH(D188,'Eingabe Spielernamen'!$B:$B,0)))","v":" "},null,{"$f":"IF(ISBLANK(F188),\" \",INDEX('Eingabe Spielernamen'!$F:$F,MATCH(F188,'Eingabe Spielernamen'!$B:$B,0))&\", \"&INDEX('Eingabe Spielernamen'!$G:$G,MATCH(F188,'Eingabe Spielernamen'!$B:$B,0)))","v":" "},null,{"$f":"IF(A188=\"x\",INDEX('Eingabe Spielernamen'!J:J,MATCH(D188,'Eingabe Spielernamen'!B:B,)),\" \")","v":" "},{"$f":"IF(A188=\"x\",INDEX('Eingabe Spielernamen'!J:J,MATCH(F188,'Eingabe Spielernamen'!B:B,)),\" \")","v":" "},"",null,{"$f":"IF(A188=\"x\",INDEX('Eingabe Spielernamen'!M:M,MATCH(D188,'Eingabe Spielernamen'!B:B,)),\" \")","v":" "},{"$f":"IF(A188=\"x\",INDEX('Eingabe Spielernamen'!M:M,MATCH(F188,'Eingabe Spielernamen'!B:B,)),\" \")","v":" "},"",null,{"$f":"IF(A188=\"x\",INDEX('Eingabe Spielernamen'!Q:Q,MATCH(D188,'Eingabe Spielernamen'!B:B,)),\" \")","v":" "},{"$f":"IF(A188=\"x\",INDEX('Eingabe Spielernamen'!Q:Q,MATCH(F188,'Eingabe Spielernamen'!B:B,)),\" \")","v":" "},""]
[null,null,null,null,{"$f":"IF(ISBLANK(D189),\" \",INDEX('Eingabe Spielernamen'!$F:$F,MATCH(D189,'Eingabe Spielernamen'!$B:$B,0))&\", \"&INDEX('Eingabe Spielernamen'!$G:$G,MATCH(D189,'Eingabe Spielernamen'!$B:$B,0)))","v":" "},null,{"$f":"IF(ISBLANK(F189),\" \",INDEX('Eingabe Spielernamen'!$F:$F,MATCH(F189,'Eingabe Spielernamen'!$B:$B,0))&\", \"&INDEX('Eingabe Spielernamen'!$G:$G,MATCH(F189,'Eingabe Spielernamen'!$B:$B,0)))","v":" "},null,{"$f":"IF(A189=\"x\",INDEX('Eingabe Spielernamen'!J:J,MATCH(D189,'Eingabe Spielernamen'!B:B,)),\" \")","v":" "},{"$f":"IF(A189=\"x\",INDEX('Eingabe Spielernamen'!J:J,MATCH(F189,'Eingabe Spielernamen'!B:B,)),\" \")","v":" "},"",null,{"$f":"IF(A189=\"x\",INDEX('Eingabe Spielernamen'!M:M,MATCH(D189,'Eingabe Spielernamen'!B:B,)),\" \")","v":" "},{"$f":"IF(A189=\"x\",INDEX('Eingabe Spielernamen'!M:M,MATCH(F189,'Eingabe Spielernamen'!B:B,)),\" \")","v":" "},"",null,{"$f":"IF(A189=\"x\",INDEX('Eingabe Spielernamen'!Q:Q,MATCH(D189,'Eingabe Spielernamen'!B:B,)),\" \")","v":" "},{"$f":"IF(A189=\"x\",INDEX('Eingabe Spielernamen'!Q:Q,MATCH(F189,'Eingabe Spielernamen'!B:B,)),\" \")","v":" "},""]
[null,null,null,null,{"$f":"IF(ISBLANK(D190),\" \",INDEX('Eingabe Spielernamen'!$F:$F,MATCH(D190,'Eingabe Spielernamen'!$B:$B,0))&\", \"&INDEX('Eingabe Spielernamen'!$G:$G,MATCH(D190,'Eingabe Spielernamen'!$B:$B,0)))","v":" "},null,{"$f":"IF(ISBLANK(F190),\" \",INDEX('Eingabe Spielernamen'!$F:$F,MATCH(F190,'Eingabe Spielernamen'!$B:$B,0))&\", \"&INDEX('Eingabe Spielernamen'!$G:$G,MATCH(F190,'Eingabe Spielernamen'!$B:$B,0)))","v":" "},null,{"$f":"IF(A190=\"x\",INDEX('Eingabe Spielernamen'!J:J,MATCH(D190,'Eingabe Spielernamen'!B:B,)),\" \")","v":" "},{"$f":"IF(A190=\"x\",INDEX('Eingabe Spielernamen'!J:J,MATCH(F190,'Eingabe Spielernamen'!B:B,)),\" \")","v":" "},"",null,{"$f":"IF(A190=\"x\",INDEX('Eingabe Spielernamen'!M:M,MATCH(D190,'Eingabe Spielernamen'!B:B,)),\" \")","v":" "},{"$f":"IF(A190=\"x\",INDEX('Eingabe Spielernamen'!M:M,MATCH(F190,'Eingabe Spielernamen'!B:B,)),\" \")","v":" "},"",null,{"$f":"IF(A190=\"x\",INDEX('Eingabe Spielernamen'!Q:Q,MATCH(D190,'Eingabe Spielernamen'!B:B,)),\" \")","v":" "},{"$f":"IF(A190=\"x\",INDEX('Eingabe Spielernamen'!Q:Q,MATCH(F190,'Eingabe Spielernamen'!B:B,)),\" \")","v":" "},""]
[null,null,null,null,{"$f":"IF(ISBLANK(D191),\" \",INDEX('Eingabe Spielernamen'!$F:$F,MATCH(D191,'Eingabe Spielernamen'!$B:$B,0))&\", \"&INDEX('Eingabe Spielernamen'!$G:$G,MATCH(D191,'Eingabe Spielernamen'!$B:$B,0)))","v":" "},null,{"$f":"IF(ISBLANK(F191),\" \",INDEX('Eingabe Spielernamen'!$F:$F,MATCH(F191,'Eingabe Spielernamen'!$B:$B,0))&\", \"&INDEX('Eingabe Spielernamen'!$G:$G,MATCH(F191,'Eingabe Spielernamen'!$B:$B,0)))","v":" "},null,{"$f":"IF(A191=\"x\",INDEX('Eingabe Spielernamen'!J:J,MATCH(D191,'Eingabe Spielernamen'!B:B,)),\" \")","v":" "},{"$f":"IF(A191=\"x\",INDEX('Eingabe Spielernamen'!J:J,MATCH(F191,'Eingabe Spielernamen'!B:B,)),\" \")","v":" "},"",null,{"$f":"IF(A191=\"x\",INDEX('Eingabe Spielernamen'!M:M,MATCH(D191,'Eingabe Spielernamen'!B:B,)),\" \")","v":" "},{"$f":"IF(A191=\"x\",INDEX('Eingabe Spielernamen'!M:M,MATCH(F191,'Eingabe Spielernamen'!B:B,)),\" \")","v":" "},"",null,{"$f":"IF(A191=\"x\",INDEX('Eingabe Spielernamen'!Q:Q,MATCH(D191,'Eingabe Spielernamen'!B:B,)),\" \")","v":" "},{"$f":"IF(A191=\"x\",INDEX('Eingabe Spielernamen'!Q:Q,MATCH(F191,'Eingabe Spielernamen'!B:B,)),\" \")","v":" "},""]
[null,null,null,null,{"$f":"IF(ISBLANK(D192),\" \",INDEX('Eingabe Spielernamen'!$F:$F,MATCH(D192,'Eingabe Spielernamen'!$B:$B,0))&\", \"&INDEX('Eingabe Spielernamen'!$G:$G,MATCH(D192,'Eingabe Spielernamen'!$B:$B,0)))","v":" "},null,{"$f":"IF(ISBLANK(F192),\" \",INDEX('Eingabe Spielernamen'!$F:$F,MATCH(F192,'Eingabe Spielernamen'!$B:$B,0))&\", \"&INDEX('Eingabe Spielernamen'!$G:$G,MATCH(F192,'Eingabe Spielernamen'!$B:$B,0)))","v":" "},null,{"$f":"IF(A192=\"x\",INDEX('Eingabe Spielernamen'!J:J,MATCH(D192,'Eingabe Spielernamen'!B:B,)),\" \")","v":" "},{"$f":"IF(A192=\"x\",INDEX('Eingabe Spielernamen'!J:J,MATCH(F192,'Eingabe Spielernamen'!B:B,)),\" \")","v":" "},"",null,{"$f":"IF(A192=\"x\",INDEX('Eingabe Spielernamen'!M:M,MATCH(D192,'Eingabe Spielernamen'!B:B,)),\" \")","v":" "},{"$f":"IF(A192=\"x\",INDEX('Eingabe Spielernamen'!M:M,MATCH(F192,'Eingabe Spielernamen'!B:B,)),\" \")","v":" "},"",null,{"$f":"IF(A192=\"x\",INDEX('Eingabe Spielernamen'!Q:Q,MATCH(D192,'Eingabe Spielernamen'!B:B,)),\" \")","v":" "},{"$f":"IF(A192=\"x\",INDEX('Eingabe Spielernamen'!Q:Q,MATCH(F192,'Eingabe Spielernamen'!B:B,)),\" \")","v":" "},""]
[null,null,null,null,{"$f":"IF(ISBLANK(D193),\" \",INDEX('Eingabe Spielernamen'!$F:$F,MATCH(D193,'Eingabe Spielernamen'!$B:$B,0))&\", \"&INDEX('Eingabe Spielernamen'!$G:$G,MATCH(D193,'Eingabe Spielernamen'!$B:$B,0)))","v":" "},null,{"$f":"IF(ISBLANK(F193),\" \",INDEX('Eingabe Spielernamen'!$F:$F,MATCH(F193,'Eingabe Spielernamen'!$B:$B,0))&\", \"&INDEX('Eingabe Spielernamen'!$G:$G,MATCH(F193,'Eingabe Spielernamen'!$B:$B,0)))","v":" "},null,{"$f":"IF(A193=\"x\",INDEX('Eingabe Spielernamen'!J:J,MATCH(D193,'Eingabe Spielernamen'!B:B,)),\" \")","v":" "},{"$f":"IF(A193=\"x\",INDEX('Eingabe Spielernamen'!J:J,MATCH(F193,'Eingabe Spielernamen'!B:B,)),\" \")","v":" "},"",null,{"$f":"IF(A193=\"x\",INDEX('Eingabe Spielernamen'!M:M,MATCH(D193,'Eingabe Spielernamen'!B:B,)),\" \")","v":" "},{"$f":"IF(A193=\"x\",INDEX('Eingabe Spielernamen'!M:M,MATCH(F193,'Eingabe Spielernamen'!B:B,)),\" \")","v":" "},"",null,{"$f":"IF(A193=\"x\",INDEX('Eingabe Spielernamen'!Q:Q,MATCH(D193,'Eingabe Spielernamen'!B:B,)),\" \")","v":" "},{"$f":"IF(A193=\"x\",INDEX('Eingabe Spielernamen'!Q:Q,MATCH(F193,'Eingabe Spielernamen'!B:B,)),\" \")","v":" "},""]
[null,null,null,null,{"$f":"IF(ISBLANK(D194),\" \",INDEX('Eingabe Spielernamen'!$F:$F,MATCH(D194,'Eingabe Spielernamen'!$B:$B,0))&\", \"&INDEX('Eingabe Spielernamen'!$G:$G,MATCH(D194,'Eingabe Spielernamen'!$B:$B,0)))","v":" "},null,{"$f":"IF(ISBLANK(F194),\" \",INDEX('Eingabe Spielernamen'!$F:$F,MATCH(F194,'Eingabe Spielernamen'!$B:$B,0))&\", \"&INDEX('Eingabe Spielernamen'!$G:$G,MATCH(F194,'Eingabe Spielernamen'!$B:$B,0)))","v":" "},null,{"$f":"IF(A194=\"x\",INDEX('Eingabe Spielernamen'!J:J,MATCH(D194,'Eingabe Spielernamen'!B:B,)),\" \")","v":" "},{"$f":"IF(A194=\"x\",INDEX('Eingabe Spielernamen'!J:J,MATCH(F194,'Eingabe Spielernamen'!B:B,)),\" \")","v":" "},"",null,{"$f":"IF(A194=\"x\",INDEX('Eingabe Spielernamen'!M:M,MATCH(D194,'Eingabe Spielernamen'!B:B,)),\" \")","v":" "},{"$f":"IF(A194=\"x\",INDEX('Eingabe Spielernamen'!M:M,MATCH(F194,'Eingabe Spielernamen'!B:B,)),\" \")","v":" "},"",null,{"$f":"IF(A194=\"x\",INDEX('Eingabe Spielernamen'!Q:Q,MATCH(D194,'Eingabe Spielernamen'!B:B,)),\" \")","v":" "},{"$f":"IF(A194=\"x\",INDEX('Eingabe Spielernamen'!Q:Q,MATCH(F194,'Eingabe Spielernamen'!B:B,)),\" \")","v":" "},""]
[null,null,null,null,{"$f":"IF(ISBLANK(D195),\" \",INDEX('Eingabe Spielernamen'!$F:$F,MATCH(D195,'Eingabe Spielernamen'!$B:$B,0))&\", \"&INDEX('Eingabe Spielernamen'!$G:$G,MATCH(D195,'Eingabe Spielernamen'!$B:$B,0)))","v":" "},null,{"$f":"IF(ISBLANK(F195),\" \",INDEX('Eingabe Spielernamen'!$F:$F,MATCH(F195,'Eingabe Spielernamen'!$B:$B,0))&\", \"&INDEX('Eingabe Spielernamen'!$G:$G,MATCH(F195,'Eingabe Spielernamen'!$B:$B,0)))","v":" "},null,{"$f":"IF(A195=\"x\",INDEX('Eingabe Spielernamen'!J:J,MATCH(D195,'Eingabe Spielernamen'!B:B,)),\" \")","v":" "},{"$f":"IF(A195=\"x\",INDEX('Eingabe Spielernamen'!J:J,MATCH(F195,'Eingabe Spielernamen'!B:B,)),\" \")","v":" "},"",null,{"$f":"IF(A195=\"x\",INDEX('Eingabe Spielernamen'!M:M,MATCH(D195,'Eingabe Spielernamen'!B:B,)),\" \")","v":" "},{"$f":"IF(A195=\"x\",INDEX('Eingabe Spielernamen'!M:M,MATCH(F195,'Eingabe Spielernamen'!B:B,)),\" \")","v":" "},"",null,{"$f":"IF(A195=\"x\",INDEX('Eingabe Spielernamen'!Q:Q,MATCH(D195,'Eingabe Spielernamen'!B:B,)),\" \")","v":" "},{"$f":"IF(A195=\"x\",INDEX('Eingabe Spielernamen'!Q:Q,MATCH(F195,'Eingabe Spielernamen'!B:B,)),\" \")","v":" "},""]
[null,null,null,null,{"$f":"IF(ISBLANK(D196),\" \",INDEX('Eingabe Spielernamen'!$F:$F,MATCH(D196,'Eingabe Spielernamen'!$B:$B,0))&\", \"&INDEX('Eingabe Spielernamen'!$G:$G,MATCH(D196,'Eingabe Spielernamen'!$B:$B,0)))","v":" "},null,{"$f":"IF(ISBLANK(F196),\" \",INDEX('Eingabe Spielernamen'!$F:$F,MATCH(F196,'Eingabe Spielernamen'!$B:$B,0))&\", \"&INDEX('Eingabe Spielernamen'!$G:$G,MATCH(F196,'Eingabe Spielernamen'!$B:$B,0)))","v":" "},null,{"$f":"IF(A196=\"x\",INDEX('Eingabe Spielernamen'!J:J,MATCH(D196,'Eingabe Spielernamen'!B:B,)),\" \")","v":" "},{"$f":"IF(A196=\"x\",INDEX('Eingabe Spielernamen'!J:J,MATCH(F196,'Eingabe Spielernamen'!B:B,)),\" \")","v":" "},{"$f":"IF(A196=\"x\",I196+J196,\"\")","v":""},null,{"$f":"IF(A196=\"x\",INDEX('Eingabe Spielernamen'!M:M,MATCH(D196,'Eingabe Spielernamen'!B:B,)),\" \")","v":" "},{"$f":"IF(A196=\"x\",INDEX('Eingabe Spielernamen'!M:M,MATCH(F196,'Eingabe Spielernamen'!B:B,)),\" \")","v":" "},{"$f":"IF(B196=\"x\",M196+N196,\"\")","v":""},null,{"$f":"IF(A196=\"x\",INDEX('Eingabe Spielernamen'!Q:Q,MATCH(D196,'Eingabe Spielernamen'!B:B,)),\" \")","v":" "},{"$f":"IF(A196=\"x\",INDEX('Eingabe Spielernamen'!Q:Q,MATCH(F196,'Eingabe Spielernamen'!B:B,)),\" \")","v":" "},{"$f":"IF(C196=\"x\",Q196+R196,\"\")","v":""}]
[null,null,null,null,{"$f":"IF(ISBLANK(D197),\" \",INDEX('Eingabe Spielernamen'!$F:$F,MATCH(D197,'Eingabe Spielernamen'!$B:$B,0))&\", \"&INDEX('Eingabe Spielernamen'!$G:$G,MATCH(D197,'Eingabe Spielernamen'!$B:$B,0)))","v":" "},null,{"$f":"IF(ISBLANK(F197),\" \",INDEX('Eingabe Spielernamen'!$F:$F,MATCH(F197,'Eingabe Spielernamen'!$B:$B,0))&\", \"&INDEX('Eingabe Spielernamen'!$G:$G,MATCH(F197,'Eingabe Spielernamen'!$B:$B,0)))","v":" "},null,{"$f":"IF(A197=\"x\",INDEX('Eingabe Spielernamen'!J:J,MATCH(D197,'Eingabe Spielernamen'!B:B,)),\" \")","v":" "},{"$f":"IF(A197=\"x\",INDEX('Eingabe Spielernamen'!J:J,MATCH(F197,'Eingabe Spielernamen'!B:B,)),\" \")","v":" "},"",null,{"$f":"IF(A197=\"x\",INDEX('Eingabe Spielernamen'!M:M,MATCH(D197,'Eingabe Spielernamen'!B:B,)),\" \")","v":" "},{"$f":"IF(A197=\"x\",INDEX('Eingabe Spielernamen'!M:M,MATCH(F197,'Eingabe Spielernamen'!B:B,)),\" \")","v":" "},"",null,{"$f":"IF(A197=\"x\",INDEX('Eingabe Spielernamen'!Q:Q,MATCH(D197,'Eingabe Spielernamen'!B:B,)),\" \")","v":" "},{"$f":"IF(A197=\"x\",INDEX('Eingabe Spielernamen'!Q:Q,MATCH(F197,'Eingabe Spielernamen'!B:B,)),\" \")","v":" "},""]
[null,null,null,null,{"$f":"IF(ISBLANK(D198),\" \",INDEX('Eingabe Spielernamen'!$F:$F,MATCH(D198,'Eingabe Spielernamen'!$B:$B,0))&\", \"&INDEX('Eingabe Spielernamen'!$G:$G,MATCH(D198,'Eingabe Spielernamen'!$B:$B,0)))","v":" "},null,{"$f":"IF(ISBLANK(F198),\" \",INDEX('Eingabe Spielernamen'!$F:$F,MATCH(F198,'Eingabe Spielernamen'!$B:$B,0))&\", \"&INDEX('Eingabe Spielernamen'!$G:$G,MATCH(F198,'Eingabe Spielernamen'!$B:$B,0)))","v":" "},null,{"$f":"IF(A198=\"x\",INDEX('Eingabe Spielernamen'!J:J,MATCH(D198,'Eingabe Spielernamen'!B:B,)),\" \")","v":" "},{"$f":"IF(A198=\"x\",INDEX('Eingabe Spielernamen'!J:J,MATCH(F198,'Eingabe Spielernamen'!B:B,)),\" \")","v":" "},"",null,{"$f":"IF(A198=\"x\",INDEX('Eingabe Spielernamen'!M:M,MATCH(D198,'Eingabe Spielernamen'!B:B,)),\" \")","v":" "},{"$f":"IF(A198=\"x\",INDEX('Eingabe Spielernamen'!M:M,MATCH(F198,'Eingabe Spielernamen'!B:B,)),\" \")","v":" "},"",null,{"$f":"IF(A198=\"x\",INDEX('Eingabe Spielernamen'!Q:Q,MATCH(D198,'Eingabe Spielernamen'!B:B,)),\" \")","v":" "},{"$f":"IF(A198=\"x\",INDEX('Eingabe Spielernamen'!Q:Q,MATCH(F198,'Eingabe Spielernamen'!B:B,)),\" \")","v":" "},""]
[null,null,null,null,{"$f":"IF(ISBLANK(D199),\" \",INDEX('Eingabe Spielernamen'!$F:$F,MATCH(D199,'Eingabe Spielernamen'!$B:$B,0))&\", \"&INDEX('Eingabe Spielernamen'!$G:$G,MATCH(D199,'Eingabe Spielernamen'!$B:$B,0)))","v":" "},null,{"$f":"IF(ISBLANK(F199),\" \",INDEX('Eingabe Spielernamen'!$F:$F,MATCH(F199,'Eingabe Spielernamen'!$B:$B,0))&\", \"&INDEX('Eingabe Spielernamen'!$G:$G,MATCH(F199,'Eingabe Spielernamen'!$B:$B,0)))","v":" "},null,{"$f":"IF(A199=\"x\",INDEX('Eingabe Spielernamen'!J:J,MATCH(D199,'Eingabe Spielernamen'!B:B,)),\" \")","v":" "},{"$f":"IF(A199=\"x\",INDEX('Eingabe Spielernamen'!J:J,MATCH(F199,'Eingabe Spielernamen'!B:B,)),\" \")","v":" "},"",null,{"$f":"IF(A199=\"x\",INDEX('Eingabe Spielernamen'!M:M,MATCH(D199,'Eingabe Spielernamen'!B:B,)),\" \")","v":" "},{"$f":"IF(A199=\"x\",INDEX('Eingabe Spielernamen'!M:M,MATCH(F199,'Eingabe Spielernamen'!B:B,)),\" \")","v":" "},"",null,{"$f":"IF(A199=\"x\",INDEX('Eingabe Spielernamen'!Q:Q,MATCH(D199,'Eingabe Spielernamen'!B:B,)),\" \")","v":" "},{"$f":"IF(A199=\"x\",INDEX('Eingabe Spielernamen'!Q:Q,MATCH(F199,'Eingabe Spielernamen'!B:B,)),\" \")","v":" "},""]
[null,null,null,null,{"$f":"IF(ISBLANK(D200),\" \",INDEX('Eingabe Spielernamen'!$F:$F,MATCH(D200,'Eingabe Spielernamen'!$B:$B,0))&\", \"&INDEX('Eingabe Spielernamen'!$G:$G,MATCH(D200,'Eingabe Spielernamen'!$B:$B,0)))","v":" "},null,{"$f":"IF(ISBLANK(F200),\" \",INDEX('Eingabe Spielernamen'!$F:$F,MATCH(F200,'Eingabe Spielernamen'!$B:$B,0))&\", \"&INDEX('Eingabe Spielernamen'!$G:$G,MATCH(F200,'Eingabe Spielernamen'!$B:$B,0)))","v":" "},null,{"$f":"IF(A200=\"x\",INDEX('Eingabe Spielernamen'!J:J,MATCH(D200,'Eingabe Spielernamen'!B:B,)),\" \")","v":" "},{"$f":"IF(A200=\"x\",INDEX('Eingabe Spielernamen'!J:J,MATCH(F200,'Eingabe Spielernamen'!B:B,)),\" \")","v":" "},"",null,{"$f":"IF(A200=\"x\",INDEX('Eingabe Spielernamen'!M:M,MATCH(D200,'Eingabe Spielernamen'!B:B,)),\" \")","v":" "},{"$f":"IF(A200=\"x\",INDEX('Eingabe Spielernamen'!M:M,MATCH(F200,'Eingabe Spielernamen'!B:B,)),\" \")","v":" "},"",null,{"$f":"IF(A200=\"x\",INDEX('Eingabe Spielernamen'!Q:Q,MATCH(D200,'Eingabe Spielernamen'!B:B,)),\" \")","v":" "},{"$f":"IF(A200=\"x\",INDEX('Eingabe Spielernamen'!Q:Q,MATCH(F200,'Eingabe Spielernamen'!B:B,)),\" \")","v":" "},""]
[null,null,null,null,{"$f":"IF(ISBLANK(D201),\" \",INDEX('Eingabe Spielernamen'!$F:$F,MATCH(D201,'Eingabe Spielernamen'!$B:$B,0))&\", \"&INDEX('Eingabe Spielernamen'!$G:$G,MATCH(D201,'Eingabe Spielernamen'!$B:$B,0)))","v":" "},null,{"$f":"IF(ISBLANK(F201),\" \",INDEX('Eingabe Spielernamen'!$F:$F,MATCH(F201,'Eingabe Spielernamen'!$B:$B,0))&\", \"&INDEX('Eingabe Spielernamen'!$G:$G,MATCH(F201,'Eingabe Spielernamen'!$B:$B,0)))","v":" "},null,{"$f":"IF(A201=\"x\",INDEX('Eingabe Spielernamen'!J:J,MATCH(D201,'Eingabe Spielernamen'!B:B,)),\" \")","v":" "},{"$f":"IF(A201=\"x\",INDEX('Eingabe Spielernamen'!J:J,MATCH(F201,'Eingabe Spielernamen'!B:B,)),\" \")","v":" "},"",null,{"$f":"IF(A201=\"x\",INDEX('Eingabe Spielernamen'!M:M,MATCH(D201,'Eingabe Spielernamen'!B:B,)),\" \")","v":" "},{"$f":"IF(A201=\"x\",INDEX('Eingabe Spielernamen'!M:M,MATCH(F201,'Eingabe Spielernamen'!B:B,)),\" \")","v":" "},"",null,{"$f":"IF(A201=\"x\",INDEX('Eingabe Spielernamen'!Q:Q,MATCH(D201,'Eingabe Spielernamen'!B:B,)),\" \")","v":" "},{"$f":"IF(A201=\"x\",INDEX('Eingabe Spielernamen'!Q:Q,MATCH(F201,'Eingabe Spielernamen'!B:B,)),\" \")","v":" "},""]
[null,null,null,null,{"$f":"IF(ISBLANK(D202),\" \",INDEX('Eingabe Spielernamen'!$F:$F,MATCH(D202,'Eingabe Spielernamen'!$B:$B,0))&\", \"&INDEX('Eingabe Spielernamen'!$G:$G,MATCH(D202,'Eingabe Spielernamen'!$B:$B,0)))","v":" "},null,{"$f":"IF(ISBLANK(F202),\" \",INDEX('Eingabe Spielernamen'!$F:$F,MATCH(F202,'Eingabe Spielernamen'!$B:$B,0))&\", \"&INDEX('Eingabe Spielernamen'!$G:$G,MATCH(F202,'Eingabe Spielernamen'!$B:$B,0)))","v":" "},null,{"$f":"IF(A202=\"x\",INDEX('Eingabe Spielernamen'!J:J,MATCH(D202,'Eingabe Spielernamen'!B:B,)),\" \")","v":" "},{"$f":"IF(A202=\"x\",INDEX('Eingabe Spielernamen'!J:J,MATCH(F202,'Eingabe Spielernamen'!B:B,)),\" \")","v":" "},"",null,{"$f":"IF(A202=\"x\",INDEX('Eingabe Spielernamen'!M:M,MATCH(D202,'Eingabe Spielernamen'!B:B,)),\" \")","v":" "},{"$f":"IF(A202=\"x\",INDEX('Eingabe Spielernamen'!M:M,MATCH(F202,'Eingabe Spielernamen'!B:B,)),\" \")","v":" "},"",null,{"$f":"IF(A202=\"x\",INDEX('Eingabe Spielernamen'!Q:Q,MATCH(D202,'Eingabe Spielernamen'!B:B,)),\" \")","v":" "},{"$f":"IF(A202=\"x\",INDEX('Eingabe Spielernamen'!Q:Q,MATCH(F202,'Eingabe Spielernamen'!B:B,)),\" \")","v":" "},""]
[null,null,null,null,{"$f":"IF(ISBLANK(D203),\" \",INDEX('Eingabe Spielernamen'!$F:$F,MATCH(D203,'Eingabe Spielernamen'!$B:$B,0))&\", \"&INDEX('Eingabe Spielernamen'!$G:$G,MATCH(D203,'Eingabe Spielernamen'!$B:$B,0)))","v":" "},null,{"$f":"IF(ISBLANK(F203),\" \",INDEX('Eingabe Spielernamen'!$F:$F,MATCH(F203,'Eingabe Spielernamen'!$B:$B,0))&\", \"&INDEX('Eingabe Spielernamen'!$G:$G,MATCH(F203,'Eingabe Spielernamen'!$B:$B,0)))","v":" "},null,{"$f":"IF(A203=\"x\",INDEX('Eingabe Spielernamen'!J:J,MATCH(D203,'Eingabe Spielernamen'!B:B,)),\" \")","v":" "},{"$f":"IF(A203=\"x\",INDEX('Eingabe Spielernamen'!J:J,MATCH(F203,'Eingabe Spielernamen'!B:B,)),\" \")","v":" "},"",null,{"$f":"IF(A203=\"x\",INDEX('Eingabe Spielernamen'!M:M,MATCH(D203,'Eingabe Spielernamen'!B:B,)),\" \")","v":" "},{"$f":"IF(A203=\"x\",INDEX('Eingabe Spielernamen'!M:M,MATCH(F203,'Eingabe Spielernamen'!B:B,)),\" \")","v":" "},"",null,{"$f":"IF(A203=\"x\",INDEX('Eingabe Spielernamen'!Q:Q,MATCH(D203,'Eingabe Spielernamen'!B:B,)),\" \")","v":" "},{"$f":"IF(A203=\"x\",INDEX('Eingabe Spielernamen'!Q:Q,MATCH(F203,'Eingabe Spielernamen'!B:B,)),\" \")","v":" "},""]
[null,null,null,null,{"$f":"IF(ISBLANK(D204),\" \",INDEX('Eingabe Spielernamen'!$F:$F,MATCH(D204,'Eingabe Spielernamen'!$B:$B,0))&\", \"&INDEX('Eingabe Spielernamen'!$G:$G,MATCH(D204,'Eingabe Spielernamen'!$B:$B,0)))","v":" "},null,{"$f":"IF(ISBLANK(F204),\" \",INDEX('Eingabe Spielernamen'!$F:$F,MATCH(F204,'Eingabe Spielernamen'!$B:$B,0))&\", \"&INDEX('Eingabe Spielernamen'!$G:$G,MATCH(F204,'Eingabe Spielernamen'!$B:$B,0)))","v":" "},null,{"$f":"IF(A204=\"x\",INDEX('Eingabe Spielernamen'!J:J,MATCH(D204,'Eingabe Spielernamen'!B:B,)),\" \")","v":" "},{"$f":"IF(A204=\"x\",INDEX('Eingabe Spielernamen'!J:J,MATCH(F204,'Eingabe Spielernamen'!B:B,)),\" \")","v":" "},"",null,{"$f":"IF(A204=\"x\",INDEX('Eingabe Spielernamen'!M:M,MATCH(D204,'Eingabe Spielernamen'!B:B,)),\" \")","v":" "},{"$f":"IF(A204=\"x\",INDEX('Eingabe Spielernamen'!M:M,MATCH(F204,'Eingabe Spielernamen'!B:B,)),\" \")","v":" "},"",null,{"$f":"IF(A204=\"x\",INDEX('Eingabe Spielernamen'!Q:Q,MATCH(D204,'Eingabe Spielernamen'!B:B,)),\" \")","v":" "},{"$f":"IF(A204=\"x\",INDEX('Eingabe Spielernamen'!Q:Q,MATCH(F204,'Eingabe Spielernamen'!B:B,)),\" \")","v":" "},""]
[null,null,null,null,{"$f":"IF(ISBLANK(D205),\" \",INDEX('Eingabe Spielernamen'!$F:$F,MATCH(D205,'Eingabe Spielernamen'!$B:$B,0))&\", \"&INDEX('Eingabe Spielernamen'!$G:$G,MATCH(D205,'Eingabe Spielernamen'!$B:$B,0)))","v":" "},null,{"$f":"IF(ISBLANK(F205),\" \",INDEX('Eingabe Spielernamen'!$F:$F,MATCH(F205,'Eingabe Spielernamen'!$B:$B,0))&\", \"&INDEX('Eingabe Spielernamen'!$G:$G,MATCH(F205,'Eingabe Spielernamen'!$B:$B,0)))","v":" "},null,{"$f":"IF(A205=\"x\",INDEX('Eingabe Spielernamen'!J:J,MATCH(D205,'Eingabe Spielernamen'!B:B,)),\" \")","v":" "},{"$f":"IF(A205=\"x\",INDEX('Eingabe Spielernamen'!J:J,MATCH(F205,'Eingabe Spielernamen'!B:B,)),\" \")","v":" "},"",null,{"$f":"IF(A205=\"x\",INDEX('Eingabe Spielernamen'!M:M,MATCH(D205,'Eingabe Spielernamen'!B:B,)),\" \")","v":" "},{"$f":"IF(A205=\"x\",INDEX('Eingabe Spielernamen'!M:M,MATCH(F205,'Eingabe Spielernamen'!B:B,)),\" \")","v":" "},"",null,{"$f":"IF(A205=\"x\",INDEX('Eingabe Spielernamen'!Q:Q,MATCH(D205,'Eingabe Spielernamen'!B:B,)),\" \")","v":" "},{"$f":"IF(A205=\"x\",INDEX('Eingabe Spielernamen'!Q:Q,MATCH(F205,'Eingabe Spielernamen'!B:B,)),\" \")","v":" "},""]
[null,null,null,null,{"$f":"IF(ISBLANK(D206),\" \",INDEX('Eingabe Spielernamen'!$F:$F,MATCH(D206,'Eingabe Spielernamen'!$B:$B,0))&\", \"&INDEX('Eingabe Spielernamen'!$G:$G,MATCH(D206,'Eingabe Spielernamen'!$B:$B,0)))","v":" "},null,{"$f":"IF(ISBLANK(F206),\" \",INDEX('Eingabe Spielernamen'!$F:$F,MATCH(F206,'Eingabe Spielernamen'!$B:$B,0))&\", \"&INDEX('Eingabe Spielernamen'!$G:$G,MATCH(F206,'Eingabe Spielernamen'!$B:$B,0)))","v":" "},null,{"$f":"IF(A206=\"x\",INDEX('Eingabe Spielernamen'!J:J,MATCH(D206,'Eingabe Spielernamen'!B:B,)),\" \")","v":" "},{"$f":"IF(A206=\"x\",INDEX('Eingabe Spielernamen'!J:J,MATCH(F206,'Eingabe Spielernamen'!B:B,)),\" \")","v":" "},"",null,{"$f":"IF(A206=\"x\",INDEX('Eingabe Spielernamen'!M:M,MATCH(D206,'Eingabe Spielernamen'!B:B,)),\" \")","v":" "},{"$f":"IF(A206=\"x\",INDEX('Eingabe Spielernamen'!M:M,MATCH(F206,'Eingabe Spielernamen'!B:B,)),\" \")","v":" "},"",null,{"$f":"IF(A206=\"x\",INDEX('Eingabe Spielernamen'!Q:Q,MATCH(D206,'Eingabe Spielernamen'!B:B,)),\" \")","v":" "},{"$f":"IF(A206=\"x\",INDEX('Eingabe Spielernamen'!Q:Q,MATCH(F206,'Eingabe Spielernamen'!B:B,)),\" \")","v":" "},""]
[null,null,null,null,{"$f":"IF(ISBLANK(D207),\" \",INDEX('Eingabe Spielernamen'!$F:$F,MATCH(D207,'Eingabe Spielernamen'!$B:$B,0))&\", \"&INDEX('Eingabe Spielernamen'!$G:$G,MATCH(D207,'Eingabe Spielernamen'!$B:$B,0)))","v":" "},null,{"$f":"IF(ISBLANK(F207),\" \",INDEX('Eingabe Spielernamen'!$F:$F,MATCH(F207,'Eingabe Spielernamen'!$B:$B,0))&\", \"&INDEX('Eingabe Spielernamen'!$G:$G,MATCH(F207,'Eingabe Spielernamen'!$B:$B,0)))","v":" "},null,{"$f":"IF(A207=\"x\",INDEX('Eingabe Spielernamen'!J:J,MATCH(D207,'Eingabe Spielernamen'!B:B,)),\" \")","v":" "},{"$f":"IF(A207=\"x\",INDEX('Eingabe Spielernamen'!J:J,MATCH(F207,'Eingabe Spielernamen'!B:B,)),\" \")","v":" "},"",null,{"$f":"IF(A207=\"x\",INDEX('Eingabe Spielernamen'!M:M,MATCH(D207,'Eingabe Spielernamen'!B:B,)),\" \")","v":" "},{"$f":"IF(A207=\"x\",INDEX('Eingabe Spielernamen'!M:M,MATCH(F207,'Eingabe Spielernamen'!B:B,)),\" \")","v":" "},"",null,{"$f":"IF(A207=\"x\",INDEX('Eingabe Spielernamen'!Q:Q,MATCH(D207,'Eingabe Spielernamen'!B:B,)),\" \")","v":" "},{"$f":"IF(A207=\"x\",INDEX('Eingabe Spielernamen'!Q:Q,MATCH(F207,'Eingabe Spielernamen'!B:B,)),\" \")","v":" "},""]
[null,null,null,null,{"$f":"IF(ISBLANK(D208),\" \",INDEX('Eingabe Spielernamen'!$F:$F,MATCH(D208,'Eingabe Spielernamen'!$B:$B,0))&\", \"&INDEX('Eingabe Spielernamen'!$G:$G,MATCH(D208,'Eingabe Spielernamen'!$B:$B,0)))","v":" "},null,{"$f":"IF(ISBLANK(F208),\" \",INDEX('Eingabe Spielernamen'!$F:$F,MATCH(F208,'Eingabe Spielernamen'!$B:$B,0))&\", \"&INDEX('Eingabe Spielernamen'!$G:$G,MATCH(F208,'Eingabe Spielernamen'!$B:$B,0)))","v":" "},null,{"$f":"IF(A208=\"x\",INDEX('Eingabe Spielernamen'!J:J,MATCH(D208,'Eingabe Spielernamen'!B:B,)),\" \")","v":" "},{"$f":"IF(A208=\"x\",INDEX('Eingabe Spielernamen'!J:J,MATCH(F208,'Eingabe Spielernamen'!B:B,)),\" \")","v":" "},"",null,{"$f":"IF(A208=\"x\",INDEX('Eingabe Spielernamen'!M:M,MATCH(D208,'Eingabe Spielernamen'!B:B,)),\" \")","v":" "},{"$f":"IF(A208=\"x\",INDEX('Eingabe Spielernamen'!M:M,MATCH(F208,'Eingabe Spielernamen'!B:B,)),\" \")","v":" "},"",null,{"$f":"IF(A208=\"x\",INDEX('Eingabe Spielernamen'!Q:Q,MATCH(D208,'Eingabe Spielernamen'!B:B,)),\" \")","v":" "},{"$f":"IF(A208=\"x\",INDEX('Eingabe Spielernamen'!Q:Q,MATCH(F208,'Eingabe Spielernamen'!B:B,)),\" \")","v":" "},""]
[null,null,null,null,{"$f":"IF(ISBLANK(D209),\" \",INDEX('Eingabe Spielernamen'!$F:$F,MATCH(D209,'Eingabe Spielernamen'!$B:$B,0))&\", \"&INDEX('Eingabe Spielernamen'!$G:$G,MATCH(D209,'Eingabe Spielernamen'!$B:$B,0)))","v":" "},null,{"$f":"IF(ISBLANK(F209),\" \",INDEX('Eingabe Spielernamen'!$F:$F,MATCH(F209,'Eingabe Spielernamen'!$B:$B,0))&\", \"&INDEX('Eingabe Spielernamen'!$G:$G,MATCH(F209,'Eingabe Spielernamen'!$B:$B,0)))","v":" "},null,{"$f":"IF(A209=\"x\",INDEX('Eingabe Spielernamen'!J:J,MATCH(D209,'Eingabe Spielernamen'!B:B,)),\" \")","v":" "},{"$f":"IF(A209=\"x\",INDEX('Eingabe Spielernamen'!J:J,MATCH(F209,'Eingabe Spielernamen'!B:B,)),\" \")","v":" "},"",null,{"$f":"IF(A209=\"x\",INDEX('Eingabe Spielernamen'!M:M,MATCH(D209,'Eingabe Spielernamen'!B:B,)),\" \")","v":" "},{"$f":"IF(A209=\"x\",INDEX('Eingabe Spielernamen'!M:M,MATCH(F209,'Eingabe Spielernamen'!B:B,)),\" \")","v":" "},"",null,{"$f":"IF(A209=\"x\",INDEX('Eingabe Spielernamen'!Q:Q,MATCH(D209,'Eingabe Spielernamen'!B:B,)),\" \")","v":" "},{"$f":"IF(A209=\"x\",INDEX('Eingabe Spielernamen'!Q:Q,MATCH(F209,'Eingabe Spielernamen'!B:B,)),\" \")","v":" "},""]
[null,null,null,null,{"$f":"IF(ISBLANK(D210),\" \",INDEX('Eingabe Spielernamen'!$F:$F,MATCH(D210,'Eingabe Spielernamen'!$B:$B,0))&\", \"&INDEX('Eingabe Spielernamen'!$G:$G,MATCH(D210,'Eingabe Spielernamen'!$B:$B,0)))","v":" "},null,{"$f":"IF(ISBLANK(F210),\" \",INDEX('Eingabe Spielernamen'!$F:$F,MATCH(F210,'Eingabe Spielernamen'!$B:$B,0))&\", \"&INDEX('Eingabe Spielernamen'!$G:$G,MATCH(F210,'Eingabe Spielernamen'!$B:$B,0)))","v":" "},null,{"$f":"IF(A210=\"x\",INDEX('Eingabe Spielernamen'!J:J,MATCH(D210,'Eingabe Spielernamen'!B:B,)),\" \")","v":" "},{"$f":"IF(A210=\"x\",INDEX('Eingabe Spielernamen'!J:J,MATCH(F210,'Eingabe Spielernamen'!B:B,)),\" \")","v":" "},"",null,{"$f":"IF(A210=\"x\",INDEX('Eingabe Spielernamen'!M:M,MATCH(D210,'Eingabe Spielernamen'!B:B,)),\" \")","v":" "},{"$f":"IF(A210=\"x\",INDEX('Eingabe Spielernamen'!M:M,MATCH(F210,'Eingabe Spielernamen'!B:B,)),\" \")","v":" "},"",null,{"$f":"IF(A210=\"x\",INDEX('Eingabe Spielernamen'!Q:Q,MATCH(D210,'Eingabe Spielernamen'!B:B,)),\" \")","v":" "},{"$f":"IF(A210=\"x\",INDEX('Eingabe Spielernamen'!Q:Q,MATCH(F210,'Eingabe Spielernamen'!B:B,)),\" \")","v":" "},""]
[null,null,null,null,{"$f":"IF(ISBLANK(D211),\" \",INDEX('Eingabe Spielernamen'!$F:$F,MATCH(D211,'Eingabe Spielernamen'!$B:$B,0))&\", \"&INDEX('Eingabe Spielernamen'!$G:$G,MATCH(D211,'Eingabe Spielernamen'!$B:$B,0)))","v":" "},null,{"$f":"IF(ISBLANK(F211),\" \",INDEX('Eingabe Spielernamen'!$F:$F,MATCH(F211,'Eingabe Spielernamen'!$B:$B,0))&\", \"&INDEX('Eingabe Spielernamen'!$G:$G,MATCH(F211,'Eingabe Spielernamen'!$B:$B,0)))","v":" "},null,{"$f":"IF(A211=\"x\",INDEX('Eingabe Spielernamen'!J:J,MATCH(D211,'Eingabe Spielernamen'!B:B,)),\" \")","v":" "},{"$f":"IF(A211=\"x\",INDEX('Eingabe Spielernamen'!J:J,MATCH(F211,'Eingabe Spielernamen'!B:B,)),\" \")","v":" "},"",null,{"$f":"IF(A211=\"x\",INDEX('Eingabe Spielernamen'!M:M,MATCH(D211,'Eingabe Spielernamen'!B:B,)),\" \")","v":" "},{"$f":"IF(A211=\"x\",INDEX('Eingabe Spielernamen'!M:M,MATCH(F211,'Eingabe Spielernamen'!B:B,)),\" \")","v":" "},"",null,{"$f":"IF(A211=\"x\",INDEX('Eingabe Spielernamen'!Q:Q,MATCH(D211,'Eingabe Spielernamen'!B:B,)),\" \")","v":" "},{"$f":"IF(A211=\"x\",INDEX('Eingabe Spielernamen'!Q:Q,MATCH(F211,'Eingabe Spielernamen'!B:B,)),\" \")","v":" "},""]
[null,null,null,null,{"$f":"IF(ISBLANK(D212),\" \",INDEX('Eingabe Spielernamen'!$F:$F,MATCH(D212,'Eingabe Spielernamen'!$B:$B,0))&\", \"&INDEX('Eingabe Spielernamen'!$G:$G,MATCH(D212,'Eingabe Spielernamen'!$B:$B,0)))","v":" "},null,{"$f":"IF(ISBLANK(F212),\" \",INDEX('Eingabe Spielernamen'!$F:$F,MATCH(F212,'Eingabe Spielernamen'!$B:$B,0))&\", \"&INDEX('Eingabe Spielernamen'!$G:$G,MATCH(F212,'Eingabe Spielernamen'!$B:$B,0)))","v":" "},null,{"$f":"IF(A212=\"x\",INDEX('Eingabe Spielernamen'!J:J,MATCH(D212,'Eingabe Spielernamen'!B:B,)),\" \")","v":" "},{"$f":"IF(A212=\"x\",INDEX('Eingabe Spielernamen'!J:J,MATCH(F212,'Eingabe Spielernamen'!B:B,)),\" \")","v":" "},"",null,{"$f":"IF(A212=\"x\",INDEX('Eingabe Spielernamen'!M:M,MATCH(D212,'Eingabe Spielernamen'!B:B,)),\" \")","v":" "},{"$f":"IF(A212=\"x\",INDEX('Eingabe Spielernamen'!M:M,MATCH(F212,'Eingabe Spielernamen'!B:B,)),\" \")","v":" "},"",null,{"$f":"IF(A212=\"x\",INDEX('Eingabe Spielernamen'!Q:Q,MATCH(D212,'Eingabe Spielernamen'!B:B,)),\" \")","v":" "},{"$f":"IF(A212=\"x\",INDEX('Eingabe Spielernamen'!Q:Q,MATCH(F212,'Eingabe Spielernamen'!B:B,)),\" \")","v":" "},""]
[null,null,null,null,{"$f":"IF(ISBLANK(D213),\" \",INDEX('Eingabe Spielernamen'!$F:$F,MATCH(D213,'Eingabe Spielernamen'!$B:$B,0))&\", \"&INDEX('Eingabe Spielernamen'!$G:$G,MATCH(D213,'Eingabe Spielernamen'!$B:$B,0)))","v":" "},null,{"$f":"IF(ISBLANK(F213),\" \",INDEX('Eingabe Spielernamen'!$F:$F,MATCH(F213,'Eingabe Spielernamen'!$B:$B,0))&\", \"&INDEX('Eingabe Spielernamen'!$G:$G,MATCH(F213,'Eingabe Spielernamen'!$B:$B,0)))","v":" "},null,{"$f":"IF(A213=\"x\",INDEX('Eingabe Spielernamen'!J:J,MATCH(D213,'Eingabe Spielernamen'!B:B,)),\" \")","v":" "},{"$f":"IF(A213=\"x\",INDEX('Eingabe Spielernamen'!J:J,MATCH(F213,'Eingabe Spielernamen'!B:B,)),\" \")","v":" "},"",null,{"$f":"IF(A213=\"x\",INDEX('Eingabe Spielernamen'!M:M,MATCH(D213,'Eingabe Spielernamen'!B:B,)),\" \")","v":" "},{"$f":"IF(A213=\"x\",INDEX('Eingabe Spielernamen'!M:M,MATCH(F213,'Eingabe Spielernamen'!B:B,)),\" \")","v":" "},"",null,{"$f":"IF(A213=\"x\",INDEX('Eingabe Spielernamen'!Q:Q,MATCH(D213,'Eingabe Spielernamen'!B:B,)),\" \")","v":" "},{"$f":"IF(A213=\"x\",INDEX('Eingabe Spielernamen'!Q:Q,MATCH(F213,'Eingabe Spielernamen'!B:B,)),\" \")","v":" "},""]
[null,null,null,null,{"$f":"IF(ISBLANK(D214),\" \",INDEX('Eingabe Spielernamen'!$F:$F,MATCH(D214,'Eingabe Spielernamen'!$B:$B,0))&\", \"&INDEX('Eingabe Spielernamen'!$G:$G,MATCH(D214,'Eingabe Spielernamen'!$B:$B,0)))","v":" "},null,{"$f":"IF(ISBLANK(F214),\" \",INDEX('Eingabe Spielernamen'!$F:$F,MATCH(F214,'Eingabe Spielernamen'!$B:$B,0))&\", \"&INDEX('Eingabe Spielernamen'!$G:$G,MATCH(F214,'Eingabe Spielernamen'!$B:$B,0)))","v":" "},null,{"$f":"IF(A214=\"x\",INDEX('Eingabe Spielernamen'!J:J,MATCH(D214,'Eingabe Spielernamen'!B:B,)),\" \")","v":" "},{"$f":"IF(A214=\"x\",INDEX('Eingabe Spielernamen'!J:J,MATCH(F214,'Eingabe Spielernamen'!B:B,)),\" \")","v":" "},"",null,{"$f":"IF(A214=\"x\",INDEX('Eingabe Spielernamen'!M:M,MATCH(D214,'Eingabe Spielernamen'!B:B,)),\" \")","v":" "},{"$f":"IF(A214=\"x\",INDEX('Eingabe Spielernamen'!M:M,MATCH(F214,'Eingabe Spielernamen'!B:B,)),\" \")","v":" "},"",null,{"$f":"IF(A214=\"x\",INDEX('Eingabe Spielernamen'!Q:Q,MATCH(D214,'Eingabe Spielernamen'!B:B,)),\" \")","v":" "},{"$f":"IF(A214=\"x\",INDEX('Eingabe Spielernamen'!Q:Q,MATCH(F214,'Eingabe Spielernamen'!B:B,)),\" \")","v":" "},""]
[null,null,null,null,{"$f":"IF(ISBLANK(D215),\" \",INDEX('Eingabe Spielernamen'!$F:$F,MATCH(D215,'Eingabe Spielernamen'!$B:$B,0))&\", \"&INDEX('Eingabe Spielernamen'!$G:$G,MATCH(D215,'Eingabe Spielernamen'!$B:$B,0)))","v":" "},null,{"$f":"IF(ISBLANK(F215),\" \",INDEX('Eingabe Spielernamen'!$F:$F,MATCH(F215,'Eingabe Spielernamen'!$B:$B,0))&\", \"&INDEX('Eingabe Spielernamen'!$G:$G,MATCH(F215,'Eingabe Spielernamen'!$B:$B,0)))","v":" "},null,{"$f":"IF(A215=\"x\",INDEX('Eingabe Spielernamen'!J:J,MATCH(D215,'Eingabe Spielernamen'!B:B,)),\" \")","v":" "},{"$f":"IF(A215=\"x\",INDEX('Eingabe Spielernamen'!J:J,MATCH(F215,'Eingabe Spielernamen'!B:B,)),\" \")","v":" "},"",null,{"$f":"IF(A215=\"x\",INDEX('Eingabe Spielernamen'!M:M,MATCH(D215,'Eingabe Spielernamen'!B:B,)),\" \")","v":" "},{"$f":"IF(A215=\"x\",INDEX('Eingabe Spielernamen'!M:M,MATCH(F215,'Eingabe Spielernamen'!B:B,)),\" \")","v":" "},"",null,{"$f":"IF(A215=\"x\",INDEX('Eingabe Spielernamen'!Q:Q,MATCH(D215,'Eingabe Spielernamen'!B:B,)),\" \")","v":" "},{"$f":"IF(A215=\"x\",INDEX('Eingabe Spielernamen'!Q:Q,MATCH(F215,'Eingabe Spielernamen'!B:B,)),\" \")","v":" "},""]
[null,null,null,null,{"$f":"IF(ISBLANK(D216),\" \",INDEX('Eingabe Spielernamen'!$F:$F,MATCH(D216,'Eingabe Spielernamen'!$B:$B,0))&\", \"&INDEX('Eingabe Spielernamen'!$G:$G,MATCH(D216,'Eingabe Spielernamen'!$B:$B,0)))","v":" "},null,{"$f":"IF(ISBLANK(F216),\" \",INDEX('Eingabe Spielernamen'!$F:$F,MATCH(F216,'Eingabe Spielernamen'!$B:$B,0))&\", \"&INDEX('Eingabe Spielernamen'!$G:$G,MATCH(F216,'Eingabe Spielernamen'!$B:$B,0)))","v":" "},null,{"$f":"IF(A216=\"x\",INDEX('Eingabe Spielernamen'!J:J,MATCH(D216,'Eingabe Spielernamen'!B:B,)),\" \")","v":" "},{"$f":"IF(A216=\"x\",INDEX('Eingabe Spielernamen'!J:J,MATCH(F216,'Eingabe Spielernamen'!B:B,)),\" \")","v":" "},"",null,{"$f":"IF(A216=\"x\",INDEX('Eingabe Spielernamen'!M:M,MATCH(D216,'Eingabe Spielernamen'!B:B,)),\" \")","v":" "},{"$f":"IF(A216=\"x\",INDEX('Eingabe Spielernamen'!M:M,MATCH(F216,'Eingabe Spielernamen'!B:B,)),\" \")","v":" "},"",null,{"$f":"IF(A216=\"x\",INDEX('Eingabe Spielernamen'!Q:Q,MATCH(D216,'Eingabe Spielernamen'!B:B,)),\" \")","v":" "},{"$f":"IF(A216=\"x\",INDEX('Eingabe Spielernamen'!Q:Q,MATCH(F216,'Eingabe Spielernamen'!B:B,)),\" \")","v":" "},""]
[null,null,null,null,{"$f":"IF(ISBLANK(D217),\" \",INDEX('Eingabe Spielernamen'!$F:$F,MATCH(D217,'Eingabe Spielernamen'!$B:$B,0))&\", \"&INDEX('Eingabe Spielernamen'!$G:$G,MATCH(D217,'Eingabe Spielernamen'!$B:$B,0)))","v":" "},null,{"$f":"IF(ISBLANK(F217),\" \",INDEX('Eingabe Spielernamen'!$F:$F,MATCH(F217,'Eingabe Spielernamen'!$B:$B,0))&\", \"&INDEX('Eingabe Spielernamen'!$G:$G,MATCH(F217,'Eingabe Spielernamen'!$B:$B,0)))","v":" "},null,{"$f":"IF(A217=\"x\",INDEX('Eingabe Spielernamen'!J:J,MATCH(D217,'Eingabe Spielernamen'!B:B,)),\" \")","v":" "},{"$f":"IF(A217=\"x\",INDEX('Eingabe Spielernamen'!J:J,MATCH(F217,'Eingabe Spielernamen'!B:B,)),\" \")","v":" "},"",null,{"$f":"IF(A217=\"x\",INDEX('Eingabe Spielernamen'!M:M,MATCH(D217,'Eingabe Spielernamen'!B:B,)),\" \")","v":" "},{"$f":"IF(A217=\"x\",INDEX('Eingabe Spielernamen'!M:M,MATCH(F217,'Eingabe Spielernamen'!B:B,)),\" \")","v":" "},"",null,{"$f":"IF(A217=\"x\",INDEX('Eingabe Spielernamen'!Q:Q,MATCH(D217,'Eingabe Spielernamen'!B:B,)),\" \")","v":" "},{"$f":"IF(A217=\"x\",INDEX('Eingabe Spielernamen'!Q:Q,MATCH(F217,'Eingabe Spielernamen'!B:B,)),\" \")","v":" "},""]
[null,null,null,null,{"$f":"IF(ISBLANK(D218),\" \",INDEX('Eingabe Spielernamen'!$F:$F,MATCH(D218,'Eingabe Spielernamen'!$B:$B,0))&\", \"&INDEX('Eingabe Spielernamen'!$G:$G,MATCH(D218,'Eingabe Spielernamen'!$B:$B,0)))","v":" "},null,{"$f":"IF(ISBLANK(F218),\" \",INDEX('Eingabe Spielernamen'!$F:$F,MATCH(F218,'Eingabe Spielernamen'!$B:$B,0))&\", \"&INDEX('Eingabe Spielernamen'!$G:$G,MATCH(F218,'Eingabe Spielernamen'!$B:$B,0)))","v":" "},null,{"$f":"IF(A218=\"x\",INDEX('Eingabe Spielernamen'!J:J,MATCH(D218,'Eingabe Spielernamen'!B:B,)),\" \")","v":" "},{"$f":"IF(A218=\"x\",INDEX('Eingabe Spielernamen'!J:J,MATCH(F218,'Eingabe Spielernamen'!B:B,)),\" \")","v":" "},"",null,{"$f":"IF(A218=\"x\",INDEX('Eingabe Spielernamen'!M:M,MATCH(D218,'Eingabe Spielernamen'!B:B,)),\" \")","v":" "},{"$f":"IF(A218=\"x\",INDEX('Eingabe Spielernamen'!M:M,MATCH(F218,'Eingabe Spielernamen'!B:B,)),\" \")","v":" "},"",null,{"$f":"IF(A218=\"x\",INDEX('Eingabe Spielernamen'!Q:Q,MATCH(D218,'Eingabe Spielernamen'!B:B,)),\" \")","v":" "},{"$f":"IF(A218=\"x\",INDEX('Eingabe Spielernamen'!Q:Q,MATCH(F218,'Eingabe Spielernamen'!B:B,)),\" \")","v":" "},""]
[null,null,null,null,{"$f":"IF(ISBLANK(D219),\" \",INDEX('Eingabe Spielernamen'!$F:$F,MATCH(D219,'Eingabe Spielernamen'!$B:$B,0))&\", \"&INDEX('Eingabe Spielernamen'!$G:$G,MATCH(D219,'Eingabe Spielernamen'!$B:$B,0)))","v":" "},null,{"$f":"IF(ISBLANK(F219),\" \",INDEX('Eingabe Spielernamen'!$F:$F,MATCH(F219,'Eingabe Spielernamen'!$B:$B,0))&\", \"&INDEX('Eingabe Spielernamen'!$G:$G,MATCH(F219,'Eingabe Spielernamen'!$B:$B,0)))","v":" "},null,{"$f":"IF(A219=\"x\",INDEX('Eingabe Spielernamen'!J:J,MATCH(D219,'Eingabe Spielernamen'!B:B,)),\" \")","v":" "},{"$f":"IF(A219=\"x\",INDEX('Eingabe Spielernamen'!J:J,MATCH(F219,'Eingabe Spielernamen'!B:B,)),\" \")","v":" "},"",null,{"$f":"IF(A219=\"x\",INDEX('Eingabe Spielernamen'!M:M,MATCH(D219,'Eingabe Spielernamen'!B:B,)),\" \")","v":" "},{"$f":"IF(A219=\"x\",INDEX('Eingabe Spielernamen'!M:M,MATCH(F219,'Eingabe Spielernamen'!B:B,)),\" \")","v":" "},"",null,{"$f":"IF(A219=\"x\",INDEX('Eingabe Spielernamen'!Q:Q,MATCH(D219,'Eingabe Spielernamen'!B:B,)),\" \")","v":" "},{"$f":"IF(A219=\"x\",INDEX('Eingabe Spielernamen'!Q:Q,MATCH(F219,'Eingabe Spielernamen'!B:B,)),\" \")","v":" "},""]
[null,null,null,null,{"$f":"IF(ISBLANK(D220),\" \",INDEX('Eingabe Spielernamen'!$F:$F,MATCH(D220,'Eingabe Spielernamen'!$B:$B,0))&\", \"&INDEX('Eingabe Spielernamen'!$G:$G,MATCH(D220,'Eingabe Spielernamen'!$B:$B,0)))","v":" "},null,{"$f":"IF(ISBLANK(F220),\" \",INDEX('Eingabe Spielernamen'!$F:$F,MATCH(F220,'Eingabe Spielernamen'!$B:$B,0))&\", \"&INDEX('Eingabe Spielernamen'!$G:$G,MATCH(F220,'Eingabe Spielernamen'!$B:$B,0)))","v":" "},null,{"$f":"IF(A220=\"x\",INDEX('Eingabe Spielernamen'!J:J,MATCH(D220,'Eingabe Spielernamen'!B:B,)),\" \")","v":" "},{"$f":"IF(A220=\"x\",INDEX('Eingabe Spielernamen'!J:J,MATCH(F220,'Eingabe Spielernamen'!B:B,)),\" \")","v":" "},"",null,{"$f":"IF(A220=\"x\",INDEX('Eingabe Spielernamen'!M:M,MATCH(D220,'Eingabe Spielernamen'!B:B,)),\" \")","v":" "},{"$f":"IF(A220=\"x\",INDEX('Eingabe Spielernamen'!M:M,MATCH(F220,'Eingabe Spielernamen'!B:B,)),\" \")","v":" "},"",null,{"$f":"IF(A220=\"x\",INDEX('Eingabe Spielernamen'!Q:Q,MATCH(D220,'Eingabe Spielernamen'!B:B,)),\" \")","v":" "},{"$f":"IF(A220=\"x\",INDEX('Eingabe Spielernamen'!Q:Q,MATCH(F220,'Eingabe Spielernamen'!B:B,)),\" \")","v":" "},""]
[null,null,null,null,{"$f":"IF(ISBLANK(D221),\" \",INDEX('Eingabe Spielernamen'!$F:$F,MATCH(D221,'Eingabe Spielernamen'!$B:$B,0))&\", \"&INDEX('Eingabe Spielernamen'!$G:$G,MATCH(D221,'Eingabe Spielernamen'!$B:$B,0)))","v":" "},null,{"$f":"IF(ISBLANK(F221),\" \",INDEX('Eingabe Spielernamen'!$F:$F,MATCH(F221,'Eingabe Spielernamen'!$B:$B,0))&\", \"&INDEX('Eingabe Spielernamen'!$G:$G,MATCH(F221,'Eingabe Spielernamen'!$B:$B,0)))","v":" "},null,{"$f":"IF(A221=\"x\",INDEX('Eingabe Spielernamen'!J:J,MATCH(D221,'Eingabe Spielernamen'!B:B,)),\" \")","v":" "},{"$f":"IF(A221=\"x\",INDEX('Eingabe Spielernamen'!J:J,MATCH(F221,'Eingabe Spielernamen'!B:B,)),\" \")","v":" "},"",null,{"$f":"IF(A221=\"x\",INDEX('Eingabe Spielernamen'!M:M,MATCH(D221,'Eingabe Spielernamen'!B:B,)),\" \")","v":" "},{"$f":"IF(A221=\"x\",INDEX('Eingabe Spielernamen'!M:M,MATCH(F221,'Eingabe Spielernamen'!B:B,)),\" \")","v":" "},"",null,{"$f":"IF(A221=\"x\",INDEX('Eingabe Spielernamen'!Q:Q,MATCH(D221,'Eingabe Spielernamen'!B:B,)),\" \")","v":" "},{"$f":"IF(A221=\"x\",INDEX('Eingabe Spielernamen'!Q:Q,MATCH(F221,'Eingabe Spielernamen'!B:B,)),\" \")","v":" "},""]
[null,null,null,null,{"$f":"IF(ISBLANK(D222),\" \",INDEX('Eingabe Spielernamen'!$F:$F,MATCH(D222,'Eingabe Spielernamen'!$B:$B,0))&\", \"&INDEX('Eingabe Spielernamen'!$G:$G,MATCH(D222,'Eingabe Spielernamen'!$B:$B,0)))","v":" "},null,{"$f":"IF(ISBLANK(F222),\" \",INDEX('Eingabe Spielernamen'!$F:$F,MATCH(F222,'Eingabe Spielernamen'!$B:$B,0))&\", \"&INDEX('Eingabe Spielernamen'!$G:$G,MATCH(F222,'Eingabe Spielernamen'!$B:$B,0)))","v":" "},null,{"$f":"IF(A222=\"x\",INDEX('Eingabe Spielernamen'!J:J,MATCH(D222,'Eingabe Spielernamen'!B:B,)),\" \")","v":" "},{"$f":"IF(A222=\"x\",INDEX('Eingabe Spielernamen'!J:J,MATCH(F222,'Eingabe Spielernamen'!B:B,)),\" \")","v":" "},"",null,{"$f":"IF(A222=\"x\",INDEX('Eingabe Spielernamen'!M:M,MATCH(D222,'Eingabe Spielernamen'!B:B,)),\" \")","v":" "},{"$f":"IF(A222=\"x\",INDEX('Eingabe Spielernamen'!M:M,MATCH(F222,'Eingabe Spielernamen'!B:B,)),\" \")","v":" "},"",null,{"$f":"IF(A222=\"x\",INDEX('Eingabe Spielernamen'!Q:Q,MATCH(D222,'Eingabe Spielernamen'!B:B,)),\" \")","v":" "},{"$f":"IF(A222=\"x\",INDEX('Eingabe Spielernamen'!Q:Q,MATCH(F222,'Eingabe Spielernamen'!B:B,)),\" \")","v":" "},""]
[null,null,null,null,{"$f":"IF(ISBLANK(D223),\" \",INDEX('Eingabe Spielernamen'!$F:$F,MATCH(D223,'Eingabe Spielernamen'!$B:$B,0))&\", \"&INDEX('Eingabe Spielernamen'!$G:$G,MATCH(D223,'Eingabe Spielernamen'!$B:$B,0)))","v":" "},null,{"$f":"IF(ISBLANK(F223),\" \",INDEX('Eingabe Spielernamen'!$F:$F,MATCH(F223,'Eingabe Spielernamen'!$B:$B,0))&\", \"&INDEX('Eingabe Spielernamen'!$G:$G,MATCH(F223,'Eingabe Spielernamen'!$B:$B,0)))","v":" "},null,{"$f":"IF(A223=\"x\",INDEX('Eingabe Spielernamen'!J:J,MATCH(D223,'Eingabe Spielernamen'!B:B,)),\" \")","v":" "},{"$f":"IF(A223=\"x\",INDEX('Eingabe Spielernamen'!J:J,MATCH(F223,'Eingabe Spielernamen'!B:B,)),\" \")","v":" "},"",null,{"$f":"IF(A223=\"x\",INDEX('Eingabe Spielernamen'!M:M,MATCH(D223,'Eingabe Spielernamen'!B:B,)),\" \")","v":" "},{"$f":"IF(A223=\"x\",INDEX('Eingabe Spielernamen'!M:M,MATCH(F223,'Eingabe Spielernamen'!B:B,)),\" \")","v":" "},"",null,{"$f":"IF(A223=\"x\",INDEX('Eingabe Spielernamen'!Q:Q,MATCH(D223,'Eingabe Spielernamen'!B:B,)),\" \")","v":" "},{"$f":"IF(A223=\"x\",INDEX('Eingabe Spielernamen'!Q:Q,MATCH(F223,'Eingabe Spielernamen'!B:B,)),\" \")","v":" "},""]
[null,null,null,null,{"$f":"IF(ISBLANK(D224),\" \",INDEX('Eingabe Spielernamen'!$F:$F,MATCH(D224,'Eingabe Spielernamen'!$B:$B,0))&\", \"&INDEX('Eingabe Spielernamen'!$G:$G,MATCH(D224,'Eingabe Spielernamen'!$B:$B,0)))","v":" "},null,{"$f":"IF(ISBLANK(F224),\" \",INDEX('Eingabe Spielernamen'!$F:$F,MATCH(F224,'Eingabe Spielernamen'!$B:$B,0))&\", \"&INDEX('Eingabe Spielernamen'!$G:$G,MATCH(F224,'Eingabe Spielernamen'!$B:$B,0)))","v":" "},null,{"$f":"IF(A224=\"x\",INDEX('Eingabe Spielernamen'!J:J,MATCH(D224,'Eingabe Spielernamen'!B:B,)),\" \")","v":" "},{"$f":"IF(A224=\"x\",INDEX('Eingabe Spielernamen'!J:J,MATCH(F224,'Eingabe Spielernamen'!B:B,)),\" \")","v":" "},"",null,{"$f":"IF(A224=\"x\",INDEX('Eingabe Spielernamen'!M:M,MATCH(D224,'Eingabe Spielernamen'!B:B,)),\" \")","v":" "},{"$f":"IF(A224=\"x\",INDEX('Eingabe Spielernamen'!M:M,MATCH(F224,'Eingabe Spielernamen'!B:B,)),\" \")","v":" "},"",null,{"$f":"IF(A224=\"x\",INDEX('Eingabe Spielernamen'!Q:Q,MATCH(D224,'Eingabe Spielernamen'!B:B,)),\" \")","v":" "},{"$f":"IF(A224=\"x\",INDEX('Eingabe Spielernamen'!Q:Q,MATCH(F224,'Eingabe Spielernamen'!B:B,)),\" \")","v":" "},""]
[null,null,null,null,{"$f":"IF(ISBLANK(D225),\" \",INDEX('Eingabe Spielernamen'!$F:$F,MATCH(D225,'Eingabe Spielernamen'!$B:$B,0))&\", \"&INDEX('Eingabe Spielernamen'!$G:$G,MATCH(D225,'Eingabe Spielernamen'!$B:$B,0)))","v":" "},null,{"$f":"IF(ISBLANK(F225),\" \",INDEX('Eingabe Spielernamen'!$F:$F,MATCH(F225,'Eingabe Spielernamen'!$B:$B,0))&\", \"&INDEX('Eingabe Spielernamen'!$G:$G,MATCH(F225,'Eingabe Spielernamen'!$B:$B,0)))","v":" "},null,{"$f":"IF(A225=\"x\",INDEX('Eingabe Spielernamen'!J:J,MATCH(D225,'Eingabe Spielernamen'!B:B,)),\" \")","v":" "},{"$f":"IF(A225=\"x\",INDEX('Eingabe Spielernamen'!J:J,MATCH(F225,'Eingabe Spielernamen'!B:B,)),\" \")","v":" "},"",null,{"$f":"IF(A225=\"x\",INDEX('Eingabe Spielernamen'!M:M,MATCH(D225,'Eingabe Spielernamen'!B:B,)),\" \")","v":" "},{"$f":"IF(A225=\"x\",INDEX('Eingabe Spielernamen'!M:M,MATCH(F225,'Eingabe Spielernamen'!B:B,)),\" \")","v":" "},"",null,{"$f":"IF(A225=\"x\",INDEX('Eingabe Spielernamen'!Q:Q,MATCH(D225,'Eingabe Spielernamen'!B:B,)),\" \")","v":" "},{"$f":"IF(A225=\"x\",INDEX('Eingabe Spielernamen'!Q:Q,MATCH(F225,'Eingabe Spielernamen'!B:B,)),\" \")","v":" "},""]
[null,null,null,null,{"$f":"IF(ISBLANK(D226),\" \",INDEX('Eingabe Spielernamen'!$F:$F,MATCH(D226,'Eingabe Spielernamen'!$B:$B,0))&\", \"&INDEX('Eingabe Spielernamen'!$G:$G,MATCH(D226,'Eingabe Spielernamen'!$B:$B,0)))","v":" "},null,{"$f":"IF(ISBLANK(F226),\" \",INDEX('Eingabe Spielernamen'!$F:$F,MATCH(F226,'Eingabe Spielernamen'!$B:$B,0))&\", \"&INDEX('Eingabe Spielernamen'!$G:$G,MATCH(F226,'Eingabe Spielernamen'!$B:$B,0)))","v":" "},null,{"$f":"IF(A226=\"x\",INDEX('Eingabe Spielernamen'!J:J,MATCH(D226,'Eingabe Spielernamen'!B:B,)),\" \")","v":" "},{"$f":"IF(A226=\"x\",INDEX('Eingabe Spielernamen'!J:J,MATCH(F226,'Eingabe Spielernamen'!B:B,)),\" \")","v":" "},"",null,{"$f":"IF(A226=\"x\",INDEX('Eingabe Spielernamen'!M:M,MATCH(D226,'Eingabe Spielernamen'!B:B,)),\" \")","v":" "},{"$f":"IF(A226=\"x\",INDEX('Eingabe Spielernamen'!M:M,MATCH(F226,'Eingabe Spielernamen'!B:B,)),\" \")","v":" "},"",null,{"$f":"IF(A226=\"x\",INDEX('Eingabe Spielernamen'!Q:Q,MATCH(D226,'Eingabe Spielernamen'!B:B,)),\" \")","v":" "},{"$f":"IF(A226=\"x\",INDEX('Eingabe Spielernamen'!Q:Q,MATCH(F226,'Eingabe Spielernamen'!B:B,)),\" \")","v":" "},""]
[null,null,null,null,{"$f":"IF(ISBLANK(D227),\" \",INDEX('Eingabe Spielernamen'!$F:$F,MATCH(D227,'Eingabe Spielernamen'!$B:$B,0))&\", \"&INDEX('Eingabe Spielernamen'!$G:$G,MATCH(D227,'Eingabe Spielernamen'!$B:$B,0)))","v":" "},null,{"$f":"IF(ISBLANK(F227),\" \",INDEX('Eingabe Spielernamen'!$F:$F,MATCH(F227,'Eingabe Spielernamen'!$B:$B,0))&\", \"&INDEX('Eingabe Spielernamen'!$G:$G,MATCH(F227,'Eingabe Spielernamen'!$B:$B,0)))","v":" "},null,{"$f":"IF(A227=\"x\",INDEX('Eingabe Spielernamen'!J:J,MATCH(D227,'Eingabe Spielernamen'!B:B,)),\" \")","v":" "},{"$f":"IF(A227=\"x\",INDEX('Eingabe Spielernamen'!J:J,MATCH(F227,'Eingabe Spielernamen'!B:B,)),\" \")","v":" "},"",null,{"$f":"IF(A227=\"x\",INDEX('Eingabe Spielernamen'!M:M,MATCH(D227,'Eingabe Spielernamen'!B:B,)),\" \")","v":" "},{"$f":"IF(A227=\"x\",INDEX('Eingabe Spielernamen'!M:M,MATCH(F227,'Eingabe Spielernamen'!B:B,)),\" \")","v":" "},"",null,{"$f":"IF(A227=\"x\",INDEX('Eingabe Spielernamen'!Q:Q,MATCH(D227,'Eingabe Spielernamen'!B:B,)),\" \")","v":" "},{"$f":"IF(A227=\"x\",INDEX('Eingabe Spielernamen'!Q:Q,MATCH(F227,'Eingabe Spielernamen'!B:B,)),\" \")","v":" "},""]
[null,null,null,null,{"$f":"IF(ISBLANK(D228),\" \",INDEX('Eingabe Spielernamen'!$F:$F,MATCH(D228,'Eingabe Spielernamen'!$B:$B,0))&\", \"&INDEX('Eingabe Spielernamen'!$G:$G,MATCH(D228,'Eingabe Spielernamen'!$B:$B,0)))","v":" "},null,{"$f":"IF(ISBLANK(F228),\" \",INDEX('Eingabe Spielernamen'!$F:$F,MATCH(F228,'Eingabe Spielernamen'!$B:$B,0))&\", \"&INDEX('Eingabe Spielernamen'!$G:$G,MATCH(F228,'Eingabe Spielernamen'!$B:$B,0)))","v":" "},null,{"$f":"IF(A228=\"x\",INDEX('Eingabe Spielernamen'!J:J,MATCH(D228,'Eingabe Spielernamen'!B:B,)),\" \")","v":" "},{"$f":"IF(A228=\"x\",INDEX('Eingabe Spielernamen'!J:J,MATCH(F228,'Eingabe Spielernamen'!B:B,)),\" \")","v":" "},"",null,{"$f":"IF(A228=\"x\",INDEX('Eingabe Spielernamen'!M:M,MATCH(D228,'Eingabe Spielernamen'!B:B,)),\" \")","v":" "},{"$f":"IF(A228=\"x\",INDEX('Eingabe Spielernamen'!M:M,MATCH(F228,'Eingabe Spielernamen'!B:B,)),\" \")","v":" "},"",null,{"$f":"IF(A228=\"x\",INDEX('Eingabe Spielernamen'!Q:Q,MATCH(D228,'Eingabe Spielernamen'!B:B,)),\" \")","v":" "},{"$f":"IF(A228=\"x\",INDEX('Eingabe Spielernamen'!Q:Q,MATCH(F228,'Eingabe Spielernamen'!B:B,)),\" \")","v":" "},""]
[null,null,null,null,{"$f":"IF(ISBLANK(D229),\" \",INDEX('Eingabe Spielernamen'!$F:$F,MATCH(D229,'Eingabe Spielernamen'!$B:$B,0))&\", \"&INDEX('Eingabe Spielernamen'!$G:$G,MATCH(D229,'Eingabe Spielernamen'!$B:$B,0)))","v":" "},null,{"$f":"IF(ISBLANK(F229),\" \",INDEX('Eingabe Spielernamen'!$F:$F,MATCH(F229,'Eingabe Spielernamen'!$B:$B,0))&\", \"&INDEX('Eingabe Spielernamen'!$G:$G,MATCH(F229,'Eingabe Spielernamen'!$B:$B,0)))","v":" "},null,{"$f":"IF(A229=\"x\",INDEX('Eingabe Spielernamen'!J:J,MATCH(D229,'Eingabe Spielernamen'!B:B,)),\" \")","v":" "},{"$f":"IF(A229=\"x\",INDEX('Eingabe Spielernamen'!J:J,MATCH(F229,'Eingabe Spielernamen'!B:B,)),\" \")","v":" "},"",null,{"$f":"IF(A229=\"x\",INDEX('Eingabe Spielernamen'!M:M,MATCH(D229,'Eingabe Spielernamen'!B:B,)),\" \")","v":" "},{"$f":"IF(A229=\"x\",INDEX('Eingabe Spielernamen'!M:M,MATCH(F229,'Eingabe Spielernamen'!B:B,)),\" \")","v":" "},"",null,{"$f":"IF(A229=\"x\",INDEX('Eingabe Spielernamen'!Q:Q,MATCH(D229,'Eingabe Spielernamen'!B:B,)),\" \")","v":" "},{"$f":"IF(A229=\"x\",INDEX('Eingabe Spielernamen'!Q:Q,MATCH(F229,'Eingabe Spielernamen'!B:B,)),\" \")","v":" "},""]
[null,null,null,null,{"$f":"IF(ISBLANK(D230),\" \",INDEX('Eingabe Spielernamen'!$F:$F,MATCH(D230,'Eingabe Spielernamen'!$B:$B,0))&\", \"&INDEX('Eingabe Spielernamen'!$G:$G,MATCH(D230,'Eingabe Spielernamen'!$B:$B,0)))","v":" "},null,{"$f":"IF(ISBLANK(F230),\" \",INDEX('Eingabe Spielernamen'!$F:$F,MATCH(F230,'Eingabe Spielernamen'!$B:$B,0))&\", \"&INDEX('Eingabe Spielernamen'!$G:$G,MATCH(F230,'Eingabe Spielernamen'!$B:$B,0)))","v":" "},null,{"$f":"IF(A230=\"x\",INDEX('Eingabe Spielernamen'!J:J,MATCH(D230,'Eingabe Spielernamen'!B:B,)),\" \")","v":" "},{"$f":"IF(A230=\"x\",INDEX('Eingabe Spielernamen'!J:J,MATCH(F230,'Eingabe Spielernamen'!B:B,)),\" \")","v":" "},"",null,{"$f":"IF(A230=\"x\",INDEX('Eingabe Spielernamen'!M:M,MATCH(D230,'Eingabe Spielernamen'!B:B,)),\" \")","v":" "},{"$f":"IF(A230=\"x\",INDEX('Eingabe Spielernamen'!M:M,MATCH(F230,'Eingabe Spielernamen'!B:B,)),\" \")","v":" "},"",null,{"$f":"IF(A230=\"x\",INDEX('Eingabe Spielernamen'!Q:Q,MATCH(D230,'Eingabe Spielernamen'!B:B,)),\" \")","v":" "},{"$f":"IF(A230=\"x\",INDEX('Eingabe Spielernamen'!Q:Q,MATCH(F230,'Eingabe Spielernamen'!B:B,)),\" \")","v":" "},""]
[null,null,null,null,{"$f":"IF(ISBLANK(D231),\" \",INDEX('Eingabe Spielernamen'!$F:$F,MATCH(D231,'Eingabe Spielernamen'!$B:$B,0))&\", \"&INDEX('Eingabe Spielernamen'!$G:$G,MATCH(D231,'Eingabe Spielernamen'!$B:$B,0)))","v":" "},null,{"$f":"IF(ISBLANK(F231),\" \",INDEX('Eingabe Spielernamen'!$F:$F,MATCH(F231,'Eingabe Spielernamen'!$B:$B,0))&\", \"&INDEX('Eingabe Spielernamen'!$G:$G,MATCH(F231,'Eingabe Spielernamen'!$B:$B,0)))","v":" "},null,{"$f":"IF(A231=\"x\",INDEX('Eingabe Spielernamen'!J:J,MATCH(D231,'Eingabe Spielernamen'!B:B,)),\" \")","v":" "},{"$f":"IF(A231=\"x\",INDEX('Eingabe Spielernamen'!J:J,MATCH(F231,'Eingabe Spielernamen'!B:B,)),\" \")","v":" "},"",null,{"$f":"IF(A231=\"x\",INDEX('Eingabe Spielernamen'!M:M,MATCH(D231,'Eingabe Spielernamen'!B:B,)),\" \")","v":" "},{"$f":"IF(A231=\"x\",INDEX('Eingabe Spielernamen'!M:M,MATCH(F231,'Eingabe Spielernamen'!B:B,)),\" \")","v":" "},"",null,{"$f":"IF(A231=\"x\",INDEX('Eingabe Spielernamen'!Q:Q,MATCH(D231,'Eingabe Spielernamen'!B:B,)),\" \")","v":" "},{"$f":"IF(A231=\"x\",INDEX('Eingabe Spielernamen'!Q:Q,MATCH(F231,'Eingabe Spielernamen'!B:B,)),\" \")","v":" "},""]
[null,null,null,null,{"$f":"IF(ISBLANK(D232),\" \",INDEX('Eingabe Spielernamen'!$F:$F,MATCH(D232,'Eingabe Spielernamen'!$B:$B,0))&\", \"&INDEX('Eingabe Spielernamen'!$G:$G,MATCH(D232,'Eingabe Spielernamen'!$B:$B,0)))","v":" "},null,{"$f":"IF(ISBLANK(F232),\" \",INDEX('Eingabe Spielernamen'!$F:$F,MATCH(F232,'Eingabe Spielernamen'!$B:$B,0))&\", \"&INDEX('Eingabe Spielernamen'!$G:$G,MATCH(F232,'Eingabe Spielernamen'!$B:$B,0)))","v":" "},null,{"$f":"IF(A232=\"x\",INDEX('Eingabe Spielernamen'!J:J,MATCH(D232,'Eingabe Spielernamen'!B:B,)),\" \")","v":" "},{"$f":"IF(A232=\"x\",INDEX('Eingabe Spielernamen'!J:J,MATCH(F232,'Eingabe Spielernamen'!B:B,)),\" \")","v":" "},"",null,{"$f":"IF(A232=\"x\",INDEX('Eingabe Spielernamen'!M:M,MATCH(D232,'Eingabe Spielernamen'!B:B,)),\" \")","v":" "},{"$f":"IF(A232=\"x\",INDEX('Eingabe Spielernamen'!M:M,MATCH(F232,'Eingabe Spielernamen'!B:B,)),\" \")","v":" "},"",null,{"$f":"IF(A232=\"x\",INDEX('Eingabe Spielernamen'!Q:Q,MATCH(D232,'Eingabe Spielernamen'!B:B,)),\" \")","v":" "},{"$f":"IF(A232=\"x\",INDEX('Eingabe Spielernamen'!Q:Q,MATCH(F232,'Eingabe Spielernamen'!B:B,)),\" \")","v":" "},""]
[null,null,null,null,{"$f":"IF(ISBLANK(D233),\" \",INDEX('Eingabe Spielernamen'!$F:$F,MATCH(D233,'Eingabe Spielernamen'!$B:$B,0))&\", \"&INDEX('Eingabe Spielernamen'!$G:$G,MATCH(D233,'Eingabe Spielernamen'!$B:$B,0)))","v":" "},null,{"$f":"IF(ISBLANK(F233),\" \",INDEX('Eingabe Spielernamen'!$F:$F,MATCH(F233,'Eingabe Spielernamen'!$B:$B,0))&\", \"&INDEX('Eingabe Spielernamen'!$G:$G,MATCH(F233,'Eingabe Spielernamen'!$B:$B,0)))","v":" "},null,{"$f":"IF(A233=\"x\",INDEX('Eingabe Spielernamen'!J:J,MATCH(D233,'Eingabe Spielernamen'!B:B,)),\" \")","v":" "},{"$f":"IF(A233=\"x\",INDEX('Eingabe Spielernamen'!J:J,MATCH(F233,'Eingabe Spielernamen'!B:B,)),\" \")","v":" "},"",null,{"$f":"IF(A233=\"x\",INDEX('Eingabe Spielernamen'!M:M,MATCH(D233,'Eingabe Spielernamen'!B:B,)),\" \")","v":" "},{"$f":"IF(A233=\"x\",INDEX('Eingabe Spielernamen'!M:M,MATCH(F233,'Eingabe Spielernamen'!B:B,)),\" \")","v":" "},"",null,{"$f":"IF(A233=\"x\",INDEX('Eingabe Spielernamen'!Q:Q,MATCH(D233,'Eingabe Spielernamen'!B:B,)),\" \")","v":" "},{"$f":"IF(A233=\"x\",INDEX('Eingabe Spielernamen'!Q:Q,MATCH(F233,'Eingabe Spielernamen'!B:B,)),\" \")","v":" "},""]
[null,null,null,null,{"$f":"IF(ISBLANK(D234),\" \",INDEX('Eingabe Spielernamen'!$F:$F,MATCH(D234,'Eingabe Spielernamen'!$B:$B,0))&\", \"&INDEX('Eingabe Spielernamen'!$G:$G,MATCH(D234,'Eingabe Spielernamen'!$B:$B,0)))","v":" "},null,{"$f":"IF(ISBLANK(F234),\" \",INDEX('Eingabe Spielernamen'!$F:$F,MATCH(F234,'Eingabe Spielernamen'!$B:$B,0))&\", \"&INDEX('Eingabe Spielernamen'!$G:$G,MATCH(F234,'Eingabe Spielernamen'!$B:$B,0)))","v":" "},null,{"$f":"IF(A234=\"x\",INDEX('Eingabe Spielernamen'!J:J,MATCH(D234,'Eingabe Spielernamen'!B:B,)),\" \")","v":" "},{"$f":"IF(A234=\"x\",INDEX('Eingabe Spielernamen'!J:J,MATCH(F234,'Eingabe Spielernamen'!B:B,)),\" \")","v":" "},"",null,{"$f":"IF(A234=\"x\",INDEX('Eingabe Spielernamen'!M:M,MATCH(D234,'Eingabe Spielernamen'!B:B,)),\" \")","v":" "},{"$f":"IF(A234=\"x\",INDEX('Eingabe Spielernamen'!M:M,MATCH(F234,'Eingabe Spielernamen'!B:B,)),\" \")","v":" "},"",null,{"$f":"IF(A234=\"x\",INDEX('Eingabe Spielernamen'!Q:Q,MATCH(D234,'Eingabe Spielernamen'!B:B,)),\" \")","v":" "},{"$f":"IF(A234=\"x\",INDEX('Eingabe Spielernamen'!Q:Q,MATCH(F234,'Eingabe Spielernamen'!B:B,)),\" \")","v":" "},""]
[null,null,null,null,{"$f":"IF(ISBLANK(D235),\" \",INDEX('Eingabe Spielernamen'!$F:$F,MATCH(D235,'Eingabe Spielernamen'!$B:$B,0))&\", \"&INDEX('Eingabe Spielernamen'!$G:$G,MATCH(D235,'Eingabe Spielernamen'!$B:$B,0)))","v":" "},null,{"$f":"IF(ISBLANK(F235),\" \",INDEX('Eingabe Spielernamen'!$F:$F,MATCH(F235,'Eingabe Spielernamen'!$B:$B,0))&\", \"&INDEX('Eingabe Spielernamen'!$G:$G,MATCH(F235,'Eingabe Spielernamen'!$B:$B,0)))","v":" "},null,{"$f":"IF(A235=\"x\",INDEX('Eingabe Spielernamen'!J:J,MATCH(D235,'Eingabe Spielernamen'!B:B,)),\" \")","v":" "},{"$f":"IF(A235=\"x\",INDEX('Eingabe Spielernamen'!J:J,MATCH(F235,'Eingabe Spielernamen'!B:B,)),\" \")","v":" "},"",null,{"$f":"IF(A235=\"x\",INDEX('Eingabe Spielernamen'!M:M,MATCH(D235,'Eingabe Spielernamen'!B:B,)),\" \")","v":" "},{"$f":"IF(A235=\"x\",INDEX('Eingabe Spielernamen'!M:M,MATCH(F235,'Eingabe Spielernamen'!B:B,)),\" \")","v":" "},"",null,{"$f":"IF(A235=\"x\",INDEX('Eingabe Spielernamen'!Q:Q,MATCH(D235,'Eingabe Spielernamen'!B:B,)),\" \")","v":" "},{"$f":"IF(A235=\"x\",INDEX('Eingabe Spielernamen'!Q:Q,MATCH(F235,'Eingabe Spielernamen'!B:B,)),\" \")","v":" "},""]
[null,null,null,null,{"$f":"IF(ISBLANK(D236),\" \",INDEX('Eingabe Spielernamen'!$F:$F,MATCH(D236,'Eingabe Spielernamen'!$B:$B,0))&\", \"&INDEX('Eingabe Spielernamen'!$G:$G,MATCH(D236,'Eingabe Spielernamen'!$B:$B,0)))","v":" "},null,{"$f":"IF(ISBLANK(F236),\" \",INDEX('Eingabe Spielernamen'!$F:$F,MATCH(F236,'Eingabe Spielernamen'!$B:$B,0))&\", \"&INDEX('Eingabe Spielernamen'!$G:$G,MATCH(F236,'Eingabe Spielernamen'!$B:$B,0)))","v":" "},null,{"$f":"IF(A236=\"x\",INDEX('Eingabe Spielernamen'!J:J,MATCH(D236,'Eingabe Spielernamen'!B:B,)),\" \")","v":" "},{"$f":"IF(A236=\"x\",INDEX('Eingabe Spielernamen'!J:J,MATCH(F236,'Eingabe Spielernamen'!B:B,)),\" \")","v":" "},"",null,{"$f":"IF(A236=\"x\",INDEX('Eingabe Spielernamen'!M:M,MATCH(D236,'Eingabe Spielernamen'!B:B,)),\" \")","v":" "},{"$f":"IF(A236=\"x\",INDEX('Eingabe Spielernamen'!M:M,MATCH(F236,'Eingabe Spielernamen'!B:B,)),\" \")","v":" "},"",null,{"$f":"IF(A236=\"x\",INDEX('Eingabe Spielernamen'!Q:Q,MATCH(D236,'Eingabe Spielernamen'!B:B,)),\" \")","v":" "},{"$f":"IF(A236=\"x\",INDEX('Eingabe Spielernamen'!Q:Q,MATCH(F236,'Eingabe Spielernamen'!B:B,)),\" \")","v":" "},""]
[null,null,null,null,{"$f":"IF(ISBLANK(D237),\" \",INDEX('Eingabe Spielernamen'!$F:$F,MATCH(D237,'Eingabe Spielernamen'!$B:$B,0))&\", \"&INDEX('Eingabe Spielernamen'!$G:$G,MATCH(D237,'Eingabe Spielernamen'!$B:$B,0)))","v":" "},null,{"$f":"IF(ISBLANK(F237),\" \",INDEX('Eingabe Spielernamen'!$F:$F,MATCH(F237,'Eingabe Spielernamen'!$B:$B,0))&\", \"&INDEX('Eingabe Spielernamen'!$G:$G,MATCH(F237,'Eingabe Spielernamen'!$B:$B,0)))","v":" "},null,{"$f":"IF(A237=\"x\",INDEX('Eingabe Spielernamen'!J:J,MATCH(D237,'Eingabe Spielernamen'!B:B,)),\" \")","v":" "},{"$f":"IF(A237=\"x\",INDEX('Eingabe Spielernamen'!J:J,MATCH(F237,'Eingabe Spielernamen'!B:B,)),\" \")","v":" "},"",null,{"$f":"IF(A237=\"x\",INDEX('Eingabe Spielernamen'!M:M,MATCH(D237,'Eingabe Spielernamen'!B:B,)),\" \")","v":" "},{"$f":"IF(A237=\"x\",INDEX('Eingabe Spielernamen'!M:M,MATCH(F237,'Eingabe Spielernamen'!B:B,)),\" \")","v":" "},"",null,{"$f":"IF(A237=\"x\",INDEX('Eingabe Spielernamen'!Q:Q,MATCH(D237,'Eingabe Spielernamen'!B:B,)),\" \")","v":" "},{"$f":"IF(A237=\"x\",INDEX('Eingabe Spielernamen'!Q:Q,MATCH(F237,'Eingabe Spielernamen'!B:B,)),\" \")","v":" "},""]
[null,null,null,null,{"$f":"IF(ISBLANK(D238),\" \",INDEX('Eingabe Spielernamen'!$F:$F,MATCH(D238,'Eingabe Spielernamen'!$B:$B,0))&\", \"&INDEX('Eingabe Spielernamen'!$G:$G,MATCH(D238,'Eingabe Spielernamen'!$B:$B,0)))","v":" "},null,{"$f":"IF(ISBLANK(F238),\" \",INDEX('Eingabe Spielernamen'!$F:$F,MATCH(F238,'Eingabe Spielernamen'!$B:$B,0))&\", \"&INDEX('Eingabe Spielernamen'!$G:$G,MATCH(F238,'Eingabe Spielernamen'!$B:$B,0)))","v":" "},null,{"$f":"IF(A238=\"x\",INDEX('Eingabe Spielernamen'!J:J,MATCH(D238,'Eingabe Spielernamen'!B:B,)),\" \")","v":" "},{"$f":"IF(A238=\"x\",INDEX('Eingabe Spielernamen'!J:J,MATCH(F238,'Eingabe Spielernamen'!B:B,)),\" \")","v":" "},"",null,{"$f":"IF(A238=\"x\",INDEX('Eingabe Spielernamen'!M:M,MATCH(D238,'Eingabe Spielernamen'!B:B,)),\" \")","v":" "},{"$f":"IF(A238=\"x\",INDEX('Eingabe Spielernamen'!M:M,MATCH(F238,'Eingabe Spielernamen'!B:B,)),\" \")","v":" "},"",null,{"$f":"IF(A238=\"x\",INDEX('Eingabe Spielernamen'!Q:Q,MATCH(D238,'Eingabe Spielernamen'!B:B,)),\" \")","v":" "},{"$f":"IF(A238=\"x\",INDEX('Eingabe Spielernamen'!Q:Q,MATCH(F238,'Eingabe Spielernamen'!B:B,)),\" \")","v":" "},""]
[null,null,null,null,{"$f":"IF(ISBLANK(D239),\" \",INDEX('Eingabe Spielernamen'!$F:$F,MATCH(D239,'Eingabe Spielernamen'!$B:$B,0))&\", \"&INDEX('Eingabe Spielernamen'!$G:$G,MATCH(D239,'Eingabe Spielernamen'!$B:$B,0)))","v":" "},null,{"$f":"IF(ISBLANK(F239),\" \",INDEX('Eingabe Spielernamen'!$F:$F,MATCH(F239,'Eingabe Spielernamen'!$B:$B,0))&\", \"&INDEX('Eingabe Spielernamen'!$G:$G,MATCH(F239,'Eingabe Spielernamen'!$B:$B,0)))","v":" "},null,{"$f":"IF(A239=\"x\",INDEX('Eingabe Spielernamen'!J:J,MATCH(D239,'Eingabe Spielernamen'!B:B,)),\" \")","v":" "},{"$f":"IF(A239=\"x\",INDEX('Eingabe Spielernamen'!J:J,MATCH(F239,'Eingabe Spielernamen'!B:B,)),\" \")","v":" "},"",null,{"$f":"IF(A239=\"x\",INDEX('Eingabe Spielernamen'!M:M,MATCH(D239,'Eingabe Spielernamen'!B:B,)),\" \")","v":" "},{"$f":"IF(A239=\"x\",INDEX('Eingabe Spielernamen'!M:M,MATCH(F239,'Eingabe Spielernamen'!B:B,)),\" \")","v":" "},"",null,{"$f":"IF(A239=\"x\",INDEX('Eingabe Spielernamen'!Q:Q,MATCH(D239,'Eingabe Spielernamen'!B:B,)),\" \")","v":" "},{"$f":"IF(A239=\"x\",INDEX('Eingabe Spielernamen'!Q:Q,MATCH(F239,'Eingabe Spielernamen'!B:B,)),\" \")","v":" "},""]
[null,null,null,null,{"$f":"IF(ISBLANK(D240),\" \",INDEX('Eingabe Spielernamen'!$F:$F,MATCH(D240,'Eingabe Spielernamen'!$B:$B,0))&\", \"&INDEX('Eingabe Spielernamen'!$G:$G,MATCH(D240,'Eingabe Spielernamen'!$B:$B,0)))","v":" "},null,{"$f":"IF(ISBLANK(F240),\" \",INDEX('Eingabe Spielernamen'!$F:$F,MATCH(F240,'Eingabe Spielernamen'!$B:$B,0))&\", \"&INDEX('Eingabe Spielernamen'!$G:$G,MATCH(F240,'Eingabe Spielernamen'!$B:$B,0)))","v":" "},null,{"$f":"IF(A240=\"x\",INDEX('Eingabe Spielernamen'!J:J,MATCH(D240,'Eingabe Spielernamen'!B:B,)),\" \")","v":" "},{"$f":"IF(A240=\"x\",INDEX('Eingabe Spielernamen'!J:J,MATCH(F240,'Eingabe Spielernamen'!B:B,)),\" \")","v":" "},"",null,{"$f":"IF(A240=\"x\",INDEX('Eingabe Spielernamen'!M:M,MATCH(D240,'Eingabe Spielernamen'!B:B,)),\" \")","v":" "},{"$f":"IF(A240=\"x\",INDEX('Eingabe Spielernamen'!M:M,MATCH(F240,'Eingabe Spielernamen'!B:B,)),\" \")","v":" "},"",null,{"$f":"IF(A240=\"x\",INDEX('Eingabe Spielernamen'!Q:Q,MATCH(D240,'Eingabe Spielernamen'!B:B,)),\" \")","v":" "},{"$f":"IF(A240=\"x\",INDEX('Eingabe Spielernamen'!Q:Q,MATCH(F240,'Eingabe Spielernamen'!B:B,)),\" \")","v":" "},""]
[null,null,null,null,{"$f":"IF(ISBLANK(D241),\" \",INDEX('Eingabe Spielernamen'!$F:$F,MATCH(D241,'Eingabe Spielernamen'!$B:$B,0))&\", \"&INDEX('Eingabe Spielernamen'!$G:$G,MATCH(D241,'Eingabe Spielernamen'!$B:$B,0)))","v":" "},null,{"$f":"IF(ISBLANK(F241),\" \",INDEX('Eingabe Spielernamen'!$F:$F,MATCH(F241,'Eingabe Spielernamen'!$B:$B,0))&\", \"&INDEX('Eingabe Spielernamen'!$G:$G,MATCH(F241,'Eingabe Spielernamen'!$B:$B,0)))","v":" "},null,{"$f":"IF(A241=\"x\",INDEX('Eingabe Spielernamen'!J:J,MATCH(D241,'Eingabe Spielernamen'!B:B,)),\" \")","v":" "},{"$f":"IF(A241=\"x\",INDEX('Eingabe Spielernamen'!J:J,MATCH(F241,'Eingabe Spielernamen'!B:B,)),\" \")","v":" "},"",null,{"$f":"IF(A241=\"x\",INDEX('Eingabe Spielernamen'!M:M,MATCH(D241,'Eingabe Spielernamen'!B:B,)),\" \")","v":" "},{"$f":"IF(A241=\"x\",INDEX('Eingabe Spielernamen'!M:M,MATCH(F241,'Eingabe Spielernamen'!B:B,)),\" \")","v":" "},"",null,{"$f":"IF(A241=\"x\",INDEX('Eingabe Spielernamen'!Q:Q,MATCH(D241,'Eingabe Spielernamen'!B:B,)),\" \")","v":" "},{"$f":"IF(A241=\"x\",INDEX('Eingabe Spielernamen'!Q:Q,MATCH(F241,'Eingabe Spielernamen'!B:B,)),\" \")","v":" "},""]
[null,null,null,null,{"$f":"IF(ISBLANK(D242),\" \",INDEX('Eingabe Spielernamen'!$F:$F,MATCH(D242,'Eingabe Spielernamen'!$B:$B,0))&\", \"&INDEX('Eingabe Spielernamen'!$G:$G,MATCH(D242,'Eingabe Spielernamen'!$B:$B,0)))","v":" "},null,{"$f":"IF(ISBLANK(F242),\" \",INDEX('Eingabe Spielernamen'!$F:$F,MATCH(F242,'Eingabe Spielernamen'!$B:$B,0))&\", \"&INDEX('Eingabe Spielernamen'!$G:$G,MATCH(F242,'Eingabe Spielernamen'!$B:$B,0)))","v":" "},null,{"$f":"IF(A242=\"x\",INDEX('Eingabe Spielernamen'!J:J,MATCH(D242,'Eingabe Spielernamen'!B:B,)),\" \")","v":" "},{"$f":"IF(A242=\"x\",INDEX('Eingabe Spielernamen'!J:J,MATCH(F242,'Eingabe Spielernamen'!B:B,)),\" \")","v":" "},"",null,{"$f":"IF(A242=\"x\",INDEX('Eingabe Spielernamen'!M:M,MATCH(D242,'Eingabe Spielernamen'!B:B,)),\" \")","v":" "},{"$f":"IF(A242=\"x\",INDEX('Eingabe Spielernamen'!M:M,MATCH(F242,'Eingabe Spielernamen'!B:B,)),\" \")","v":" "},"",null,{"$f":"IF(A242=\"x\",INDEX('Eingabe Spielernamen'!Q:Q,MATCH(D242,'Eingabe Spielernamen'!B:B,)),\" \")","v":" "},{"$f":"IF(A242=\"x\",INDEX('Eingabe Spielernamen'!Q:Q,MATCH(F242,'Eingabe Spielernamen'!B:B,)),\" \")","v":" "},""]
[null,null,null,null,{"$f":"IF(ISBLANK(D243),\" \",INDEX('Eingabe Spielernamen'!$F:$F,MATCH(D243,'Eingabe Spielernamen'!$B:$B,0))&\", \"&INDEX('Eingabe Spielernamen'!$G:$G,MATCH(D243,'Eingabe Spielernamen'!$B:$B,0)))","v":" "},null,{"$f":"IF(ISBLANK(F243),\" \",INDEX('Eingabe Spielernamen'!$F:$F,MATCH(F243,'Eingabe Spielernamen'!$B:$B,0))&\", \"&INDEX('Eingabe Spielernamen'!$G:$G,MATCH(F243,'Eingabe Spielernamen'!$B:$B,0)))","v":" "},null,{"$f":"IF(A243=\"x\",INDEX('Eingabe Spielernamen'!J:J,MATCH(D243,'Eingabe Spielernamen'!B:B,)),\" \")","v":" "},{"$f":"IF(A243=\"x\",INDEX('Eingabe Spielernamen'!J:J,MATCH(F243,'Eingabe Spielernamen'!B:B,)),\" \")","v":" "},"",null,{"$f":"IF(A243=\"x\",INDEX('Eingabe Spielernamen'!M:M,MATCH(D243,'Eingabe Spielernamen'!B:B,)),\" \")","v":" "},{"$f":"IF(A243=\"x\",INDEX('Eingabe Spielernamen'!M:M,MATCH(F243,'Eingabe Spielernamen'!B:B,)),\" \")","v":" "},"",null,{"$f":"IF(A243=\"x\",INDEX('Eingabe Spielernamen'!Q:Q,MATCH(D243,'Eingabe Spielernamen'!B:B,)),\" \")","v":" "},{"$f":"IF(A243=\"x\",INDEX('Eingabe Spielernamen'!Q:Q,MATCH(F243,'Eingabe Spielernamen'!B:B,)),\" \")","v":" "},""]
[null,null,null,null,{"$f":"IF(ISBLANK(D244),\" \",INDEX('Eingabe Spielernamen'!$F:$F,MATCH(D244,'Eingabe Spielernamen'!$B:$B,0))&\", \"&INDEX('Eingabe Spielernamen'!$G:$G,MATCH(D244,'Eingabe Spielernamen'!$B:$B,0)))","v":" "},null,{"$f":"IF(ISBLANK(F244),\" \",INDEX('Eingabe Spielernamen'!$F:$F,MATCH(F244,'Eingabe Spielernamen'!$B:$B,0))&\", \"&INDEX('Eingabe Spielernamen'!$G:$G,MATCH(F244,'Eingabe Spielernamen'!$B:$B,0)))","v":" "},null,{"$f":"IF(A244=\"x\",INDEX('Eingabe Spielernamen'!J:J,MATCH(D244,'Eingabe Spielernamen'!B:B,)),\" \")","v":" "},{"$f":"IF(A244=\"x\",INDEX('Eingabe Spielernamen'!J:J,MATCH(F244,'Eingabe Spielernamen'!B:B,)),\" \")","v":" "},"",null,{"$f":"IF(A244=\"x\",INDEX('Eingabe Spielernamen'!M:M,MATCH(D244,'Eingabe Spielernamen'!B:B,)),\" \")","v":" "},{"$f":"IF(A244=\"x\",INDEX('Eingabe Spielernamen'!M:M,MATCH(F244,'Eingabe Spielernamen'!B:B,)),\" \")","v":" "},"",null,{"$f":"IF(A244=\"x\",INDEX('Eingabe Spielernamen'!Q:Q,MATCH(D244,'Eingabe Spielernamen'!B:B,)),\" \")","v":" "},{"$f":"IF(A244=\"x\",INDEX('Eingabe Spielernamen'!Q:Q,MATCH(F244,'Eingabe Spielernamen'!B:B,)),\" \")","v":" "},""]
[null,null,null,null,{"$f":"IF(ISBLANK(D245),\" \",INDEX('Eingabe Spielernamen'!$F:$F,MATCH(D245,'Eingabe Spielernamen'!$B:$B,0))&\", \"&INDEX('Eingabe Spielernamen'!$G:$G,MATCH(D245,'Eingabe Spielernamen'!$B:$B,0)))","v":" "},null,{"$f":"IF(ISBLANK(F245),\" \",INDEX('Eingabe Spielernamen'!$F:$F,MATCH(F245,'Eingabe Spielernamen'!$B:$B,0))&\", \"&INDEX('Eingabe Spielernamen'!$G:$G,MATCH(F245,'Eingabe Spielernamen'!$B:$B,0)))","v":" "},null,{"$f":"IF(A245=\"x\",INDEX('Eingabe Spielernamen'!J:J,MATCH(D245,'Eingabe Spielernamen'!B:B,)),\" \")","v":" "},{"$f":"IF(A245=\"x\",INDEX('Eingabe Spielernamen'!J:J,MATCH(F245,'Eingabe Spielernamen'!B:B,)),\" \")","v":" "},"",null,{"$f":"IF(A245=\"x\",INDEX('Eingabe Spielernamen'!M:M,MATCH(D245,'Eingabe Spielernamen'!B:B,)),\" \")","v":" "},{"$f":"IF(A245=\"x\",INDEX('Eingabe Spielernamen'!M:M,MATCH(F245,'Eingabe Spielernamen'!B:B,)),\" \")","v":" "},"",null,{"$f":"IF(A245=\"x\",INDEX('Eingabe Spielernamen'!Q:Q,MATCH(D245,'Eingabe Spielernamen'!B:B,)),\" \")","v":" "},{"$f":"IF(A245=\"x\",INDEX('Eingabe Spielernamen'!Q:Q,MATCH(F245,'Eingabe Spielernamen'!B:B,)),\" \")","v":" "},""]
[null,null,null,null,{"$f":"IF(ISBLANK(D246),\" \",INDEX('Eingabe Spielernamen'!$F:$F,MATCH(D246,'Eingabe Spielernamen'!$B:$B,0))&\", \"&INDEX('Eingabe Spielernamen'!$G:$G,MATCH(D246,'Eingabe Spielernamen'!$B:$B,0)))","v":" "},null,{"$f":"IF(ISBLANK(F246),\" \",INDEX('Eingabe Spielernamen'!$F:$F,MATCH(F246,'Eingabe Spielernamen'!$B:$B,0))&\", \"&INDEX('Eingabe Spielernamen'!$G:$G,MATCH(F246,'Eingabe Spielernamen'!$B:$B,0)))","v":" "},null,{"$f":"IF(A246=\"x\",INDEX('Eingabe Spielernamen'!J:J,MATCH(D246,'Eingabe Spielernamen'!B:B,)),\" \")","v":" "},{"$f":"IF(A246=\"x\",INDEX('Eingabe Spielernamen'!J:J,MATCH(F246,'Eingabe Spielernamen'!B:B,)),\" \")","v":" "},"",null,{"$f":"IF(A246=\"x\",INDEX('Eingabe Spielernamen'!M:M,MATCH(D246,'Eingabe Spielernamen'!B:B,)),\" \")","v":" "},{"$f":"IF(A246=\"x\",INDEX('Eingabe Spielernamen'!M:M,MATCH(F246,'Eingabe Spielernamen'!B:B,)),\" \")","v":" "},"",null,{"$f":"IF(A246=\"x\",INDEX('Eingabe Spielernamen'!Q:Q,MATCH(D246,'Eingabe Spielernamen'!B:B,)),\" \")","v":" "},{"$f":"IF(A246=\"x\",INDEX('Eingabe Spielernamen'!Q:Q,MATCH(F246,'Eingabe Spielernamen'!B:B,)),\" \")","v":" "},""]
[null,null,null,null,{"$f":"IF(ISBLANK(D247),\" \",INDEX('Eingabe Spielernamen'!$F:$F,MATCH(D247,'Eingabe Spielernamen'!$B:$B,0))&\", \"&INDEX('Eingabe Spielernamen'!$G:$G,MATCH(D247,'Eingabe Spielernamen'!$B:$B,0)))","v":" "},null,{"$f":"IF(ISBLANK(F247),\" \",INDEX('Eingabe Spielernamen'!$F:$F,MATCH(F247,'Eingabe Spielernamen'!$B:$B,0))&\", \"&INDEX('Eingabe Spielernamen'!$G:$G,MATCH(F247,'Eingabe Spielernamen'!$B:$B,0)))","v":" "},null,{"$f":"IF(A247=\"x\",INDEX('Eingabe Spielernamen'!J:J,MATCH(D247,'Eingabe Spielernamen'!B:B,)),\" \")","v":" "},{"$f":"IF(A247=\"x\",INDEX('Eingabe Spielernamen'!J:J,MATCH(F247,'Eingabe Spielernamen'!B:B,)),\" \")","v":" "},"",null,{"$f":"IF(A247=\"x\",INDEX('Eingabe Spielernamen'!M:M,MATCH(D247,'Eingabe Spielernamen'!B:B,)),\" \")","v":" "},{"$f":"IF(A247=\"x\",INDEX('Eingabe Spielernamen'!M:M,MATCH(F247,'Eingabe Spielernamen'!B:B,)),\" \")","v":" "},"",null,{"$f":"IF(A247=\"x\",INDEX('Eingabe Spielernamen'!Q:Q,MATCH(D247,'Eingabe Spielernamen'!B:B,)),\" \")","v":" "},{"$f":"IF(A247=\"x\",INDEX('Eingabe Spielernamen'!Q:Q,MATCH(F247,'Eingabe Spielernamen'!B:B,)),\" \")","v":" "},""]
[null,null,null,null,{"$f":"IF(ISBLANK(D248),\" \",INDEX('Eingabe Spielernamen'!$F:$F,MATCH(D248,'Eingabe Spielernamen'!$B:$B,0))&\", \"&INDEX('Eingabe Spielernamen'!$G:$G,MATCH(D248,'Eingabe Spielernamen'!$B:$B,0)))","v":" "},null,{"$f":"IF(ISBLANK(F248),\" \",INDEX('Eingabe Spielernamen'!$F:$F,MATCH(F248,'Eingabe Spielernamen'!$B:$B,0))&\", \"&INDEX('Eingabe Spielernamen'!$G:$G,MATCH(F248,'Eingabe Spielernamen'!$B:$B,0)))","v":" "},null,{"$f":"IF(A248=\"x\",INDEX('Eingabe Spielernamen'!J:J,MATCH(D248,'Eingabe Spielernamen'!B:B,)),\" \")","v":" "},{"$f":"IF(A248=\"x\",INDEX('Eingabe Spielernamen'!J:J,MATCH(F248,'Eingabe Spielernamen'!B:B,)),\" \")","v":" "},"",null,{"$f":"IF(A248=\"x\",INDEX('Eingabe Spielernamen'!M:M,MATCH(D248,'Eingabe Spielernamen'!B:B,)),\" \")","v":" "},{"$f":"IF(A248=\"x\",INDEX('Eingabe Spielernamen'!M:M,MATCH(F248,'Eingabe Spielernamen'!B:B,)),\" \")","v":" "},"",null,{"$f":"IF(A248=\"x\",INDEX('Eingabe Spielernamen'!Q:Q,MATCH(D248,'Eingabe Spielernamen'!B:B,)),\" \")","v":" "},{"$f":"IF(A248=\"x\",INDEX('Eingabe Spielernamen'!Q:Q,MATCH(F248,'Eingabe Spielernamen'!B:B,)),\" \")","v":" "},""]
[null,null,null,null,{"$f":"IF(ISBLANK(D249),\" \",INDEX('Eingabe Spielernamen'!$F:$F,MATCH(D249,'Eingabe Spielernamen'!$B:$B,0))&\", \"&INDEX('Eingabe Spielernamen'!$G:$G,MATCH(D249,'Eingabe Spielernamen'!$B:$B,0)))","v":" "},null,{"$f":"IF(ISBLANK(F249),\" \",INDEX('Eingabe Spielernamen'!$F:$F,MATCH(F249,'Eingabe Spielernamen'!$B:$B,0))&\", \"&INDEX('Eingabe Spielernamen'!$G:$G,MATCH(F249,'Eingabe Spielernamen'!$B:$B,0)))","v":" "},null,{"$f":"IF(A249=\"x\",INDEX('Eingabe Spielernamen'!J:J,MATCH(D249,'Eingabe Spielernamen'!B:B,)),\" \")","v":" "},{"$f":"IF(A249=\"x\",INDEX('Eingabe Spielernamen'!J:J,MATCH(F249,'Eingabe Spielernamen'!B:B,)),\" \")","v":" "},"",null,{"$f":"IF(A249=\"x\",INDEX('Eingabe Spielernamen'!M:M,MATCH(D249,'Eingabe Spielernamen'!B:B,)),\" \")","v":" "},{"$f":"IF(A249=\"x\",INDEX('Eingabe Spielernamen'!M:M,MATCH(F249,'Eingabe Spielernamen'!B:B,)),\" \")","v":" "},"",null,{"$f":"IF(A249=\"x\",INDEX('Eingabe Spielernamen'!Q:Q,MATCH(D249,'Eingabe Spielernamen'!B:B,)),\" \")","v":" "},{"$f":"IF(A249=\"x\",INDEX('Eingabe Spielernamen'!Q:Q,MATCH(F249,'Eingabe Spielernamen'!B:B,)),\" \")","v":" "},""]
[null,null,null,null,{"$f":"IF(ISBLANK(D250),\" \",INDEX('Eingabe Spielernamen'!$F:$F,MATCH(D250,'Eingabe Spielernamen'!$B:$B,0))&\", \"&INDEX('Eingabe Spielernamen'!$G:$G,MATCH(D250,'Eingabe Spielernamen'!$B:$B,0)))","v":" "},null,{"$f":"IF(ISBLANK(F250),\" \",INDEX('Eingabe Spielernamen'!$F:$F,MATCH(F250,'Eingabe Spielernamen'!$B:$B,0))&\", \"&INDEX('Eingabe Spielernamen'!$G:$G,MATCH(F250,'Eingabe Spielernamen'!$B:$B,0)))","v":" "},null,{"$f":"IF(A250=\"x\",INDEX('Eingabe Spielernamen'!J:J,MATCH(D250,'Eingabe Spielernamen'!B:B,)),\" \")","v":" "},{"$f":"IF(A250=\"x\",INDEX('Eingabe Spielernamen'!J:J,MATCH(F250,'Eingabe Spielernamen'!B:B,)),\" \")","v":" "},"",null,{"$f":"IF(A250=\"x\",INDEX('Eingabe Spielernamen'!M:M,MATCH(D250,'Eingabe Spielernamen'!B:B,)),\" \")","v":" "},{"$f":"IF(A250=\"x\",INDEX('Eingabe Spielernamen'!M:M,MATCH(F250,'Eingabe Spielernamen'!B:B,)),\" \")","v":" "},"",null,{"$f":"IF(A250=\"x\",INDEX('Eingabe Spielernamen'!Q:Q,MATCH(D250,'Eingabe Spielernamen'!B:B,)),\" \")","v":" "},{"$f":"IF(A250=\"x\",INDEX('Eingabe Spielernamen'!Q:Q,MATCH(F250,'Eingabe Spielernamen'!B:B,)),\" \")","v":" "},""]
[null,null,null,null,{"$f":"IF(ISBLANK(D251),\" \",INDEX('Eingabe Spielernamen'!$F:$F,MATCH(D251,'Eingabe Spielernamen'!$B:$B,0))&\", \"&INDEX('Eingabe Spielernamen'!$G:$G,MATCH(D251,'Eingabe Spielernamen'!$B:$B,0)))","v":" "},null,{"$f":"IF(ISBLANK(F251),\" \",INDEX('Eingabe Spielernamen'!$F:$F,MATCH(F251,'Eingabe Spielernamen'!$B:$B,0))&\", \"&INDEX('Eingabe Spielernamen'!$G:$G,MATCH(F251,'Eingabe Spielernamen'!$B:$B,0)))","v":" "},null,{"$f":"IF(A251=\"x\",INDEX('Eingabe Spielernamen'!J:J,MATCH(D251,'Eingabe Spielernamen'!B:B,)),\" \")","v":" "},{"$f":"IF(A251=\"x\",INDEX('Eingabe Spielernamen'!J:J,MATCH(F251,'Eingabe Spielernamen'!B:B,)),\" \")","v":" "},"",null,{"$f":"IF(A251=\"x\",INDEX('Eingabe Spielernamen'!M:M,MATCH(D251,'Eingabe Spielernamen'!B:B,)),\" \")","v":" "},{"$f":"IF(A251=\"x\",INDEX('Eingabe Spielernamen'!M:M,MATCH(F251,'Eingabe Spielernamen'!B:B,)),\" \")","v":" "},"",null,{"$f":"IF(A251=\"x\",INDEX('Eingabe Spielernamen'!Q:Q,MATCH(D251,'Eingabe Spielernamen'!B:B,)),\" \")","v":" "},{"$f":"IF(A251=\"x\",INDEX('Eingabe Spielernamen'!Q:Q,MATCH(F251,'Eingabe Spielernamen'!B:B,)),\" \")","v":" "},""]
[null,null,null,null,{"$f":"IF(ISBLANK(D252),\" \",INDEX('Eingabe Spielernamen'!$F:$F,MATCH(D252,'Eingabe Spielernamen'!$B:$B,0))&\", \"&INDEX('Eingabe Spielernamen'!$G:$G,MATCH(D252,'Eingabe Spielernamen'!$B:$B,0)))","v":" "},null,{"$f":"IF(ISBLANK(F252),\" \",INDEX('Eingabe Spielernamen'!$F:$F,MATCH(F252,'Eingabe Spielernamen'!$B:$B,0))&\", \"&INDEX('Eingabe Spielernamen'!$G:$G,MATCH(F252,'Eingabe Spielernamen'!$B:$B,0)))","v":" "},null,{"$f":"IF(A252=\"x\",INDEX('Eingabe Spielernamen'!J:J,MATCH(D252,'Eingabe Spielernamen'!B:B,)),\" \")","v":" "},{"$f":"IF(A252=\"x\",INDEX('Eingabe Spielernamen'!J:J,MATCH(F252,'Eingabe Spielernamen'!B:B,)),\" \")","v":" "},"",null,{"$f":"IF(A252=\"x\",INDEX('Eingabe Spielernamen'!M:M,MATCH(D252,'Eingabe Spielernamen'!B:B,)),\" \")","v":" "},{"$f":"IF(A252=\"x\",INDEX('Eingabe Spielernamen'!M:M,MATCH(F252,'Eingabe Spielernamen'!B:B,)),\" \")","v":" "},"",null,{"$f":"IF(A252=\"x\",INDEX('Eingabe Spielernamen'!Q:Q,MATCH(D252,'Eingabe Spielernamen'!B:B,)),\" \")","v":" "},{"$f":"IF(A252=\"x\",INDEX('Eingabe Spielernamen'!Q:Q,MATCH(F252,'Eingabe Spielernamen'!B:B,)),\" \")","v":" "},""]
[null,null,null,null,{"$f":"IF(ISBLANK(D253),\" \",INDEX('Eingabe Spielernamen'!$F:$F,MATCH(D253,'Eingabe Spielernamen'!$B:$B,0))&\", \"&INDEX('Eingabe Spielernamen'!$G:$G,MATCH(D253,'Eingabe Spielernamen'!$B:$B,0)))","v":" "},null,{"$f":"IF(ISBLANK(F253),\" \",INDEX('Eingabe Spielernamen'!$F:$F,MATCH(F253,'Eingabe Spielernamen'!$B:$B,0))&\", \"&INDEX('Eingabe Spielernamen'!$G:$G,MATCH(F253,'Eingabe Spielernamen'!$B:$B,0)))","v":" "},null,{"$f":"IF(A253=\"x\",INDEX('Eingabe Spielernamen'!J:J,MATCH(D253,'Eingabe Spielernamen'!B:B,)),\" \")","v":" "},{"$f":"IF(A253=\"x\",INDEX('Eingabe Spielernamen'!J:J,MATCH(F253,'Eingabe Spielernamen'!B:B,)),\" \")","v":" "},"",null,{"$f":"IF(A253=\"x\",INDEX('Eingabe Spielernamen'!M:M,MATCH(D253,'Eingabe Spielernamen'!B:B,)),\" \")","v":" "},{"$f":"IF(A253=\"x\",INDEX('Eingabe Spielernamen'!M:M,MATCH(F253,'Eingabe Spielernamen'!B:B,)),\" \")","v":" "},"",null,{"$f":"IF(A253=\"x\",INDEX('Eingabe Spielernamen'!Q:Q,MATCH(D253,'Eingabe Spielernamen'!B:B,)),\" \")","v":" "},{"$f":"IF(A253=\"x\",INDEX('Eingabe Spielernamen'!Q:Q,MATCH(F253,'Eingabe Spielernamen'!B:B,)),\" \")","v":" "},""]
[null,null,null,null,{"$f":"IF(ISBLANK(D254),\" \",INDEX('Eingabe Spielernamen'!$F:$F,MATCH(D254,'Eingabe Spielernamen'!$B:$B,0))&\", \"&INDEX('Eingabe Spielernamen'!$G:$G,MATCH(D254,'Eingabe Spielernamen'!$B:$B,0)))","v":" "},null,{"$f":"IF(ISBLANK(F254),\" \",INDEX('Eingabe Spielernamen'!$F:$F,MATCH(F254,'Eingabe Spielernamen'!$B:$B,0))&\", \"&INDEX('Eingabe Spielernamen'!$G:$G,MATCH(F254,'Eingabe Spielernamen'!$B:$B,0)))","v":" "},null,{"$f":"IF(A254=\"x\",INDEX('Eingabe Spielernamen'!J:J,MATCH(D254,'Eingabe Spielernamen'!B:B,)),\" \")","v":" "},{"$f":"IF(A254=\"x\",INDEX('Eingabe Spielernamen'!J:J,MATCH(F254,'Eingabe Spielernamen'!B:B,)),\" \")","v":" "},"",null,{"$f":"IF(A254=\"x\",INDEX('Eingabe Spielernamen'!M:M,MATCH(D254,'Eingabe Spielernamen'!B:B,)),\" \")","v":" "},{"$f":"IF(A254=\"x\",INDEX('Eingabe Spielernamen'!M:M,MATCH(F254,'Eingabe Spielernamen'!B:B,)),\" \")","v":" "},"",null,{"$f":"IF(A254=\"x\",INDEX('Eingabe Spielernamen'!Q:Q,MATCH(D254,'Eingabe Spielernamen'!B:B,)),\" \")","v":" "},{"$f":"IF(A254=\"x\",INDEX('Eingabe Spielernamen'!Q:Q,MATCH(F254,'Eingabe Spielernamen'!B:B,)),\" \")","v":" "},""]
[null,null,null,null,{"$f":"IF(ISBLANK(D255),\" \",INDEX('Eingabe Spielernamen'!$F:$F,MATCH(D255,'Eingabe Spielernamen'!$B:$B,0))&\", \"&INDEX('Eingabe Spielernamen'!$G:$G,MATCH(D255,'Eingabe Spielernamen'!$B:$B,0)))","v":" "},null,{"$f":"IF(ISBLANK(F255),\" \",INDEX('Eingabe Spielernamen'!$F:$F,MATCH(F255,'Eingabe Spielernamen'!$B:$B,0))&\", \"&INDEX('Eingabe Spielernamen'!$G:$G,MATCH(F255,'Eingabe Spielernamen'!$B:$B,0)))","v":" "},null,{"$f":"IF(A255=\"x\",INDEX('Eingabe Spielernamen'!J:J,MATCH(D255,'Eingabe Spielernamen'!B:B,)),\" \")","v":" "},{"$f":"IF(A255=\"x\",INDEX('Eingabe Spielernamen'!J:J,MATCH(F255,'Eingabe Spielernamen'!B:B,)),\" \")","v":" "},"",null,{"$f":"IF(A255=\"x\",INDEX('Eingabe Spielernamen'!M:M,MATCH(D255,'Eingabe Spielernamen'!B:B,)),\" \")","v":" "},{"$f":"IF(A255=\"x\",INDEX('Eingabe Spielernamen'!M:M,MATCH(F255,'Eingabe Spielernamen'!B:B,)),\" \")","v":" "},"",null,{"$f":"IF(A255=\"x\",INDEX('Eingabe Spielernamen'!Q:Q,MATCH(D255,'Eingabe Spielernamen'!B:B,)),\" \")","v":" "},{"$f":"IF(A255=\"x\",INDEX('Eingabe Spielernamen'!Q:Q,MATCH(F255,'Eingabe Spielernamen'!B:B,)),\" \")","v":" "},""]
[null,null,null,null,{"$f":"IF(ISBLANK(D256),\" \",INDEX('Eingabe Spielernamen'!$F:$F,MATCH(D256,'Eingabe Spielernamen'!$B:$B,0))&\", \"&INDEX('Eingabe Spielernamen'!$G:$G,MATCH(D256,'Eingabe Spielernamen'!$B:$B,0)))","v":" "},null,{"$f":"IF(ISBLANK(F256),\" \",INDEX('Eingabe Spielernamen'!$F:$F,MATCH(F256,'Eingabe Spielernamen'!$B:$B,0))&\", \"&INDEX('Eingabe Spielernamen'!$G:$G,MATCH(F256,'Eingabe Spielernamen'!$B:$B,0)))","v":" "},null,{"$f":"IF(A256=\"x\",INDEX('Eingabe Spielernamen'!J:J,MATCH(D256,'Eingabe Spielernamen'!B:B,)),\" \")","v":" "},{"$f":"IF(A256=\"x\",INDEX('Eingabe Spielernamen'!J:J,MATCH(F256,'Eingabe Spielernamen'!B:B,)),\" \")","v":" "},"",null,{"$f":"IF(A256=\"x\",INDEX('Eingabe Spielernamen'!M:M,MATCH(D256,'Eingabe Spielernamen'!B:B,)),\" \")","v":" "},{"$f":"IF(A256=\"x\",INDEX('Eingabe Spielernamen'!M:M,MATCH(F256,'Eingabe Spielernamen'!B:B,)),\" \")","v":" "},"",null,{"$f":"IF(A256=\"x\",INDEX('Eingabe Spielernamen'!Q:Q,MATCH(D256,'Eingabe Spielernamen'!B:B,)),\" \")","v":" "},{"$f":"IF(A256=\"x\",INDEX('Eingabe Spielernamen'!Q:Q,MATCH(F256,'Eingabe Spielernamen'!B:B,)),\" \")","v":" "},""]
[null,null,null,null,{"$f":"IF(ISBLANK(D257),\" \",INDEX('Eingabe Spielernamen'!$F:$F,MATCH(D257,'Eingabe Spielernamen'!$B:$B,0))&\", \"&INDEX('Eingabe Spielernamen'!$G:$G,MATCH(D257,'Eingabe Spielernamen'!$B:$B,0)))","v":" "},null,{"$f":"IF(ISBLANK(F257),\" \",INDEX('Eingabe Spielernamen'!$F:$F,MATCH(F257,'Eingabe Spielernamen'!$B:$B,0))&\", \"&INDEX('Eingabe Spielernamen'!$G:$G,MATCH(F257,'Eingabe Spielernamen'!$B:$B,0)))","v":" "},null,{"$f":"IF(A257=\"x\",INDEX('Eingabe Spielernamen'!J:J,MATCH(D257,'Eingabe Spielernamen'!B:B,)),\" \")","v":" "},{"$f":"IF(A257=\"x\",INDEX('Eingabe Spielernamen'!J:J,MATCH(F257,'Eingabe Spielernamen'!B:B,)),\" \")","v":" "},"",null,{"$f":"IF(A257=\"x\",INDEX('Eingabe Spielernamen'!M:M,MATCH(D257,'Eingabe Spielernamen'!B:B,)),\" \")","v":" "},{"$f":"IF(A257=\"x\",INDEX('Eingabe Spielernamen'!M:M,MATCH(F257,'Eingabe Spielernamen'!B:B,)),\" \")","v":" "},"",null,{"$f":"IF(A257=\"x\",INDEX('Eingabe Spielernamen'!Q:Q,MATCH(D257,'Eingabe Spielernamen'!B:B,)),\" \")","v":" "},{"$f":"IF(A257=\"x\",INDEX('Eingabe Spielernamen'!Q:Q,MATCH(F257,'Eingabe Spielernamen'!B:B,)),\" \")","v":" "},""]
[null,null,null,null,{"$f":"IF(ISBLANK(D258),\" \",INDEX('Eingabe Spielernamen'!$F:$F,MATCH(D258,'Eingabe Spielernamen'!$B:$B,0))&\", \"&INDEX('Eingabe Spielernamen'!$G:$G,MATCH(D258,'Eingabe Spielernamen'!$B:$B,0)))","v":" "},null,{"$f":"IF(ISBLANK(F258),\" \",INDEX('Eingabe Spielernamen'!$F:$F,MATCH(F258,'Eingabe Spielernamen'!$B:$B,0))&\", \"&INDEX('Eingabe Spielernamen'!$G:$G,MATCH(F258,'Eingabe Spielernamen'!$B:$B,0)))","v":" "},null,{"$f":"IF(A258=\"x\",INDEX('Eingabe Spielernamen'!J:J,MATCH(D258,'Eingabe Spielernamen'!B:B,)),\" \")","v":" "},{"$f":"IF(A258=\"x\",INDEX('Eingabe Spielernamen'!J:J,MATCH(F258,'Eingabe Spielernamen'!B:B,)),\" \")","v":" "},"",null,{"$f":"IF(A258=\"x\",INDEX('Eingabe Spielernamen'!M:M,MATCH(D258,'Eingabe Spielernamen'!B:B,)),\" \")","v":" "},{"$f":"IF(A258=\"x\",INDEX('Eingabe Spielernamen'!M:M,MATCH(F258,'Eingabe Spielernamen'!B:B,)),\" \")","v":" "},"",null,{"$f":"IF(A258=\"x\",INDEX('Eingabe Spielernamen'!Q:Q,MATCH(D258,'Eingabe Spielernamen'!B:B,)),\" \")","v":" "},{"$f":"IF(A258=\"x\",INDEX('Eingabe Spielernamen'!Q:Q,MATCH(F258,'Eingabe Spielernamen'!B:B,)),\" \")","v":" "},""]
[null,null,null,null,{"$f":"IF(ISBLANK(D259),\" \",INDEX('Eingabe Spielernamen'!$F:$F,MATCH(D259,'Eingabe Spielernamen'!$B:$B,0))&\", \"&INDEX('Eingabe Spielernamen'!$G:$G,MATCH(D259,'Eingabe Spielernamen'!$B:$B,0)))","v":" "},null,{"$f":"IF(ISBLANK(F259),\" \",INDEX('Eingabe Spielernamen'!$F:$F,MATCH(F259,'Eingabe Spielernamen'!$B:$B,0))&\", \"&INDEX('Eingabe Spielernamen'!$G:$G,MATCH(F259,'Eingabe Spielernamen'!$B:$B,0)))","v":" "},null,{"$f":"IF(A259=\"x\",INDEX('Eingabe Spielernamen'!J:J,MATCH(D259,'Eingabe Spielernamen'!B:B,)),\" \")","v":" "},{"$f":"IF(A259=\"x\",INDEX('Eingabe Spielernamen'!J:J,MATCH(F259,'Eingabe Spielernamen'!B:B,)),\" \")","v":" "},"",null,{"$f":"IF(A259=\"x\",INDEX('Eingabe Spielernamen'!M:M,MATCH(D259,'Eingabe Spielernamen'!B:B,)),\" \")","v":" "},{"$f":"IF(A259=\"x\",INDEX('Eingabe Spielernamen'!M:M,MATCH(F259,'Eingabe Spielernamen'!B:B,)),\" \")","v":" "},"",null,{"$f":"IF(A259=\"x\",INDEX('Eingabe Spielernamen'!Q:Q,MATCH(D259,'Eingabe Spielernamen'!B:B,)),\" \")","v":" "},{"$f":"IF(A259=\"x\",INDEX('Eingabe Spielernamen'!Q:Q,MATCH(F259,'Eingabe Spielernamen'!B:B,)),\" \")","v":" "},""]
[null,null,null,null,{"$f":"IF(ISBLANK(D260),\" \",INDEX('Eingabe Spielernamen'!$F:$F,MATCH(D260,'Eingabe Spielernamen'!$B:$B,0))&\", \"&INDEX('Eingabe Spielernamen'!$G:$G,MATCH(D260,'Eingabe Spielernamen'!$B:$B,0)))","v":" "},null,{"$f":"IF(ISBLANK(F260),\" \",INDEX('Eingabe Spielernamen'!$F:$F,MATCH(F260,'Eingabe Spielernamen'!$B:$B,0))&\", \"&INDEX('Eingabe Spielernamen'!$G:$G,MATCH(F260,'Eingabe Spielernamen'!$B:$B,0)))","v":" "},null,{"$f":"IF(A260=\"x\",INDEX('Eingabe Spielernamen'!J:J,MATCH(D260,'Eingabe Spielernamen'!B:B,)),\" \")","v":" "},{"$f":"IF(A260=\"x\",INDEX('Eingabe Spielernamen'!J:J,MATCH(F260,'Eingabe Spielernamen'!B:B,)),\" \")","v":" "},{"$f":"IF(A260=\"x\",I260+J260,\"\")","v":""},null,{"$f":"IF(A260=\"x\",INDEX('Eingabe Spielernamen'!M:M,MATCH(D260,'Eingabe Spielernamen'!B:B,)),\" \")","v":" "},{"$f":"IF(A260=\"x\",INDEX('Eingabe Spielernamen'!M:M,MATCH(F260,'Eingabe Spielernamen'!B:B,)),\" \")","v":" "},{"$f":"IF(B260=\"x\",M260+N260,\"\")","v":""},null,{"$f":"IF(A260=\"x\",INDEX('Eingabe Spielernamen'!Q:Q,MATCH(D260,'Eingabe Spielernamen'!B:B,)),\" \")","v":" "},{"$f":"IF(A260=\"x\",INDEX('Eingabe Spielernamen'!Q:Q,MATCH(F260,'Eingabe Spielernamen'!B:B,)),\" \")","v":" "},{"$f":"IF(C260=\"x\",Q260+R260,\"\")","v":""}]
[null,null,null,null,{"$f":"IF(ISBLANK(D261),\" \",INDEX('Eingabe Spielernamen'!$F:$F,MATCH(D261,'Eingabe Spielernamen'!$B:$B,0))&\", \"&INDEX('Eingabe Spielernamen'!$G:$G,MATCH(D261,'Eingabe Spielernamen'!$B:$B,0)))","v":" "},null,{"$f":"IF(ISBLANK(F261),\" \",INDEX('Eingabe Spielernamen'!$F:$F,MATCH(F261,'Eingabe Spielernamen'!$B:$B,0))&\", \"&INDEX('Eingabe Spielernamen'!$G:$G,MATCH(F261,'Eingabe Spielernamen'!$B:$B,0)))","v":" "},null,{"$f":"IF(A261=\"x\",INDEX('Eingabe Spielernamen'!J:J,MATCH(D261,'Eingabe Spielernamen'!B:B,)),\" \")","v":" "},{"$f":"IF(A261=\"x\",INDEX('Eingabe Spielernamen'!J:J,MATCH(F261,'Eingabe Spielernamen'!B:B,)),\" \")","v":" "},"",null,{"$f":"IF(A261=\"x\",INDEX('Eingabe Spielernamen'!M:M,MATCH(D261,'Eingabe Spielernamen'!B:B,)),\" \")","v":" "},{"$f":"IF(A261=\"x\",INDEX('Eingabe Spielernamen'!M:M,MATCH(F261,'Eingabe Spielernamen'!B:B,)),\" \")","v":" "},"",null,{"$f":"IF(A261=\"x\",INDEX('Eingabe Spielernamen'!Q:Q,MATCH(D261,'Eingabe Spielernamen'!B:B,)),\" \")","v":" "},{"$f":"IF(A261=\"x\",INDEX('Eingabe Spielernamen'!Q:Q,MATCH(F261,'Eingabe Spielernamen'!B:B,)),\" \")","v":" "},""]
[null,null,null,null,{"$f":"IF(ISBLANK(D262),\" \",INDEX('Eingabe Spielernamen'!$F:$F,MATCH(D262,'Eingabe Spielernamen'!$B:$B,0))&\", \"&INDEX('Eingabe Spielernamen'!$G:$G,MATCH(D262,'Eingabe Spielernamen'!$B:$B,0)))","v":" "},null,{"$f":"IF(ISBLANK(F262),\" \",INDEX('Eingabe Spielernamen'!$F:$F,MATCH(F262,'Eingabe Spielernamen'!$B:$B,0))&\", \"&INDEX('Eingabe Spielernamen'!$G:$G,MATCH(F262,'Eingabe Spielernamen'!$B:$B,0)))","v":" "},null,{"$f":"IF(A262=\"x\",INDEX('Eingabe Spielernamen'!J:J,MATCH(D262,'Eingabe Spielernamen'!B:B,)),\" \")","v":" "},{"$f":"IF(A262=\"x\",INDEX('Eingabe Spielernamen'!J:J,MATCH(F262,'Eingabe Spielernamen'!B:B,)),\" \")","v":" "},"",null,{"$f":"IF(A262=\"x\",INDEX('Eingabe Spielernamen'!M:M,MATCH(D262,'Eingabe Spielernamen'!B:B,)),\" \")","v":" "},{"$f":"IF(A262=\"x\",INDEX('Eingabe Spielernamen'!M:M,MATCH(F262,'Eingabe Spielernamen'!B:B,)),\" \")","v":" "},"",null,{"$f":"IF(A262=\"x\",INDEX('Eingabe Spielernamen'!Q:Q,MATCH(D262,'Eingabe Spielernamen'!B:B,)),\" \")","v":" "},{"$f":"IF(A262=\"x\",INDEX('Eingabe Spielernamen'!Q:Q,MATCH(F262,'Eingabe Spielernamen'!B:B,)),\" \")","v":" "},""]
[null,null,null,null,{"$f":"IF(ISBLANK(D263),\" \",INDEX('Eingabe Spielernamen'!$F:$F,MATCH(D263,'Eingabe Spielernamen'!$B:$B,0))&\", \"&INDEX('Eingabe Spielernamen'!$G:$G,MATCH(D263,'Eingabe Spielernamen'!$B:$B,0)))","v":" "},null,{"$f":"IF(ISBLANK(F263),\" \",INDEX('Eingabe Spielernamen'!$F:$F,MATCH(F263,'Eingabe Spielernamen'!$B:$B,0))&\", \"&INDEX('Eingabe Spielernamen'!$G:$G,MATCH(F263,'Eingabe Spielernamen'!$B:$B,0)))","v":" "},null,{"$f":"IF(A263=\"x\",INDEX('Eingabe Spielernamen'!J:J,MATCH(D263,'Eingabe Spielernamen'!B:B,)),\" \")","v":" "},{"$f":"IF(A263=\"x\",INDEX('Eingabe Spielernamen'!J:J,MATCH(F263,'Eingabe Spielernamen'!B:B,)),\" \")","v":" "},"",null,{"$f":"IF(A263=\"x\",INDEX('Eingabe Spielernamen'!M:M,MATCH(D263,'Eingabe Spielernamen'!B:B,)),\" \")","v":" "},{"$f":"IF(A263=\"x\",INDEX('Eingabe Spielernamen'!M:M,MATCH(F263,'Eingabe Spielernamen'!B:B,)),\" \")","v":" "},"",null,{"$f":"IF(A263=\"x\",INDEX('Eingabe Spielernamen'!Q:Q,MATCH(D263,'Eingabe Spielernamen'!B:B,)),\" \")","v":" "},{"$f":"IF(A263=\"x\",INDEX('Eingabe Spielernamen'!Q:Q,MATCH(F263,'Eingabe Spielernamen'!B:B,)),\" \")","v":" "},""]
[null,null,null,null,{"$f":"IF(ISBLANK(D264),\" \",INDEX('Eingabe Spielernamen'!$F:$F,MATCH(D264,'Eingabe Spielernamen'!$B:$B,0))&\", \"&INDEX('Eingabe Spielernamen'!$G:$G,MATCH(D264,'Eingabe Spielernamen'!$B:$B,0)))","v":" "},null,{"$f":"IF(ISBLANK(F264),\" \",INDEX('Eingabe Spielernamen'!$F:$F,MATCH(F264,'Eingabe Spielernamen'!$B:$B,0))&\", \"&INDEX('Eingabe Spielernamen'!$G:$G,MATCH(F264,'Eingabe Spielernamen'!$B:$B,0)))","v":" "},null,{"$f":"IF(A264=\"x\",INDEX('Eingabe Spielernamen'!J:J,MATCH(D264,'Eingabe Spielernamen'!B:B,)),\" \")","v":" "},{"$f":"IF(A264=\"x\",INDEX('Eingabe Spielernamen'!J:J,MATCH(F264,'Eingabe Spielernamen'!B:B,)),\" \")","v":" "},"",null,{"$f":"IF(A264=\"x\",INDEX('Eingabe Spielernamen'!M:M,MATCH(D264,'Eingabe Spielernamen'!B:B,)),\" \")","v":" "},{"$f":"IF(A264=\"x\",INDEX('Eingabe Spielernamen'!M:M,MATCH(F264,'Eingabe Spielernamen'!B:B,)),\" \")","v":" "},"",null,{"$f":"IF(A264=\"x\",INDEX('Eingabe Spielernamen'!Q:Q,MATCH(D264,'Eingabe Spielernamen'!B:B,)),\" \")","v":" "},{"$f":"IF(A264=\"x\",INDEX('Eingabe Spielernamen'!Q:Q,MATCH(F264,'Eingabe Spielernamen'!B:B,)),\" \")","v":" "},""]
[null,null,null,null,{"$f":"IF(ISBLANK(D265),\" \",INDEX('Eingabe Spielernamen'!$F:$F,MATCH(D265,'Eingabe Spielernamen'!$B:$B,0))&\", \"&INDEX('Eingabe Spielernamen'!$G:$G,MATCH(D265,'Eingabe Spielernamen'!$B:$B,0)))","v":" "},null,{"$f":"IF(ISBLANK(F265),\" \",INDEX('Eingabe Spielernamen'!$F:$F,MATCH(F265,'Eingabe Spielernamen'!$B:$B,0))&\", \"&INDEX('Eingabe Spielernamen'!$G:$G,MATCH(F265,'Eingabe Spielernamen'!$B:$B,0)))","v":" "},null,{"$f":"IF(A265=\"x\",INDEX('Eingabe Spielernamen'!J:J,MATCH(D265,'Eingabe Spielernamen'!B:B,)),\" \")","v":" "},{"$f":"IF(A265=\"x\",INDEX('Eingabe Spielernamen'!J:J,MATCH(F265,'Eingabe Spielernamen'!B:B,)),\" \")","v":" "},"",null,{"$f":"IF(A265=\"x\",INDEX('Eingabe Spielernamen'!M:M,MATCH(D265,'Eingabe Spielernamen'!B:B,)),\" \")","v":" "},{"$f":"IF(A265=\"x\",INDEX('Eingabe Spielernamen'!M:M,MATCH(F265,'Eingabe Spielernamen'!B:B,)),\" \")","v":" "},"",null,{"$f":"IF(A265=\"x\",INDEX('Eingabe Spielernamen'!Q:Q,MATCH(D265,'Eingabe Spielernamen'!B:B,)),\" \")","v":" "},{"$f":"IF(A265=\"x\",INDEX('Eingabe Spielernamen'!Q:Q,MATCH(F265,'Eingabe Spielernamen'!B:B,)),\" \")","v":" "},""]
[null,null,null,null,{"$f":"IF(ISBLANK(D266),\" \",INDEX('Eingabe Spielernamen'!$F:$F,MATCH(D266,'Eingabe Spielernamen'!$B:$B,0))&\", \"&INDEX('Eingabe Spielernamen'!$G:$G,MATCH(D266,'Eingabe Spielernamen'!$B:$B,0)))","v":" "},null,{"$f":"IF(ISBLANK(F266),\" \",INDEX('Eingabe Spielernamen'!$F:$F,MATCH(F266,'Eingabe Spielernamen'!$B:$B,0))&\", \"&INDEX('Eingabe Spielernamen'!$G:$G,MATCH(F266,'Eingabe Spielernamen'!$B:$B,0)))","v":" "},null,{"$f":"IF(A266=\"x\",INDEX('Eingabe Spielernamen'!J:J,MATCH(D266,'Eingabe Spielernamen'!B:B,)),\" \")","v":" "},{"$f":"IF(A266=\"x\",INDEX('Eingabe Spielernamen'!J:J,MATCH(F266,'Eingabe Spielernamen'!B:B,)),\" \")","v":" "},"",null,{"$f":"IF(A266=\"x\",INDEX('Eingabe Spielernamen'!M:M,MATCH(D266,'Eingabe Spielernamen'!B:B,)),\" \")","v":" "},{"$f":"IF(A266=\"x\",INDEX('Eingabe Spielernamen'!M:M,MATCH(F266,'Eingabe Spielernamen'!B:B,)),\" \")","v":" "},"",null,{"$f":"IF(A266=\"x\",INDEX('Eingabe Spielernamen'!Q:Q,MATCH(D266,'Eingabe Spielernamen'!B:B,)),\" \")","v":" "},{"$f":"IF(A266=\"x\",INDEX('Eingabe Spielernamen'!Q:Q,MATCH(F266,'Eingabe Spielernamen'!B:B,)),\" \")","v":" "},""]
[null,null,null,null,{"$f":"IF(ISBLANK(D267),\" \",INDEX('Eingabe Spielernamen'!$F:$F,MATCH(D267,'Eingabe Spielernamen'!$B:$B,0))&\", \"&INDEX('Eingabe Spielernamen'!$G:$G,MATCH(D267,'Eingabe Spielernamen'!$B:$B,0)))","v":" "},null,{"$f":"IF(ISBLANK(F267),\" \",INDEX('Eingabe Spielernamen'!$F:$F,MATCH(F267,'Eingabe Spielernamen'!$B:$B,0))&\", \"&INDEX('Eingabe Spielernamen'!$G:$G,MATCH(F267,'Eingabe Spielernamen'!$B:$B,0)))","v":" "},null,{"$f":"IF(A267=\"x\",INDEX('Eingabe Spielernamen'!J:J,MATCH(D267,'Eingabe Spielernamen'!B:B,)),\" \")","v":" "},{"$f":"IF(A267=\"x\",INDEX('Eingabe Spielernamen'!J:J,MATCH(F267,'Eingabe Spielernamen'!B:B,)),\" \")","v":" "},"",null,{"$f":"IF(A267=\"x\",INDEX('Eingabe Spielernamen'!M:M,MATCH(D267,'Eingabe Spielernamen'!B:B,)),\" \")","v":" "},{"$f":"IF(A267=\"x\",INDEX('Eingabe Spielernamen'!M:M,MATCH(F267,'Eingabe Spielernamen'!B:B,)),\" \")","v":" "},"",null,{"$f":"IF(A267=\"x\",INDEX('Eingabe Spielernamen'!Q:Q,MATCH(D267,'Eingabe Spielernamen'!B:B,)),\" \")","v":" "},{"$f":"IF(A267=\"x\",INDEX('Eingabe Spielernamen'!Q:Q,MATCH(F267,'Eingabe Spielernamen'!B:B,)),\" \")","v":" "},""]
[null,null,null,null,{"$f":"IF(ISBLANK(D268),\" \",INDEX('Eingabe Spielernamen'!$F:$F,MATCH(D268,'Eingabe Spielernamen'!$B:$B,0))&\", \"&INDEX('Eingabe Spielernamen'!$G:$G,MATCH(D268,'Eingabe Spielernamen'!$B:$B,0)))","v":" "},null,{"$f":"IF(ISBLANK(F268),\" \",INDEX('Eingabe Spielernamen'!$F:$F,MATCH(F268,'Eingabe Spielernamen'!$B:$B,0))&\", \"&INDEX('Eingabe Spielernamen'!$G:$G,MATCH(F268,'Eingabe Spielernamen'!$B:$B,0)))","v":" "},null,{"$f":"IF(A268=\"x\",INDEX('Eingabe Spielernamen'!J:J,MATCH(D268,'Eingabe Spielernamen'!B:B,)),\" \")","v":" "},{"$f":"IF(A268=\"x\",INDEX('Eingabe Spielernamen'!J:J,MATCH(F268,'Eingabe Spielernamen'!B:B,)),\" \")","v":" "},"",null,{"$f":"IF(A268=\"x\",INDEX('Eingabe Spielernamen'!M:M,MATCH(D268,'Eingabe Spielernamen'!B:B,)),\" \")","v":" "},{"$f":"IF(A268=\"x\",INDEX('Eingabe Spielernamen'!M:M,MATCH(F268,'Eingabe Spielernamen'!B:B,)),\" \")","v":" "},"",null,{"$f":"IF(A268=\"x\",INDEX('Eingabe Spielernamen'!Q:Q,MATCH(D268,'Eingabe Spielernamen'!B:B,)),\" \")","v":" "},{"$f":"IF(A268=\"x\",INDEX('Eingabe Spielernamen'!Q:Q,MATCH(F268,'Eingabe Spielernamen'!B:B,)),\" \")","v":" "},""]
[null,null,null,null,{"$f":"IF(ISBLANK(D269),\" \",INDEX('Eingabe Spielernamen'!$F:$F,MATCH(D269,'Eingabe Spielernamen'!$B:$B,0))&\", \"&INDEX('Eingabe Spielernamen'!$G:$G,MATCH(D269,'Eingabe Spielernamen'!$B:$B,0)))","v":" "},null,{"$f":"IF(ISBLANK(F269),\" \",INDEX('Eingabe Spielernamen'!$F:$F,MATCH(F269,'Eingabe Spielernamen'!$B:$B,0))&\", \"&INDEX('Eingabe Spielernamen'!$G:$G,MATCH(F269,'Eingabe Spielernamen'!$B:$B,0)))","v":" "},null,{"$f":"IF(A269=\"x\",INDEX('Eingabe Spielernamen'!J:J,MATCH(D269,'Eingabe Spielernamen'!B:B,)),\" \")","v":" "},{"$f":"IF(A269=\"x\",INDEX('Eingabe Spielernamen'!J:J,MATCH(F269,'Eingabe Spielernamen'!B:B,)),\" \")","v":" "},"",null,{"$f":"IF(A269=\"x\",INDEX('Eingabe Spielernamen'!M:M,MATCH(D269,'Eingabe Spielernamen'!B:B,)),\" \")","v":" "},{"$f":"IF(A269=\"x\",INDEX('Eingabe Spielernamen'!M:M,MATCH(F269,'Eingabe Spielernamen'!B:B,)),\" \")","v":" "},"",null,{"$f":"IF(A269=\"x\",INDEX('Eingabe Spielernamen'!Q:Q,MATCH(D269,'Eingabe Spielernamen'!B:B,)),\" \")","v":" "},{"$f":"IF(A269=\"x\",INDEX('Eingabe Spielernamen'!Q:Q,MATCH(F269,'Eingabe Spielernamen'!B:B,)),\" \")","v":" "},""]
[null,null,null,null,{"$f":"IF(ISBLANK(D270),\" \",INDEX('Eingabe Spielernamen'!$F:$F,MATCH(D270,'Eingabe Spielernamen'!$B:$B,0))&\", \"&INDEX('Eingabe Spielernamen'!$G:$G,MATCH(D270,'Eingabe Spielernamen'!$B:$B,0)))","v":" "},null,{"$f":"IF(ISBLANK(F270),\" \",INDEX('Eingabe Spielernamen'!$F:$F,MATCH(F270,'Eingabe Spielernamen'!$B:$B,0))&\", \"&INDEX('Eingabe Spielernamen'!$G:$G,MATCH(F270,'Eingabe Spielernamen'!$B:$B,0)))","v":" "},null,{"$f":"IF(A270=\"x\",INDEX('Eingabe Spielernamen'!J:J,MATCH(D270,'Eingabe Spielernamen'!B:B,)),\" \")","v":" "},{"$f":"IF(A270=\"x\",INDEX('Eingabe Spielernamen'!J:J,MATCH(F270,'Eingabe Spielernamen'!B:B,)),\" \")","v":" "},"",null,{"$f":"IF(A270=\"x\",INDEX('Eingabe Spielernamen'!M:M,MATCH(D270,'Eingabe Spielernamen'!B:B,)),\" \")","v":" "},{"$f":"IF(A270=\"x\",INDEX('Eingabe Spielernamen'!M:M,MATCH(F270,'Eingabe Spielernamen'!B:B,)),\" \")","v":" "},"",null,{"$f":"IF(A270=\"x\",INDEX('Eingabe Spielernamen'!Q:Q,MATCH(D270,'Eingabe Spielernamen'!B:B,)),\" \")","v":" "},{"$f":"IF(A270=\"x\",INDEX('Eingabe Spielernamen'!Q:Q,MATCH(F270,'Eingabe Spielernamen'!B:B,)),\" \")","v":" "},""]
[null,null,null,null,{"$f":"IF(ISBLANK(D271),\" \",INDEX('Eingabe Spielernamen'!$F:$F,MATCH(D271,'Eingabe Spielernamen'!$B:$B,0))&\", \"&INDEX('Eingabe Spielernamen'!$G:$G,MATCH(D271,'Eingabe Spielernamen'!$B:$B,0)))","v":" "},null,{"$f":"IF(ISBLANK(F271),\" \",INDEX('Eingabe Spielernamen'!$F:$F,MATCH(F271,'Eingabe Spielernamen'!$B:$B,0))&\", \"&INDEX('Eingabe Spielernamen'!$G:$G,MATCH(F271,'Eingabe Spielernamen'!$B:$B,0)))","v":" "},null,{"$f":"IF(A271=\"x\",INDEX('Eingabe Spielernamen'!J:J,MATCH(D271,'Eingabe Spielernamen'!B:B,)),\" \")","v":" "},{"$f":"IF(A271=\"x\",INDEX('Eingabe Spielernamen'!J:J,MATCH(F271,'Eingabe Spielernamen'!B:B,)),\" \")","v":" "},"",null,{"$f":"IF(A271=\"x\",INDEX('Eingabe Spielernamen'!M:M,MATCH(D271,'Eingabe Spielernamen'!B:B,)),\" \")","v":" "},{"$f":"IF(A271=\"x\",INDEX('Eingabe Spielernamen'!M:M,MATCH(F271,'Eingabe Spielernamen'!B:B,)),\" \")","v":" "},"",null,{"$f":"IF(A271=\"x\",INDEX('Eingabe Spielernamen'!Q:Q,MATCH(D271,'Eingabe Spielernamen'!B:B,)),\" \")","v":" "},{"$f":"IF(A271=\"x\",INDEX('Eingabe Spielernamen'!Q:Q,MATCH(F271,'Eingabe Spielernamen'!B:B,)),\" \")","v":" "},""]
[null,null,null,null,{"$f":"IF(ISBLANK(D272),\" \",INDEX('Eingabe Spielernamen'!$F:$F,MATCH(D272,'Eingabe Spielernamen'!$B:$B,0))&\", \"&INDEX('Eingabe Spielernamen'!$G:$G,MATCH(D272,'Eingabe Spielernamen'!$B:$B,0)))","v":" "},null,{"$f":"IF(ISBLANK(F272),\" \",INDEX('Eingabe Spielernamen'!$F:$F,MATCH(F272,'Eingabe Spielernamen'!$B:$B,0))&\", \"&INDEX('Eingabe Spielernamen'!$G:$G,MATCH(F272,'Eingabe Spielernamen'!$B:$B,0)))","v":" "},null,{"$f":"IF(A272=\"x\",INDEX('Eingabe Spielernamen'!J:J,MATCH(D272,'Eingabe Spielernamen'!B:B,)),\" \")","v":" "},{"$f":"IF(A272=\"x\",INDEX('Eingabe Spielernamen'!J:J,MATCH(F272,'Eingabe Spielernamen'!B:B,)),\" \")","v":" "},"",null,{"$f":"IF(A272=\"x\",INDEX('Eingabe Spielernamen'!M:M,MATCH(D272,'Eingabe Spielernamen'!B:B,)),\" \")","v":" "},{"$f":"IF(A272=\"x\",INDEX('Eingabe Spielernamen'!M:M,MATCH(F272,'Eingabe Spielernamen'!B:B,)),\" \")","v":" "},"",null,{"$f":"IF(A272=\"x\",INDEX('Eingabe Spielernamen'!Q:Q,MATCH(D272,'Eingabe Spielernamen'!B:B,)),\" \")","v":" "},{"$f":"IF(A272=\"x\",INDEX('Eingabe Spielernamen'!Q:Q,MATCH(F272,'Eingabe Spielernamen'!B:B,)),\" \")","v":" "},""]
[null,null,null,null,{"$f":"IF(ISBLANK(D273),\" \",INDEX('Eingabe Spielernamen'!$F:$F,MATCH(D273,'Eingabe Spielernamen'!$B:$B,0))&\", \"&INDEX('Eingabe Spielernamen'!$G:$G,MATCH(D273,'Eingabe Spielernamen'!$B:$B,0)))","v":" "},null,{"$f":"IF(ISBLANK(F273),\" \",INDEX('Eingabe Spielernamen'!$F:$F,MATCH(F273,'Eingabe Spielernamen'!$B:$B,0))&\", \"&INDEX('Eingabe Spielernamen'!$G:$G,MATCH(F273,'Eingabe Spielernamen'!$B:$B,0)))","v":" "},null,{"$f":"IF(A273=\"x\",INDEX('Eingabe Spielernamen'!J:J,MATCH(D273,'Eingabe Spielernamen'!B:B,)),\" \")","v":" "},{"$f":"IF(A273=\"x\",INDEX('Eingabe Spielernamen'!J:J,MATCH(F273,'Eingabe Spielernamen'!B:B,)),\" \")","v":" "},"",null,{"$f":"IF(A273=\"x\",INDEX('Eingabe Spielernamen'!M:M,MATCH(D273,'Eingabe Spielernamen'!B:B,)),\" \")","v":" "},{"$f":"IF(A273=\"x\",INDEX('Eingabe Spielernamen'!M:M,MATCH(F273,'Eingabe Spielernamen'!B:B,)),\" \")","v":" "},"",null,{"$f":"IF(A273=\"x\",INDEX('Eingabe Spielernamen'!Q:Q,MATCH(D273,'Eingabe Spielernamen'!B:B,)),\" \")","v":" "},{"$f":"IF(A273=\"x\",INDEX('Eingabe Spielernamen'!Q:Q,MATCH(F273,'Eingabe Spielernamen'!B:B,)),\" \")","v":" "},""]
[null,null,null,null,{"$f":"IF(ISBLANK(D274),\" \",INDEX('Eingabe Spielernamen'!$F:$F,MATCH(D274,'Eingabe Spielernamen'!$B:$B,0))&\", \"&INDEX('Eingabe Spielernamen'!$G:$G,MATCH(D274,'Eingabe Spielernamen'!$B:$B,0)))","v":" "},null,{"$f":"IF(ISBLANK(F274),\" \",INDEX('Eingabe Spielernamen'!$F:$F,MATCH(F274,'Eingabe Spielernamen'!$B:$B,0))&\", \"&INDEX('Eingabe Spielernamen'!$G:$G,MATCH(F274,'Eingabe Spielernamen'!$B:$B,0)))","v":" "},null,{"$f":"IF(A274=\"x\",INDEX('Eingabe Spielernamen'!J:J,MATCH(D274,'Eingabe Spielernamen'!B:B,)),\" \")","v":" "},{"$f":"IF(A274=\"x\",INDEX('Eingabe Spielernamen'!J:J,MATCH(F274,'Eingabe Spielernamen'!B:B,)),\" \")","v":" "},"",null,{"$f":"IF(A274=\"x\",INDEX('Eingabe Spielernamen'!M:M,MATCH(D274,'Eingabe Spielernamen'!B:B,)),\" \")","v":" "},{"$f":"IF(A274=\"x\",INDEX('Eingabe Spielernamen'!M:M,MATCH(F274,'Eingabe Spielernamen'!B:B,)),\" \")","v":" "},"",null,{"$f":"IF(A274=\"x\",INDEX('Eingabe Spielernamen'!Q:Q,MATCH(D274,'Eingabe Spielernamen'!B:B,)),\" \")","v":" "},{"$f":"IF(A274=\"x\",INDEX('Eingabe Spielernamen'!Q:Q,MATCH(F274,'Eingabe Spielernamen'!B:B,)),\" \")","v":" "},""]
[null,null,null,null,{"$f":"IF(ISBLANK(D275),\" \",INDEX('Eingabe Spielernamen'!$F:$F,MATCH(D275,'Eingabe Spielernamen'!$B:$B,0))&\", \"&INDEX('Eingabe Spielernamen'!$G:$G,MATCH(D275,'Eingabe Spielernamen'!$B:$B,0)))","v":" "},null,{"$f":"IF(ISBLANK(F275),\" \",INDEX('Eingabe Spielernamen'!$F:$F,MATCH(F275,'Eingabe Spielernamen'!$B:$B,0))&\", \"&INDEX('Eingabe Spielernamen'!$G:$G,MATCH(F275,'Eingabe Spielernamen'!$B:$B,0)))","v":" "},null,{"$f":"IF(A275=\"x\",INDEX('Eingabe Spielernamen'!J:J,MATCH(D275,'Eingabe Spielernamen'!B:B,)),\" \")","v":" "},{"$f":"IF(A275=\"x\",INDEX('Eingabe Spielernamen'!J:J,MATCH(F275,'Eingabe Spielernamen'!B:B,)),\" \")","v":" "},"",null,{"$f":"IF(A275=\"x\",INDEX('Eingabe Spielernamen'!M:M,MATCH(D275,'Eingabe Spielernamen'!B:B,)),\" \")","v":" "},{"$f":"IF(A275=\"x\",INDEX('Eingabe Spielernamen'!M:M,MATCH(F275,'Eingabe Spielernamen'!B:B,)),\" \")","v":" "},"",null,{"$f":"IF(A275=\"x\",INDEX('Eingabe Spielernamen'!Q:Q,MATCH(D275,'Eingabe Spielernamen'!B:B,)),\" \")","v":" "},{"$f":"IF(A275=\"x\",INDEX('Eingabe Spielernamen'!Q:Q,MATCH(F275,'Eingabe Spielernamen'!B:B,)),\" \")","v":" "},""]

{"sheet":"1. Serie","index":6,"n_rows":65,"n_cols":7,"rows_kept":65,"cut":false,"hidden":false,"merged":[[61,0,64,0],[1,0,4,0],[5,0,8,0],[9,0,12,0],[13,0,16,0],[33,0,36,0],[37,0,40,0],[41,0,44,0],[45,0,48,0],[17,0,20,0],[21,0,24,0],[25,0,28,0],[29,0,32,0],[49,0,52,0],[53,0,56,0],[14,5,23,6],[1,5,13,6],[57,0,60,0]]}
["T",{"$f":"#REF!","v":{"$error":"#REF!"}},"Start Nr.:","Name:","Verein:",64,"Teilnehmer"]
[1,1,101,{"$f":"IF($C2<>0,INDEX('Eingabe Spielernamen'!F:F,MATCH(C2,'Eingabe Spielernamen'!B:B))&\", \"&INDEX('Eingabe Spielernamen'!G:G,MATCH(C2,'Eingabe Spielernamen'!B:B,0)),\" \")","v":", "},{"$f":"IF($C2<>0,INDEX('Eingabe Spielernamen'!A:A,MATCH(C2,'Eingabe Spielernamen'!B:B,)),\" \")","v":0},"Sortiert nach Startkarten!"]
[null,2,202,{"$f":"IF($C3<>0,INDEX('Eingabe Spielernamen'!F:F,MATCH(C3,'Eingabe Spielernamen'!B:B))&\", \"&INDEX('Eingabe Spielernamen'!G:G,MATCH(C3,'Eingabe Spielernamen'!B:B,0)),\" \")","v":", "},{"$f":"IF($C3<>0,INDEX('Eingabe Spielernamen'!A:A,MATCH(C3,'Eingabe Spielernamen'!B:B,)),\" \")","v":0}]
[null,3,303,{"$f":"IF($C4<>0,INDEX('Eingabe Spielernamen'!F:F,MATCH(C4,'Eingabe Spielernamen'!B:B))&\", \"&INDEX('Eingabe Spielernamen'!G:G,MATCH(C4,'Eingabe Spielernamen'!B:B,0)),\" \")","v":", "},{"$f":"IF($C4<>0,INDEX('Eingabe Spielernamen'!A:A,MATCH(C4,'Eingabe Spielernamen'!B:B,)),\" \")","v":0}]
[null,4,404,{"$f":"IF($C5<>0,INDEX('Eingabe Spielernamen'!F:F,MATCH(C5,'Eingabe Spielernamen'!B:B))&\", \"&INDEX('Eingabe Spielernamen'!G:G,MATCH(C5,'Eingabe Spielernamen'!B:B,0)),\" \")","v":", "},{"$f":"IF($C5<>0,INDEX('Eingabe Spielernamen'!A:A,MATCH(C5,'Eingabe Spielernamen'!B:B,)),\" \")","v":0}]
[{"$f":"A2+1","v":2},5,102,{"$f":"IF($C6<>0,INDEX('Eingabe Spielernamen'!F:F,MATCH(C6,'Eingabe Spielernamen'!B:B))&\", \"&INDEX('Eingabe Spielernamen'!G:G,MATCH(C6,'Eingabe Spielernamen'!B:B,0)),\" \")","v":", "},{"$f":"IF($C6<>0,INDEX('Eingabe Spielernamen'!A:A,MATCH(C6,'Eingabe Spielernamen'!B:B,)),\" \")","v":0}]
[null,6,203,{"$f":"IF($C7<>0,INDEX('Eingabe Spielernamen'!F:F,MATCH(C7,'Eingabe Spielernamen'!B:B))&\", \"&INDEX('Eingabe Spielernamen'!G:G,MATCH(C7,'Eingabe Spielernamen'!B:B,0)),\" \")","v":", "},{"$f":"IF($C7<>0,INDEX('Eingabe Spielernamen'!A:A,MATCH(C7,'Eingabe Spielernamen'!B:B,)),\" \")","v":0}]
[null,7,304,{"$f":"IF($C8<>0,INDEX('Eingabe Spielernamen'!F:F,MATCH(C8,'Eingabe Spielernamen'!B:B))&\", \"&INDEX('Eingabe Spielernamen'!G:G,MATCH(C8,'Eingabe Spielernamen'!B:B,0)),\" \")","v":", "},{"$f":"IF($C8<>0,INDEX('Eingabe Spielernamen'!A:A,MATCH(C8,'Eingabe Spielernamen'!B:B,)),\" \")","v":0}]
[null,8,405,{"$f":"IF($C9<>0,INDEX('Eingabe Spielernamen'!F:F,MATCH(C9,'Eingabe Spielernamen'!B:B))&\", \"&INDEX('Eingabe Spielernamen'!G:G,MATCH(C9,'Eingabe Spielernamen'!B:B,0)),\" \")","v":", "},{"$f":"IF($C9<>0,INDEX('Eingabe Spielernamen'!A:A,MATCH(C9,'Eingabe Spielernamen'!B:B,)),\" \")","v":0}]
[{"$f":"A6+1","v":3},9,103,{"$f":"IF($C10<>0,INDEX('Eingabe Spielernamen'!F:F,MATCH(C10,'Eingabe Spielernamen'!B:B))&\", \"&INDEX('Eingabe Spielernamen'!G:G,MATCH(C10,'Eingabe Spielernamen'!B:B,0)),\" \")","v":", "},{"$f":"IF($C10<>0,INDEX('Eingabe Spielernamen'!A:A,MATCH(C10,'Eingabe Spielernamen'!B:B,)),\" \")","v":0}]
[null,10,204,{"$f":"IF($C11<>0,INDEX('Eingabe Spielernamen'!F:F,MATCH(C11,'Eingabe Spielernamen'!B:B))&\", \"&INDEX('Eingabe Spielernamen'!G:G,MATCH(C11,'Eingabe Spielernamen'!B:B,0)),\" \")","v":", "},{"$f":"IF($C11<>0,INDEX('Eingabe Spielernamen'!A:A,MATCH(C11,'Eingabe Spielernamen'!B:B,)),\" \")","v":0}]
[null,11,305,{"$f":"IF($C12<>0,INDEX('Eingabe Spielernamen'!F:F,MATCH(C12,'Eingabe Spielernamen'!B:B))&\", \"&INDEX('Eingabe Spielernamen'!G:G,MATCH(C12,'Eingabe Spielernamen'!B:B,0)),\" \")","v":", "},{"$f":"IF($C12<>0,INDEX('Eingabe Spielernamen'!A:A,MATCH(C12,'Eingabe Spielernamen'!B:B,)),\" \")","v":0}]
[null,12,406,{"$f":"IF($C13<>0,INDEX('Eingabe Spielernamen'!F:F,MATCH(C13,'Eingabe Spielernamen'!B:B))&\", \"&INDEX('Eingabe Spielernamen'!G:G,MATCH(C13,'Eingabe Spielernamen'!B:B,0)),\" \")","v":", "},{"$f":"IF($C13<>0,INDEX('Eingabe Spielernamen'!A:A,MATCH(C13,'Eingabe Spielernamen'!B:B,)),\" \")","v":0}]
[{"$f":"A10+1","v":4},13,104,{"$f":"IF($C14<>0,INDEX('Eingabe Spielernamen'!F:F,MATCH(C14,'Eingabe Spielernamen'!B:B))&\", \"&INDEX('Eingabe Spielernamen'!G:G,MATCH(C14,'Eingabe Spielernamen'!B:B,0)),\" \")","v":", "},{"$f":"IF($C14<>0,INDEX('Eingabe Spielernamen'!A:A,MATCH(C14,'Eingabe Spielernamen'!B:B,)),\" \")","v":0}]
[null,14,205,{"$f":"IF($C15<>0,INDEX('Eingabe Spielernamen'!F:F,MATCH(C15,'Eingabe Spielernamen'!B:B))&\", \"&INDEX('Eingabe Spielernamen'!G:G,MATCH(C15,'Eingabe Spielernamen'!B:B,0)),\" \")","v":", "},{"$f":"IF($C15<>0,INDEX('Eingabe Spielernamen'!A:A,MATCH(C15,'Eingabe Spielernamen'!B:B,)),\" \")","v":0}]
[null,15,306,{"$f":"IF($C16<>0,INDEX('Eingabe Spielernamen'!F:F,MATCH(C16,'Eingabe Spielernamen'!B:B))&\", \"&INDEX('Eingabe Spielernamen'!G:G,MATCH(C16,'Eingabe Spielernamen'!B:B,0)),\" \")","v":", "},{"$f":"IF($C16<>0,INDEX('Eingabe Spielernamen'!A:A,MATCH(C16,'Eingabe Spielernamen'!B:B,)),\" \")","v":0}]
[null,16,407,{"$f":"IF($C17<>0,INDEX('Eingabe Spielernamen'!F:F,MATCH(C17,'Eingabe Spielernamen'!B:B))&\", \"&INDEX('Eingabe Spielernamen'!G:G,MATCH(C17,'Eingabe Spielernamen'!B:B,0)),\" \")","v":", "},{"$f":"IF($C17<>0,INDEX('Eingabe Spielernamen'!A:A,MATCH(C17,'Eingabe Spielernamen'!B:B,)),\" \")","v":0}]
[{"$f":"A14+1","v":5},17,105,{"$f":"IF($C18<>0,INDEX('Eingabe Spielernamen'!F:F,MATCH(C18,'Eingabe Spielernamen'!B:B))&\", \"&INDEX('Eingabe Spielernamen'!G:G,MATCH(C18,'Eingabe Spielernamen'!B:B,0)),\" \")","v":", "},{"$f":"IF($C18<>0,INDEX('Eingabe Spielernamen'!A:A,MATCH(C18,'Eingabe Spielernamen'!B:B,)),\" \")","v":0}]
[null,18,206,{"$f":"IF($C19<>0,INDEX('Eingabe Spielernamen'!F:F,MATCH(C19,'Eingabe Spielernamen'!B:B))&\", \"&INDEX('Eingabe Spielernamen'!G:G,MATCH(C19,'Eingabe Spielernamen'!B:B,0)),\" \")","v":", "},{"$f":"IF($C19<>0,INDEX('Eingabe Spielernamen'!A:A,MATCH(C19,'Eingabe Spielernamen'!B:B,)),\" \")","v":0}]
[null,19,307,{"$f":"IF($C20<>0,INDEX('Eingabe Spielernamen'!F:F,MATCH(C20,'Eingabe Spielernamen'!B:B))&\", \"&INDEX('Eingabe Spielernamen'!G:G,MATCH(C20,'Eingabe Spielernamen'!B:B,0)),\" \")","v":", "},{"$f":"IF($C20<>0,INDEX('Eingabe Spielernamen'!A:A,MATCH(C20,'Eingabe Spielernamen'!B:B,)),\" \")","v":0}]
[null,20,408,{"$f":"IF($C21<>0,INDEX('Eingabe Spielernamen'!F:F,MATCH(C21,'Eingabe Spielernamen'!B:B))&\", \"&INDEX('Eingabe Spielernamen'!G:G,MATCH(C21,'Eingabe Spielernamen'!B:B,0)),\" \")","v":", "},{"$f":"IF($C21<>0,INDEX('Eingabe Spielernamen'!A:A,MATCH(C21,'Eingabe Spielernamen'!B:B,)),\" \")","v":0}]
[{"$f":"A18+1","v":6},21,106,{"$f":"IF($C22<>0,INDEX('Eingabe Spielernamen'!F:F,MATCH(C22,'Eingabe Spielernamen'!B:B))&\", \"&INDEX('Eingabe Spielernamen'!G:G,MATCH(C22,'Eingabe Spielernamen'!B:B,0)),\" \")","v":", "},{"$f":"IF($C22<>0,INDEX('Eingabe Spielernamen'!A:A,MATCH(C22,'Eingabe Spielernamen'!B:B,)),\" \")","v":0}]
[null,22,207,{"$f":"IF($C23<>0,INDEX('Eingabe Spielernamen'!F:F,MATCH(C23,'Eingabe Spielernamen'!B:B))&\", \"&INDEX('Eingabe Spielernamen'!G:G,MATCH(C23,'Eingabe Spielernamen'!B:B,0)),\" \")","v":", "},{"$f":"IF($C23<>0,INDEX('Eingabe Spielernamen'!A:A,MATCH(C23,'Eingabe Spielernamen'!B:B,)),\" \")","v":0}]
[null,23,308,{"$f":"IF($C24<>0,INDEX('Eingabe Spielernamen'!F:F,MATCH(C24,'Eingabe Spielernamen'!B:B))&\", \"&INDEX('Eingabe Spielernamen'!G:G,MATCH(C24,'Eingabe Spielernamen'!B:B,0)),\" \")","v":", "},{"$f":"IF($C24<>0,INDEX('Eingabe Spielernamen'!A:A,MATCH(C24,'Eingabe Spielernamen'!B:B,)),\" \")","v":0}]
[null,24,409,{"$f":"IF($C25<>0,INDEX('Eingabe Spielernamen'!F:F,MATCH(C25,'Eingabe Spielernamen'!B:B))&\", \"&INDEX('Eingabe Spielernamen'!G:G,MATCH(C25,'Eingabe Spielernamen'!B:B,0)),\" \")","v":", "},{"$f":"IF($C25<>0,INDEX('Eingabe Spielernamen'!A:A,MATCH(C25,'Eingabe Spielernamen'!B:B,)),\" \")","v":0}]
[{"$f":"A22+1","v":7},25,107,{"$f":"IF($C26<>0,INDEX('Eingabe Spielernamen'!F:F,MATCH(C26,'Eingabe Spielernamen'!B:B))&\", \"&INDEX('Eingabe Spielernamen'!G:G,MATCH(C26,'Eingabe Spielernamen'!B:B,0)),\" \")","v":", "},{"$f":"IF($C26<>0,INDEX('Eingabe Spielernamen'!A:A,MATCH(C26,'Eingabe Spielernamen'!B:B,)),\" \")","v":0}]
[null,26,208,{"$f":"IF($C27<>0,INDEX('Eingabe Spielernamen'!F:F,MATCH(C27,'Eingabe Spielernamen'!B:B))&\", \"&INDEX('Eingabe Spielernamen'!G:G,MATCH(C27,'Eingabe Spielernamen'!B:B,0)),\" \")","v":", "},{"$f":"IF($C27<>0,INDEX('Eingabe Spielernamen'!A:A,MATCH(C27,'Eingabe Spielernamen'!B:B,)),\" \")","v":0}]
[null,27,309,{"$f":"IF($C28<>0,INDEX('Eingabe Spielernamen'!F:F,MATCH(C28,'Eingabe Spielernamen'!B:B))&\", \"&INDEX('Eingabe Spielernamen'!G:G,MATCH(C28,'Eingabe Spielernamen'!B:B,0)),\" \")","v":", "},{"$f":"IF($C28<>0,INDEX('Eingabe Spielernamen'!A:A,MATCH(C28,'Eingabe Spielernamen'!B:B,)),\" \")","v":0}]
[null,28,410,{"$f":"IF($C29<>0,INDEX('Eingabe Spielernamen'!F:F,MATCH(C29,'Eingabe Spielernamen'!B:B))&\", \"&INDEX('Eingabe Spielernamen'!G:G,MATCH(C29,'Eingabe Spielernamen'!B:B,0)),\" \")","v":", "},{"$f":"IF($C29<>0,INDEX('Eingabe Spielernamen'!A:A,MATCH(C29,'Eingabe Spielernamen'!B:B,)),\" \")","v":0}]
[{"$f":"A26+1","v":8},29,108,{"$f":"IF($C30<>0,INDEX('Eingabe Spielernamen'!F:F,MATCH(C30,'Eingabe Spielernamen'!B:B))&\", \"&INDEX('Eingabe Spielernamen'!G:G,MATCH(C30,'Eingabe Spielernamen'!B:B,0)),\" \")","v":", "},{"$f":"IF($C30<>0,INDEX('Eingabe Spielernamen'!A:A,MATCH(C30,'Eingabe Spielernamen'!B:B,)),\" \")","v":0}]
[null,30,209,{"$f":"IF($C31<>0,INDEX('Eingabe Spielernamen'!F:F,MATCH(C31,'Eingabe Spielernamen'!B:B))&\", \"&INDEX('Eingabe Spielernamen'!G:G,MATCH(C31,'Eingabe Spielernamen'!B:B,0)),\" \")","v":", "},{"$f":"IF($C31<>0,INDEX('Eingabe Spielernamen'!A:A,MATCH(C31,'Eingabe Spielernamen'!B:B,)),\" \")","v":0}]
[null,31,310,{"$f":"IF($C32<>0,INDEX('Eingabe Spielernamen'!F:F,MATCH(C32,'Eingabe Spielernamen'!B:B))&\", \"&INDEX('Eingabe Spielernamen'!G:G,MATCH(C32,'Eingabe Spielernamen'!B:B,0)),\" \")","v":", "},{"$f":"IF($C32<>0,INDEX('Eingabe Spielernamen'!A:A,MATCH(C32,'Eingabe Spielernamen'!B:B,)),\" \")","v":0}]
[null,32,411,{"$f":"IF($C33<>0,INDEX('Eingabe Spielernamen'!F:F,MATCH(C33,'Eingabe Spielernamen'!B:B))&\", \"&INDEX('Eingabe Spielernamen'!G:G,MATCH(C33,'Eingabe Spielernamen'!B:B,0)),\" \")","v":", "},{"$f":"IF($C33<>0,INDEX('Eingabe Spielernamen'!A:A,MATCH(C33,'Eingabe Spielernamen'!B:B,)),\" \")","v":0}]
[{"$f":"A30+1","v":9},33,109,{"$f":"IF($C34<>0,INDEX('Eingabe Spielernamen'!F:F,MATCH(C34,'Eingabe Spielernamen'!B:B))&\", \"&INDEX('Eingabe Spielernamen'!G:G,MATCH(C34,'Eingabe Spielernamen'!B:B,0)),\" \")","v":", "},{"$f":"IF($C34<>0,INDEX('Eingabe Spielernamen'!A:A,MATCH(C34,'Eingabe Spielernamen'!B:B,)),\" \")","v":0}]
[null,34,210,{"$f":"IF($C35<>0,INDEX('Eingabe Spielernamen'!F:F,MATCH(C35,'Eingabe Spielernamen'!B:B))&\", \"&INDEX('Eingabe Spielernamen'!G:G,MATCH(C35,'Eingabe Spielernamen'!B:B,0)),\" \")","v":", "},{"$f":"IF($C35<>0,INDEX('Eingabe Spielernamen'!A:A,MATCH(C35,'Eingabe Spielernamen'!B:B,)),\" \")","v":0}]
[null,35,311,{"$f":"IF($C36<>0,INDEX('Eingabe Spielernamen'!F:F,MATCH(C36,'Eingabe Spielernamen'!B:B))&\", \"&INDEX('Eingabe Spielernamen'!G:G,MATCH(C36,'Eingabe Spielernamen'!B:B,0)),\" \")","v":", "},{"$f":"IF($C36<>0,INDEX('Eingabe Spielernamen'!A:A,MATCH(C36,'Eingabe Spielernamen'!B:B,)),\" \")","v":0}]
[null,36,412,{"$f":"IF($C37<>0,INDEX('Eingabe Spielernamen'!F:F,MATCH(C37,'Eingabe Spielernamen'!B:B))&\", \"&INDEX('Eingabe Spielernamen'!G:G,MATCH(C37,'Eingabe Spielernamen'!B:B,0)),\" \")","v":", "},{"$f":"IF($C37<>0,INDEX('Eingabe Spielernamen'!A:A,MATCH(C37,'Eingabe Spielernamen'!B:B,)),\" \")","v":0}]
[{"$f":"A34+1","v":10},37,110,{"$f":"IF($C38<>0,INDEX('Eingabe Spielernamen'!F:F,MATCH(C38,'Eingabe Spielernamen'!B:B))&\", \"&INDEX('Eingabe Spielernamen'!G:G,MATCH(C38,'Eingabe Spielernamen'!B:B,0)),\" \")","v":", "},{"$f":"IF($C38<>0,INDEX('Eingabe Spielernamen'!A:A,MATCH(C38,'Eingabe Spielernamen'!B:B,)),\" \")","v":0}]
[null,38,211,{"$f":"IF($C39<>0,INDEX('Eingabe Spielernamen'!F:F,MATCH(C39,'Eingabe Spielernamen'!B:B))&\", \"&INDEX('Eingabe Spielernamen'!G:G,MATCH(C39,'Eingabe Spielernamen'!B:B,0)),\" \")","v":", "},{"$f":"IF($C39<>0,INDEX('Eingabe Spielernamen'!A:A,MATCH(C39,'Eingabe Spielernamen'!B:B,)),\" \")","v":0}]
[null,39,312,{"$f":"IF($C40<>0,INDEX('Eingabe Spielernamen'!F:F,MATCH(C40,'Eingabe Spielernamen'!B:B))&\", \"&INDEX('Eingabe Spielernamen'!G:G,MATCH(C40,'Eingabe Spielernamen'!B:B,0)),\" \")","v":", "},{"$f":"IF($C40<>0,INDEX('Eingabe Spielernamen'!A:A,MATCH(C40,'Eingabe Spielernamen'!B:B,)),\" \")","v":0}]
[null,40,413,{"$f":"IF($C41<>0,INDEX('Eingabe Spielernamen'!F:F,MATCH(C41,'Eingabe Spielernamen'!B:B))&\", \"&INDEX('Eingabe Spielernamen'!G:G,MATCH(C41,'Eingabe Spielernamen'!B:B,0)),\" \")","v":", "},{"$f":"IF($C41<>0,INDEX('Eingabe Spielernamen'!A:A,MATCH(C41,'Eingabe Spielernamen'!B:B,)),\" \")","v":0}]
[{"$f":"A38+1","v":11},41,111,{"$f":"IF($C42<>0,INDEX('Eingabe Spielernamen'!F:F,MATCH(C42,'Eingabe Spielernamen'!B:B))&\", \"&INDEX('Eingabe Spielernamen'!G:G,MATCH(C42,'Eingabe Spielernamen'!B:B,0)),\" \")","v":", "},{"$f":"IF($C42<>0,INDEX('Eingabe Spielernamen'!A:A,MATCH(C42,'Eingabe Spielernamen'!B:B,)),\" \")","v":0}]
[null,42,212,{"$f":"IF($C43<>0,INDEX('Eingabe Spielernamen'!F:F,MATCH(C43,'Eingabe Spielernamen'!B:B))&\", \"&INDEX('Eingabe Spielernamen'!G:G,MATCH(C43,'Eingabe Spielernamen'!B:B,0)),\" \")","v":", "},{"$f":"IF($C43<>0,INDEX('Eingabe Spielernamen'!A:A,MATCH(C43,'Eingabe Spielernamen'!B:B,)),\" \")","v":0}]
[null,43,313,{"$f":"IF($C44<>0,INDEX('Eingabe Spielernamen'!F:F,MATCH(C44,'Eingabe Spielernamen'!B:B))&\", \"&INDEX('Eingabe Spielernamen'!G:G,MATCH(C44,'Eingabe Spielernamen'!B:B,0)),\" \")","v":", "},{"$f":"IF($C44<>0,INDEX('Eingabe Spielernamen'!A:A,MATCH(C44,'Eingabe Spielernamen'!B:B,)),\" \")","v":0}]
[null,44,414,{"$f":"IF($C45<>0,INDEX('Eingabe Spielernamen'!F:F,MATCH(C45,'Eingabe Spielernamen'!B:B))&\", \"&INDEX('Eingabe Spielernamen'!G:G,MATCH(C45,'Eingabe Spielernamen'!B:B,0)),\" \")","v":", "},{"$f":"IF($C45<>0,INDEX('Eingabe Spielernamen'!A:A,MATCH(C45,'Eingabe Spielernamen'!B:B,)),\" \")","v":0}]
[{"$f":"A42+1","v":12},45,112,{"$f":"IF($C46<>0,INDEX('Eingabe Spielernamen'!F:F,MATCH(C46,'Eingabe Spielernamen'!B:B))&\", \"&INDEX('Eingabe Spielernamen'!G:G,MATCH(C46,'Eingabe Spielernamen'!B:B,0)),\" \")","v":", "},{"$f":"IF($C46<>0,INDEX('Eingabe Spielernamen'!A:A,MATCH(C46,'Eingabe Spielernamen'!B:B,)),\" \")","v":0}]
[null,46,213,{"$f":"IF($C47<>0,INDEX('Eingabe Spielernamen'!F:F,MATCH(C47,'Eingabe Spielernamen'!B:B))&\", \"&INDEX('Eingabe Spielernamen'!G:G,MATCH(C47,'Eingabe Spielernamen'!B:B,0)),\" \")","v":", "},{"$f":"IF($C47<>0,INDEX('Eingabe Spielernamen'!A:A,MATCH(C47,'Eingabe Spielernamen'!B:B,)),\" \")","v":0}]
[null,47,314,{"$f":"IF($C48<>0,INDEX('Eingabe Spielernamen'!F:F,MATCH(C48,'Eingabe Spielernamen'!B:B))&\", \"&INDEX('Eingabe Spielernamen'!G:G,MATCH(C48,'Eingabe Spielernamen'!B:B,0)),\" \")","v":", "},{"$f":"IF($C48<>0,INDEX('Eingabe Spielernamen'!A:A,MATCH(C48,'Eingabe Spielernamen'!B:B,)),\" \")","v":0}]
[null,48,415,{"$f":"IF($C49<>0,INDEX('Eingabe Spielernamen'!F:F,MATCH(C49,'Eingabe Spielernamen'!B:B))&\", \"&INDEX('Eingabe Spielernamen'!G:G,MATCH(C49,'Eingabe Spielernamen'!B:B,0)),\" \")","v":", "},{"$f":"IF($C49<>0,INDEX('Eingabe Spielernamen'!A:A,MATCH(C49,'Eingabe Spielernamen'!B:B,)),\" \")","v":0}]
[{"$f":"A46+1","v":13},49,113,{"$f":"IF($C50<>0,INDEX('Eingabe Spielernamen'!F:F,MATCH(C50,'Eingabe Spielernamen'!B:B))&\", \"&INDEX('Eingabe Spielernamen'!G:G,MATCH(C50,'Eingabe Spielernamen'!B:B,0)),\" \")","v":", "},{"$f":"IF($C50<>0,INDEX('Eingabe Spielernamen'!A:A,MATCH(C50,'Eingabe Spielernamen'!B:B,)),\" \")","v":0}]
[null,50,214,{"$f":"IF($C51<>0,INDEX('Eingabe Spielernamen'!F:F,MATCH(C51,'Eingabe Spielernamen'!B:B))&\", \"&INDEX('Eingabe Spielernamen'!G:G,MATCH(C51,'Eingabe Spielernamen'!B:B,0)),\" \")","v":", "},{"$f":"IF($C51<>0,INDEX('Eingabe Spielernamen'!A:A,MATCH(C51,'Eingabe Spielernamen'!B:B,)),\" \")","v":0}]
[null,51,315,{"$f":"IF($C52<>0,INDEX('Eingabe Spielernamen'!F:F,MATCH(C52,'Eingabe Spielernamen'!B:B))&\", \"&INDEX('Eingabe Spielernamen'!G:G,MATCH(C52,'Eingabe Spielernamen'!B:B,0)),\" \")","v":", "},{"$f":"IF($C52<>0,INDEX('Eingabe Spielernamen'!A:A,MATCH(C52,'Eingabe Spielernamen'!B:B,)),\" \")","v":0}]
[null,52,416,{"$f":"IF($C53<>0,INDEX('Eingabe Spielernamen'!F:F,MATCH(C53,'Eingabe Spielernamen'!B:B))&\", \"&INDEX('Eingabe Spielernamen'!G:G,MATCH(C53,'Eingabe Spielernamen'!B:B,0)),\" \")","v":", "},{"$f":"IF($C53<>0,INDEX('Eingabe Spielernamen'!A:A,MATCH(C53,'Eingabe Spielernamen'!B:B,)),\" \")","v":0}]
[{"$f":"A50+1","v":14},53,114,{"$f":"IF($C54<>0,INDEX('Eingabe Spielernamen'!F:F,MATCH(C54,'Eingabe Spielernamen'!B:B))&\", \"&INDEX('Eingabe Spielernamen'!G:G,MATCH(C54,'Eingabe Spielernamen'!B:B,0)),\" \")","v":", "},{"$f":"IF($C54<>0,INDEX('Eingabe Spielernamen'!A:A,MATCH(C54,'Eingabe Spielernamen'!B:B,)),\" \")","v":0}]
[null,54,215,{"$f":"IF($C55<>0,INDEX('Eingabe Spielernamen'!F:F,MATCH(C55,'Eingabe Spielernamen'!B:B))&\", \"&INDEX('Eingabe Spielernamen'!G:G,MATCH(C55,'Eingabe Spielernamen'!B:B,0)),\" \")","v":", "},{"$f":"IF($C55<>0,INDEX('Eingabe Spielernamen'!A:A,MATCH(C55,'Eingabe Spielernamen'!B:B,)),\" \")","v":0}]
[null,55,316,{"$f":"IF($C56<>0,INDEX('Eingabe Spielernamen'!F:F,MATCH(C56,'Eingabe Spielernamen'!B:B))&\", \"&INDEX('Eingabe Spielernamen'!G:G,MATCH(C56,'Eingabe Spielernamen'!B:B,0)),\" \")","v":", "},{"$f":"IF($C56<>0,INDEX('Eingabe Spielernamen'!A:A,MATCH(C56,'Eingabe Spielernamen'!B:B,)),\" \")","v":0}]
[null,56,401,{"$f":"IF($C57<>0,INDEX('Eingabe Spielernamen'!F:F,MATCH(C57,'Eingabe Spielernamen'!B:B))&\", \"&INDEX('Eingabe Spielernamen'!G:G,MATCH(C57,'Eingabe Spielernamen'!B:B,0)),\" \")","v":", "},{"$f":"IF($C57<>0,INDEX('Eingabe Spielernamen'!A:A,MATCH(C57,'Eingabe Spielernamen'!B:B,)),\" \")","v":0}]
[{"$f":"A54+1","v":15},57,115,{"$f":"IF($C58<>0,INDEX('Eingabe Spielernamen'!F:F,MATCH(C58,'Eingabe Spielernamen'!B:B))&\", \"&INDEX('Eingabe Spielernamen'!G:G,MATCH(C58,'Eingabe Spielernamen'!B:B,0)),\" \")","v":", "},{"$f":"IF($C58<>0,INDEX('Eingabe Spielernamen'!A:A,MATCH(C58,'Eingabe Spielernamen'!B:B,)),\" \")","v":0}]
[null,58,216,{"$f":"IF($C59<>0,INDEX('Eingabe Spielernamen'!F:F,MATCH(C59,'Eingabe Spielernamen'!B:B))&\", \"&INDEX('Eingabe Spielernamen'!G:G,MATCH(C59,'Eingabe Spielernamen'!B:B,0)),\" \")","v":", "},{"$f":"IF($C59<>0,INDEX('Eingabe Spielernamen'!A:A,MATCH(C59,'Eingabe Spielernamen'!B:B,)),\" \")","v":0}]
[null,59,301,{"$f":"IF($C60<>0,INDEX('Eingabe Spielernamen'!F:F,MATCH(C60,'Eingabe Spielernamen'!B:B))&\", \"&INDEX('Eingabe Spielernamen'!G:G,MATCH(C60,'Eingabe Spielernamen'!B:B,0)),\" \")","v":", "},{"$f":"IF($C60<>0,INDEX('Eingabe Spielernamen'!A:A,MATCH(C60,'Eingabe Spielernamen'!B:B,)),\" \")","v":0}]
[null,60,402,{"$f":"IF($C61<>0,INDEX('Eingabe Spielernamen'!F:F,MATCH(C61,'Eingabe Spielernamen'!B:B))&\", \"&INDEX('Eingabe Spielernamen'!G:G,MATCH(C61,'Eingabe Spielernamen'!B:B,0)),\" \")","v":", "},{"$f":"IF($C61<>0,INDEX('Eingabe Spielernamen'!A:A,MATCH(C61,'Eingabe Spielernamen'!B:B,)),\" \")","v":0}]
[{"$f":"A58+1","v":16},61,116,{"$f":"IF($C62<>0,INDEX('Eingabe Spielernamen'!F:F,MATCH(C62,'Eingabe Spielernamen'!B:B))&\", \"&INDEX('Eingabe Spielernamen'!G:G,MATCH(C62,'Eingabe Spielernamen'!B:B,0)),\" \")","v":", "},{"$f":"IF($C62<>0,INDEX('Eingabe Spielernamen'!A:A,MATCH(C62,'Eingabe Spielernamen'!B:B,)),\" \")","v":0}]
[null,62,201,{"$f":"IF($C63<>0,INDEX('Eingabe Spielernamen'!F:F,MATCH(C63,'Eingabe Spielernamen'!B:B))&\", \"&INDEX('Eingabe Spielernamen'!G:G,MATCH(C63,'Eingabe Spielernamen'!B:B,0)),\" \")","v":", "},{"$f":"IF($C63<>0,INDEX('Eingabe Spielernamen'!A:A,MATCH(C63,'Eingabe Spielernamen'!B:B,)),\" \")","v":0}]
[null,63,302,{"$f":"IF($C64<>0,INDEX('Eingabe Spielernamen'!F:F,MATCH(C64,'Eingabe Spielernamen'!B:B))&\", \"&INDEX('Eingabe Spielernamen'!G:G,MATCH(C64,'Eingabe Spielernamen'!B:B,0)),\" \")","v":", "},{"$f":"IF($C64<>0,INDEX('Eingabe Spielernamen'!A:A,MATCH(C64,'Eingabe Spielernamen'!B:B,)),\" \")","v":0}]
[null,64,403,{"$f":"IF($C65<>0,INDEX('Eingabe Spielernamen'!F:F,MATCH(C65,'Eingabe Spielernamen'!B:B))&\", \"&INDEX('Eingabe Spielernamen'!G:G,MATCH(C65,'Eingabe Spielernamen'!B:B,0)),\" \")","v":", "},{"$f":"IF($C65<>0,INDEX('Eingabe Spielernamen'!A:A,MATCH(C65,'Eingabe Spielernamen'!B:B,)),\" \")","v":0}]

{"sheet":"Listen (1.)","index":7,"n_rows":64,"n_cols":8,"rows_kept":64,"cut":false,"hidden":false,"merged":[]}
[{"$f":"'Eingabe Spielernamen'!H6","v":"2020-05-29"},"1. Serie",1,null,{"$f":"A1","v":"2020-05-29"},{"$f":"B1","v":"1. Serie"},{"$f":"C1","v":1}]
[]
[{"$f":"'1. Serie'!D2","v":", "},{"$f":"'1. Serie'!D3","v":", "},{"$f":"'1. Serie'!D4","v":", "},{"$f":"'1. Serie'!D5","v":", "},{"$f":"'1. Serie'!D2","v":", "},{"$f":"'1. Serie'!D3","v":", "},{"$f":"'1. Serie'!D4","v":", "},{"$f":"'1. Serie'!D5","v":", "}]
[{"$f":"'1. Serie'!C2","v":101},{"$f":"'1. Serie'!C3","v":202},{"$f":"'1. Serie'!C4","v":303},{"$f":"'1. Serie'!C5","v":404},{"$f":"'1. Serie'!C2","v":101},{"$f":"'1. Serie'!C3","v":202},{"$f":"'1. Serie'!C4","v":303},{"$f":"'1. Serie'!C5","v":404}]
[{"$f":"A1","v":"2020-05-29"},{"$f":"$B$1","v":"1. Serie"},{"$f":"C1+1","v":2},null,{"$f":"E1","v":"2020-05-29"},{"$f":"$B$1","v":"1. Serie"},{"$f":"G1+1","v":2},{"$f":"D5","v":0}]
[]
[{"$f":"'1. Serie'!D6","v":", "},{"$f":"'1. Serie'!D7","v":", "},{"$f":"'1. Serie'!D8","v":", "},{"$f":"'1. Serie'!D9","v":", "},{"$f":"'1. Serie'!D6","v":", "},{"$f":"'1. Serie'!D7","v":", "},{"$f":"'1. Serie'!D8","v":", "},{"$f":"'1. Serie'!D9","v":", "}]
[{"$f":"'1. Serie'!C6","v":102},{"$f":"'1. Serie'!C7","v":203},{"$f":"'1. Serie'!C8","v":304},{"$f":"'1. Serie'!C9","v":405},{"$f":"'1. Serie'!C6","v":102},{"$f":"'1. Serie'!C7","v":203},{"$f":"'1. Serie'!C8","v":304},{"$f":"'1. Serie'!C9","v":405}]
[{"$f":"A5","v":"2020-05-29"},{"$f":"$B$1","v":"1. Serie"},{"$f":"C5+1","v":3},null,{"$f":"E5","v":"2020-05-29"},{"$f":"$B$1","v":"1. Serie"},{"$f":"G5+1","v":3},{"$f":"D9","v":0}]
[]
[{"$f":"'1. Serie'!D10","v":", "},{"$f":"'1. Serie'!D11","v":", "},{"$f":"'1. Serie'!D12","v":", "},{"$f":"'1. Serie'!D13","v":", "},{"$f":"'1. Serie'!D10","v":", "},{"$f":"'1. Serie'!D11","v":", "},{"$f":"'1. Serie'!D12","v":", "},{"$f":"'1. Serie'!D13","v":", "}]
[{"$f":"'1. Serie'!C10","v":103},{"$f":"'1. Serie'!C11","v":204},{"$f":"'1. Serie'!C12","v":305},{"$f":"'1. Serie'!C13","v":406},{"$f":"'1. Serie'!C10","v":103},{"$f":"'1. Serie'!C11","v":204},{"$f":"'1. Serie'!C12","v":305},{"$f":"'1. Serie'!C13","v":406}]
[{"$f":"A9","v":"2020-05-29"},{"$f":"$B$1","v":"1. Serie"},{"$f":"C9+1","v":4},null,{"$f":"E9","v":"2020-05-29"},{"$f":"$B$1","v":"1. Serie"},{"$f":"G9+1","v":4},{"$f":"D13","v":0}]
[]
[{"$f":"'1. Serie'!D14","v":", "},{"$f":"'1. Serie'!D15","v":", "},{"$f":"'1. Serie'!D16","v":", "},{"$f":"'1. Serie'!D17","v":", "},{"$f":"'1. Serie'!D14","v":", "},{"$f":"'1. Serie'!D15","v":", "},{"$f":"'1. Serie'!D16","v":", "},{"$f":"'1. Serie'!D17","v":", "}]
[{"$f":"'1. Serie'!C14","v":104},{"$f":"'1. Serie'!C15","v":205},{"$f":"'1. Serie'!C16","v":306},{"$f":"'1. Serie'!C17","v":407},{"$f":"'1. Serie'!C14","v":104},{"$f":"'1. Serie'!C15","v":205},{"$f":"'1. Serie'!C16","v":306},{"$f":"'1. Serie'!C17","v":407}]
[{"$f":"A13","v":"2020-05-29"},{"$f":"$B$1","v":"1. Serie"},{"$f":"C13+1","v":5},null,{"$f":"E13","v":"2020-05-29"},{"$f":"$B$1","v":"1. Serie"},{"$f":"G13+1","v":5},{"$f":"D17","v":0}]
[]
[{"$f":"'1. Serie'!D18","v":", "},{"$f":"'1. Serie'!D19","v":", "},{"$f":"'1. Serie'!D20","v":", "},{"$f":"'1. Serie'!D21","v":", "},{"$f":"'1. Serie'!D18","v":", "},{"$f":"'1. Serie'!D19","v":", "},{"$f":"'1. Serie'!D20","v":", "},{"$f":"'1. Serie'!D21","v":", "}]
[{"$f":"'1. Serie'!C18","v":105},{"$f":"'1. Serie'!C19","v":206},{"$f":"'1. Serie'!C20","v":307},{"$f":"'1. Serie'!C21","v":408},{"$f":"'1. Serie'!C18","v":105},{"$f":"'1. Serie'!C19","v":206},{"$f":"'1. Serie'!C20","v":307},{"$f":"'1. Serie'!C21","v":408}]
[{"$f":"A17","v":"2020-05-29"},{"$f":"$B$1","v":"1. Serie"},{"$f":"C17+1","v":6},null,{"$f":"E17","v":"2020-05-29"},{"$f":"$B$1","v":"1. Serie"},{"$f":"G17+1","v":6},{"$f":"D21","v":0}]
[]
[{"$f":"'1. Serie'!D22","v":", "},{"$f":"'1. Serie'!D23","v":", "},{"$f":"'1. Serie'!D24","v":", "},{"$f":"'1. Serie'!D25","v":", "},{"$f":"'1. Serie'!D22","v":", "},{"$f":"'1. Serie'!D23","v":", "},{"$f":"'1. Serie'!D24","v":", "},{"$f":"'1. Serie'!D25","v":", "}]
[{"$f":"'1. Serie'!C22","v":106},{"$f":"'1. Serie'!C23","v":207},{"$f":"'1. Serie'!C24","v":308},{"$f":"'1. Serie'!C25","v":409},{"$f":"'1. Serie'!C22","v":106},{"$f":"'1. Serie'!C23","v":207},{"$f":"'1. Serie'!C24","v":308},{"$f":"'1. Serie'!C25","v":409}]
[{"$f":"A21","v":"2020-05-29"},{"$f":"$B$1","v":"1. Serie"},{"$f":"C21+1","v":7},null,{"$f":"E21","v":"2020-05-29"},{"$f":"$B$1","v":"1. Serie"},{"$f":"G21+1","v":7},{"$f":"D25","v":0}]
[]
[{"$f":"'1. Serie'!D26","v":", "},{"$f":"'1. Serie'!D27","v":", "},{"$f":"'1. Serie'!D28","v":", "},{"$f":"'1. Serie'!D29","v":", "},{"$f":"'1. Serie'!D26","v":", "},{"$f":"'1. Serie'!D27","v":", "},{"$f":"'1. Serie'!D28","v":", "},{"$f":"'1. Serie'!D29","v":", "}]
[{"$f":"'1. Serie'!C26","v":107},{"$f":"'1. Serie'!C27","v":208},{"$f":"'1. Serie'!C28","v":309},{"$f":"'1. Serie'!C29","v":410},{"$f":"'1. Serie'!C26","v":107},{"$f":"'1. Serie'!C27","v":208},{"$f":"'1. Serie'!C28","v":309},{"$f":"'1. Serie'!C29","v":410}]
[{"$f":"A25","v":"2020-05-29"},{"$f":"$B$1","v":"1. Serie"},{"$f":"C25+1","v":8},null,{"$f":"E25","v":"2020-05-29"},{"$f":"$B$1","v":"1. Serie"},{"$f":"G25+1","v":8},{"$f":"D29","v":0}]
[]
[{"$f":"'1. Serie'!D30","v":", "},{"$f":"'1. Serie'!D31","v":", "},{"$f":"'1. Serie'!D32","v":", "},{"$f":"'1. Serie'!D33","v":", "},{"$f":"'1. Serie'!D30","v":", "},{"$f":"'1. Serie'!D31","v":", "},{"$f":"'1. Serie'!D32","v":", "},{"$f":"'1. Serie'!D33","v":", "}]
[{"$f":"'1. Serie'!C30","v":108},{"$f":"'1. Serie'!C31","v":209},{"$f":"'1. Serie'!C32","v":310},{"$f":"'1. Serie'!C33","v":411},{"$f":"'1. Serie'!C30","v":108},{"$f":"'1. Serie'!C31","v":209},{"$f":"'1. Serie'!C32","v":310},{"$f":"'1. Serie'!C33","v":411}]
[{"$f":"A29","v":"2020-05-29"},{"$f":"$B$1","v":"1. Serie"},{"$f":"C29+1","v":9},null,{"$f":"E29","v":"2020-05-29"},{"$f":"$B$1","v":"1. Serie"},{"$f":"G29+1","v":9},{"$f":"D33","v":0}]
[]
[{"$f":"'1. Serie'!D34","v":", "},{"$f":"'1. Serie'!D35","v":", "},{"$f":"'1. Serie'!D36","v":", "},{"$f":"'1. Serie'!D37","v":", "},{"$f":"'1. Serie'!D34","v":", "},{"$f":"'1. Serie'!D35","v":", "},{"$f":"'1. Serie'!D36","v":", "},{"$f":"'1. Serie'!D37","v":", "}]
[{"$f":"'1. Serie'!C34","v":109},{"$f":"'1. Serie'!C35","v":210},{"$f":"'1. Serie'!C36","v":311},{"$f":"'1. Serie'!C37","v":412},{"$f":"'1. Serie'!C34","v":109},{"$f":"'1. Serie'!C35","v":210},{"$f":"'1. Serie'!C36","v":311},{"$f":"'1. Serie'!C37","v":412}]
[{"$f":"A33","v":"2020-05-29"},{"$f":"$B$1","v":"1. Serie"},{"$f":"C33+1","v":10},null,{"$f":"E33","v":"2020-05-29"},{"$f":"$B$1","v":"1. Serie"},{"$f":"G33+1","v":10},{"$f":"D37","v":0}]
[]
[{"$f":"'1. Serie'!D38","v":", "},{"$f":"'1. Serie'!D39","v":", "},{"$f":"'1. Serie'!D40","v":", "},{"$f":"'1. Serie'!D41","v":", "},{"$f":"'1. Serie'!D38","v":", "},{"$f":"'1. Serie'!D39","v":", "},{"$f":"'1. Serie'!D40","v":", "},{"$f":"'1. Serie'!D41","v":", "}]
[{"$f":"'1. Serie'!C38","v":110},{"$f":"'1. Serie'!C39","v":211},{"$f":"'1. Serie'!C40","v":312},{"$f":"'1. Serie'!C41","v":413},{"$f":"'1. Serie'!C38","v":110},{"$f":"'1. Serie'!C39","v":211},{"$f":"'1. Serie'!C40","v":312},{"$f":"'1. Serie'!C41","v":413}]
[{"$f":"A37","v":"2020-05-29"},{"$f":"$B$1","v":"1. Serie"},{"$f":"C37+1","v":11},null,{"$f":"E37","v":"2020-05-29"},{"$f":"$B$1","v":"1. Serie"},{"$f":"G37+1","v":11},{"$f":"D41","v":0}]
[]
[{"$f":"'1. Serie'!D42","v":", "},{"$f":"'1. Serie'!D43","v":", "},{"$f":"'1. Serie'!D44","v":", "},{"$f":"'1. Serie'!D45","v":", "},{"$f":"'1. Serie'!D42","v":", "},{"$f":"'1. Serie'!D43","v":", "},{"$f":"'1. Serie'!D44","v":", "},{"$f":"'1. Serie'!D45","v":", "}]
[{"$f":"'1. Serie'!C42","v":111},{"$f":"'1. Serie'!C43","v":212},{"$f":"'1. Serie'!C44","v":313},{"$f":"'1. Serie'!C45","v":414},{"$f":"'1. Serie'!C42","v":111},{"$f":"'1. Serie'!C43","v":212},{"$f":"'1. Serie'!C44","v":313},{"$f":"'1. Serie'!C45","v":414}]
[{"$f":"A41","v":"2020-05-29"},{"$f":"$B$1","v":"1. Serie"},{"$f":"C41+1","v":12},null,{"$f":"E41","v":"2020-05-29"},{"$f":"$B$1","v":"1. Serie"},{"$f":"G41+1","v":12},{"$f":"D45","v":0}]
[]
[{"$f":"'1. Serie'!D46","v":", "},{"$f":"'1. Serie'!D47","v":", "},{"$f":"'1. Serie'!D48","v":", "},{"$f":"'1. Serie'!D49","v":", "},{"$f":"'1. Serie'!D46","v":", "},{"$f":"'1. Serie'!D47","v":", "},{"$f":"'1. Serie'!D48","v":", "},{"$f":"'1. Serie'!D49","v":", "}]
[{"$f":"'1. Serie'!C46","v":112},{"$f":"'1. Serie'!C47","v":213},{"$f":"'1. Serie'!C48","v":314},{"$f":"'1. Serie'!C49","v":415},{"$f":"'1. Serie'!C46","v":112},{"$f":"'1. Serie'!C47","v":213},{"$f":"'1. Serie'!C48","v":314},{"$f":"'1. Serie'!C49","v":415}]
[{"$f":"A45","v":"2020-05-29"},{"$f":"$B$1","v":"1. Serie"},{"$f":"C45+1","v":13},null,{"$f":"E45","v":"2020-05-29"},{"$f":"$B$1","v":"1. Serie"},{"$f":"G45+1","v":13},{"$f":"D49","v":0}]
[]
[{"$f":"'1. Serie'!D50","v":", "},{"$f":"'1. Serie'!D51","v":", "},{"$f":"'1. Serie'!D52","v":", "},{"$f":"'1. Serie'!D53","v":", "},{"$f":"'1. Serie'!D50","v":", "},{"$f":"'1. Serie'!D51","v":", "},{"$f":"'1. Serie'!D52","v":", "},{"$f":"'1. Serie'!D53","v":", "}]
[{"$f":"'1. Serie'!C50","v":113},{"$f":"'1. Serie'!C51","v":214},{"$f":"'1. Serie'!C52","v":315},{"$f":"'1. Serie'!C53","v":416},{"$f":"'1. Serie'!C50","v":113},{"$f":"'1. Serie'!C51","v":214},{"$f":"'1. Serie'!C52","v":315},{"$f":"'1. Serie'!C53","v":416}]
[{"$f":"A49","v":"2020-05-29"},{"$f":"$B$1","v":"1. Serie"},{"$f":"C49+1","v":14},null,{"$f":"E49","v":"2020-05-29"},{"$f":"$B$1","v":"1. Serie"},{"$f":"G49+1","v":14},{"$f":"D53","v":0}]
[]
[{"$f":"'1. Serie'!D54","v":", "},{"$f":"'1. Serie'!D55","v":", "},{"$f":"'1. Serie'!D56","v":", "},{"$f":"'1. Serie'!D57","v":", "},{"$f":"'1. Serie'!D54","v":", "},{"$f":"'1. Serie'!D55","v":", "},{"$f":"'1. Serie'!D56","v":", "},{"$f":"'1. Serie'!D57","v":", "}]
[{"$f":"'1. Serie'!C54","v":114},{"$f":"'1. Serie'!C55","v":215},{"$f":"'1. Serie'!C56","v":316},{"$f":"'1. Serie'!C57","v":401},{"$f":"'1. Serie'!C54","v":114},{"$f":"'1. Serie'!C55","v":215},{"$f":"'1. Serie'!C56","v":316},{"$f":"'1. Serie'!C57","v":401}]
[{"$f":"A53","v":"2020-05-29"},{"$f":"$B$1","v":"1. Serie"},{"$f":"C53+1","v":15},null,{"$f":"E53","v":"2020-05-29"},{"$f":"$B$1","v":"1. Serie"},{"$f":"G53+1","v":15},{"$f":"D57","v":0}]
[]
[{"$f":"'1. Serie'!D58","v":", "},{"$f":"'1. Serie'!D59","v":", "},{"$f":"'1. Serie'!D60","v":", "},{"$f":"'1. Serie'!D61","v":", "},{"$f":"'1. Serie'!D58","v":", "},{"$f":"'1. Serie'!D59","v":", "},{"$f":"'1. Serie'!D60","v":", "},{"$f":"'1. Serie'!D61","v":", "}]
[{"$f":"'1. Serie'!C58","v":115},{"$f":"'1. Serie'!C59","v":216},{"$f":"'1. Serie'!C60","v":301},{"$f":"'1. Serie'!C61","v":402},{"$f":"'1. Serie'!C58","v":115},{"$f":"'1. Serie'!C59","v":216},{"$f":"'1. Serie'!C60","v":301},{"$f":"'1. Serie'!C61","v":402}]
[{"$f":"A57","v":"2020-05-29"},{"$f":"$B$1","v":"1. Serie"},{"$f":"C57+1","v":16},null,{"$f":"E57","v":"2020-05-29"},{"$f":"$B$1","v":"1. Serie"},{"$f":"G57+1","v":16},{"$f":"D61","v":0}]
[]
[{"$f":"'1. Serie'!D62","v":", "},{"$f":"'1. Serie'!D63","v":", "},{"$f":"'1. Serie'!D64","v":", "},{"$f":"'1. Serie'!D65","v":", "},{"$f":"'1. Serie'!D62","v":", "},{"$f":"'1. Serie'!D63","v":", "},{"$f":"'1. Serie'!D64","v":", "},{"$f":"'1. Serie'!D65","v":", "}]
[{"$f":"'1. Serie'!C62","v":116},{"$f":"'1. Serie'!C63","v":201},{"$f":"'1. Serie'!C64","v":302},{"$f":"'1. Serie'!C65","v":403},{"$f":"'1. Serie'!C62","v":116},{"$f":"'1. Serie'!C63","v":201},{"$f":"'1. Serie'!C64","v":302},{"$f":"'1. Serie'!C65","v":403}]

{"sheet":"2. Serie","index":8,"n_rows":65,"n_cols":11,"rows_kept":65,"cut":false,"hidden":false,"merged":[[27,8,36,9],[1,8,13,9],[14,8,26,9],[1,0,4,0],[5,0,8,0],[9,0,12,0],[13,0,16,0],[17,0,20,0],[21,0,24,0],[25,0,28,0],[29,0,32,0],[33,0,36,0],[57,0,60,0],[61,0,64,0],[37,0,40,0],[41,0,44,0],[45,0,48,0],[49,0,52,0],[53,0,56,0]]}
["T",{"$f":"#REF!","v":{"$error":"#REF!"}},"Start Nr.:","Name:","Verein:",null,null,null,64,"Teilnehmer"]
[1,1,{"$f":"'1. Serie'!C2","v":101},{"$f":"IF($C2<>0,INDEX('Eingabe Spielernamen'!F:F,MATCH(C2,'Eingabe Spielernamen'!B:B))&\", \"&INDEX('Eingabe Spielernamen'!G:G,MATCH(C2,'Eingabe Spielernamen'!B:B,0)),\" \")","v":", "},{"$f":"IF($C2<>0,INDEX('Eingabe Spielernamen'!A:A,MATCH(C2,'Eingabe Spielernamen'!B:B,)),\" \")","v":0},{"$f":"B2","v":1},{"$f":"F2+5","v":6},{"$f":"IF(G2>I$1,G2-I$1,G2)","v":6},"Sortieren der Teilnehmer zum Setzen nach \"Startkarten\" \"C-H\" nach\"H\" sortieren!"]
[null,2,{"$f":"'1. Serie'!C3","v":202},{"$f":"IF($C3<>0,INDEX('Eingabe Spielernamen'!F:F,MATCH(C3,'Eingabe Spielernamen'!B:B))&\", \"&INDEX('Eingabe Spielernamen'!G:G,MATCH(C3,'Eingabe Spielernamen'!B:B,0)),\" \")","v":", "},{"$f":"IF($C3<>0,INDEX('Eingabe Spielernamen'!A:A,MATCH(C3,'Eingabe Spielernamen'!B:B,)),\" \")","v":0},2,{"$f":"F3+9","v":11},11]
[null,3,{"$f":"'1. Serie'!C4","v":303},{"$f":"IF($C4<>0,INDEX('Eingabe Spielernamen'!F:F,MATCH(C4,'Eingabe Spielernamen'!B:B))&\", \"&INDEX('Eingabe Spielernamen'!G:G,MATCH(C4,'Eingabe Spielernamen'!B:B,0)),\" \")","v":", "},{"$f":"IF($C4<>0,INDEX('Eingabe Spielernamen'!A:A,MATCH(C4,'Eingabe Spielernamen'!B:B,)),\" \")","v":0},3,{"$f":"F4+13","v":16},16]
[null,4,{"$f":"'1. Serie'!C5","v":404},{"$f":"IF($C5<>0,INDEX('Eingabe Spielernamen'!F:F,MATCH(C5,'Eingabe Spielernamen'!B:B))&\", \"&INDEX('Eingabe Spielernamen'!G:G,MATCH(C5,'Eingabe Spielernamen'!B:B,0)),\" \")","v":", "},{"$f":"IF($C5<>0,INDEX('Eingabe Spielernamen'!A:A,MATCH(C5,'Eingabe Spielernamen'!B:B,)),\" \")","v":0},4,{"$f":"F5+17","v":21},21]
[{"$f":"A2+1","v":2},5,{"$f":"'1. Serie'!C6","v":102},{"$f":"IF($C6<>0,INDEX('Eingabe Spielernamen'!F:F,MATCH(C6,'Eingabe Spielernamen'!B:B))&\", \"&INDEX('Eingabe Spielernamen'!G:G,MATCH(C6,'Eingabe Spielernamen'!B:B,0)),\" \")","v":", "},{"$f":"IF($C6<>0,INDEX('Eingabe Spielernamen'!A:A,MATCH(C6,'Eingabe Spielernamen'!B:B,)),\" \")","v":0},5,{"$f":"F6+5","v":10},10]
[null,6,{"$f":"'1. Serie'!C7","v":203},{"$f":"IF($C7<>0,INDEX('Eingabe Spielernamen'!F:F,MATCH(C7,'Eingabe Spielernamen'!B:B))&\", \"&INDEX('Eingabe Spielernamen'!G:G,MATCH(C7,'Eingabe Spielernamen'!B:B,0)),\" \")","v":", "},{"$f":"IF($C7<>0,INDEX('Eingabe Spielernamen'!A:A,MATCH(C7,'Eingabe Spielernamen'!B:B,)),\" \")","v":0},6,{"$f":"F7+9","v":15},15]
[null,7,{"$f":"'1. Serie'!C8","v":304},{"$f":"IF($C8<>0,INDEX('Eingabe Spielernamen'!F:F,MATCH(C8,'Eingabe Spielernamen'!B:B))&\", \"&INDEX('Eingabe Spielernamen'!G:G,MATCH(C8,'Eingabe Spielernamen'!B:B,0)),\" \")","v":", "},{"$f":"IF($C8<>0,INDEX('Eingabe Spielernamen'!A:A,MATCH(C8,'Eingabe Spielernamen'!B:B,)),\" \")","v":0},7,{"$f":"F8+13","v":20},20]
[null,8,{"$f":"'1. Serie'!C9","v":405},{"$f":"IF($C9<>0,INDEX('Eingabe Spielernamen'!F:F,MATCH(C9,'Eingabe Spielernamen'!B:B))&\", \"&INDEX('Eingabe Spielernamen'!G:G,MATCH(C9,'Eingabe Spielernamen'!B:B,0)),\" \")","v":", "},{"$f":"IF($C9<>0,INDEX('Eingabe Spielernamen'!A:A,MATCH(C9,'Eingabe Spielernamen'!B:B,)),\" \")","v":0},8,{"$f":"F9+17","v":25},25]
[{"$f":"A6+1","v":3},9,{"$f":"'1. Serie'!C10","v":103},{"$f":"IF($C10<>0,INDEX('Eingabe Spielernamen'!F:F,MATCH(C10,'Eingabe Spielernamen'!B:B))&\", \"&INDEX('Eingabe Spielernamen'!G:G,MATCH(C10,'Eingabe Spielernamen'!B:B,0)),\" \")","v":", "},{"$f":"IF($C10<>0,INDEX('Eingabe Spielernamen'!A:A,MATCH(C10,'Eingabe Spielernamen'!B:B,)),\" \")","v":0},9,{"$f":"F10+5","v":14},14]
[null,10,{"$f":"'1. Serie'!C11","v":204},{"$f":"IF($C11<>0,INDEX('Eingabe Spielernamen'!F:F,MATCH(C11,'Eingabe Spielernamen'!B:B))&\", \"&INDEX('Eingabe Spielernamen'!G:G,MATCH(C11,'Eingabe Spielernamen'!B:B,0)),\" \")","v":", "},{"$f":"IF($C11<>0,INDEX('Eingabe Spielernamen'!A:A,MATCH(C11,'Eingabe Spielernamen'!B:B,)),\" \")","v":0},10,{"$f":"F11+9","v":19},19]
[null,11,{"$f":"'1. Serie'!C12","v":305},{"$f":"IF($C12<>0,INDEX('Eingabe Spielernamen'!F:F,MATCH(C12,'Eingabe Spielernamen'!B:B))&\", \"&INDEX('Eingabe Spielernamen'!G:G,MATCH(C12,'Eingabe Spielernamen'!B:B,0)),\" \")","v":", "},{"$f":"IF($C12<>0,INDEX('Eingabe Spielernamen'!A:A,MATCH(C12,'Eingabe Spielernamen'!B:B,)),\" \")","v":0},11,{"$f":"F12+13","v":24},24]
[null,12,{"$f":"'1. Serie'!C13","v":406},{"$f":"IF($C13<>0,INDEX('Eingabe Spielernamen'!F:F,MATCH(C13,'Eingabe Spielernamen'!B:B))&\", \"&INDEX('Eingabe Spielernamen'!G:G,MATCH(C13,'Eingabe Spielernamen'!B:B,0)),\" \")","v":", "},{"$f":"IF($C13<>0,INDEX('Eingabe Spielernamen'!A:A,MATCH(C13,'Eingabe Spielernamen'!B:B,)),\" \")","v":0},12,{"$f":"F13+17","v":29},29,null,null," "]
[{"$f":"A10+1","v":4},13,{"$f":"'1. Serie'!C14","v":104},{"$f":"IF($C14<>0,INDEX('Eingabe Spielernamen'!F:F,MATCH(C14,'Eingabe Spielernamen'!B:B))&\", \"&INDEX('Eingabe Spielernamen'!G:G,MATCH(C14,'Eingabe Spielernamen'!B:B,0)),\" \")","v":", "},{"$f":"IF($C14<>0,INDEX('Eingabe Spielernamen'!A:A,MATCH(C14,'Eingabe Spielernamen'!B:B,)),\" \")","v":0},13,{"$f":"F14+5","v":18},18]
[null,14,{"$f":"'1. Serie'!C15","v":205},{"$f":"IF($C15<>0,INDEX('Eingabe Spielernamen'!F:F,MATCH(C15,'Eingabe Spielernamen'!B:B))&\", \"&INDEX('Eingabe Spielernamen'!G:G,MATCH(C15,'Eingabe Spielernamen'!B:B,0)),\" \")","v":", "},{"$f":"IF($C15<>0,INDEX('Eingabe Spielernamen'!A:A,MATCH(C15,'Eingabe Spielernamen'!B:B,)),\" \")","v":0},14,{"$f":"F15+9","v":23},23,"Wichtig! Oben eine durch 4 teilbare Zahl eingeben!"]
[null,15,{"$f":"'1. Serie'!C16","v":306},{"$f":"IF($C16<>0,INDEX('Eingabe Spielernamen'!F:F,MATCH(C16,'Eingabe Spielernamen'!B:B))&\", \"&INDEX('Eingabe Spielernamen'!G:G,MATCH(C16,'Eingabe Spielernamen'!B:B,0)),\" \")","v":", "},{"$f":"IF($C16<>0,INDEX('Eingabe Spielernamen'!A:A,MATCH(C16,'Eingabe Spielernamen'!B:B,)),\" \")","v":0},15,{"$f":"F16+13","v":28},28]
[null,16,{"$f":"'1. Serie'!C17","v":407},{"$f":"IF($C17<>0,INDEX('Eingabe Spielernamen'!F:F,MATCH(C17,'Eingabe Spielernamen'!B:B))&\", \"&INDEX('Eingabe Spielernamen'!G:G,MATCH(C17,'Eingabe Spielernamen'!B:B,0)),\" \")","v":", "},{"$f":"IF($C17<>0,INDEX('Eingabe Spielernamen'!A:A,MATCH(C17,'Eingabe Spielernamen'!B:B,)),\" \")","v":0},16,{"$f":"F17+17","v":33},33]
[{"$f":"A14+1","v":5},17,{"$f":"'1. Serie'!C18","v":105},{"$f":"IF($C18<>0,INDEX('Eingabe Spielernamen'!F:F,MATCH(C18,'Eingabe Spielernamen'!B:B))&\", \"&INDEX('Eingabe Spielernamen'!G:G,MATCH(C18,'Eingabe Spielernamen'!B:B,0)),\" \")","v":", "},{"$f":"IF($C18<>0,INDEX('Eingabe Spielernamen'!A:A,MATCH(C18,'Eingabe Spielernamen'!B:B,)),\" \")","v":0},17,{"$f":"F18+5","v":22},22]
[null,18,{"$f":"'1. Serie'!C19","v":206},{"$f":"IF($C19<>0,INDEX('Eingabe Spielernamen'!F:F,MATCH(C19,'Eingabe Spielernamen'!B:B))&\", \"&INDEX('Eingabe Spielernamen'!G:G,MATCH(C19,'Eingabe Spielernamen'!B:B,0)),\" \")","v":", "},{"$f":"IF($C19<>0,INDEX('Eingabe Spielernamen'!A:A,MATCH(C19,'Eingabe Spielernamen'!B:B,)),\" \")","v":0},18,{"$f":"F19+9","v":27},27]
[null,19,{"$f":"'1. Serie'!C20","v":307},{"$f":"IF($C20<>0,INDEX('Eingabe Spielernamen'!F:F,MATCH(C20,'Eingabe Spielernamen'!B:B))&\", \"&INDEX('Eingabe Spielernamen'!G:G,MATCH(C20,'Eingabe Spielernamen'!B:B,0)),\" \")","v":", "},{"$f":"IF($C20<>0,INDEX('Eingabe Spielernamen'!A:A,MATCH(C20,'Eingabe Spielernamen'!B:B,)),\" \")","v":0},19,{"$f":"F20+13","v":32},32]
[null,20,{"$f":"'1. Serie'!C21","v":408},{"$f":"IF($C21<>0,INDEX('Eingabe Spielernamen'!F:F,MATCH(C21,'Eingabe Spielernamen'!B:B))&\", \"&INDEX('Eingabe Spielernamen'!G:G,MATCH(C21,'Eingabe Spielernamen'!B:B,0)),\" \")","v":", "},{"$f":"IF($C21<>0,INDEX('Eingabe Spielernamen'!A:A,MATCH(C21,'Eingabe Spielernamen'!B:B,)),\" \")","v":0},20,{"$f":"F21+17","v":37},37]
[{"$f":"A18+1","v":6},21,{"$f":"'1. Serie'!C22","v":106},{"$f":"IF($C22<>0,INDEX('Eingabe Spielernamen'!F:F,MATCH(C22,'Eingabe Spielernamen'!B:B))&\", \"&INDEX('Eingabe Spielernamen'!G:G,MATCH(C22,'Eingabe Spielernamen'!B:B,0)),\" \")","v":", "},{"$f":"IF($C22<>0,INDEX('Eingabe Spielernamen'!A:A,MATCH(C22,'Eingabe Spielernamen'!B:B,)),\" \")","v":0},21,{"$f":"F22+5","v":26},26]
[null,22,{"$f":"'1. Serie'!C23","v":207},{"$f":"IF($C23<>0,INDEX('Eingabe Spielernamen'!F:F,MATCH(C23,'Eingabe Spielernamen'!B:B))&\", \"&INDEX('Eingabe Spielernamen'!G:G,MATCH(C23,'Eingabe Spielernamen'!B:B,0)),\" \")","v":", "},{"$f":"IF($C23<>0,INDEX('Eingabe Spielernamen'!A:A,MATCH(C23,'Eingabe Spielernamen'!B:B,)),\" \")","v":0},22,{"$f":"F23+9","v":31},31]
[null,23,{"$f":"'1. Serie'!C24","v":308},{"$f":"IF($C24<>0,INDEX('Eingabe Spielernamen'!F:F,MATCH(C24,'Eingabe Spielernamen'!B:B))&\", \"&INDEX('Eingabe Spielernamen'!G:G,MATCH(C24,'Eingabe Spielernamen'!B:B,0)),\" \")","v":", "},{"$f":"IF($C24<>0,INDEX('Eingabe Spielernamen'!A:A,MATCH(C24,'Eingabe Spielernamen'!B:B,)),\" \")","v":0},23,{"$f":"F24+13","v":36},36]
[null,24,{"$f":"'1. Serie'!C25","v":409},{"$f":"IF($C25<>0,INDEX('Eingabe Spielernamen'!F:F,MATCH(C25,'Eingabe Spielernamen'!B:B))&\", \"&INDEX('Eingabe Spielernamen'!G:G,MATCH(C25,'Eingabe Spielernamen'!B:B,0)),\" \")","v":", "},{"$f":"IF($C25<>0,INDEX('Eingabe Spielernamen'!A:A,MATCH(C25,'Eingabe Spielernamen'!B:B,)),\" \")","v":0},24,{"$f":"F25+17","v":41},41]
[{"$f":"A22+1","v":7},25,{"$f":"'1. Serie'!C26","v":107},{"$f":"IF($C26<>0,INDEX('Eingabe Spielernamen'!F:F,MATCH(C26,'Eingabe Spielernamen'!B:B))&\", \"&INDEX('Eingabe Spielernamen'!G:G,MATCH(C26,'Eingabe Spielernamen'!B:B,0)),\" \")","v":", "},{"$f":"IF($C26<>0,INDEX('Eingabe Spielernamen'!A:A,MATCH(C26,'Eingabe Spielernamen'!B:B,)),\" \")","v":0},25,{"$f":"F26+5","v":30},30]
[null,26,{"$f":"'1. Serie'!C27","v":208},{"$f":"IF($C27<>0,INDEX('Eingabe Spielernamen'!F:F,MATCH(C27,'Eingabe Spielernamen'!B:B))&\", \"&INDEX('Eingabe Spielernamen'!G:G,MATCH(C27,'Eingabe Spielernamen'!B:B,0)),\" \")","v":", "},{"$f":"IF($C27<>0,INDEX('Eingabe Spielernamen'!A:A,MATCH(C27,'Eingabe Spielernamen'!B:B,)),\" \")","v":0},26,{"$f":"F27+9","v":35},35]
[null,27,{"$f":"'1. Serie'!C28","v":309},{"$f":"IF($C28<>0,INDEX('Eingabe Spielernamen'!F:F,MATCH(C28,'Eingabe Spielernamen'!B:B))&\", \"&INDEX('Eingabe Spielernamen'!G:G,MATCH(C28,'Eingabe Spielernamen'!B:B,0)),\" \")","v":", "},{"$f":"IF($C28<>0,INDEX('Eingabe Spielernamen'!A:A,MATCH(C28,'Eingabe Spielernamen'!B:B,)),\" \")","v":0},27,{"$f":"F28+13","v":40},40,"Wenn weniger Teilnehmer wird dann automatisch angepasst! Dann evtl. Startkarten ändern!"]
[null,28,{"$f":"'1. Serie'!C29","v":410},{"$f":"IF($C29<>0,INDEX('Eingabe Spielernamen'!F:F,MATCH(C29,'Eingabe Spielernamen'!B:B))&\", \"&INDEX('Eingabe Spielernamen'!G:G,MATCH(C29,'Eingabe Spielernamen'!B:B,0)),\" \")","v":", "},{"$f":"IF($C29<>0,INDEX('Eingabe Spielernamen'!A:A,MATCH(C29,'Eingabe Spielernamen'!B:B,)),\" \")","v":0},28,{"$f":"F29+17","v":45},45]
[{"$f":"A26+1","v":8},29,{"$f":"'1. Serie'!C30","v":108},{"$f":"IF($C30<>0,INDEX('Eingabe Spielernamen'!F:F,MATCH(C30,'Eingabe Spielernamen'!B:B))&\", \"&INDEX('Eingabe Spielernamen'!G:G,MATCH(C30,'Eingabe Spielernamen'!B:B,0)),\" \")","v":", "},{"$f":"IF($C30<>0,INDEX('Eingabe Spielernamen'!A:A,MATCH(C30,'Eingabe Spielernamen'!B:B,)),\" \")","v":0},29,{"$f":"F30+5","v":34},34]
[null,30,{"$f":"'1. Serie'!C31","v":209},{"$f":"IF($C31<>0,INDEX('Eingabe Spielernamen'!F:F,MATCH(C31,'Eingabe Spielernamen'!B:B))&\", \"&INDEX('Eingabe Spielernamen'!G:G,MATCH(C31,'Eingabe Spielernamen'!B:B,0)),\" \")","v":", "},{"$f":"IF($C31<>0,INDEX('Eingabe Spielernamen'!A:A,MATCH(C31,'Eingabe Spielernamen'!B:B,)),\" \")","v":0},30,{"$f":"F31+9","v":39},39]
[null,31,{"$f":"'1. Serie'!C32","v":310},{"$f":"IF($C32<>0,INDEX('Eingabe Spielernamen'!F:F,MATCH(C32,'Eingabe Spielernamen'!B:B))&\", \"&INDEX('Eingabe Spielernamen'!G:G,MATCH(C32,'Eingabe Spielernamen'!B:B,0)),\" \")","v":", "},{"$f":"IF($C32<>0,INDEX('Eingabe Spielernamen'!A:A,MATCH(C32,'Eingabe Spielernamen'!B:B,)),\" \")","v":0},31,{"$f":"F32+13","v":44},44]
[null,32,{"$f":"'1. Serie'!C33","v":411},{"$f":"IF($C33<>0,INDEX('Eingabe Spielernamen'!F:F,MATCH(C33,'Eingabe Spielernamen'!B:B))&\", \"&INDEX('Eingabe Spielernamen'!G:G,MATCH(C33,'Eingabe Spielernamen'!B:B,0)),\" \")","v":", "},{"$f":"IF($C33<>0,INDEX('Eingabe Spielernamen'!A:A,MATCH(C33,'Eingabe Spielernamen'!B:B,)),\" \")","v":0},32,{"$f":"F33+17","v":49},49]
[{"$f":"A30+1","v":9},33,{"$f":"'1. Serie'!C34","v":109},{"$f":"IF($C34<>0,INDEX('Eingabe Spielernamen'!F:F,MATCH(C34,'Eingabe Spielernamen'!B:B))&\", \"&INDEX('Eingabe Spielernamen'!G:G,MATCH(C34,'Eingabe Spielernamen'!B:B,0)),\" \")","v":", "},{"$f":"IF($C34<>0,INDEX('Eingabe Spielernamen'!A:A,MATCH(C34,'Eingabe Spielernamen'!B:B,)),\" \")","v":0},{"$f":"B34","v":33},{"$f":"F34+5","v":38},{"$f":"IF(G34>I$1,G34-I$1,G34)","v":38}]
[null,34,{"$f":"'1. Serie'!C35","v":210},{"$f":"IF($C35<>0,INDEX('Eingabe Spielernamen'!F:F,MATCH(C35,'Eingabe Spielernamen'!B:B))&\", \"&INDEX('Eingabe Spielernamen'!G:G,MATCH(C35,'Eingabe Spielernamen'!B:B,0)),\" \")","v":", "},{"$f":"IF($C35<>0,INDEX('Eingabe Spielernamen'!A:A,MATCH(C35,'Eingabe Spielernamen'!B:B,)),\" \")","v":0},34,{"$f":"F35+9","v":43},43]
[null,35,{"$f":"'1. Serie'!C36","v":311},{"$f":"IF($C36<>0,INDEX('Eingabe Spielernamen'!F:F,MATCH(C36,'Eingabe Spielernamen'!B:B))&\", \"&INDEX('Eingabe Spielernamen'!G:G,MATCH(C36,'Eingabe Spielernamen'!B:B,0)),\" \")","v":", "},{"$f":"IF($C36<>0,INDEX('Eingabe Spielernamen'!A:A,MATCH(C36,'Eingabe Spielernamen'!B:B,)),\" \")","v":0},35,{"$f":"F36+13","v":48},48]
[null,36,{"$f":"'1. Serie'!C37","v":412},{"$f":"IF($C37<>0,INDEX('Eingabe Spielernamen'!F:F,MATCH(C37,'Eingabe Spielernamen'!B:B))&\", \"&INDEX('Eingabe Spielernamen'!G:G,MATCH(C37,'Eingabe Spielernamen'!B:B,0)),\" \")","v":", "},{"$f":"IF($C37<>0,INDEX('Eingabe Spielernamen'!A:A,MATCH(C37,'Eingabe Spielernamen'!B:B,)),\" \")","v":0},36,{"$f":"F37+17","v":53},53]
[{"$f":"A34+1","v":10},37,{"$f":"'1. Serie'!C38","v":110},{"$f":"IF($C38<>0,INDEX('Eingabe Spielernamen'!F:F,MATCH(C38,'Eingabe Spielernamen'!B:B))&\", \"&INDEX('Eingabe Spielernamen'!G:G,MATCH(C38,'Eingabe Spielernamen'!B:B,0)),\" \")","v":", "},{"$f":"IF($C38<>0,INDEX('Eingabe Spielernamen'!A:A,MATCH(C38,'Eingabe Spielernamen'!B:B,)),\" \")","v":0},37,{"$f":"F38+5","v":42},42]
[null,38,{"$f":"'1. Serie'!C39","v":211},{"$f":"IF($C39<>0,INDEX('Eingabe Spielernamen'!F:F,MATCH(C39,'Eingabe Spielernamen'!B:B))&\", \"&INDEX('Eingabe Spielernamen'!G:G,MATCH(C39,'Eingabe Spielernamen'!B:B,0)),\" \")","v":", "},{"$f":"IF($C39<>0,INDEX('Eingabe Spielernamen'!A:A,MATCH(C39,'Eingabe Spielernamen'!B:B,)),\" \")","v":0},38,{"$f":"F39+9","v":47},47]
[null,39,{"$f":"'1. Serie'!C40","v":312},{"$f":"IF($C40<>0,INDEX('Eingabe Spielernamen'!F:F,MATCH(C40,'Eingabe Spielernamen'!B:B))&\", \"&INDEX('Eingabe Spielernamen'!G:G,MATCH(C40,'Eingabe Spielernamen'!B:B,0)),\" \")","v":", "},{"$f":"IF($C40<>0,INDEX('Eingabe Spielernamen'!A:A,MATCH(C40,'Eingabe Spielernamen'!B:B,)),\" \")","v":0},39,{"$f":"F40+13","v":52},52]
[null,40,{"$f":"'1. Serie'!C41","v":413},{"$f":"IF($C41<>0,INDEX('Eingabe Spielernamen'!F:F,MATCH(C41,'Eingabe Spielernamen'!B:B))&\", \"&INDEX('Eingabe Spielernamen'!G:G,MATCH(C41,'Eingabe Spielernamen'!B:B,0)),\" \")","v":", "},{"$f":"IF($C41<>0,INDEX('Eingabe Spielernamen'!A:A,MATCH(C41,'Eingabe Spielernamen'!B:B,)),\" \")","v":0},40,{"$f":"F41+17","v":57},57]
[{"$f":"A38+1","v":11},41,{"$f":"'1. Serie'!C42","v":111},{"$f":"IF($C42<>0,INDEX('Eingabe Spielernamen'!F:F,MATCH(C42,'Eingabe Spielernamen'!B:B))&\", \"&INDEX('Eingabe Spielernamen'!G:G,MATCH(C42,'Eingabe Spielernamen'!B:B,0)),\" \")","v":", "},{"$f":"IF($C42<>0,INDEX('Eingabe Spielernamen'!A:A,MATCH(C42,'Eingabe Spielernamen'!B:B,)),\" \")","v":0},41,{"$f":"F42+5","v":46},46]
[null,42,{"$f":"'1. Serie'!C43","v":212},{"$f":"IF($C43<>0,INDEX('Eingabe Spielernamen'!F:F,MATCH(C43,'Eingabe Spielernamen'!B:B))&\", \"&INDEX('Eingabe Spielernamen'!G:G,MATCH(C43,'Eingabe Spielernamen'!B:B,0)),\" \")","v":", "},{"$f":"IF($C43<>0,INDEX('Eingabe Spielernamen'!A:A,MATCH(C43,'Eingabe Spielernamen'!B:B,)),\" \")","v":0},42,{"$f":"F43+9","v":51},51]
[null,43,{"$f":"'1. Serie'!C44","v":313},{"$f":"IF($C44<>0,INDEX('Eingabe Spielernamen'!F:F,MATCH(C44,'Eingabe Spielernamen'!B:B))&\", \"&INDEX('Eingabe Spielernamen'!G:G,MATCH(C44,'Eingabe Spielernamen'!B:B,0)),\" \")","v":", "},{"$f":"IF($C44<>0,INDEX('Eingabe Spielernamen'!A:A,MATCH(C44,'Eingabe Spielernamen'!B:B,)),\" \")","v":0},43,{"$f":"F44+13","v":56},56]
[null,44,{"$f":"'1. Serie'!C45","v":414},{"$f":"IF($C45<>0,INDEX('Eingabe Spielernamen'!F:F,MATCH(C45,'Eingabe Spielernamen'!B:B))&\", \"&INDEX('Eingabe Spielernamen'!G:G,MATCH(C45,'Eingabe Spielernamen'!B:B,0)),\" \")","v":", "},{"$f":"IF($C45<>0,INDEX('Eingabe Spielernamen'!A:A,MATCH(C45,'Eingabe Spielernamen'!B:B,)),\" \")","v":0},44,{"$f":"F45+17","v":61},61]
[{"$f":"A42+1","v":12},45,{"$f":"'1. Serie'!C46","v":112},{"$f":"IF($C46<>0,INDEX('Eingabe Spielernamen'!F:F,MATCH(C46,'Eingabe Spielernamen'!B:B))&\", \"&INDEX('Eingabe Spielernamen'!G:G,MATCH(C46,'Eingabe Spielernamen'!B:B,0)),\" \")","v":", "},{"$f":"IF($C46<>0,INDEX('Eingabe Spielernamen'!A:A,MATCH(C46,'Eingabe Spielernamen'!B:B,)),\" \")","v":0},45,{"$f":"F46+5","v":50},50]
[null,46,{"$f":"'1. Serie'!C47","v":213},{"$f":"IF($C47<>0,INDEX('Eingabe Spielernamen'!F:F,MATCH(C47,'Eingabe Spielernamen'!B:B))&\", \"&INDEX('Eingabe Spielernamen'!G:G,MATCH(C47,'Eingabe Spielernamen'!B:B,0)),\" \")","v":", "},{"$f":"IF($C47<>0,INDEX('Eingabe Spielernamen'!A:A,MATCH(C47,'Eingabe Spielernamen'!B:B,)),\" \")","v":0},46,{"$f":"F47+9","v":55},55]
[null,47,{"$f":"'1. Serie'!C48","v":314},{"$f":"IF($C48<>0,INDEX('Eingabe Spielernamen'!F:F,MATCH(C48,'Eingabe Spielernamen'!B:B))&\", \"&INDEX('Eingabe Spielernamen'!G:G,MATCH(C48,'Eingabe Spielernamen'!B:B,0)),\" \")","v":", "},{"$f":"IF($C48<>0,INDEX('Eingabe Spielernamen'!A:A,MATCH(C48,'Eingabe Spielernamen'!B:B,)),\" \")","v":0},47,{"$f":"F48+13","v":60},60]
[null,48,{"$f":"'1. Serie'!C49","v":415},{"$f":"IF($C49<>0,INDEX('Eingabe Spielernamen'!F:F,MATCH(C49,'Eingabe Spielernamen'!B:B))&\", \"&INDEX('Eingabe Spielernamen'!G:G,MATCH(C49,'Eingabe Spielernamen'!B:B,0)),\" \")","v":", "},{"$f":"IF($C49<>0,INDEX('Eingabe Spielernamen'!A:A,MATCH(C49,'Eingabe Spielernamen'!B:B,)),\" \")","v":0},48,{"$f":"F49+17","v":65},1]
[{"$f":"A46+1","v":13},49,{"$f":"'1. Serie'!C50","v":113},{"$f":"IF($C50<>0,INDEX('Eingabe Spielernamen'!F:F,MATCH(C50,'Eingabe Spielernamen'!B:B))&\", \"&INDEX('Eingabe Spielernamen'!G:G,MATCH(C50,'Eingabe Spielernamen'!B:B,0)),\" \")","v":", "},{"$f":"IF($C50<>0,INDEX('Eingabe Spielernamen'!A:A,MATCH(C50,'Eingabe Spielernamen'!B:B,)),\" \")","v":0},49,{"$f":"F50+5","v":54},54]
[null,50,{"$f":"'1. Serie'!C51","v":214},{"$f":"IF($C51<>0,INDEX('Eingabe Spielernamen'!F:F,MATCH(C51,'Eingabe Spielernamen'!B:B))&\", \"&INDEX('Eingabe Spielernamen'!G:G,MATCH(C51,'Eingabe Spielernamen'!B:B,0)),\" \")","v":", "},{"$f":"IF($C51<>0,INDEX('Eingabe Spielernamen'!A:A,MATCH(C51,'Eingabe Spielernamen'!B:B,)),\" \")","v":0},50,{"$f":"F51+9","v":59},59]
[null,51,{"$f":"'1. Serie'!C52","v":315},{"$f":"IF($C52<>0,INDEX('Eingabe Spielernamen'!F:F,MATCH(C52,'Eingabe Spielernamen'!B:B))&\", \"&INDEX('Eingabe Spielernamen'!G:G,MATCH(C52,'Eingabe Spielernamen'!B:B,0)),\" \")","v":", "},{"$f":"IF($C52<>0,INDEX('Eingabe Spielernamen'!A:A,MATCH(C52,'Eingabe Spielernamen'!B:B,)),\" \")","v":0},51,{"$f":"F52+13","v":64},64]
[null,52,{"$f":"'1. Serie'!C53","v":416},{"$f":"IF($C53<>0,INDEX('Eingabe Spielernamen'!F:F,MATCH(C53,'Eingabe Spielernamen'!B:B))&\", \"&INDEX('Eingabe Spielernamen'!G:G,MATCH(C53,'Eingabe Spielernamen'!B:B,0)),\" \")","v":", "},{"$f":"IF($C53<>0,INDEX('Eingabe Spielernamen'!A:A,MATCH(C53,'Eingabe Spielernamen'!B:B,)),\" \")","v":0},52,{"$f":"F53+17","v":69},5]
[{"$f":"A50+1","v":14},53,{"$f":"'1. Serie'!C54","v":114},{"$f":"IF($C54<>0,INDEX('Eingabe Spielernamen'!F:F,MATCH(C54,'Eingabe Spielernamen'!B:B))&\", \"&INDEX('Eingabe Spielernamen'!G:G,MATCH(C54,'Eingabe Spielernamen'!B:B,0)),\" \")","v":", "},{"$f":"IF($C54<>0,INDEX('Eingabe Spielernamen'!A:A,MATCH(C54,'Eingabe Spielernamen'!B:B,)),\" \")","v":0},53,{"$f":"F54+5","v":58},58]
[null,54,{"$f":"'1. Serie'!C55","v":215},{"$f":"IF($C55<>0,INDEX('Eingabe Spielernamen'!F:F,MATCH(C55,'Eingabe Spielernamen'!B:B))&\", \"&INDEX('Eingabe Spielernamen'!G:G,MATCH(C55,'Eingabe Spielernamen'!B:B,0)),\" \")","v":", "},{"$f":"IF($C55<>0,INDEX('Eingabe Spielernamen'!A:A,MATCH(C55,'Eingabe Spielernamen'!B:B,)),\" \")","v":0},54,{"$f":"F55+9","v":63},63]
[null,55,{"$f":"'1. Serie'!C56","v":316},{"$f":"IF($C56<>0,INDEX('Eingabe Spielernamen'!F:F,MATCH(C56,'Eingabe Spielernamen'!B:B))&\", \"&INDEX('Eingabe Spielernamen'!G:G,MATCH(C56,'Eingabe Spielernamen'!B:B,0)),\" \")","v":", "},{"$f":"IF($C56<>0,INDEX('Eingabe Spielernamen'!A:A,MATCH(C56,'Eingabe Spielernamen'!B:B,)),\" \")","v":0},55,{"$f":"F56+13","v":68},4]
[null,56,{"$f":"'1. Serie'!C57","v":401},{"$f":"IF($C57<>0,INDEX('Eingabe Spielernamen'!F:F,MATCH(C57,'Eingabe Spielernamen'!B:B))&\", \"&INDEX('Eingabe Spielernamen'!G:G,MATCH(C57,'Eingabe Spielernamen'!B:B,0)),\" \")","v":", "},{"$f":"IF($C57<>0,INDEX('Eingabe Spielernamen'!A:A,MATCH(C57,'Eingabe Spielernamen'!B:B,)),\" \")","v":0},56,{"$f":"F57+17","v":73},9]
[{"$f":"A54+1","v":15},57,{"$f":"'1. Serie'!C58","v":115},{"$f":"IF($C58<>0,INDEX('Eingabe Spielernamen'!F:F,MATCH(C58,'Eingabe Spielernamen'!B:B))&\", \"&INDEX('Eingabe Spielernamen'!G:G,MATCH(C58,'Eingabe Spielernamen'!B:B,0)),\" \")","v":", "},{"$f":"IF($C58<>0,INDEX('Eingabe Spielernamen'!A:A,MATCH(C58,'Eingabe Spielernamen'!B:B,)),\" \")","v":0},57,{"$f":"F58+5","v":62},62]
[null,58,{"$f":"'1. Serie'!C59","v":216},{"$f":"IF($C59<>0,INDEX('Eingabe Spielernamen'!F:F,MATCH(C59,'Eingabe Spielernamen'!B:B))&\", \"&INDEX('Eingabe Spielernamen'!G:G,MATCH(C59,'Eingabe Spielernamen'!B:B,0)),\" \")","v":", "},{"$f":"IF($C59<>0,INDEX('Eingabe Spielernamen'!A:A,MATCH(C59,'Eingabe Spielernamen'!B:B,)),\" \")","v":0},58,{"$f":"F59+9","v":67},3]
[null,59,{"$f":"'1. Serie'!C60","v":301},{"$f":"IF($C60<>0,INDEX('Eingabe Spielernamen'!F:F,MATCH(C60,'Eingabe Spielernamen'!B:B))&\", \"&INDEX('Eingabe Spielernamen'!G:G,MATCH(C60,'Eingabe Spielernamen'!B:B,0)),\" \")","v":", "},{"$f":"IF($C60<>0,INDEX('Eingabe Spielernamen'!A:A,MATCH(C60,'Eingabe Spielernamen'!B:B,)),\" \")","v":0},59,{"$f":"F60+13","v":72},8]
[null,60,{"$f":"'1. Serie'!C61","v":402},{"$f":"IF($C61<>0,INDEX('Eingabe Spielernamen'!F:F,MATCH(C61,'Eingabe Spielernamen'!B:B))&\", \"&INDEX('Eingabe Spielernamen'!G:G,MATCH(C61,'Eingabe Spielernamen'!B:B,0)),\" \")","v":", "},{"$f":"IF($C61<>0,INDEX('Eingabe Spielernamen'!A:A,MATCH(C61,'Eingabe Spielernamen'!B:B,)),\" \")","v":0},60,{"$f":"F61+17","v":77},13]
[{"$f":"A58+1","v":16},61,{"$f":"'1. Serie'!C62","v":116},{"$f":"IF($C62<>0,INDEX('Eingabe Spielernamen'!F:F,MATCH(C62,'Eingabe Spielernamen'!B:B))&\", \"&INDEX('Eingabe Spielernamen'!G:G,MATCH(C62,'Eingabe Spielernamen'!B:B,0)),\" \")","v":", "},{"$f":"IF($C62<>0,INDEX('Eingabe Spielernamen'!A:A,MATCH(C62,'Eingabe Spielernamen'!B:B,)),\" \")","v":0},61,{"$f":"F62+5","v":66},2]
[null,62,{"$f":"'1. Serie'!C63","v":201},{"$f":"IF($C63<>0,INDEX('Eingabe Spielernamen'!F:F,MATCH(C63,'Eingabe Spielernamen'!B:B))&\", \"&INDEX('Eingabe Spielernamen'!G:G,MATCH(C63,'Eingabe Spielernamen'!B:B,0)),\" \")","v":", "},{"$f":"IF($C63<>0,INDEX('Eingabe Spielernamen'!A:A,MATCH(C63,'Eingabe Spielernamen'!B:B,)),\" \")","v":0},62,{"$f":"F63+9","v":71},7]
[null,63,{"$f":"'1. Serie'!C64","v":302},{"$f":"IF($C64<>0,INDEX('Eingabe Spielernamen'!F:F,MATCH(C64,'Eingabe Spielernamen'!B:B))&\", \"&INDEX('Eingabe Spielernamen'!G:G,MATCH(C64,'Eingabe Spielernamen'!B:B,0)),\" \")","v":", "},{"$f":"IF($C64<>0,INDEX('Eingabe Spielernamen'!A:A,MATCH(C64,'Eingabe Spielernamen'!B:B,)),\" \")","v":0},63,{"$f":"F64+13","v":76},12]
[null,64,{"$f":"'1. Serie'!C65","v":403},{"$f":"IF($C65<>0,INDEX('Eingabe Spielernamen'!F:F,MATCH(C65,'Eingabe Spielernamen'!B:B))&\", \"&INDEX('Eingabe Spielernamen'!G:G,MATCH(C65,'Eingabe Spielernamen'!B:B,0)),\" \")","v":", "},{"$f":"IF($C65<>0,INDEX('Eingabe Spielernamen'!A:A,MATCH(C65,'Eingabe Spielernamen'!B:B,)),\" \")","v":0},64,{"$f":"F65+17","v":81},17]

{"sheet":"Listen (2.)","index":9,"n_rows":64,"n_cols":8,"rows_kept":64,"cut":false,"hidden":false,"merged":[]}
[{"$f":"'Eingabe Spielernamen'!I6","v":"2020-05-29"},"2. Serie",1,null,{"$f":"A1","v":"2020-05-29"},{"$f":"B1","v":"2. Serie"},{"$f":"C1","v":1}]
[]
[{"$f":"'2. Serie'!D2","v":", "},{"$f":"'2. Serie'!D3","v":", "},{"$f":"'2. Serie'!D4","v":", "},{"$f":"'2. Serie'!D5","v":", "},{"$f":"'2. Serie'!D2","v":", "},{"$f":"'2. Serie'!D3","v":", "},{"$f":"'2. Serie'!D4","v":", "},{"$f":"'2. Serie'!D5","v":", "}]
[{"$f":"'2. Serie'!C2","v":101},{"$f":"'2. Serie'!C3","v":202},{"$f":"'2. Serie'!C4","v":303},{"$f":"'2. Serie'!C5","v":404},{"$f":"'2. Serie'!C2","v":101},{"$f":"'2. Serie'!C3","v":202},{"$f":"'2. Serie'!C4","v":303},{"$f":"'2. Serie'!C5","v":404}]
[{"$f":"A1","v":"2020-05-29"},{"$f":"$B$1","v":"2. Serie"},{"$f":"C1+1","v":2},null,{"$f":"E1","v":"2020-05-29"},{"$f":"$B$1","v":"2. Serie"},{"$f":"G1+1","v":2},{"$f":"D5","v":0}]
[]
[{"$f":"'2. Serie'!D6","v":", "},{"$f":"'2. Serie'!D7","v":", "},{"$f":"'2. Serie'!D8","v":", "},{"$f":"'2. Serie'!D9","v":", "},{"$f":"'2. Serie'!D6","v":", "},{"$f":"'2. Serie'!D7","v":", "},{"$f":"'2. Serie'!D8","v":", "},{"$f":"'2. Serie'!D9","v":", "}]
[{"$f":"'2. Serie'!C6","v":102},{"$f":"'2. Serie'!C7","v":203},{"$f":"'2. Serie'!C8","v":304},{"$f":"'2. Serie'!C9","v":405},{"$f":"'2. Serie'!C6","v":102},{"$f":"'2. Serie'!C7","v":203},{"$f":"'2. Serie'!C8","v":304},{"$f":"'2. Serie'!C9","v":405}]
[{"$f":"A5","v":"2020-05-29"},{"$f":"$B$1","v":"2. Serie"},{"$f":"C5+1","v":3},null,{"$f":"E5","v":"2020-05-29"},{"$f":"$B$1","v":"2. Serie"},{"$f":"G5+1","v":3},{"$f":"D9","v":0}]
[]
[{"$f":"'2. Serie'!D10","v":", "},{"$f":"'2. Serie'!D11","v":", "},{"$f":"'2. Serie'!D12","v":", "},{"$f":"'2. Serie'!D13","v":", "},{"$f":"'2. Serie'!D10","v":", "},{"$f":"'2. Serie'!D11","v":", "},{"$f":"'2. Serie'!D12","v":", "},{"$f":"'2. Serie'!D13","v":", "}]
[{"$f":"'2. Serie'!C10","v":103},{"$f":"'2. Serie'!C11","v":204},{"$f":"'2. Serie'!C12","v":305},{"$f":"'2. Serie'!C13","v":406},{"$f":"'2. Serie'!C10","v":103},{"$f":"'2. Serie'!C11","v":204},{"$f":"'2. Serie'!C12","v":305},{"$f":"'2. Serie'!C13","v":406}]
[{"$f":"A9","v":"2020-05-29"},{"$f":"$B$1","v":"2. Serie"},{"$f":"C9+1","v":4},null,{"$f":"E9","v":"2020-05-29"},{"$f":"$B$1","v":"2. Serie"},{"$f":"G9+1","v":4},{"$f":"D13","v":0}]
[]
[{"$f":"'2. Serie'!D14","v":", "},{"$f":"'2. Serie'!D15","v":", "},{"$f":"'2. Serie'!D16","v":", "},{"$f":"'2. Serie'!D17","v":", "},{"$f":"'2. Serie'!D14","v":", "},{"$f":"'2. Serie'!D15","v":", "},{"$f":"'2. Serie'!D16","v":", "},{"$f":"'2. Serie'!D17","v":", "}]
[{"$f":"'2. Serie'!C14","v":104},{"$f":"'2. Serie'!C15","v":205},{"$f":"'2. Serie'!C16","v":306},{"$f":"'2. Serie'!C17","v":407},{"$f":"'2. Serie'!C14","v":104},{"$f":"'2. Serie'!C15","v":205},{"$f":"'2. Serie'!C16","v":306},{"$f":"'2. Serie'!C17","v":407}]
[{"$f":"A13","v":"2020-05-29"},{"$f":"$B$1","v":"2. Serie"},{"$f":"C13+1","v":5},null,{"$f":"E13","v":"2020-05-29"},{"$f":"$B$1","v":"2. Serie"},{"$f":"G13+1","v":5},{"$f":"D17","v":0}]
[]
[{"$f":"'2. Serie'!D18","v":", "},{"$f":"'2. Serie'!D19","v":", "},{"$f":"'2. Serie'!D20","v":", "},{"$f":"'2. Serie'!D21","v":", "},{"$f":"'2. Serie'!D18","v":", "},{"$f":"'2. Serie'!D19","v":", "},{"$f":"'2. Serie'!D20","v":", "},{"$f":"'2. Serie'!D21","v":", "}]
[{"$f":"'2. Serie'!C18","v":105},{"$f":"'2. Serie'!C19","v":206},{"$f":"'2. Serie'!C20","v":307},{"$f":"'2. Serie'!C21","v":408},{"$f":"'2. Serie'!C18","v":105},{"$f":"'2. Serie'!C19","v":206},{"$f":"'2. Serie'!C20","v":307},{"$f":"'2. Serie'!C21","v":408}]
[{"$f":"A17","v":"2020-05-29"},{"$f":"$B$1","v":"2. Serie"},{"$f":"C17+1","v":6},null,{"$f":"E17","v":"2020-05-29"},{"$f":"$B$1","v":"2. Serie"},{"$f":"G17+1","v":6},{"$f":"D21","v":0}]
[]
[{"$f":"'2. Serie'!D22","v":", "},{"$f":"'2. Serie'!D23","v":", "},{"$f":"'2. Serie'!D24","v":", "},{"$f":"'2. Serie'!D25","v":", "},{"$f":"'2. Serie'!D22","v":", "},{"$f":"'2. Serie'!D23","v":", "},{"$f":"'2. Serie'!D24","v":", "},{"$f":"'2. Serie'!D25","v":", "}]
[{"$f":"'2. Serie'!C22","v":106},{"$f":"'2. Serie'!C23","v":207},{"$f":"'2. Serie'!C24","v":308},{"$f":"'2. Serie'!C25","v":409},{"$f":"'2. Serie'!C22","v":106},{"$f":"'2. Serie'!C23","v":207},{"$f":"'2. Serie'!C24","v":308},{"$f":"'2. Serie'!C25","v":409}]
[{"$f":"A21","v":"2020-05-29"},{"$f":"$B$1","v":"2. Serie"},{"$f":"C21+1","v":7},null,{"$f":"E21","v":"2020-05-29"},{"$f":"$B$1","v":"2. Serie"},{"$f":"G21+1","v":7},{"$f":"D25","v":0}]
[]
[{"$f":"'2. Serie'!D26","v":", "},{"$f":"'2. Serie'!D27","v":", "},{"$f":"'2. Serie'!D28","v":", "},{"$f":"'2. Serie'!D29","v":", "},{"$f":"'2. Serie'!D26","v":", "},{"$f":"'2. Serie'!D27","v":", "},{"$f":"'2. Serie'!D28","v":", "},{"$f":"'2. Serie'!D29","v":", "}]
[{"$f":"'2. Serie'!C26","v":107},{"$f":"'2. Serie'!C27","v":208},{"$f":"'2. Serie'!C28","v":309},{"$f":"'2. Serie'!C29","v":410},{"$f":"'2. Serie'!C26","v":107},{"$f":"'2. Serie'!C27","v":208},{"$f":"'2. Serie'!C28","v":309},{"$f":"'2. Serie'!C29","v":410}]
[{"$f":"A25","v":"2020-05-29"},{"$f":"$B$1","v":"2. Serie"},{"$f":"C25+1","v":8},null,{"$f":"E25","v":"2020-05-29"},{"$f":"$B$1","v":"2. Serie"},{"$f":"G25+1","v":8},{"$f":"D29","v":0}]
[]
[{"$f":"'2. Serie'!D30","v":", "},{"$f":"'2. Serie'!D31","v":", "},{"$f":"'2. Serie'!D32","v":", "},{"$f":"'2. Serie'!D33","v":", "},{"$f":"'2. Serie'!D30","v":", "},{"$f":"'2. Serie'!D31","v":", "},{"$f":"'2. Serie'!D32","v":", "},{"$f":"'2. Serie'!D33","v":", "}]
[{"$f":"'2. Serie'!C30","v":108},{"$f":"'2. Serie'!C31","v":209},{"$f":"'2. Serie'!C32","v":310},{"$f":"'2. Serie'!C33","v":411},{"$f":"'2. Serie'!C30","v":108},{"$f":"'2. Serie'!C31","v":209},{"$f":"'2. Serie'!C32","v":310},{"$f":"'2. Serie'!C33","v":411}]
[{"$f":"A29","v":"2020-05-29"},{"$f":"$B$1","v":"2. Serie"},{"$f":"C29+1","v":9},null,{"$f":"E29","v":"2020-05-29"},{"$f":"$B$1","v":"2. Serie"},{"$f":"G29+1","v":9},{"$f":"D33","v":0}]
[]
[{"$f":"'2. Serie'!D34","v":", "},{"$f":"'2. Serie'!D35","v":", "},{"$f":"'2. Serie'!D36","v":", "},{"$f":"'2. Serie'!D37","v":", "},{"$f":"'2. Serie'!D34","v":", "},{"$f":"'2. Serie'!D35","v":", "},{"$f":"'2. Serie'!D36","v":", "},{"$f":"'2. Serie'!D37","v":", "}]
[{"$f":"'2. Serie'!C34","v":109},{"$f":"'2. Serie'!C35","v":210},{"$f":"'2. Serie'!C36","v":311},{"$f":"'2. Serie'!C37","v":412},{"$f":"'2. Serie'!C34","v":109},{"$f":"'2. Serie'!C35","v":210},{"$f":"'2. Serie'!C36","v":311},{"$f":"'2. Serie'!C37","v":412}]
[{"$f":"A33","v":"2020-05-29"},{"$f":"$B$1","v":"2. Serie"},{"$f":"C33+1","v":10},null,{"$f":"E33","v":"2020-05-29"},{"$f":"$B$1","v":"2. Serie"},{"$f":"G33+1","v":10},{"$f":"D37","v":0}]
[]
[{"$f":"'2. Serie'!D38","v":", "},{"$f":"'2. Serie'!D39","v":", "},{"$f":"'2. Serie'!D40","v":", "},{"$f":"'2. Serie'!D41","v":", "},{"$f":"'2. Serie'!D38","v":", "},{"$f":"'2. Serie'!D39","v":", "},{"$f":"'2. Serie'!D40","v":", "},{"$f":"'2. Serie'!D41","v":", "}]
[{"$f":"'2. Serie'!C38","v":110},{"$f":"'2. Serie'!C39","v":211},{"$f":"'2. Serie'!C40","v":312},{"$f":"'2. Serie'!C41","v":413},{"$f":"'2. Serie'!C38","v":110},{"$f":"'2. Serie'!C39","v":211},{"$f":"'2. Serie'!C40","v":312},{"$f":"'2. Serie'!C41","v":413}]
[{"$f":"A37","v":"2020-05-29"},{"$f":"$B$1","v":"2. Serie"},{"$f":"C37+1","v":11},null,{"$f":"E37","v":"2020-05-29"},{"$f":"$B$1","v":"2. Serie"},{"$f":"G37+1","v":11},{"$f":"D41","v":0}]
[]
[{"$f":"'2. Serie'!D42","v":", "},{"$f":"'2. Serie'!D43","v":", "},{"$f":"'2. Serie'!D44","v":", "},{"$f":"'2. Serie'!D45","v":", "},{"$f":"'2. Serie'!D42","v":", "},{"$f":"'2. Serie'!D43","v":", "},{"$f":"'2. Serie'!D44","v":", "},{"$f":"'2. Serie'!D45","v":", "}]
[{"$f":"'2. Serie'!C42","v":111},{"$f":"'2. Serie'!C43","v":212},{"$f":"'2. Serie'!C44","v":313},{"$f":"'2. Serie'!C45","v":414},{"$f":"'2. Serie'!C42","v":111},{"$f":"'2. Serie'!C43","v":212},{"$f":"'2. Serie'!C44","v":313},{"$f":"'2. Serie'!C45","v":414}]
[{"$f":"A41","v":"2020-05-29"},{"$f":"$B$1","v":"2. Serie"},{"$f":"C41+1","v":12},null,{"$f":"E41","v":"2020-05-29"},{"$f":"$B$1","v":"2. Serie"},{"$f":"G41+1","v":12},{"$f":"D45","v":0}]
[]
[{"$f":"'2. Serie'!D46","v":", "},{"$f":"'2. Serie'!D47","v":", "},{"$f":"'2. Serie'!D48","v":", "},{"$f":"'2. Serie'!D49","v":", "},{"$f":"'2. Serie'!D46","v":", "},{"$f":"'2. Serie'!D47","v":", "},{"$f":"'2. Serie'!D48","v":", "},{"$f":"'2. Serie'!D49","v":", "}]
[{"$f":"'2. Serie'!C46","v":112},{"$f":"'2. Serie'!C47","v":213},{"$f":"'2. Serie'!C48","v":314},{"$f":"'2. Serie'!C49","v":415},{"$f":"'2. Serie'!C46","v":112},{"$f":"'2. Serie'!C47","v":213},{"$f":"'2. Serie'!C48","v":314},{"$f":"'2. Serie'!C49","v":415}]
[{"$f":"A45","v":"2020-05-29"},{"$f":"$B$1","v":"2. Serie"},{"$f":"C45+1","v":13},null,{"$f":"E45","v":"2020-05-29"},{"$f":"$B$1","v":"2. Serie"},{"$f":"G45+1","v":13},{"$f":"D49","v":0}]
[]
[{"$f":"'2. Serie'!D50","v":", "},{"$f":"'2. Serie'!D51","v":", "},{"$f":"'2. Serie'!D52","v":", "},{"$f":"'2. Serie'!D53","v":", "},{"$f":"'2. Serie'!D50","v":", "},{"$f":"'2. Serie'!D51","v":", "},{"$f":"'2. Serie'!D52","v":", "},{"$f":"'2. Serie'!D53","v":", "}]
[{"$f":"'2. Serie'!C50","v":113},{"$f":"'2. Serie'!C51","v":214},{"$f":"'2. Serie'!C52","v":315},{"$f":"'2. Serie'!C53","v":416},{"$f":"'2. Serie'!C50","v":113},{"$f":"'2. Serie'!C51","v":214},{"$f":"'2. Serie'!C52","v":315},{"$f":"'2. Serie'!C53","v":416}]
[{"$f":"A49","v":"2020-05-29"},{"$f":"$B$1","v":"2. Serie"},{"$f":"C49+1","v":14},null,{"$f":"E49","v":"2020-05-29"},{"$f":"$B$1","v":"2. Serie"},{"$f":"G49+1","v":14},{"$f":"D53","v":0}]
[]
[{"$f":"'2. Serie'!D54","v":", "},{"$f":"'2. Serie'!D55","v":", "},{"$f":"'2. Serie'!D56","v":", "},{"$f":"'2. Serie'!D57","v":", "},{"$f":"'2. Serie'!D54","v":", "},{"$f":"'2. Serie'!D55","v":", "},{"$f":"'2. Serie'!D56","v":", "},{"$f":"'2. Serie'!D57","v":", "}]
[{"$f":"'2. Serie'!C54","v":114},{"$f":"'2. Serie'!C55","v":215},{"$f":"'2. Serie'!C56","v":316},{"$f":"'2. Serie'!C57","v":401},{"$f":"'2. Serie'!C54","v":114},{"$f":"'2. Serie'!C55","v":215},{"$f":"'2. Serie'!C56","v":316},{"$f":"'2. Serie'!C57","v":401}]
[{"$f":"A53","v":"2020-05-29"},{"$f":"$B$1","v":"2. Serie"},{"$f":"C53+1","v":15},null,{"$f":"E53","v":"2020-05-29"},{"$f":"$B$1","v":"2. Serie"},{"$f":"G53+1","v":15},{"$f":"D57","v":0}]
[]
[{"$f":"'2. Serie'!D58","v":", "},{"$f":"'2. Serie'!D59","v":", "},{"$f":"'2. Serie'!D60","v":", "},{"$f":"'2. Serie'!D61","v":", "},{"$f":"'2. Serie'!D58","v":", "},{"$f":"'2. Serie'!D59","v":", "},{"$f":"'2. Serie'!D60","v":", "},{"$f":"'2. Serie'!D61","v":", "}]
[{"$f":"'2. Serie'!C58","v":115},{"$f":"'2. Serie'!C59","v":216},{"$f":"'2. Serie'!C60","v":301},{"$f":"'2. Serie'!C61","v":402},{"$f":"'2. Serie'!C58","v":115},{"$f":"'2. Serie'!C59","v":216},{"$f":"'2. Serie'!C60","v":301},{"$f":"'2. Serie'!C61","v":402}]
[{"$f":"A57","v":"2020-05-29"},{"$f":"$B$1","v":"2. Serie"},{"$f":"C57+1","v":16},null,{"$f":"E57","v":"2020-05-29"},{"$f":"$B$1","v":"2. Serie"},{"$f":"G57+1","v":16},{"$f":"D61","v":0}]
[]
[{"$f":"'2. Serie'!D62","v":", "},{"$f":"'2. Serie'!D63","v":", "},{"$f":"'2. Serie'!D64","v":", "},{"$f":"'2. Serie'!D65","v":", "},{"$f":"'2. Serie'!D62","v":", "},{"$f":"'2. Serie'!D63","v":", "},{"$f":"'2. Serie'!D64","v":", "},{"$f":"'2. Serie'!D65","v":", "}]
[{"$f":"'2. Serie'!C62","v":116},{"$f":"'2. Serie'!C63","v":201},{"$f":"'2. Serie'!C64","v":302},{"$f":"'2. Serie'!C65","v":403},{"$f":"'2. Serie'!C62","v":116},{"$f":"'2. Serie'!C63","v":201},{"$f":"'2. Serie'!C64","v":302},{"$f":"'2. Serie'!C65","v":403}]

{"sheet":"3. Serie","index":10,"n_rows":65,"n_cols":10,"rows_kept":65,"cut":false,"hidden":false,"merged":[[27,8,36,9],[1,8,13,9],[14,8,26,9],[1,0,4,0],[5,0,8,0],[9,0,12,0],[13,0,16,0],[17,0,20,0],[21,0,24,0],[25,0,28,0],[29,0,32,0],[33,0,36,0],[57,0,60,0],[61,0,64,0],[37,0,40,0],[41,0,44,0],[45,0,48,0],[49,0,52,0],[53,0,56,0]]}
["T",{"$f":"#REF!","v":{"$error":"#REF!"}},"Start Nr.:","Name:","Verein:",null,null,null,64,"Teilnehmer"]
[1,1,{"$f":"'2. Serie'!C2","v":101},{"$f":"IF($C2<>0,INDEX('Eingabe Spielernamen'!F:F,MATCH(C2,'Eingabe Spielernamen'!B:B))&\", \"&INDEX('Eingabe Spielernamen'!G:G,MATCH(C2,'Eingabe Spielernamen'!B:B,0)),\" \")","v":", "},{"$f":"IF($C2<>0,INDEX('Eingabe Spielernamen'!A:A,MATCH(C2,'Eingabe Spielernamen'!B:B,)),\" \")","v":0},{"$f":"B2","v":1},{"$f":"F2+5","v":6},{"$f":"IF(G2>I$1,G2-I$1,G2)","v":6},"Sortieren der Teilnehmer zum Setzen nach \"Startkarten\" \"C-H\" nach\"H\" sortieren!"]
[null,2,{"$f":"'2. Serie'!C3","v":202},{"$f":"IF($C3<>0,INDEX('Eingabe Spielernamen'!F:F,MATCH(C3,'Eingabe Spielernamen'!B:B))&\", \"&INDEX('Eingabe Spielernamen'!G:G,MATCH(C3,'Eingabe Spielernamen'!B:B,0)),\" \")","v":", "},{"$f":"IF($C3<>0,INDEX('Eingabe Spielernamen'!A:A,MATCH(C3,'Eingabe Spielernamen'!B:B,)),\" \")","v":0},2,{"$f":"F3+9","v":11},11]
[null,3,{"$f":"'2. Serie'!C4","v":303},{"$f":"IF($C4<>0,INDEX('Eingabe Spielernamen'!F:F,MATCH(C4,'Eingabe Spielernamen'!B:B))&\", \"&INDEX('Eingabe Spielernamen'!G:G,MATCH(C4,'Eingabe Spielernamen'!B:B,0)),\" \")","v":", "},{"$f":"IF($C4<>0,INDEX('Eingabe Spielernamen'!A:A,MATCH(C4,'Eingabe Spielernamen'!B:B,)),\" \")","v":0},3,{"$f":"F4+13","v":16},16]
[null,4,{"$f":"'2. Serie'!C5","v":404},{"$f":"IF($C5<>0,INDEX('Eingabe Spielernamen'!F:F,MATCH(C5,'Eingabe Spielernamen'!B:B))&\", \"&INDEX('Eingabe Spielernamen'!G:G,MATCH(C5,'Eingabe Spielernamen'!B:B,0)),\" \")","v":", "},{"$f":"IF($C5<>0,INDEX('Eingabe Spielernamen'!A:A,MATCH(C5,'Eingabe Spielernamen'!B:B,)),\" \")","v":0},4,{"$f":"F5+17","v":21},21]
[{"$f":"A2+1","v":2},5,{"$f":"'2. Serie'!C6","v":102},{"$f":"IF($C6<>0,INDEX('Eingabe Spielernamen'!F:F,MATCH(C6,'Eingabe Spielernamen'!B:B))&\", \"&INDEX('Eingabe Spielernamen'!G:G,MATCH(C6,'Eingabe Spielernamen'!B:B,0)),\" \")","v":", "},{"$f":"IF($C6<>0,INDEX('Eingabe Spielernamen'!A:A,MATCH(C6,'Eingabe Spielernamen'!B:B,)),\" \")","v":0},5,{"$f":"F6+5","v":10},10]
[null,6,{"$f":"'2. Serie'!C7","v":203},{"$f":"IF($C7<>0,INDEX('Eingabe Spielernamen'!F:F,MATCH(C7,'Eingabe Spielernamen'!B:B))&\", \"&INDEX('Eingabe Spielernamen'!G:G,MATCH(C7,'Eingabe Spielernamen'!B:B,0)),\" \")","v":", "},{"$f":"IF($C7<>0,INDEX('Eingabe Spielernamen'!A:A,MATCH(C7,'Eingabe Spielernamen'!B:B,)),\" \")","v":0},6,{"$f":"F7+9","v":15},15]
[null,7,{"$f":"'2. Serie'!C8","v":304},{"$f":"IF($C8<>0,INDEX('Eingabe Spielernamen'!F:F,MATCH(C8,'Eingabe Spielernamen'!B:B))&\", \"&INDEX('Eingabe Spielernamen'!G:G,MATCH(C8,'Eingabe Spielernamen'!B:B,0)),\" \")","v":", "},{"$f":"IF($C8<>0,INDEX('Eingabe Spielernamen'!A:A,MATCH(C8,'Eingabe Spielernamen'!B:B,)),\" \")","v":0},7,{"$f":"F8+13","v":20},20]
[null,8,{"$f":"'2. Serie'!C9","v":405},{"$f":"IF($C9<>0,INDEX('Eingabe Spielernamen'!F:F,MATCH(C9,'Eingabe Spielernamen'!B:B))&\", \"&INDEX('Eingabe Spielernamen'!G:G,MATCH(C9,'Eingabe Spielernamen'!B:B,0)),\" \")","v":", "},{"$f":"IF($C9<>0,INDEX('Eingabe Spielernamen'!A:A,MATCH(C9,'Eingabe Spielernamen'!B:B,)),\" \")","v":0},8,{"$f":"F9+17","v":25},25]
[{"$f":"A6+1","v":3},9,{"$f":"'2. Serie'!C10","v":103},{"$f":"IF($C10<>0,INDEX('Eingabe Spielernamen'!F:F,MATCH(C10,'Eingabe Spielernamen'!B:B))&\", \"&INDEX('Eingabe Spielernamen'!G:G,MATCH(C10,'Eingabe Spielernamen'!B:B,0)),\" \")","v":", "},{"$f":"IF($C10<>0,INDEX('Eingabe Spielernamen'!A:A,MATCH(C10,'Eingabe Spielernamen'!B:B,)),\" \")","v":0},9,{"$f":"F10+5","v":14},14]
[null,10,{"$f":"'2. Serie'!C11","v":204},{"$f":"IF($C11<>0,INDEX('Eingabe Spielernamen'!F:F,MATCH(C11,'Eingabe Spielernamen'!B:B))&\", \"&INDEX('Eingabe Spielernamen'!G:G,MATCH(C11,'Eingabe Spielernamen'!B:B,0)),\" \")","v":", "},{"$f":"IF($C11<>0,INDEX('Eingabe Spielernamen'!A:A,MATCH(C11,'Eingabe Spielernamen'!B:B,)),\" \")","v":0},10,{"$f":"F11+9","v":19},19]
[null,11,{"$f":"'2. Serie'!C12","v":305},{"$f":"IF($C12<>0,INDEX('Eingabe Spielernamen'!F:F,MATCH(C12,'Eingabe Spielernamen'!B:B))&\", \"&INDEX('Eingabe Spielernamen'!G:G,MATCH(C12,'Eingabe Spielernamen'!B:B,0)),\" \")","v":", "},{"$f":"IF($C12<>0,INDEX('Eingabe Spielernamen'!A:A,MATCH(C12,'Eingabe Spielernamen'!B:B,)),\" \")","v":0},11,{"$f":"F12+13","v":24},24]
[null,12,{"$f":"'2. Serie'!C13","v":406},{"$f":"IF($C13<>0,INDEX('Eingabe Spielernamen'!F:F,MATCH(C13,'Eingabe Spielernamen'!B:B))&\", \"&INDEX('Eingabe Spielernamen'!G:G,MATCH(C13,'Eingabe Spielernamen'!B:B,0)),\" \")","v":", "},{"$f":"IF($C13<>0,INDEX('Eingabe Spielernamen'!A:A,MATCH(C13,'Eingabe Spielernamen'!B:B,)),\" \")","v":0},12,{"$f":"F13+17","v":29},29]
[{"$f":"A10+1","v":4},13,{"$f":"'2. Serie'!C14","v":104},{"$f":"IF($C14<>0,INDEX('Eingabe Spielernamen'!F:F,MATCH(C14,'Eingabe Spielernamen'!B:B))&\", \"&INDEX('Eingabe Spielernamen'!G:G,MATCH(C14,'Eingabe Spielernamen'!B:B,0)),\" \")","v":", "},{"$f":"IF($C14<>0,INDEX('Eingabe Spielernamen'!A:A,MATCH(C14,'Eingabe Spielernamen'!B:B,)),\" \")","v":0},13,{"$f":"F14+5","v":18},18]
[null,14,{"$f":"'2. Serie'!C15","v":205},{"$f":"IF($C15<>0,INDEX('Eingabe Spielernamen'!F:F,MATCH(C15,'Eingabe Spielernamen'!B:B))&\", \"&INDEX('Eingabe Spielernamen'!G:G,MATCH(C15,'Eingabe Spielernamen'!B:B,0)),\" \")","v":", "},{"$f":"IF($C15<>0,INDEX('Eingabe Spielernamen'!A:A,MATCH(C15,'Eingabe Spielernamen'!B:B,)),\" \")","v":0},14,{"$f":"F15+9","v":23},23,"Wichtig! Oben eine durch 4 teilbare Zahl eingeben!"]
[null,15,{"$f":"'2. Serie'!C16","v":306},{"$f":"IF($C16<>0,INDEX('Eingabe Spielernamen'!F:F,MATCH(C16,'Eingabe Spielernamen'!B:B))&\", \"&INDEX('Eingabe Spielernamen'!G:G,MATCH(C16,'Eingabe Spielernamen'!B:B,0)),\" \")","v":", "},{"$f":"IF($C16<>0,INDEX('Eingabe Spielernamen'!A:A,MATCH(C16,'Eingabe Spielernamen'!B:B,)),\" \")","v":0},15,{"$f":"F16+13","v":28},28]
[null,16,{"$f":"'2. Serie'!C17","v":407},{"$f":"IF($C17<>0,INDEX('Eingabe Spielernamen'!F:F,MATCH(C17,'Eingabe Spielernamen'!B:B))&\", \"&INDEX('Eingabe Spielernamen'!G:G,MATCH(C17,'Eingabe Spielernamen'!B:B,0)),\" \")","v":", "},{"$f":"IF($C17<>0,INDEX('Eingabe Spielernamen'!A:A,MATCH(C17,'Eingabe Spielernamen'!B:B,)),\" \")","v":0},16,{"$f":"F17+17","v":33},33]
[{"$f":"A14+1","v":5},17,{"$f":"'2. Serie'!C18","v":105},{"$f":"IF($C18<>0,INDEX('Eingabe Spielernamen'!F:F,MATCH(C18,'Eingabe Spielernamen'!B:B))&\", \"&INDEX('Eingabe Spielernamen'!G:G,MATCH(C18,'Eingabe Spielernamen'!B:B,0)),\" \")","v":", "},{"$f":"IF($C18<>0,INDEX('Eingabe Spielernamen'!A:A,MATCH(C18,'Eingabe Spielernamen'!B:B,)),\" \")","v":0},17,{"$f":"F18+5","v":22},22]
[null,18,{"$f":"'2. Serie'!C19","v":206},{"$f":"IF($C19<>0,INDEX('Eingabe Spielernamen'!F:F,MATCH(C19,'Eingabe Spielernamen'!B:B))&\", \"&INDEX('Eingabe Spielernamen'!G:G,MATCH(C19,'Eingabe Spielernamen'!B:B,0)),\" \")","v":", "},{"$f":"IF($C19<>0,INDEX('Eingabe Spielernamen'!A:A,MATCH(C19,'Eingabe Spielernamen'!B:B,)),\" \")","v":0},18,{"$f":"F19+9","v":27},27]
[null,19,{"$f":"'2. Serie'!C20","v":307},{"$f":"IF($C20<>0,INDEX('Eingabe Spielernamen'!F:F,MATCH(C20,'Eingabe Spielernamen'!B:B))&\", \"&INDEX('Eingabe Spielernamen'!G:G,MATCH(C20,'Eingabe Spielernamen'!B:B,0)),\" \")","v":", "},{"$f":"IF($C20<>0,INDEX('Eingabe Spielernamen'!A:A,MATCH(C20,'Eingabe Spielernamen'!B:B,)),\" \")","v":0},19,{"$f":"F20+13","v":32},32]
[null,20,{"$f":"'2. Serie'!C21","v":408},{"$f":"IF($C21<>0,INDEX('Eingabe Spielernamen'!F:F,MATCH(C21,'Eingabe Spielernamen'!B:B))&\", \"&INDEX('Eingabe Spielernamen'!G:G,MATCH(C21,'Eingabe Spielernamen'!B:B,0)),\" \")","v":", "},{"$f":"IF($C21<>0,INDEX('Eingabe Spielernamen'!A:A,MATCH(C21,'Eingabe Spielernamen'!B:B,)),\" \")","v":0},20,{"$f":"F21+17","v":37},37]
[{"$f":"A18+1","v":6},21,{"$f":"'2. Serie'!C22","v":106},{"$f":"IF($C22<>0,INDEX('Eingabe Spielernamen'!F:F,MATCH(C22,'Eingabe Spielernamen'!B:B))&\", \"&INDEX('Eingabe Spielernamen'!G:G,MATCH(C22,'Eingabe Spielernamen'!B:B,0)),\" \")","v":", "},{"$f":"IF($C22<>0,INDEX('Eingabe Spielernamen'!A:A,MATCH(C22,'Eingabe Spielernamen'!B:B,)),\" \")","v":0},21,{"$f":"F22+5","v":26},26]
[null,22,{"$f":"'2. Serie'!C23","v":207},{"$f":"IF($C23<>0,INDEX('Eingabe Spielernamen'!F:F,MATCH(C23,'Eingabe Spielernamen'!B:B))&\", \"&INDEX('Eingabe Spielernamen'!G:G,MATCH(C23,'Eingabe Spielernamen'!B:B,0)),\" \")","v":", "},{"$f":"IF($C23<>0,INDEX('Eingabe Spielernamen'!A:A,MATCH(C23,'Eingabe Spielernamen'!B:B,)),\" \")","v":0},22,{"$f":"F23+9","v":31},31]
[null,23,{"$f":"'2. Serie'!C24","v":308},{"$f":"IF($C24<>0,INDEX('Eingabe Spielernamen'!F:F,MATCH(C24,'Eingabe Spielernamen'!B:B))&\", \"&INDEX('Eingabe Spielernamen'!G:G,MATCH(C24,'Eingabe Spielernamen'!B:B,0)),\" \")","v":", "},{"$f":"IF($C24<>0,INDEX('Eingabe Spielernamen'!A:A,MATCH(C24,'Eingabe Spielernamen'!B:B,)),\" \")","v":0},23,{"$f":"F24+13","v":36},36]
[null,24,{"$f":"'2. Serie'!C25","v":409},{"$f":"IF($C25<>0,INDEX('Eingabe Spielernamen'!F:F,MATCH(C25,'Eingabe Spielernamen'!B:B))&\", \"&INDEX('Eingabe Spielernamen'!G:G,MATCH(C25,'Eingabe Spielernamen'!B:B,0)),\" \")","v":", "},{"$f":"IF($C25<>0,INDEX('Eingabe Spielernamen'!A:A,MATCH(C25,'Eingabe Spielernamen'!B:B,)),\" \")","v":0},24,{"$f":"F25+17","v":41},41]
[{"$f":"A22+1","v":7},25,{"$f":"'2. Serie'!C26","v":107},{"$f":"IF($C26<>0,INDEX('Eingabe Spielernamen'!F:F,MATCH(C26,'Eingabe Spielernamen'!B:B))&\", \"&INDEX('Eingabe Spielernamen'!G:G,MATCH(C26,'Eingabe Spielernamen'!B:B,0)),\" \")","v":", "},{"$f":"IF($C26<>0,INDEX('Eingabe Spielernamen'!A:A,MATCH(C26,'Eingabe Spielernamen'!B:B,)),\" \")","v":0},25,{"$f":"F26+5","v":30},30]
[null,26,{"$f":"'2. Serie'!C27","v":208},{"$f":"IF($C27<>0,INDEX('Eingabe Spielernamen'!F:F,MATCH(C27,'Eingabe Spielernamen'!B:B))&\", \"&INDEX('Eingabe Spielernamen'!G:G,MATCH(C27,'Eingabe Spielernamen'!B:B,0)),\" \")","v":", "},{"$f":"IF($C27<>0,INDEX('Eingabe Spielernamen'!A:A,MATCH(C27,'Eingabe Spielernamen'!B:B,)),\" \")","v":0},26,{"$f":"F27+9","v":35},35]
[null,27,{"$f":"'2. Serie'!C28","v":309},{"$f":"IF($C28<>0,INDEX('Eingabe Spielernamen'!F:F,MATCH(C28,'Eingabe Spielernamen'!B:B))&\", \"&INDEX('Eingabe Spielernamen'!G:G,MATCH(C28,'Eingabe Spielernamen'!B:B,0)),\" \")","v":", "},{"$f":"IF($C28<>0,INDEX('Eingabe Spielernamen'!A:A,MATCH(C28,'Eingabe Spielernamen'!B:B,)),\" \")","v":0},27,{"$f":"F28+13","v":40},40,"Wenn weniger Teilnehmer wird dann automatisch angepasst! Dann evtl. Startkarten ändern!"]
[null,28,{"$f":"'2. Serie'!C29","v":410},{"$f":"IF($C29<>0,INDEX('Eingabe Spielernamen'!F:F,MATCH(C29,'Eingabe Spielernamen'!B:B))&\", \"&INDEX('Eingabe Spielernamen'!G:G,MATCH(C29,'Eingabe Spielernamen'!B:B,0)),\" \")","v":", "},{"$f":"IF($C29<>0,INDEX('Eingabe Spielernamen'!A:A,MATCH(C29,'Eingabe Spielernamen'!B:B,)),\" \")","v":0},28,{"$f":"F29+17","v":45},45]
[{"$f":"A26+1","v":8},29,{"$f":"'2. Serie'!C30","v":108},{"$f":"IF($C30<>0,INDEX('Eingabe Spielernamen'!F:F,MATCH(C30,'Eingabe Spielernamen'!B:B))&\", \"&INDEX('Eingabe Spielernamen'!G:G,MATCH(C30,'Eingabe Spielernamen'!B:B,0)),\" \")","v":", "},{"$f":"IF($C30<>0,INDEX('Eingabe Spielernamen'!A:A,MATCH(C30,'Eingabe Spielernamen'!B:B,)),\" \")","v":0},29,{"$f":"F30+5","v":34},34]
[null,30,{"$f":"'2. Serie'!C31","v":209},{"$f":"IF($C31<>0,INDEX('Eingabe Spielernamen'!F:F,MATCH(C31,'Eingabe Spielernamen'!B:B))&\", \"&INDEX('Eingabe Spielernamen'!G:G,MATCH(C31,'Eingabe Spielernamen'!B:B,0)),\" \")","v":", "},{"$f":"IF($C31<>0,INDEX('Eingabe Spielernamen'!A:A,MATCH(C31,'Eingabe Spielernamen'!B:B,)),\" \")","v":0},30,{"$f":"F31+9","v":39},39]
[null,31,{"$f":"'2. Serie'!C32","v":310},{"$f":"IF($C32<>0,INDEX('Eingabe Spielernamen'!F:F,MATCH(C32,'Eingabe Spielernamen'!B:B))&\", \"&INDEX('Eingabe Spielernamen'!G:G,MATCH(C32,'Eingabe Spielernamen'!B:B,0)),\" \")","v":", "},{"$f":"IF($C32<>0,INDEX('Eingabe Spielernamen'!A:A,MATCH(C32,'Eingabe Spielernamen'!B:B,)),\" \")","v":0},31,{"$f":"F32+13","v":44},44]
[null,32,{"$f":"'2. Serie'!C33","v":411},{"$f":"IF($C33<>0,INDEX('Eingabe Spielernamen'!F:F,MATCH(C33,'Eingabe Spielernamen'!B:B))&\", \"&INDEX('Eingabe Spielernamen'!G:G,MATCH(C33,'Eingabe Spielernamen'!B:B,0)),\" \")","v":", "},{"$f":"IF($C33<>0,INDEX('Eingabe Spielernamen'!A:A,MATCH(C33,'Eingabe Spielernamen'!B:B,)),\" \")","v":0},32,{"$f":"F33+17","v":49},49]
[{"$f":"A30+1","v":9},33,{"$f":"'2. Serie'!C34","v":109},{"$f":"IF($C34<>0,INDEX('Eingabe Spielernamen'!F:F,MATCH(C34,'Eingabe Spielernamen'!B:B))&\", \"&INDEX('Eingabe Spielernamen'!G:G,MATCH(C34,'Eingabe Spielernamen'!B:B,0)),\" \")","v":", "},{"$f":"IF($C34<>0,INDEX('Eingabe Spielernamen'!A:A,MATCH(C34,'Eingabe Spielernamen'!B:B,)),\" \")","v":0},{"$f":"B34","v":33},{"$f":"F34+5","v":38},{"$f":"IF(G34>I$1,G34-I$1,G34)","v":38}]
[null,34,{"$f":"'2. Serie'!C35","v":210},{"$f":"IF($C35<>0,INDEX('Eingabe Spielernamen'!F:F,MATCH(C35,'Eingabe Spielernamen'!B:B))&\", \"&INDEX('Eingabe Spielernamen'!G:G,MATCH(C35,'Eingabe Spielernamen'!B:B,0)),\" \")","v":", "},{"$f":"IF($C35<>0,INDEX('Eingabe Spielernamen'!A:A,MATCH(C35,'Eingabe Spielernamen'!B:B,)),\" \")","v":0},34,{"$f":"F35+9","v":43},43]
[null,35,{"$f":"'2. Serie'!C36","v":311},{"$f":"IF($C36<>0,INDEX('Eingabe Spielernamen'!F:F,MATCH(C36,'Eingabe Spielernamen'!B:B))&\", \"&INDEX('Eingabe Spielernamen'!G:G,MATCH(C36,'Eingabe Spielernamen'!B:B,0)),\" \")","v":", "},{"$f":"IF($C36<>0,INDEX('Eingabe Spielernamen'!A:A,MATCH(C36,'Eingabe Spielernamen'!B:B,)),\" \")","v":0},35,{"$f":"F36+13","v":48},48]
[null,36,{"$f":"'2. Serie'!C37","v":412},{"$f":"IF($C37<>0,INDEX('Eingabe Spielernamen'!F:F,MATCH(C37,'Eingabe Spielernamen'!B:B))&\", \"&INDEX('Eingabe Spielernamen'!G:G,MATCH(C37,'Eingabe Spielernamen'!B:B,0)),\" \")","v":", "},{"$f":"IF($C37<>0,INDEX('Eingabe Spielernamen'!A:A,MATCH(C37,'Eingabe Spielernamen'!B:B,)),\" \")","v":0},36,{"$f":"F37+17","v":53},53]
[{"$f":"A34+1","v":10},37,{"$f":"'2. Serie'!C38","v":110},{"$f":"IF($C38<>0,INDEX('Eingabe Spielernamen'!F:F,MATCH(C38,'Eingabe Spielernamen'!B:B))&\", \"&INDEX('Eingabe Spielernamen'!G:G,MATCH(C38,'Eingabe Spielernamen'!B:B,0)),\" \")","v":", "},{"$f":"IF($C38<>0,INDEX('Eingabe Spielernamen'!A:A,MATCH(C38,'Eingabe Spielernamen'!B:B,)),\" \")","v":0},37,{"$f":"F38+5","v":42},42]
[null,38,{"$f":"'2. Serie'!C39","v":211},{"$f":"IF($C39<>0,INDEX('Eingabe Spielernamen'!F:F,MATCH(C39,'Eingabe Spielernamen'!B:B))&\", \"&INDEX('Eingabe Spielernamen'!G:G,MATCH(C39,'Eingabe Spielernamen'!B:B,0)),\" \")","v":", "},{"$f":"IF($C39<>0,INDEX('Eingabe Spielernamen'!A:A,MATCH(C39,'Eingabe Spielernamen'!B:B,)),\" \")","v":0},38,{"$f":"F39+9","v":47},47]
[null,39,{"$f":"'2. Serie'!C40","v":312},{"$f":"IF($C40<>0,INDEX('Eingabe Spielernamen'!F:F,MATCH(C40,'Eingabe Spielernamen'!B:B))&\", \"&INDEX('Eingabe Spielernamen'!G:G,MATCH(C40,'Eingabe Spielernamen'!B:B,0)),\" \")","v":", "},{"$f":"IF($C40<>0,INDEX('Eingabe Spielernamen'!A:A,MATCH(C40,'Eingabe Spielernamen'!B:B,)),\" \")","v":0},39,{"$f":"F40+13","v":52},52]
[null,40,{"$f":"'2. Serie'!C41","v":413},{"$f":"IF($C41<>0,INDEX('Eingabe Spielernamen'!F:F,MATCH(C41,'Eingabe Spielernamen'!B:B))&\", \"&INDEX('Eingabe Spielernamen'!G:G,MATCH(C41,'Eingabe Spielernamen'!B:B,0)),\" \")","v":", "},{"$f":"IF($C41<>0,INDEX('Eingabe Spielernamen'!A:A,MATCH(C41,'Eingabe Spielernamen'!B:B,)),\" \")","v":0},40,{"$f":"F41+17","v":57},57]
[{"$f":"A38+1","v":11},41,{"$f":"'2. Serie'!C42","v":111},{"$f":"IF($C42<>0,INDEX('Eingabe Spielernamen'!F:F,MATCH(C42,'Eingabe Spielernamen'!B:B))&\", \"&INDEX('Eingabe Spielernamen'!G:G,MATCH(C42,'Eingabe Spielernamen'!B:B,0)),\" \")","v":", "},{"$f":"IF($C42<>0,INDEX('Eingabe Spielernamen'!A:A,MATCH(C42,'Eingabe Spielernamen'!B:B,)),\" \")","v":0},41,{"$f":"F42+5","v":46},46]
[null,42,{"$f":"'2. Serie'!C43","v":212},{"$f":"IF($C43<>0,INDEX('Eingabe Spielernamen'!F:F,MATCH(C43,'Eingabe Spielernamen'!B:B))&\", \"&INDEX('Eingabe Spielernamen'!G:G,MATCH(C43,'Eingabe Spielernamen'!B:B,0)),\" \")","v":", "},{"$f":"IF($C43<>0,INDEX('Eingabe Spielernamen'!A:A,MATCH(C43,'Eingabe Spielernamen'!B:B,)),\" \")","v":0},42,{"$f":"F43+9","v":51},51]
[null,43,{"$f":"'2. Serie'!C44","v":313},{"$f":"IF($C44<>0,INDEX('Eingabe Spielernamen'!F:F,MATCH(C44,'Eingabe Spielernamen'!B:B))&\", \"&INDEX('Eingabe Spielernamen'!G:G,MATCH(C44,'Eingabe Spielernamen'!B:B,0)),\" \")","v":", "},{"$f":"IF($C44<>0,INDEX('Eingabe Spielernamen'!A:A,MATCH(C44,'Eingabe Spielernamen'!B:B,)),\" \")","v":0},43,{"$f":"F44+13","v":56},56]
[null,44,{"$f":"'2. Serie'!C45","v":414},{"$f":"IF($C45<>0,INDEX('Eingabe Spielernamen'!F:F,MATCH(C45,'Eingabe Spielernamen'!B:B))&\", \"&INDEX('Eingabe Spielernamen'!G:G,MATCH(C45,'Eingabe Spielernamen'!B:B,0)),\" \")","v":", "},{"$f":"IF($C45<>0,INDEX('Eingabe Spielernamen'!A:A,MATCH(C45,'Eingabe Spielernamen'!B:B,)),\" \")","v":0},44,{"$f":"F45+17","v":61},61]
[{"$f":"A42+1","v":12},45,{"$f":"'2. Serie'!C46","v":112},{"$f":"IF($C46<>0,INDEX('Eingabe Spielernamen'!F:F,MATCH(C46,'Eingabe Spielernamen'!B:B))&\", \"&INDEX('Eingabe Spielernamen'!G:G,MATCH(C46,'Eingabe Spielernamen'!B:B,0)),\" \")","v":", "},{"$f":"IF($C46<>0,INDEX('Eingabe Spielernamen'!A:A,MATCH(C46,'Eingabe Spielernamen'!B:B,)),\" \")","v":0},45,{"$f":"F46+5","v":50},50]
[null,46,{"$f":"'2. Serie'!C47","v":213},{"$f":"IF($C47<>0,INDEX('Eingabe Spielernamen'!F:F,MATCH(C47,'Eingabe Spielernamen'!B:B))&\", \"&INDEX('Eingabe Spielernamen'!G:G,MATCH(C47,'Eingabe Spielernamen'!B:B,0)),\" \")","v":", "},{"$f":"IF($C47<>0,INDEX('Eingabe Spielernamen'!A:A,MATCH(C47,'Eingabe Spielernamen'!B:B,)),\" \")","v":0},46,{"$f":"F47+9","v":55},55]
[null,47,{"$f":"'2. Serie'!C48","v":314},{"$f":"IF($C48<>0,INDEX('Eingabe Spielernamen'!F:F,MATCH(C48,'Eingabe Spielernamen'!B:B))&\", \"&INDEX('Eingabe Spielernamen'!G:G,MATCH(C48,'Eingabe Spielernamen'!B:B,0)),\" \")","v":", "},{"$f":"IF($C48<>0,INDEX('Eingabe Spielernamen'!A:A,MATCH(C48,'Eingabe Spielernamen'!B:B,)),\" \")","v":0},47,{"$f":"F48+13","v":60},60]
[null,48,{"$f":"'2. Serie'!C49","v":415},{"$f":"IF($C49<>0,INDEX('Eingabe Spielernamen'!F:F,MATCH(C49,'Eingabe Spielernamen'!B:B))&\", \"&INDEX('Eingabe Spielernamen'!G:G,MATCH(C49,'Eingabe Spielernamen'!B:B,0)),\" \")","v":", "},{"$f":"IF($C49<>0,INDEX('Eingabe Spielernamen'!A:A,MATCH(C49,'Eingabe Spielernamen'!B:B,)),\" \")","v":0},48,{"$f":"F49+17","v":65},1]
[{"$f":"A46+1","v":13},49,{"$f":"'2. Serie'!C50","v":113},{"$f":"IF($C50<>0,INDEX('Eingabe Spielernamen'!F:F,MATCH(C50,'Eingabe Spielernamen'!B:B))&\", \"&INDEX('Eingabe Spielernamen'!G:G,MATCH(C50,'Eingabe Spielernamen'!B:B,0)),\" \")","v":", "},{"$f":"IF($C50<>0,INDEX('Eingabe Spielernamen'!A:A,MATCH(C50,'Eingabe Spielernamen'!B:B,)),\" \")","v":0},49,{"$f":"F50+5","v":54},54]
[null,50,{"$f":"'2. Serie'!C51","v":214},{"$f":"IF($C51<>0,INDEX('Eingabe Spielernamen'!F:F,MATCH(C51,'Eingabe Spielernamen'!B:B))&\", \"&INDEX('Eingabe Spielernamen'!G:G,MATCH(C51,'Eingabe Spielernamen'!B:B,0)),\" \")","v":", "},{"$f":"IF($C51<>0,INDEX('Eingabe Spielernamen'!A:A,MATCH(C51,'Eingabe Spielernamen'!B:B,)),\" \")","v":0},50,{"$f":"F51+9","v":59},59]
[null,51,{"$f":"'2. Serie'!C52","v":315},{"$f":"IF($C52<>0,INDEX('Eingabe Spielernamen'!F:F,MATCH(C52,'Eingabe Spielernamen'!B:B))&\", \"&INDEX('Eingabe Spielernamen'!G:G,MATCH(C52,'Eingabe Spielernamen'!B:B,0)),\" \")","v":", "},{"$f":"IF($C52<>0,INDEX('Eingabe Spielernamen'!A:A,MATCH(C52,'Eingabe Spielernamen'!B:B,)),\" \")","v":0},51,{"$f":"F52+13","v":64},64]
[null,52,{"$f":"'2. Serie'!C53","v":416},{"$f":"IF($C53<>0,INDEX('Eingabe Spielernamen'!F:F,MATCH(C53,'Eingabe Spielernamen'!B:B))&\", \"&INDEX('Eingabe Spielernamen'!G:G,MATCH(C53,'Eingabe Spielernamen'!B:B,0)),\" \")","v":", "},{"$f":"IF($C53<>0,INDEX('Eingabe Spielernamen'!A:A,MATCH(C53,'Eingabe Spielernamen'!B:B,)),\" \")","v":0},52,{"$f":"F53+17","v":69},5]
[{"$f":"A50+1","v":14},53,{"$f":"'2. Serie'!C54","v":114},{"$f":"IF($C54<>0,INDEX('Eingabe Spielernamen'!F:F,MATCH(C54,'Eingabe Spielernamen'!B:B))&\", \"&INDEX('Eingabe Spielernamen'!G:G,MATCH(C54,'Eingabe Spielernamen'!B:B,0)),\" \")","v":", "},{"$f":"IF($C54<>0,INDEX('Eingabe Spielernamen'!A:A,MATCH(C54,'Eingabe Spielernamen'!B:B,)),\" \")","v":0},53,{"$f":"F54+5","v":58},58]
[null,54,{"$f":"'2. Serie'!C55","v":215},{"$f":"IF($C55<>0,INDEX('Eingabe Spielernamen'!F:F,MATCH(C55,'Eingabe Spielernamen'!B:B))&\", \"&INDEX('Eingabe Spielernamen'!G:G,MATCH(C55,'Eingabe Spielernamen'!B:B,0)),\" \")","v":", "},{"$f":"IF($C55<>0,INDEX('Eingabe Spielernamen'!A:A,MATCH(C55,'Eingabe Spielernamen'!B:B,)),\" \")","v":0},54,{"$f":"F55+9","v":63},63]
[null,55,{"$f":"'2. Serie'!C56","v":316},{"$f":"IF($C56<>0,INDEX('Eingabe Spielernamen'!F:F,MATCH(C56,'Eingabe Spielernamen'!B:B))&\", \"&INDEX('Eingabe Spielernamen'!G:G,MATCH(C56,'Eingabe Spielernamen'!B:B,0)),\" \")","v":", "},{"$f":"IF($C56<>0,INDEX('Eingabe Spielernamen'!A:A,MATCH(C56,'Eingabe Spielernamen'!B:B,)),\" \")","v":0},55,{"$f":"F56+13","v":68},4]
[null,56,{"$f":"'2. Serie'!C57","v":401},{"$f":"IF($C57<>0,INDEX('Eingabe Spielernamen'!F:F,MATCH(C57,'Eingabe Spielernamen'!B:B))&\", \"&INDEX('Eingabe Spielernamen'!G:G,MATCH(C57,'Eingabe Spielernamen'!B:B,0)),\" \")","v":", "},{"$f":"IF($C57<>0,INDEX('Eingabe Spielernamen'!A:A,MATCH(C57,'Eingabe Spielernamen'!B:B,)),\" \")","v":0},56,{"$f":"F57+17","v":73},9]
[{"$f":"A54+1","v":15},57,{"$f":"'2. Serie'!C58","v":115},{"$f":"IF($C58<>0,INDEX('Eingabe Spielernamen'!F:F,MATCH(C58,'Eingabe Spielernamen'!B:B))&\", \"&INDEX('Eingabe Spielernamen'!G:G,MATCH(C58,'Eingabe Spielernamen'!B:B,0)),\" \")","v":", "},{"$f":"IF($C58<>0,INDEX('Eingabe Spielernamen'!A:A,MATCH(C58,'Eingabe Spielernamen'!B:B,)),\" \")","v":0},57,{"$f":"F58+5","v":62},62]
[null,58,{"$f":"'2. Serie'!C59","v":216},{"$f":"IF($C59<>0,INDEX('Eingabe Spielernamen'!F:F,MATCH(C59,'Eingabe Spielernamen'!B:B))&\", \"&INDEX('Eingabe Spielernamen'!G:G,MATCH(C59,'Eingabe Spielernamen'!B:B,0)),\" \")","v":", "},{"$f":"IF($C59<>0,INDEX('Eingabe Spielernamen'!A:A,MATCH(C59,'Eingabe Spielernamen'!B:B,)),\" \")","v":0},58,{"$f":"F59+9","v":67},3]
[null,59,{"$f":"'2. Serie'!C60","v":301},{"$f":"IF($C60<>0,INDEX('Eingabe Spielernamen'!F:F,MATCH(C60,'Eingabe Spielernamen'!B:B))&\", \"&INDEX('Eingabe Spielernamen'!G:G,MATCH(C60,'Eingabe Spielernamen'!B:B,0)),\" \")","v":", "},{"$f":"IF($C60<>0,INDEX('Eingabe Spielernamen'!A:A,MATCH(C60,'Eingabe Spielernamen'!B:B,)),\" \")","v":0},59,{"$f":"F60+13","v":72},8]
[null,60,{"$f":"'2. Serie'!C61","v":402},{"$f":"IF($C61<>0,INDEX('Eingabe Spielernamen'!F:F,MATCH(C61,'Eingabe Spielernamen'!B:B))&\", \"&INDEX('Eingabe Spielernamen'!G:G,MATCH(C61,'Eingabe Spielernamen'!B:B,0)),\" \")","v":", "},{"$f":"IF($C61<>0,INDEX('Eingabe Spielernamen'!A:A,MATCH(C61,'Eingabe Spielernamen'!B:B,)),\" \")","v":0},60,{"$f":"F61+17","v":77},13]
[{"$f":"A58+1","v":16},61,{"$f":"'2. Serie'!C62","v":116},{"$f":"IF($C62<>0,INDEX('Eingabe Spielernamen'!F:F,MATCH(C62,'Eingabe Spielernamen'!B:B))&\", \"&INDEX('Eingabe Spielernamen'!G:G,MATCH(C62,'Eingabe Spielernamen'!B:B,0)),\" \")","v":", "},{"$f":"IF($C62<>0,INDEX('Eingabe Spielernamen'!A:A,MATCH(C62,'Eingabe Spielernamen'!B:B,)),\" \")","v":0},61,{"$f":"F62+5","v":66},2]
[null,62,{"$f":"'2. Serie'!C63","v":201},{"$f":"IF($C63<>0,INDEX('Eingabe Spielernamen'!F:F,MATCH(C63,'Eingabe Spielernamen'!B:B))&\", \"&INDEX('Eingabe Spielernamen'!G:G,MATCH(C63,'Eingabe Spielernamen'!B:B,0)),\" \")","v":", "},{"$f":"IF($C63<>0,INDEX('Eingabe Spielernamen'!A:A,MATCH(C63,'Eingabe Spielernamen'!B:B,)),\" \")","v":0},62,{"$f":"F63+9","v":71},7]
[null,63,{"$f":"'2. Serie'!C64","v":302},{"$f":"IF($C64<>0,INDEX('Eingabe Spielernamen'!F:F,MATCH(C64,'Eingabe Spielernamen'!B:B))&\", \"&INDEX('Eingabe Spielernamen'!G:G,MATCH(C64,'Eingabe Spielernamen'!B:B,0)),\" \")","v":", "},{"$f":"IF($C64<>0,INDEX('Eingabe Spielernamen'!A:A,MATCH(C64,'Eingabe Spielernamen'!B:B,)),\" \")","v":0},63,{"$f":"F64+13","v":76},12]
[null,64,{"$f":"'2. Serie'!C65","v":403},{"$f":"IF($C65<>0,INDEX('Eingabe Spielernamen'!F:F,MATCH(C65,'Eingabe Spielernamen'!B:B))&\", \"&INDEX('Eingabe Spielernamen'!G:G,MATCH(C65,'Eingabe Spielernamen'!B:B,0)),\" \")","v":", "},{"$f":"IF($C65<>0,INDEX('Eingabe Spielernamen'!A:A,MATCH(C65,'Eingabe Spielernamen'!B:B,)),\" \")","v":0},64,{"$f":"F65+17","v":81},17]

{"sheet":"Listen (3.)","index":11,"n_rows":64,"n_cols":8,"rows_kept":64,"cut":false,"hidden":false,"merged":[]}
[{"$f":"'Eingabe Spielernamen'!K6","v":"2020-05-30"},"3. Serie",1,null,{"$f":"A1","v":"2020-05-30"},{"$f":"B1","v":"3. Serie"},{"$f":"C1","v":1}]
[]
[{"$f":"'3. Serie'!D2","v":", "},{"$f":"'3. Serie'!D3","v":", "},{"$f":"'3. Serie'!D4","v":", "},{"$f":"'3. Serie'!D5","v":", "},{"$f":"'3. Serie'!D2","v":", "},{"$f":"'3. Serie'!D3","v":", "},{"$f":"'3. Serie'!D4","v":", "},{"$f":"'3. Serie'!D5","v":", "}]
[{"$f":"'3. Serie'!C2","v":101},{"$f":"'3. Serie'!C3","v":202},{"$f":"'3. Serie'!C4","v":303},{"$f":"'3. Serie'!C5","v":404},{"$f":"'3. Serie'!C2","v":101},{"$f":"'3. Serie'!C3","v":202},{"$f":"'3. Serie'!C4","v":303},{"$f":"'3. Serie'!C5","v":404}]
[{"$f":"A1","v":"2020-05-30"},{"$f":"$B$1","v":"3. Serie"},{"$f":"C1+1","v":2},null,{"$f":"E1","v":"2020-05-30"},{"$f":"$B$1","v":"3. Serie"},{"$f":"G1+1","v":2},{"$f":"D5","v":0}]
[]
[{"$f":"'3. Serie'!D6","v":", "},{"$f":"'3. Serie'!D7","v":", "},{"$f":"'3. Serie'!D8","v":", "},{"$f":"'3. Serie'!D9","v":", "},{"$f":"'3. Serie'!D6","v":", "},{"$f":"'3. Serie'!D7","v":", "},{"$f":"'3. Serie'!D8","v":", "},{"$f":"'3. Serie'!D9","v":", "}]
[{"$f":"'3. Serie'!C6","v":102},{"$f":"'3. Serie'!C7","v":203},{"$f":"'3. Serie'!C8","v":304},{"$f":"'3. Serie'!C9","v":405},{"$f":"'3. Serie'!C6","v":102},{"$f":"'3. Serie'!C7","v":203},{"$f":"'3. Serie'!C8","v":304},{"$f":"'3. Serie'!C9","v":405}]
[{"$f":"A5","v":"2020-05-30"},{"$f":"$B$1","v":"3. Serie"},{"$f":"C5+1","v":3},null,{"$f":"E5","v":"2020-05-30"},{"$f":"$B$1","v":"3. Serie"},{"$f":"G5+1","v":3},{"$f":"D9","v":0}]
[]
[{"$f":"'3. Serie'!D10","v":", "},{"$f":"'3. Serie'!D11","v":", "},{"$f":"'3. Serie'!D12","v":", "},{"$f":"'3. Serie'!D13","v":", "},{"$f":"'3. Serie'!D10","v":", "},{"$f":"'3. Serie'!D11","v":", "},{"$f":"'3. Serie'!D12","v":", "},{"$f":"'3. Serie'!D13","v":", "}]
[{"$f":"'3. Serie'!C10","v":103},{"$f":"'3. Serie'!C11","v":204},{"$f":"'3. Serie'!C12","v":305},{"$f":"'3. Serie'!C13","v":406},{"$f":"'3. Serie'!C10","v":103},{"$f":"'3. Serie'!C11","v":204},{"$f":"'3. Serie'!C12","v":305},{"$f":"'3. Serie'!C13","v":406}]
[{"$f":"A9","v":"2020-05-30"},{"$f":"$B$1","v":"3. Serie"},{"$f":"C9+1","v":4},null,{"$f":"E9","v":"2020-05-30"},{"$f":"$B$1","v":"3. Serie"},{"$f":"G9+1","v":4},{"$f":"D13","v":0}]
[]
[{"$f":"'3. Serie'!D14","v":", "},{"$f":"'3. Serie'!D15","v":", "},{"$f":"'3. Serie'!D16","v":", "},{"$f":"'3. Serie'!D17","v":", "},{"$f":"'3. Serie'!D14","v":", "},{"$f":"'3. Serie'!D15","v":", "},{"$f":"'3. Serie'!D16","v":", "},{"$f":"'3. Serie'!D17","v":", "}]
[{"$f":"'3. Serie'!C14","v":104},{"$f":"'3. Serie'!C15","v":205},{"$f":"'3. Serie'!C16","v":306},{"$f":"'3. Serie'!C17","v":407},{"$f":"'3. Serie'!C14","v":104},{"$f":"'3. Serie'!C15","v":205},{"$f":"'3. Serie'!C16","v":306},{"$f":"'3. Serie'!C17","v":407}]
[{"$f":"A13","v":"2020-05-30"},{"$f":"$B$1","v":"3. Serie"},{"$f":"C13+1","v":5},null,{"$f":"E13","v":"2020-05-30"},{"$f":"$B$1","v":"3. Serie"},{"$f":"G13+1","v":5},{"$f":"D17","v":0}]
[]
[{"$f":"'3. Serie'!D18","v":", "},{"$f":"'3. Serie'!D19","v":", "},{"$f":"'3. Serie'!D20","v":", "},{"$f":"'3. Serie'!D21","v":", "},{"$f":"'3. Serie'!D18","v":", "},{"$f":"'3. Serie'!D19","v":", "},{"$f":"'3. Serie'!D20","v":", "},{"$f":"'3. Serie'!D21","v":", "}]
[{"$f":"'3. Serie'!C18","v":105},{"$f":"'3. Serie'!C19","v":206},{"$f":"'3. Serie'!C20","v":307},{"$f":"'3. Serie'!C21","v":408},{"$f":"'3. Serie'!C18","v":105},{"$f":"'3. Serie'!C19","v":206},{"$f":"'3. Serie'!C20","v":307},{"$f":"'3. Serie'!C21","v":408}]
[{"$f":"A17","v":"2020-05-30"},{"$f":"$B$1","v":"3. Serie"},{"$f":"C17+1","v":6},null,{"$f":"E17","v":"2020-05-30"},{"$f":"$B$1","v":"3. Serie"},{"$f":"G17+1","v":6},{"$f":"D21","v":0}]
[]
[{"$f":"'3. Serie'!D22","v":", "},{"$f":"'3. Serie'!D23","v":", "},{"$f":"'3. Serie'!D24","v":", "},{"$f":"'3. Serie'!D25","v":", "},{"$f":"'3. Serie'!D22","v":", "},{"$f":"'3. Serie'!D23","v":", "},{"$f":"'3. Serie'!D24","v":", "},{"$f":"'3. Serie'!D25","v":", "}]
[{"$f":"'3. Serie'!C22","v":106},{"$f":"'3. Serie'!C23","v":207},{"$f":"'3. Serie'!C24","v":308},{"$f":"'3. Serie'!C25","v":409},{"$f":"'3. Serie'!C22","v":106},{"$f":"'3. Serie'!C23","v":207},{"$f":"'3. Serie'!C24","v":308},{"$f":"'3. Serie'!C25","v":409}]
[{"$f":"A21","v":"2020-05-30"},{"$f":"$B$1","v":"3. Serie"},{"$f":"C21+1","v":7},null,{"$f":"E21","v":"2020-05-30"},{"$f":"$B$1","v":"3. Serie"},{"$f":"G21+1","v":7},{"$f":"D25","v":0}]
[]
[{"$f":"'3. Serie'!D26","v":", "},{"$f":"'3. Serie'!D27","v":", "},{"$f":"'3. Serie'!D28","v":", "},{"$f":"'3. Serie'!D29","v":", "},{"$f":"'3. Serie'!D26","v":", "},{"$f":"'3. Serie'!D27","v":", "},{"$f":"'3. Serie'!D28","v":", "},{"$f":"'3. Serie'!D29","v":", "}]
[{"$f":"'3. Serie'!C26","v":107},{"$f":"'3. Serie'!C27","v":208},{"$f":"'3. Serie'!C28","v":309},{"$f":"'3. Serie'!C29","v":410},{"$f":"'3. Serie'!C26","v":107},{"$f":"'3. Serie'!C27","v":208},{"$f":"'3. Serie'!C28","v":309},{"$f":"'3. Serie'!C29","v":410}]
[{"$f":"A25","v":"2020-05-30"},{"$f":"$B$1","v":"3. Serie"},{"$f":"C25+1","v":8},null,{"$f":"E25","v":"2020-05-30"},{"$f":"$B$1","v":"3. Serie"},{"$f":"G25+1","v":8},{"$f":"D29","v":0}]
[]
[{"$f":"'3. Serie'!D30","v":", "},{"$f":"'3. Serie'!D31","v":", "},{"$f":"'3. Serie'!D32","v":", "},{"$f":"'3. Serie'!D33","v":", "},{"$f":"'3. Serie'!D30","v":", "},{"$f":"'3. Serie'!D31","v":", "},{"$f":"'3. Serie'!D32","v":", "},{"$f":"'3. Serie'!D33","v":", "}]
[{"$f":"'3. Serie'!C30","v":108},{"$f":"'3. Serie'!C31","v":209},{"$f":"'3. Serie'!C32","v":310},{"$f":"'3. Serie'!C33","v":411},{"$f":"'3. Serie'!C30","v":108},{"$f":"'3. Serie'!C31","v":209},{"$f":"'3. Serie'!C32","v":310},{"$f":"'3. Serie'!C33","v":411}]
[{"$f":"A29","v":"2020-05-30"},{"$f":"$B$1","v":"3. Serie"},{"$f":"C29+1","v":9},null,{"$f":"E29","v":"2020-05-30"},{"$f":"$B$1","v":"3. Serie"},{"$f":"G29+1","v":9},{"$f":"D33","v":0}]
[]
[{"$f":"'3. Serie'!D34","v":", "},{"$f":"'3. Serie'!D35","v":", "},{"$f":"'3. Serie'!D36","v":", "},{"$f":"'3. Serie'!D37","v":", "},{"$f":"'3. Serie'!D34","v":", "},{"$f":"'3. Serie'!D35","v":", "},{"$f":"'3. Serie'!D36","v":", "},{"$f":"'3. Serie'!D37","v":", "}]
[{"$f":"'3. Serie'!C34","v":109},{"$f":"'3. Serie'!C35","v":210},{"$f":"'3. Serie'!C36","v":311},{"$f":"'3. Serie'!C37","v":412},{"$f":"'3. Serie'!C34","v":109},{"$f":"'3. Serie'!C35","v":210},{"$f":"'3. Serie'!C36","v":311},{"$f":"'3. Serie'!C37","v":412}]
[{"$f":"A33","v":"2020-05-30"},{"$f":"$B$1","v":"3. Serie"},{"$f":"C33+1","v":10},null,{"$f":"E33","v":"2020-05-30"},{"$f":"$B$1","v":"3. Serie"},{"$f":"G33+1","v":10},{"$f":"D37","v":0}]
[]
[{"$f":"'3. Serie'!D38","v":", "},{"$f":"'3. Serie'!D39","v":", "},{"$f":"'3. Serie'!D40","v":", "},{"$f":"'3. Serie'!D41","v":", "},{"$f":"'3. Serie'!D38","v":", "},{"$f":"'3. Serie'!D39","v":", "},{"$f":"'3. Serie'!D40","v":", "},{"$f":"'3. Serie'!D41","v":", "}]
[{"$f":"'3. Serie'!C38","v":110},{"$f":"'3. Serie'!C39","v":211},{"$f":"'3. Serie'!C40","v":312},{"$f":"'3. Serie'!C41","v":413},{"$f":"'3. Serie'!C38","v":110},{"$f":"'3. Serie'!C39","v":211},{"$f":"'3. Serie'!C40","v":312},{"$f":"'3. Serie'!C41","v":413}]
[{"$f":"A37","v":"2020-05-30"},{"$f":"$B$1","v":"3. Serie"},{"$f":"C37+1","v":11},null,{"$f":"E37","v":"2020-05-30"},{"$f":"$B$1","v":"3. Serie"},{"$f":"G37+1","v":11},{"$f":"D41","v":0}]
[]
[{"$f":"'3. Serie'!D42","v":", "},{"$f":"'3. Serie'!D43","v":", "},{"$f":"'3. Serie'!D44","v":", "},{"$f":"'3. Serie'!D45","v":", "},{"$f":"'3. Serie'!D42","v":", "},{"$f":"'3. Serie'!D43","v":", "},{"$f":"'3. Serie'!D44","v":", "},{"$f":"'3. Serie'!D45","v":", "}]
[{"$f":"'3. Serie'!C42","v":111},{"$f":"'3. Serie'!C43","v":212},{"$f":"'3. Serie'!C44","v":313},{"$f":"'3. Serie'!C45","v":414},{"$f":"'3. Serie'!C42","v":111},{"$f":"'3. Serie'!C43","v":212},{"$f":"'3. Serie'!C44","v":313},{"$f":"'3. Serie'!C45","v":414}]
[{"$f":"A41","v":"2020-05-30"},{"$f":"$B$1","v":"3. Serie"},{"$f":"C41+1","v":12},null,{"$f":"E41","v":"2020-05-30"},{"$f":"$B$1","v":"3. Serie"},{"$f":"G41+1","v":12},{"$f":"D45","v":0}]
[]
[{"$f":"'3. Serie'!D46","v":", "},{"$f":"'3. Serie'!D47","v":", "},{"$f":"'3. Serie'!D48","v":", "},{"$f":"'3. Serie'!D49","v":", "},{"$f":"'3. Serie'!D46","v":", "},{"$f":"'3. Serie'!D47","v":", "},{"$f":"'3. Serie'!D48","v":", "},{"$f":"'3. Serie'!D49","v":", "}]
[{"$f":"'3. Serie'!C46","v":112},{"$f":"'3. Serie'!C47","v":213},{"$f":"'3. Serie'!C48","v":314},{"$f":"'3. Serie'!C49","v":415},{"$f":"'3. Serie'!C46","v":112},{"$f":"'3. Serie'!C47","v":213},{"$f":"'3. Serie'!C48","v":314},{"$f":"'3. Serie'!C49","v":415}]
[{"$f":"A45","v":"2020-05-30"},{"$f":"$B$1","v":"3. Serie"},{"$f":"C45+1","v":13},null,{"$f":"E45","v":"2020-05-30"},{"$f":"$B$1","v":"3. Serie"},{"$f":"G45+1","v":13},{"$f":"D49","v":0}]
[]
[{"$f":"'3. Serie'!D50","v":", "},{"$f":"'3. Serie'!D51","v":", "},{"$f":"'3. Serie'!D52","v":", "},{"$f":"'3. Serie'!D53","v":", "},{"$f":"'3. Serie'!D50","v":", "},{"$f":"'3. Serie'!D51","v":", "},{"$f":"'3. Serie'!D52","v":", "},{"$f":"'3. Serie'!D53","v":", "}]
[{"$f":"'3. Serie'!C50","v":113},{"$f":"'3. Serie'!C51","v":214},{"$f":"'3. Serie'!C52","v":315},{"$f":"'3. Serie'!C53","v":416},{"$f":"'3. Serie'!C50","v":113},{"$f":"'3. Serie'!C51","v":214},{"$f":"'3. Serie'!C52","v":315},{"$f":"'3. Serie'!C53","v":416}]
[{"$f":"A49","v":"2020-05-30"},{"$f":"$B$1","v":"3. Serie"},{"$f":"C49+1","v":14},null,{"$f":"E49","v":"2020-05-30"},{"$f":"$B$1","v":"3. Serie"},{"$f":"G49+1","v":14},{"$f":"D53","v":0}]
[]
[{"$f":"'3. Serie'!D54","v":", "},{"$f":"'3. Serie'!D55","v":", "},{"$f":"'3. Serie'!D56","v":", "},{"$f":"'3. Serie'!D57","v":", "},{"$f":"'3. Serie'!D54","v":", "},{"$f":"'3. Serie'!D55","v":", "},{"$f":"'3. Serie'!D56","v":", "},{"$f":"'3. Serie'!D57","v":", "}]
[{"$f":"'3. Serie'!C54","v":114},{"$f":"'3. Serie'!C55","v":215},{"$f":"'3. Serie'!C56","v":316},{"$f":"'3. Serie'!C57","v":401},{"$f":"'3. Serie'!C54","v":114},{"$f":"'3. Serie'!C55","v":215},{"$f":"'3. Serie'!C56","v":316},{"$f":"'3. Serie'!C57","v":401}]
[{"$f":"A53","v":"2020-05-30"},{"$f":"$B$1","v":"3. Serie"},{"$f":"C53+1","v":15},null,{"$f":"E53","v":"2020-05-30"},{"$f":"$B$1","v":"3. Serie"},{"$f":"G53+1","v":15},{"$f":"D57","v":0}]
[]
[{"$f":"'3. Serie'!D58","v":", "},{"$f":"'3. Serie'!D59","v":", "},{"$f":"'3. Serie'!D60","v":", "},{"$f":"'3. Serie'!D61","v":", "},{"$f":"'3. Serie'!D58","v":", "},{"$f":"'3. Serie'!D59","v":", "},{"$f":"'3. Serie'!D60","v":", "},{"$f":"'3. Serie'!D61","v":", "}]
[{"$f":"'3. Serie'!C58","v":115},{"$f":"'3. Serie'!C59","v":216},{"$f":"'3. Serie'!C60","v":301},{"$f":"'3. Serie'!C61","v":402},{"$f":"'3. Serie'!C58","v":115},{"$f":"'3. Serie'!C59","v":216},{"$f":"'3. Serie'!C60","v":301},{"$f":"'3. Serie'!C61","v":402}]
[{"$f":"A57","v":"2020-05-30"},{"$f":"$B$1","v":"3. Serie"},{"$f":"C57+1","v":16},null,{"$f":"E57","v":"2020-05-30"},{"$f":"$B$1","v":"3. Serie"},{"$f":"G57+1","v":16},{"$f":"D61","v":0}]
[]
[{"$f":"'3. Serie'!D62","v":", "},{"$f":"'3. Serie'!D63","v":", "},{"$f":"'3. Serie'!D64","v":", "},{"$f":"'3. Serie'!D65","v":", "},{"$f":"'3. Serie'!D62","v":", "},{"$f":"'3. Serie'!D63","v":", "},{"$f":"'3. Serie'!D64","v":", "},{"$f":"'3. Serie'!D65","v":", "}]
[{"$f":"'3. Serie'!C62","v":116},{"$f":"'3. Serie'!C63","v":201},{"$f":"'3. Serie'!C64","v":302},{"$f":"'3. Serie'!C65","v":403},{"$f":"'3. Serie'!C62","v":116},{"$f":"'3. Serie'!C63","v":201},{"$f":"'3. Serie'!C64","v":302},{"$f":"'3. Serie'!C65","v":403}]

{"sheet":"4. Serie","index":12,"n_rows":65,"n_cols":10,"rows_kept":65,"cut":false,"hidden":false,"merged":[[27,8,36,9],[1,8,13,9],[14,8,26,9],[1,0,4,0],[5,0,8,0],[9,0,12,0],[13,0,16,0],[17,0,20,0],[21,0,24,0],[25,0,28,0],[29,0,32,0],[33,0,36,0],[57,0,60,0],[61,0,64,0],[37,0,40,0],[41,0,44,0],[45,0,48,0],[49,0,52,0],[53,0,56,0]]}
["T",{"$f":"#REF!","v":{"$error":"#REF!"}},"Start Nr.:","Name:","Verein:",null,null,null,64,"Teilnehmer"]
[1,1,{"$f":"'3. Serie'!C2","v":101},{"$f":"IF($C2<>0,INDEX('Eingabe Spielernamen'!F:F,MATCH(C2,'Eingabe Spielernamen'!B:B))&\", \"&INDEX('Eingabe Spielernamen'!G:G,MATCH(C2,'Eingabe Spielernamen'!B:B,0)),\" \")","v":", "},{"$f":"IF($C2<>0,INDEX('Eingabe Spielernamen'!A:A,MATCH(C2,'Eingabe Spielernamen'!B:B,)),\" \")","v":0},{"$f":"B2","v":1},{"$f":"F2+5","v":6},{"$f":"IF(G2>I$1,G2-I$1,G2)","v":6},"Sortieren der Teilnehmer zum Setzen nach \"Startkarten\" \"C-H\" nach\"H\" sortieren!"]
[null,2,{"$f":"'3. Serie'!C3","v":202},{"$f":"IF($C3<>0,INDEX('Eingabe Spielernamen'!F:F,MATCH(C3,'Eingabe Spielernamen'!B:B))&\", \"&INDEX('Eingabe Spielernamen'!G:G,MATCH(C3,'Eingabe Spielernamen'!B:B,0)),\" \")","v":", "},{"$f":"IF($C3<>0,INDEX('Eingabe Spielernamen'!A:A,MATCH(C3,'Eingabe Spielernamen'!B:B,)),\" \")","v":0},2,{"$f":"F3+9","v":11},11]
[null,3,{"$f":"'3. Serie'!C4","v":303},{"$f":"IF($C4<>0,INDEX('Eingabe Spielernamen'!F:F,MATCH(C4,'Eingabe Spielernamen'!B:B))&\", \"&INDEX('Eingabe Spielernamen'!G:G,MATCH(C4,'Eingabe Spielernamen'!B:B,0)),\" \")","v":", "},{"$f":"IF($C4<>0,INDEX('Eingabe Spielernamen'!A:A,MATCH(C4,'Eingabe Spielernamen'!B:B,)),\" \")","v":0},3,{"$f":"F4+13","v":16},16]
[null,4,{"$f":"'3. Serie'!C5","v":404},{"$f":"IF($C5<>0,INDEX('Eingabe Spielernamen'!F:F,MATCH(C5,'Eingabe Spielernamen'!B:B))&\", \"&INDEX('Eingabe Spielernamen'!G:G,MATCH(C5,'Eingabe Spielernamen'!B:B,0)),\" \")","v":", "},{"$f":"IF($C5<>0,INDEX('Eingabe Spielernamen'!A:A,MATCH(C5,'Eingabe Spielernamen'!B:B,)),\" \")","v":0},4,{"$f":"F5+17","v":21},21]
[{"$f":"A2+1","v":2},5,{"$f":"'3. Serie'!C6","v":102},{"$f":"IF($C6<>0,INDEX('Eingabe Spielernamen'!F:F,MATCH(C6,'Eingabe Spielernamen'!B:B))&\", \"&INDEX('Eingabe Spielernamen'!G:G,MATCH(C6,'Eingabe Spielernamen'!B:B,0)),\" \")","v":", "},{"$f":"IF($C6<>0,INDEX('Eingabe Spielernamen'!A:A,MATCH(C6,'Eingabe Spielernamen'!B:B,)),\" \")","v":0},5,{"$f":"F6+5","v":10},10]
[null,6,{"$f":"'3. Serie'!C7","v":203},{"$f":"IF($C7<>0,INDEX('Eingabe Spielernamen'!F:F,MATCH(C7,'Eingabe Spielernamen'!B:B))&\", \"&INDEX('Eingabe Spielernamen'!G:G,MATCH(C7,'Eingabe Spielernamen'!B:B,0)),\" \")","v":", "},{"$f":"IF($C7<>0,INDEX('Eingabe Spielernamen'!A:A,MATCH(C7,'Eingabe Spielernamen'!B:B,)),\" \")","v":0},6,{"$f":"F7+9","v":15},15]
[null,7,{"$f":"'3. Serie'!C8","v":304},{"$f":"IF($C8<>0,INDEX('Eingabe Spielernamen'!F:F,MATCH(C8,'Eingabe Spielernamen'!B:B))&\", \"&INDEX('Eingabe Spielernamen'!G:G,MATCH(C8,'Eingabe Spielernamen'!B:B,0)),\" \")","v":", "},{"$f":"IF($C8<>0,INDEX('Eingabe Spielernamen'!A:A,MATCH(C8,'Eingabe Spielernamen'!B:B,)),\" \")","v":0},7,{"$f":"F8+13","v":20},20]
[null,8,{"$f":"'3. Serie'!C9","v":405},{"$f":"IF($C9<>0,INDEX('Eingabe Spielernamen'!F:F,MATCH(C9,'Eingabe Spielernamen'!B:B))&\", \"&INDEX('Eingabe Spielernamen'!G:G,MATCH(C9,'Eingabe Spielernamen'!B:B,0)),\" \")","v":", "},{"$f":"IF($C9<>0,INDEX('Eingabe Spielernamen'!A:A,MATCH(C9,'Eingabe Spielernamen'!B:B,)),\" \")","v":0},8,{"$f":"F9+17","v":25},25]
[{"$f":"A6+1","v":3},9,{"$f":"'3. Serie'!C10","v":103},{"$f":"IF($C10<>0,INDEX('Eingabe Spielernamen'!F:F,MATCH(C10,'Eingabe Spielernamen'!B:B))&\", \"&INDEX('Eingabe Spielernamen'!G:G,MATCH(C10,'Eingabe Spielernamen'!B:B,0)),\" \")","v":", "},{"$f":"IF($C10<>0,INDEX('Eingabe Spielernamen'!A:A,MATCH(C10,'Eingabe Spielernamen'!B:B,)),\" \")","v":0},9,{"$f":"F10+5","v":14},14]
[null,10,{"$f":"'3. Serie'!C11","v":204},{"$f":"IF($C11<>0,INDEX('Eingabe Spielernamen'!F:F,MATCH(C11,'Eingabe Spielernamen'!B:B))&\", \"&INDEX('Eingabe Spielernamen'!G:G,MATCH(C11,'Eingabe Spielernamen'!B:B,0)),\" \")","v":", "},{"$f":"IF($C11<>0,INDEX('Eingabe Spielernamen'!A:A,MATCH(C11,'Eingabe Spielernamen'!B:B,)),\" \")","v":0},10,{"$f":"F11+9","v":19},19]
[null,11,{"$f":"'3. Serie'!C12","v":305},{"$f":"IF($C12<>0,INDEX('Eingabe Spielernamen'!F:F,MATCH(C12,'Eingabe Spielernamen'!B:B))&\", \"&INDEX('Eingabe Spielernamen'!G:G,MATCH(C12,'Eingabe Spielernamen'!B:B,0)),\" \")","v":", "},{"$f":"IF($C12<>0,INDEX('Eingabe Spielernamen'!A:A,MATCH(C12,'Eingabe Spielernamen'!B:B,)),\" \")","v":0},11,{"$f":"F12+13","v":24},24]
[null,12,{"$f":"'3. Serie'!C13","v":406},{"$f":"IF($C13<>0,INDEX('Eingabe Spielernamen'!F:F,MATCH(C13,'Eingabe Spielernamen'!B:B))&\", \"&INDEX('Eingabe Spielernamen'!G:G,MATCH(C13,'Eingabe Spielernamen'!B:B,0)),\" \")","v":", "},{"$f":"IF($C13<>0,INDEX('Eingabe Spielernamen'!A:A,MATCH(C13,'Eingabe Spielernamen'!B:B,)),\" \")","v":0},12,{"$f":"F13+17","v":29},29]
[{"$f":"A10+1","v":4},13,{"$f":"'3. Serie'!C14","v":104},{"$f":"IF($C14<>0,INDEX('Eingabe Spielernamen'!F:F,MATCH(C14,'Eingabe Spielernamen'!B:B))&\", \"&INDEX('Eingabe Spielernamen'!G:G,MATCH(C14,'Eingabe Spielernamen'!B:B,0)),\" \")","v":", "},{"$f":"IF($C14<>0,INDEX('Eingabe Spielernamen'!A:A,MATCH(C14,'Eingabe Spielernamen'!B:B,)),\" \")","v":0},13,{"$f":"F14+5","v":18},18]
[null,14,{"$f":"'3. Serie'!C15","v":205},{"$f":"IF($C15<>0,INDEX('Eingabe Spielernamen'!F:F,MATCH(C15,'Eingabe Spielernamen'!B:B))&\", \"&INDEX('Eingabe Spielernamen'!G:G,MATCH(C15,'Eingabe Spielernamen'!B:B,0)),\" \")","v":", "},{"$f":"IF($C15<>0,INDEX('Eingabe Spielernamen'!A:A,MATCH(C15,'Eingabe Spielernamen'!B:B,)),\" \")","v":0},14,{"$f":"F15+9","v":23},23,"Wichtig! Oben eine durch 4 teilbare Zahl eingeben!"]
[null,15,{"$f":"'3. Serie'!C16","v":306},{"$f":"IF($C16<>0,INDEX('Eingabe Spielernamen'!F:F,MATCH(C16,'Eingabe Spielernamen'!B:B))&\", \"&INDEX('Eingabe Spielernamen'!G:G,MATCH(C16,'Eingabe Spielernamen'!B:B,0)),\" \")","v":", "},{"$f":"IF($C16<>0,INDEX('Eingabe Spielernamen'!A:A,MATCH(C16,'Eingabe Spielernamen'!B:B,)),\" \")","v":0},15,{"$f":"F16+13","v":28},28]
[null,16,{"$f":"'3. Serie'!C17","v":407},{"$f":"IF($C17<>0,INDEX('Eingabe Spielernamen'!F:F,MATCH(C17,'Eingabe Spielernamen'!B:B))&\", \"&INDEX('Eingabe Spielernamen'!G:G,MATCH(C17,'Eingabe Spielernamen'!B:B,0)),\" \")","v":", "},{"$f":"IF($C17<>0,INDEX('Eingabe Spielernamen'!A:A,MATCH(C17,'Eingabe Spielernamen'!B:B,)),\" \")","v":0},16,{"$f":"F17+17","v":33},33]
[{"$f":"A14+1","v":5},17,{"$f":"'3. Serie'!C18","v":105},{"$f":"IF($C18<>0,INDEX('Eingabe Spielernamen'!F:F,MATCH(C18,'Eingabe Spielernamen'!B:B))&\", \"&INDEX('Eingabe Spielernamen'!G:G,MATCH(C18,'Eingabe Spielernamen'!B:B,0)),\" \")","v":", "},{"$f":"IF($C18<>0,INDEX('Eingabe Spielernamen'!A:A,MATCH(C18,'Eingabe Spielernamen'!B:B,)),\" \")","v":0},17,{"$f":"F18+5","v":22},22]
[null,18,{"$f":"'3. Serie'!C19","v":206},{"$f":"IF($C19<>0,INDEX('Eingabe Spielernamen'!F:F,MATCH(C19,'Eingabe Spielernamen'!B:B))&\", \"&INDEX('Eingabe Spielernamen'!G:G,MATCH(C19,'Eingabe Spielernamen'!B:B,0)),\" \")","v":", "},{"$f":"IF($C19<>0,INDEX('Eingabe Spielernamen'!A:A,MATCH(C19,'Eingabe Spielernamen'!B:B,)),\" \")","v":0},18,{"$f":"F19+9","v":27},27]
[null,19,{"$f":"'3. Serie'!C20","v":307},{"$f":"IF($C20<>0,INDEX('Eingabe Spielernamen'!F:F,MATCH(C20,'Eingabe Spielernamen'!B:B))&\", \"&INDEX('Eingabe Spielernamen'!G:G,MATCH(C20,'Eingabe Spielernamen'!B:B,0)),\" \")","v":", "},{"$f":"IF($C20<>0,INDEX('Eingabe Spielernamen'!A:A,MATCH(C20,'Eingabe Spielernamen'!B:B,)),\" \")","v":0},19,{"$f":"F20+13","v":32},32]
[null,20,{"$f":"'3. Serie'!C21","v":408},{"$f":"IF($C21<>0,INDEX('Eingabe Spielernamen'!F:F,MATCH(C21,'Eingabe Spielernamen'!B:B))&\", \"&INDEX('Eingabe Spielernamen'!G:G,MATCH(C21,'Eingabe Spielernamen'!B:B,0)),\" \")","v":", "},{"$f":"IF($C21<>0,INDEX('Eingabe Spielernamen'!A:A,MATCH(C21,'Eingabe Spielernamen'!B:B,)),\" \")","v":0},20,{"$f":"F21+17","v":37},37]
[{"$f":"A18+1","v":6},21,{"$f":"'3. Serie'!C22","v":106},{"$f":"IF($C22<>0,INDEX('Eingabe Spielernamen'!F:F,MATCH(C22,'Eingabe Spielernamen'!B:B))&\", \"&INDEX('Eingabe Spielernamen'!G:G,MATCH(C22,'Eingabe Spielernamen'!B:B,0)),\" \")","v":", "},{"$f":"IF($C22<>0,INDEX('Eingabe Spielernamen'!A:A,MATCH(C22,'Eingabe Spielernamen'!B:B,)),\" \")","v":0},21,{"$f":"F22+5","v":26},26]
[null,22,{"$f":"'3. Serie'!C23","v":207},{"$f":"IF($C23<>0,INDEX('Eingabe Spielernamen'!F:F,MATCH(C23,'Eingabe Spielernamen'!B:B))&\", \"&INDEX('Eingabe Spielernamen'!G:G,MATCH(C23,'Eingabe Spielernamen'!B:B,0)),\" \")","v":", "},{"$f":"IF($C23<>0,INDEX('Eingabe Spielernamen'!A:A,MATCH(C23,'Eingabe Spielernamen'!B:B,)),\" \")","v":0},22,{"$f":"F23+9","v":31},31]
[null,23,{"$f":"'3. Serie'!C24","v":308},{"$f":"IF($C24<>0,INDEX('Eingabe Spielernamen'!F:F,MATCH(C24,'Eingabe Spielernamen'!B:B))&\", \"&INDEX('Eingabe Spielernamen'!G:G,MATCH(C24,'Eingabe Spielernamen'!B:B,0)),\" \")","v":", "},{"$f":"IF($C24<>0,INDEX('Eingabe Spielernamen'!A:A,MATCH(C24,'Eingabe Spielernamen'!B:B,)),\" \")","v":0},23,{"$f":"F24+13","v":36},36]
[null,24,{"$f":"'3. Serie'!C25","v":409},{"$f":"IF($C25<>0,INDEX('Eingabe Spielernamen'!F:F,MATCH(C25,'Eingabe Spielernamen'!B:B))&\", \"&INDEX('Eingabe Spielernamen'!G:G,MATCH(C25,'Eingabe Spielernamen'!B:B,0)),\" \")","v":", "},{"$f":"IF($C25<>0,INDEX('Eingabe Spielernamen'!A:A,MATCH(C25,'Eingabe Spielernamen'!B:B,)),\" \")","v":0},24,{"$f":"F25+17","v":41},41]
[{"$f":"A22+1","v":7},25,{"$f":"'3. Serie'!C26","v":107},{"$f":"IF($C26<>0,INDEX('Eingabe Spielernamen'!F:F,MATCH(C26,'Eingabe Spielernamen'!B:B))&\", \"&INDEX('Eingabe Spielernamen'!G:G,MATCH(C26,'Eingabe Spielernamen'!B:B,0)),\" \")","v":", "},{"$f":"IF($C26<>0,INDEX('Eingabe Spielernamen'!A:A,MATCH(C26,'Eingabe Spielernamen'!B:B,)),\" \")","v":0},25,{"$f":"F26+5","v":30},30]
[null,26,{"$f":"'3. Serie'!C27","v":208},{"$f":"IF($C27<>0,INDEX('Eingabe Spielernamen'!F:F,MATCH(C27,'Eingabe Spielernamen'!B:B))&\", \"&INDEX('Eingabe Spielernamen'!G:G,MATCH(C27,'Eingabe Spielernamen'!B:B,0)),\" \")","v":", "},{"$f":"IF($C27<>0,INDEX('Eingabe Spielernamen'!A:A,MATCH(C27,'Eingabe Spielernamen'!B:B,)),\" \")","v":0},26,{"$f":"F27+9","v":35},35]
[null,27,{"$f":"'3. Serie'!C28","v":309},{"$f":"IF($C28<>0,INDEX('Eingabe Spielernamen'!F:F,MATCH(C28,'Eingabe Spielernamen'!B:B))&\", \"&INDEX('Eingabe Spielernamen'!G:G,MATCH(C28,'Eingabe Spielernamen'!B:B,0)),\" \")","v":", "},{"$f":"IF($C28<>0,INDEX('Eingabe Spielernamen'!A:A,MATCH(C28,'Eingabe Spielernamen'!B:B,)),\" \")","v":0},27,{"$f":"F28+13","v":40},40,"Wenn weniger Teilnehmer wird dann automatisch angepasst! Dann evtl. Startkarten ändern!"]
[null,28,{"$f":"'3. Serie'!C29","v":410},{"$f":"IF($C29<>0,INDEX('Eingabe Spielernamen'!F:F,MATCH(C29,'Eingabe Spielernamen'!B:B))&\", \"&INDEX('Eingabe Spielernamen'!G:G,MATCH(C29,'Eingabe Spielernamen'!B:B,0)),\" \")","v":", "},{"$f":"IF($C29<>0,INDEX('Eingabe Spielernamen'!A:A,MATCH(C29,'Eingabe Spielernamen'!B:B,)),\" \")","v":0},28,{"$f":"F29+17","v":45},45]
[{"$f":"A26+1","v":8},29,{"$f":"'3. Serie'!C30","v":108},{"$f":"IF($C30<>0,INDEX('Eingabe Spielernamen'!F:F,MATCH(C30,'Eingabe Spielernamen'!B:B))&\", \"&INDEX('Eingabe Spielernamen'!G:G,MATCH(C30,'Eingabe Spielernamen'!B:B,0)),\" \")","v":", "},{"$f":"IF($C30<>0,INDEX('Eingabe Spielernamen'!A:A,MATCH(C30,'Eingabe Spielernamen'!B:B,)),\" \")","v":0},29,{"$f":"F30+5","v":34},34]
[null,30,{"$f":"'3. Serie'!C31","v":209},{"$f":"IF($C31<>0,INDEX('Eingabe Spielernamen'!F:F,MATCH(C31,'Eingabe Spielernamen'!B:B))&\", \"&INDEX('Eingabe Spielernamen'!G:G,MATCH(C31,'Eingabe Spielernamen'!B:B,0)),\" \")","v":", "},{"$f":"IF($C31<>0,INDEX('Eingabe Spielernamen'!A:A,MATCH(C31,'Eingabe Spielernamen'!B:B,)),\" \")","v":0},30,{"$f":"F31+9","v":39},39]
[null,31,{"$f":"'3. Serie'!C32","v":310},{"$f":"IF($C32<>0,INDEX('Eingabe Spielernamen'!F:F,MATCH(C32,'Eingabe Spielernamen'!B:B))&\", \"&INDEX('Eingabe Spielernamen'!G:G,MATCH(C32,'Eingabe Spielernamen'!B:B,0)),\" \")","v":", "},{"$f":"IF($C32<>0,INDEX('Eingabe Spielernamen'!A:A,MATCH(C32,'Eingabe Spielernamen'!B:B,)),\" \")","v":0},31,{"$f":"F32+13","v":44},44]
[null,32,{"$f":"'3. Serie'!C33","v":411},{"$f":"IF($C33<>0,INDEX('Eingabe Spielernamen'!F:F,MATCH(C33,'Eingabe Spielernamen'!B:B))&\", \"&INDEX('Eingabe Spielernamen'!G:G,MATCH(C33,'Eingabe Spielernamen'!B:B,0)),\" \")","v":", "},{"$f":"IF($C33<>0,INDEX('Eingabe Spielernamen'!A:A,MATCH(C33,'Eingabe Spielernamen'!B:B,)),\" \")","v":0},32,{"$f":"F33+17","v":49},49]
[{"$f":"A30+1","v":9},33,{"$f":"'3. Serie'!C34","v":109},{"$f":"IF($C34<>0,INDEX('Eingabe Spielernamen'!F:F,MATCH(C34,'Eingabe Spielernamen'!B:B))&\", \"&INDEX('Eingabe Spielernamen'!G:G,MATCH(C34,'Eingabe Spielernamen'!B:B,0)),\" \")","v":", "},{"$f":"IF($C34<>0,INDEX('Eingabe Spielernamen'!A:A,MATCH(C34,'Eingabe Spielernamen'!B:B,)),\" \")","v":0},{"$f":"B34","v":33},{"$f":"F34+5","v":38},{"$f":"IF(G34>I$1,G34-I$1,G34)","v":38}]
[null,34,{"$f":"'3. Serie'!C35","v":210},{"$f":"IF($C35<>0,INDEX('Eingabe Spielernamen'!F:F,MATCH(C35,'Eingabe Spielernamen'!B:B))&\", \"&INDEX('Eingabe Spielernamen'!G:G,MATCH(C35,'Eingabe Spielernamen'!B:B,0)),\" \")","v":", "},{"$f":"IF($C35<>0,INDEX('Eingabe Spielernamen'!A:A,MATCH(C35,'Eingabe Spielernamen'!B:B,)),\" \")","v":0},34,{"$f":"F35+9","v":43},43]
[null,35,{"$f":"'3. Serie'!C36","v":311},{"$f":"IF($C36<>0,INDEX('Eingabe Spielernamen'!F:F,MATCH(C36,'Eingabe Spielernamen'!B:B))&\", \"&INDEX('Eingabe Spielernamen'!G:G,MATCH(C36,'Eingabe Spielernamen'!B:B,0)),\" \")","v":", "},{"$f":"IF($C36<>0,INDEX('Eingabe Spielernamen'!A:A,MATCH(C36,'Eingabe Spielernamen'!B:B,)),\" \")","v":0},35,{"$f":"F36+13","v":48},48]
[null,36,{"$f":"'3. Serie'!C37","v":412},{"$f":"IF($C37<>0,INDEX('Eingabe Spielernamen'!F:F,MATCH(C37,'Eingabe Spielernamen'!B:B))&\", \"&INDEX('Eingabe Spielernamen'!G:G,MATCH(C37,'Eingabe Spielernamen'!B:B,0)),\" \")","v":", "},{"$f":"IF($C37<>0,INDEX('Eingabe Spielernamen'!A:A,MATCH(C37,'Eingabe Spielernamen'!B:B,)),\" \")","v":0},36,{"$f":"F37+17","v":53},53]
[{"$f":"A34+1","v":10},37,{"$f":"'3. Serie'!C38","v":110},{"$f":"IF($C38<>0,INDEX('Eingabe Spielernamen'!F:F,MATCH(C38,'Eingabe Spielernamen'!B:B))&\", \"&INDEX('Eingabe Spielernamen'!G:G,MATCH(C38,'Eingabe Spielernamen'!B:B,0)),\" \")","v":", "},{"$f":"IF($C38<>0,INDEX('Eingabe Spielernamen'!A:A,MATCH(C38,'Eingabe Spielernamen'!B:B,)),\" \")","v":0},37,{"$f":"F38+5","v":42},42]
[null,38,{"$f":"'3. Serie'!C39","v":211},{"$f":"IF($C39<>0,INDEX('Eingabe Spielernamen'!F:F,MATCH(C39,'Eingabe Spielernamen'!B:B))&\", \"&INDEX('Eingabe Spielernamen'!G:G,MATCH(C39,'Eingabe Spielernamen'!B:B,0)),\" \")","v":", "},{"$f":"IF($C39<>0,INDEX('Eingabe Spielernamen'!A:A,MATCH(C39,'Eingabe Spielernamen'!B:B,)),\" \")","v":0},38,{"$f":"F39+9","v":47},47]
[null,39,{"$f":"'3. Serie'!C40","v":312},{"$f":"IF($C40<>0,INDEX('Eingabe Spielernamen'!F:F,MATCH(C40,'Eingabe Spielernamen'!B:B))&\", \"&INDEX('Eingabe Spielernamen'!G:G,MATCH(C40,'Eingabe Spielernamen'!B:B,0)),\" \")","v":", "},{"$f":"IF($C40<>0,INDEX('Eingabe Spielernamen'!A:A,MATCH(C40,'Eingabe Spielernamen'!B:B,)),\" \")","v":0},39,{"$f":"F40+13","v":52},52]
[null,40,{"$f":"'3. Serie'!C41","v":413},{"$f":"IF($C41<>0,INDEX('Eingabe Spielernamen'!F:F,MATCH(C41,'Eingabe Spielernamen'!B:B))&\", \"&INDEX('Eingabe Spielernamen'!G:G,MATCH(C41,'Eingabe Spielernamen'!B:B,0)),\" \")","v":", "},{"$f":"IF($C41<>0,INDEX('Eingabe Spielernamen'!A:A,MATCH(C41,'Eingabe Spielernamen'!B:B,)),\" \")","v":0},40,{"$f":"F41+17","v":57},57]
[{"$f":"A38+1","v":11},41,{"$f":"'3. Serie'!C42","v":111},{"$f":"IF($C42<>0,INDEX('Eingabe Spielernamen'!F:F,MATCH(C42,'Eingabe Spielernamen'!B:B))&\", \"&INDEX('Eingabe Spielernamen'!G:G,MATCH(C42,'Eingabe Spielernamen'!B:B,0)),\" \")","v":", "},{"$f":"IF($C42<>0,INDEX('Eingabe Spielernamen'!A:A,MATCH(C42,'Eingabe Spielernamen'!B:B,)),\" \")","v":0},41,{"$f":"F42+5","v":46},46]
[null,42,{"$f":"'3. Serie'!C43","v":212},{"$f":"IF($C43<>0,INDEX('Eingabe Spielernamen'!F:F,MATCH(C43,'Eingabe Spielernamen'!B:B))&\", \"&INDEX('Eingabe Spielernamen'!G:G,MATCH(C43,'Eingabe Spielernamen'!B:B,0)),\" \")","v":", "},{"$f":"IF($C43<>0,INDEX('Eingabe Spielernamen'!A:A,MATCH(C43,'Eingabe Spielernamen'!B:B,)),\" \")","v":0},42,{"$f":"F43+9","v":51},51]
[null,43,{"$f":"'3. Serie'!C44","v":313},{"$f":"IF($C44<>0,INDEX('Eingabe Spielernamen'!F:F,MATCH(C44,'Eingabe Spielernamen'!B:B))&\", \"&INDEX('Eingabe Spielernamen'!G:G,MATCH(C44,'Eingabe Spielernamen'!B:B,0)),\" \")","v":", "},{"$f":"IF($C44<>0,INDEX('Eingabe Spielernamen'!A:A,MATCH(C44,'Eingabe Spielernamen'!B:B,)),\" \")","v":0},43,{"$f":"F44+13","v":56},56]
[null,44,{"$f":"'3. Serie'!C45","v":414},{"$f":"IF($C45<>0,INDEX('Eingabe Spielernamen'!F:F,MATCH(C45,'Eingabe Spielernamen'!B:B))&\", \"&INDEX('Eingabe Spielernamen'!G:G,MATCH(C45,'Eingabe Spielernamen'!B:B,0)),\" \")","v":", "},{"$f":"IF($C45<>0,INDEX('Eingabe Spielernamen'!A:A,MATCH(C45,'Eingabe Spielernamen'!B:B,)),\" \")","v":0},44,{"$f":"F45+17","v":61},61]
[{"$f":"A42+1","v":12},45,{"$f":"'3. Serie'!C46","v":112},{"$f":"IF($C46<>0,INDEX('Eingabe Spielernamen'!F:F,MATCH(C46,'Eingabe Spielernamen'!B:B))&\", \"&INDEX('Eingabe Spielernamen'!G:G,MATCH(C46,'Eingabe Spielernamen'!B:B,0)),\" \")","v":", "},{"$f":"IF($C46<>0,INDEX('Eingabe Spielernamen'!A:A,MATCH(C46,'Eingabe Spielernamen'!B:B,)),\" \")","v":0},45,{"$f":"F46+5","v":50},50]
[null,46,{"$f":"'3. Serie'!C47","v":213},{"$f":"IF($C47<>0,INDEX('Eingabe Spielernamen'!F:F,MATCH(C47,'Eingabe Spielernamen'!B:B))&\", \"&INDEX('Eingabe Spielernamen'!G:G,MATCH(C47,'Eingabe Spielernamen'!B:B,0)),\" \")","v":", "},{"$f":"IF($C47<>0,INDEX('Eingabe Spielernamen'!A:A,MATCH(C47,'Eingabe Spielernamen'!B:B,)),\" \")","v":0},46,{"$f":"F47+9","v":55},55]
[null,47,{"$f":"'3. Serie'!C48","v":314},{"$f":"IF($C48<>0,INDEX('Eingabe Spielernamen'!F:F,MATCH(C48,'Eingabe Spielernamen'!B:B))&\", \"&INDEX('Eingabe Spielernamen'!G:G,MATCH(C48,'Eingabe Spielernamen'!B:B,0)),\" \")","v":", "},{"$f":"IF($C48<>0,INDEX('Eingabe Spielernamen'!A:A,MATCH(C48,'Eingabe Spielernamen'!B:B,)),\" \")","v":0},47,{"$f":"F48+13","v":60},60]
[null,48,{"$f":"'3. Serie'!C49","v":415},{"$f":"IF($C49<>0,INDEX('Eingabe Spielernamen'!F:F,MATCH(C49,'Eingabe Spielernamen'!B:B))&\", \"&INDEX('Eingabe Spielernamen'!G:G,MATCH(C49,'Eingabe Spielernamen'!B:B,0)),\" \")","v":", "},{"$f":"IF($C49<>0,INDEX('Eingabe Spielernamen'!A:A,MATCH(C49,'Eingabe Spielernamen'!B:B,)),\" \")","v":0},48,{"$f":"F49+17","v":65},1]
[{"$f":"A46+1","v":13},49,{"$f":"'3. Serie'!C50","v":113},{"$f":"IF($C50<>0,INDEX('Eingabe Spielernamen'!F:F,MATCH(C50,'Eingabe Spielernamen'!B:B))&\", \"&INDEX('Eingabe Spielernamen'!G:G,MATCH(C50,'Eingabe Spielernamen'!B:B,0)),\" \")","v":", "},{"$f":"IF($C50<>0,INDEX('Eingabe Spielernamen'!A:A,MATCH(C50,'Eingabe Spielernamen'!B:B,)),\" \")","v":0},49,{"$f":"F50+5","v":54},54]
[null,50,{"$f":"'3. Serie'!C51","v":214},{"$f":"IF($C51<>0,INDEX('Eingabe Spielernamen'!F:F,MATCH(C51,'Eingabe Spielernamen'!B:B))&\", \"&INDEX('Eingabe Spielernamen'!G:G,MATCH(C51,'Eingabe Spielernamen'!B:B,0)),\" \")","v":", "},{"$f":"IF($C51<>0,INDEX('Eingabe Spielernamen'!A:A,MATCH(C51,'Eingabe Spielernamen'!B:B,)),\" \")","v":0},50,{"$f":"F51+9","v":59},59]
[null,51,{"$f":"'3. Serie'!C52","v":315},{"$f":"IF($C52<>0,INDEX('Eingabe Spielernamen'!F:F,MATCH(C52,'Eingabe Spielernamen'!B:B))&\", \"&INDEX('Eingabe Spielernamen'!G:G,MATCH(C52,'Eingabe Spielernamen'!B:B,0)),\" \")","v":", "},{"$f":"IF($C52<>0,INDEX('Eingabe Spielernamen'!A:A,MATCH(C52,'Eingabe Spielernamen'!B:B,)),\" \")","v":0},51,{"$f":"F52+13","v":64},64]
[null,52,{"$f":"'3. Serie'!C53","v":416},{"$f":"IF($C53<>0,INDEX('Eingabe Spielernamen'!F:F,MATCH(C53,'Eingabe Spielernamen'!B:B))&\", \"&INDEX('Eingabe Spielernamen'!G:G,MATCH(C53,'Eingabe Spielernamen'!B:B,0)),\" \")","v":", "},{"$f":"IF($C53<>0,INDEX('Eingabe Spielernamen'!A:A,MATCH(C53,'Eingabe Spielernamen'!B:B,)),\" \")","v":0},52,{"$f":"F53+17","v":69},5]
[{"$f":"A50+1","v":14},53,{"$f":"'3. Serie'!C54","v":114},{"$f":"IF($C54<>0,INDEX('Eingabe Spielernamen'!F:F,MATCH(C54,'Eingabe Spielernamen'!B:B))&\", \"&INDEX('Eingabe Spielernamen'!G:G,MATCH(C54,'Eingabe Spielernamen'!B:B,0)),\" \")","v":", "},{"$f":"IF($C54<>0,INDEX('Eingabe Spielernamen'!A:A,MATCH(C54,'Eingabe Spielernamen'!B:B,)),\" \")","v":0},53,{"$f":"F54+5","v":58},58]
[null,54,{"$f":"'3. Serie'!C55","v":215},{"$f":"IF($C55<>0,INDEX('Eingabe Spielernamen'!F:F,MATCH(C55,'Eingabe Spielernamen'!B:B))&\", \"&INDEX('Eingabe Spielernamen'!G:G,MATCH(C55,'Eingabe Spielernamen'!B:B,0)),\" \")","v":", "},{"$f":"IF($C55<>0,INDEX('Eingabe Spielernamen'!A:A,MATCH(C55,'Eingabe Spielernamen'!B:B,)),\" \")","v":0},54,{"$f":"F55+9","v":63},63]
[null,55,{"$f":"'3. Serie'!C56","v":316},{"$f":"IF($C56<>0,INDEX('Eingabe Spielernamen'!F:F,MATCH(C56,'Eingabe Spielernamen'!B:B))&\", \"&INDEX('Eingabe Spielernamen'!G:G,MATCH(C56,'Eingabe Spielernamen'!B:B,0)),\" \")","v":", "},{"$f":"IF($C56<>0,INDEX('Eingabe Spielernamen'!A:A,MATCH(C56,'Eingabe Spielernamen'!B:B,)),\" \")","v":0},55,{"$f":"F56+13","v":68},4]
[null,56,{"$f":"'3. Serie'!C57","v":401},{"$f":"IF($C57<>0,INDEX('Eingabe Spielernamen'!F:F,MATCH(C57,'Eingabe Spielernamen'!B:B))&\", \"&INDEX('Eingabe Spielernamen'!G:G,MATCH(C57,'Eingabe Spielernamen'!B:B,0)),\" \")","v":", "},{"$f":"IF($C57<>0,INDEX('Eingabe Spielernamen'!A:A,MATCH(C57,'Eingabe Spielernamen'!B:B,)),\" \")","v":0},56,{"$f":"F57+17","v":73},9]
[{"$f":"A54+1","v":15},57,{"$f":"'3. Serie'!C58","v":115},{"$f":"IF($C58<>0,INDEX('Eingabe Spielernamen'!F:F,MATCH(C58,'Eingabe Spielernamen'!B:B))&\", \"&INDEX('Eingabe Spielernamen'!G:G,MATCH(C58,'Eingabe Spielernamen'!B:B,0)),\" \")","v":", "},{"$f":"IF($C58<>0,INDEX('Eingabe Spielernamen'!A:A,MATCH(C58,'Eingabe Spielernamen'!B:B,)),\" \")","v":0},57,{"$f":"F58+5","v":62},62]
[null,58,{"$f":"'3. Serie'!C59","v":216},{"$f":"IF($C59<>0,INDEX('Eingabe Spielernamen'!F:F,MATCH(C59,'Eingabe Spielernamen'!B:B))&\", \"&INDEX('Eingabe Spielernamen'!G:G,MATCH(C59,'Eingabe Spielernamen'!B:B,0)),\" \")","v":", "},{"$f":"IF($C59<>0,INDEX('Eingabe Spielernamen'!A:A,MATCH(C59,'Eingabe Spielernamen'!B:B,)),\" \")","v":0},58,{"$f":"F59+9","v":67},3]
[null,59,{"$f":"'3. Serie'!C60","v":301},{"$f":"IF($C60<>0,INDEX('Eingabe Spielernamen'!F:F,MATCH(C60,'Eingabe Spielernamen'!B:B))&\", \"&INDEX('Eingabe Spielernamen'!G:G,MATCH(C60,'Eingabe Spielernamen'!B:B,0)),\" \")","v":", "},{"$f":"IF($C60<>0,INDEX('Eingabe Spielernamen'!A:A,MATCH(C60,'Eingabe Spielernamen'!B:B,)),\" \")","v":0},59,{"$f":"F60+13","v":72},8]
[null,60,{"$f":"'3. Serie'!C61","v":402},{"$f":"IF($C61<>0,INDEX('Eingabe Spielernamen'!F:F,MATCH(C61,'Eingabe Spielernamen'!B:B))&\", \"&INDEX('Eingabe Spielernamen'!G:G,MATCH(C61,'Eingabe Spielernamen'!B:B,0)),\" \")","v":", "},{"$f":"IF($C61<>0,INDEX('Eingabe Spielernamen'!A:A,MATCH(C61,'Eingabe Spielernamen'!B:B,)),\" \")","v":0},60,{"$f":"F61+17","v":77},13]
[{"$f":"A58+1","v":16},61,{"$f":"'3. Serie'!C62","v":116},{"$f":"IF($C62<>0,INDEX('Eingabe Spielernamen'!F:F,MATCH(C62,'Eingabe Spielernamen'!B:B))&\", \"&INDEX('Eingabe Spielernamen'!G:G,MATCH(C62,'Eingabe Spielernamen'!B:B,0)),\" \")","v":", "},{"$f":"IF($C62<>0,INDEX('Eingabe Spielernamen'!A:A,MATCH(C62,'Eingabe Spielernamen'!B:B,)),\" \")","v":0},61,{"$f":"F62+5","v":66},2]
[null,62,{"$f":"'3. Serie'!C63","v":201},{"$f":"IF($C63<>0,INDEX('Eingabe Spielernamen'!F:F,MATCH(C63,'Eingabe Spielernamen'!B:B))&\", \"&INDEX('Eingabe Spielernamen'!G:G,MATCH(C63,'Eingabe Spielernamen'!B:B,0)),\" \")","v":", "},{"$f":"IF($C63<>0,INDEX('Eingabe Spielernamen'!A:A,MATCH(C63,'Eingabe Spielernamen'!B:B,)),\" \")","v":0},62,{"$f":"F63+9","v":71},7]
[null,63,{"$f":"'3. Serie'!C64","v":302},{"$f":"IF($C64<>0,INDEX('Eingabe Spielernamen'!F:F,MATCH(C64,'Eingabe Spielernamen'!B:B))&\", \"&INDEX('Eingabe Spielernamen'!G:G,MATCH(C64,'Eingabe Spielernamen'!B:B,0)),\" \")","v":", "},{"$f":"IF($C64<>0,INDEX('Eingabe Spielernamen'!A:A,MATCH(C64,'Eingabe Spielernamen'!B:B,)),\" \")","v":0},63,{"$f":"F64+13","v":76},12]
[null,64,{"$f":"'3. Serie'!C65","v":403},{"$f":"IF($C65<>0,INDEX('Eingabe Spielernamen'!F:F,MATCH(C65,'Eingabe Spielernamen'!B:B))&\", \"&INDEX('Eingabe Spielernamen'!G:G,MATCH(C65,'Eingabe Spielernamen'!B:B,0)),\" \")","v":", "},{"$f":"IF($C65<>0,INDEX('Eingabe Spielernamen'!A:A,MATCH(C65,'Eingabe Spielernamen'!B:B,)),\" \")","v":0},64,{"$f":"F65+17","v":81},17]

{"sheet":"Listen (4.)","index":13,"n_rows":64,"n_cols":8,"rows_kept":64,"cut":false,"hidden":false,"merged":[]}
[{"$f":"'Eingabe Spielernamen'!L6","v":"2020-05-30"},"4. Serie",1,null,{"$f":"A1","v":"2020-05-30"},{"$f":"B1","v":"4. Serie"},{"$f":"C1","v":1}]
[]
[{"$f":"'4. Serie'!D2","v":", "},{"$f":"'4. Serie'!D3","v":", "},{"$f":"'4. Serie'!D4","v":", "},{"$f":"'4. Serie'!D5","v":", "},{"$f":"'4. Serie'!D2","v":", "},{"$f":"'4. Serie'!D3","v":", "},{"$f":"'4. Serie'!D4","v":", "},{"$f":"'4. Serie'!D5","v":", "}]
[{"$f":"'4. Serie'!C2","v":101},{"$f":"'4. Serie'!C3","v":202},{"$f":"'4. Serie'!C4","v":303},{"$f":"'4. Serie'!C5","v":404},{"$f":"'4. Serie'!C2","v":101},{"$f":"'4. Serie'!C3","v":202},{"$f":"'4. Serie'!C4","v":303},{"$f":"'4. Serie'!C5","v":404}]
[{"$f":"A1","v":"2020-05-30"},{"$f":"$B$1","v":"4. Serie"},{"$f":"C1+1","v":2},null,{"$f":"E1","v":"2020-05-30"},{"$f":"$B$1","v":"4. Serie"},{"$f":"G1+1","v":2},{"$f":"D5","v":0}]
[]
[{"$f":"'4. Serie'!D6","v":", "},{"$f":"'4. Serie'!D7","v":", "},{"$f":"'4. Serie'!D8","v":", "},{"$f":"'4. Serie'!D9","v":", "},{"$f":"'4. Serie'!D6","v":", "},{"$f":"'4. Serie'!D7","v":", "},{"$f":"'4. Serie'!D8","v":", "},{"$f":"'4. Serie'!D9","v":", "}]
[{"$f":"'4. Serie'!C6","v":102},{"$f":"'4. Serie'!C7","v":203},{"$f":"'4. Serie'!C8","v":304},{"$f":"'4. Serie'!C9","v":405},{"$f":"'4. Serie'!C6","v":102},{"$f":"'4. Serie'!C7","v":203},{"$f":"'4. Serie'!C8","v":304},{"$f":"'4. Serie'!C9","v":405}]
[{"$f":"A5","v":"2020-05-30"},{"$f":"$B$1","v":"4. Serie"},{"$f":"C5+1","v":3},null,{"$f":"E5","v":"2020-05-30"},{"$f":"$B$1","v":"4. Serie"},{"$f":"G5+1","v":3},{"$f":"D9","v":0}]
[]
[{"$f":"'4. Serie'!D10","v":", "},{"$f":"'4. Serie'!D11","v":", "},{"$f":"'4. Serie'!D12","v":", "},{"$f":"'4. Serie'!D13","v":", "},{"$f":"'4. Serie'!D10","v":", "},{"$f":"'4. Serie'!D11","v":", "},{"$f":"'4. Serie'!D12","v":", "},{"$f":"'4. Serie'!D13","v":", "}]
[{"$f":"'4. Serie'!C10","v":103},{"$f":"'4. Serie'!C11","v":204},{"$f":"'4. Serie'!C12","v":305},{"$f":"'4. Serie'!C13","v":406},{"$f":"'4. Serie'!C10","v":103},{"$f":"'4. Serie'!C11","v":204},{"$f":"'4. Serie'!C12","v":305},{"$f":"'4. Serie'!C13","v":406}]
[{"$f":"A9","v":"2020-05-30"},{"$f":"$B$1","v":"4. Serie"},{"$f":"C9+1","v":4},null,{"$f":"E9","v":"2020-05-30"},{"$f":"$B$1","v":"4. Serie"},{"$f":"G9+1","v":4},{"$f":"D13","v":0}]
[]
[{"$f":"'4. Serie'!D14","v":", "},{"$f":"'4. Serie'!D15","v":", "},{"$f":"'4. Serie'!D16","v":", "},{"$f":"'4. Serie'!D17","v":", "},{"$f":"'4. Serie'!D14","v":", "},{"$f":"'4. Serie'!D15","v":", "},{"$f":"'4. Serie'!D16","v":", "},{"$f":"'4. Serie'!D17","v":", "}]
[{"$f":"'4. Serie'!C14","v":104},{"$f":"'4. Serie'!C15","v":205},{"$f":"'4. Serie'!C16","v":306},{"$f":"'4. Serie'!C17","v":407},{"$f":"'4. Serie'!C14","v":104},{"$f":"'4. Serie'!C15","v":205},{"$f":"'4. Serie'!C16","v":306},{"$f":"'4. Serie'!C17","v":407}]
[{"$f":"A13","v":"2020-05-30"},{"$f":"$B$1","v":"4. Serie"},{"$f":"C13+1","v":5},null,{"$f":"E13","v":"2020-05-30"},{"$f":"$B$1","v":"4. Serie"},{"$f":"G13+1","v":5},{"$f":"D17","v":0}]
[]
[{"$f":"'4. Serie'!D18","v":", "},{"$f":"'4. Serie'!D19","v":", "},{"$f":"'4. Serie'!D20","v":", "},{"$f":"'4. Serie'!D21","v":", "},{"$f":"'4. Serie'!D18","v":", "},{"$f":"'4. Serie'!D19","v":", "},{"$f":"'4. Serie'!D20","v":", "},{"$f":"'4. Serie'!D21","v":", "}]
[{"$f":"'4. Serie'!C18","v":105},{"$f":"'4. Serie'!C19","v":206},{"$f":"'4. Serie'!C20","v":307},{"$f":"'4. Serie'!C21","v":408},{"$f":"'4. Serie'!C18","v":105},{"$f":"'4. Serie'!C19","v":206},{"$f":"'4. Serie'!C20","v":307},{"$f":"'4. Serie'!C21","v":408}]
[{"$f":"A17","v":"2020-05-30"},{"$f":"$B$1","v":"4. Serie"},{"$f":"C17+1","v":6},null,{"$f":"E17","v":"2020-05-30"},{"$f":"$B$1","v":"4. Serie"},{"$f":"G17+1","v":6},{"$f":"D21","v":0}]
[]
[{"$f":"'4. Serie'!D22","v":", "},{"$f":"'4. Serie'!D23","v":", "},{"$f":"'4. Serie'!D24","v":", "},{"$f":"'4. Serie'!D25","v":", "},{"$f":"'4. Serie'!D22","v":", "},{"$f":"'4. Serie'!D23","v":", "},{"$f":"'4. Serie'!D24","v":", "},{"$f":"'4. Serie'!D25","v":", "}]
[{"$f":"'4. Serie'!C22","v":106},{"$f":"'4. Serie'!C23","v":207},{"$f":"'4. Serie'!C24","v":308},{"$f":"'4. Serie'!C25","v":409},{"$f":"'4. Serie'!C22","v":106},{"$f":"'4. Serie'!C23","v":207},{"$f":"'4. Serie'!C24","v":308},{"$f":"'4. Serie'!C25","v":409}]
[{"$f":"A21","v":"2020-05-30"},{"$f":"$B$1","v":"4. Serie"},{"$f":"C21+1","v":7},null,{"$f":"E21","v":"2020-05-30"},{"$f":"$B$1","v":"4. Serie"},{"$f":"G21+1","v":7},{"$f":"D25","v":0}]
[]
[{"$f":"'4. Serie'!D26","v":", "},{"$f":"'4. Serie'!D27","v":", "},{"$f":"'4. Serie'!D28","v":", "},{"$f":"'4. Serie'!D29","v":", "},{"$f":"'4. Serie'!D26","v":", "},{"$f":"'4. Serie'!D27","v":", "},{"$f":"'4. Serie'!D28","v":", "},{"$f":"'4. Serie'!D29","v":", "}]
[{"$f":"'4. Serie'!C26","v":107},{"$f":"'4. Serie'!C27","v":208},{"$f":"'4. Serie'!C28","v":309},{"$f":"'4. Serie'!C29","v":410},{"$f":"'4. Serie'!C26","v":107},{"$f":"'4. Serie'!C27","v":208},{"$f":"'4. Serie'!C28","v":309},{"$f":"'4. Serie'!C29","v":410}]
[{"$f":"A25","v":"2020-05-30"},{"$f":"$B$1","v":"4. Serie"},{"$f":"C25+1","v":8},null,{"$f":"E25","v":"2020-05-30"},{"$f":"$B$1","v":"4. Serie"},{"$f":"G25+1","v":8},{"$f":"D29","v":0}]
[]
[{"$f":"'4. Serie'!D30","v":", "},{"$f":"'4. Serie'!D31","v":", "},{"$f":"'4. Serie'!D32","v":", "},{"$f":"'4. Serie'!D33","v":", "},{"$f":"'4. Serie'!D30","v":", "},{"$f":"'4. Serie'!D31","v":", "},{"$f":"'4. Serie'!D32","v":", "},{"$f":"'4. Serie'!D33","v":", "}]
[{"$f":"'4. Serie'!C30","v":108},{"$f":"'4. Serie'!C31","v":209},{"$f":"'4. Serie'!C32","v":310},{"$f":"'4. Serie'!C33","v":411},{"$f":"'4. Serie'!C30","v":108},{"$f":"'4. Serie'!C31","v":209},{"$f":"'4. Serie'!C32","v":310},{"$f":"'4. Serie'!C33","v":411}]
[{"$f":"A29","v":"2020-05-30"},{"$f":"$B$1","v":"4. Serie"},{"$f":"C29+1","v":9},null,{"$f":"E29","v":"2020-05-30"},{"$f":"$B$1","v":"4. Serie"},{"$f":"G29+1","v":9},{"$f":"D33","v":0}]
[]
[{"$f":"'4. Serie'!D34","v":", "},{"$f":"'4. Serie'!D35","v":", "},{"$f":"'4. Serie'!D36","v":", "},{"$f":"'4. Serie'!D37","v":", "},{"$f":"'4. Serie'!D34","v":", "},{"$f":"'4. Serie'!D35","v":", "},{"$f":"'4. Serie'!D36","v":", "},{"$f":"'4. Serie'!D37","v":", "}]
[{"$f":"'4. Serie'!C34","v":109},{"$f":"'4. Serie'!C35","v":210},{"$f":"'4. Serie'!C36","v":311},{"$f":"'4. Serie'!C37","v":412},{"$f":"'4. Serie'!C34","v":109},{"$f":"'4. Serie'!C35","v":210},{"$f":"'4. Serie'!C36","v":311},{"$f":"'4. Serie'!C37","v":412}]
[{"$f":"A33","v":"2020-05-30"},{"$f":"$B$1","v":"4. Serie"},{"$f":"C33+1","v":10},null,{"$f":"E33","v":"2020-05-30"},{"$f":"$B$1","v":"4. Serie"},{"$f":"G33+1","v":10},{"$f":"D37","v":0}]
[]
[{"$f":"'4. Serie'!D38","v":", "},{"$f":"'4. Serie'!D39","v":", "},{"$f":"'4. Serie'!D40","v":", "},{"$f":"'4. Serie'!D41","v":", "},{"$f":"'4. Serie'!D38","v":", "},{"$f":"'4. Serie'!D39","v":", "},{"$f":"'4. Serie'!D40","v":", "},{"$f":"'4. Serie'!D41","v":", "}]
[{"$f":"'4. Serie'!C38","v":110},{"$f":"'4. Serie'!C39","v":211},{"$f":"'4. Serie'!C40","v":312},{"$f":"'4. Serie'!C41","v":413},{"$f":"'4. Serie'!C38","v":110},{"$f":"'4. Serie'!C39","v":211},{"$f":"'4. Serie'!C40","v":312},{"$f":"'4. Serie'!C41","v":413}]
[{"$f":"A37","v":"2020-05-30"},{"$f":"$B$1","v":"4. Serie"},{"$f":"C37+1","v":11},null,{"$f":"E37","v":"2020-05-30"},{"$f":"$B$1","v":"4. Serie"},{"$f":"G37+1","v":11},{"$f":"D41","v":0}]
[]
[{"$f":"'4. Serie'!D42","v":", "},{"$f":"'4. Serie'!D43","v":", "},{"$f":"'4. Serie'!D44","v":", "},{"$f":"'4. Serie'!D45","v":", "},{"$f":"'4. Serie'!D42","v":", "},{"$f":"'4. Serie'!D43","v":", "},{"$f":"'4. Serie'!D44","v":", "},{"$f":"'4. Serie'!D45","v":", "}]
[{"$f":"'4. Serie'!C42","v":111},{"$f":"'4. Serie'!C43","v":212},{"$f":"'4. Serie'!C44","v":313},{"$f":"'4. Serie'!C45","v":414},{"$f":"'4. Serie'!C42","v":111},{"$f":"'4. Serie'!C43","v":212},{"$f":"'4. Serie'!C44","v":313},{"$f":"'4. Serie'!C45","v":414}]
[{"$f":"A41","v":"2020-05-30"},{"$f":"$B$1","v":"4. Serie"},{"$f":"C41+1","v":12},null,{"$f":"E41","v":"2020-05-30"},{"$f":"$B$1","v":"4. Serie"},{"$f":"G41+1","v":12},{"$f":"D45","v":0}]
[]
[{"$f":"'4. Serie'!D46","v":", "},{"$f":"'4. Serie'!D47","v":", "},{"$f":"'4. Serie'!D48","v":", "},{"$f":"'4. Serie'!D49","v":", "},{"$f":"'4. Serie'!D46","v":", "},{"$f":"'4. Serie'!D47","v":", "},{"$f":"'4. Serie'!D48","v":", "},{"$f":"'4. Serie'!D49","v":", "}]
[{"$f":"'4. Serie'!C46","v":112},{"$f":"'4. Serie'!C47","v":213},{"$f":"'4. Serie'!C48","v":314},{"$f":"'4. Serie'!C49","v":415},{"$f":"'4. Serie'!C46","v":112},{"$f":"'4. Serie'!C47","v":213},{"$f":"'4. Serie'!C48","v":314},{"$f":"'4. Serie'!C49","v":415}]
[{"$f":"A45","v":"2020-05-30"},{"$f":"$B$1","v":"4. Serie"},{"$f":"C45+1","v":13},null,{"$f":"E45","v":"2020-05-30"},{"$f":"$B$1","v":"4. Serie"},{"$f":"G45+1","v":13},{"$f":"D49","v":0}]
[]
[{"$f":"'4. Serie'!D50","v":", "},{"$f":"'4. Serie'!D51","v":", "},{"$f":"'4. Serie'!D52","v":", "},{"$f":"'4. Serie'!D53","v":", "},{"$f":"'4. Serie'!D50","v":", "},{"$f":"'4. Serie'!D51","v":", "},{"$f":"'4. Serie'!D52","v":", "},{"$f":"'4. Serie'!D53","v":", "}]
[{"$f":"'4. Serie'!C50","v":113},{"$f":"'4. Serie'!C51","v":214},{"$f":"'4. Serie'!C52","v":315},{"$f":"'4. Serie'!C53","v":416},{"$f":"'4. Serie'!C50","v":113},{"$f":"'4. Serie'!C51","v":214},{"$f":"'4. Serie'!C52","v":315},{"$f":"'4. Serie'!C53","v":416}]
[{"$f":"A49","v":"2020-05-30"},{"$f":"$B$1","v":"4. Serie"},{"$f":"C49+1","v":14},null,{"$f":"E49","v":"2020-05-30"},{"$f":"$B$1","v":"4. Serie"},{"$f":"G49+1","v":14},{"$f":"D53","v":0}]
[]
[{"$f":"'4. Serie'!D54","v":", "},{"$f":"'4. Serie'!D55","v":", "},{"$f":"'4. Serie'!D56","v":", "},{"$f":"'4. Serie'!D57","v":", "},{"$f":"'4. Serie'!D54","v":", "},{"$f":"'4. Serie'!D55","v":", "},{"$f":"'4. Serie'!D56","v":", "},{"$f":"'4. Serie'!D57","v":", "}]
[{"$f":"'4. Serie'!C54","v":114},{"$f":"'4. Serie'!C55","v":215},{"$f":"'4. Serie'!C56","v":316},{"$f":"'4. Serie'!C57","v":401},{"$f":"'4. Serie'!C54","v":114},{"$f":"'4. Serie'!C55","v":215},{"$f":"'4. Serie'!C56","v":316},{"$f":"'4. Serie'!C57","v":401}]
[{"$f":"A53","v":"2020-05-30"},{"$f":"$B$1","v":"4. Serie"},{"$f":"C53+1","v":15},null,{"$f":"E53","v":"2020-05-30"},{"$f":"$B$1","v":"4. Serie"},{"$f":"G53+1","v":15},{"$f":"D57","v":0}]
[]
[{"$f":"'4. Serie'!D58","v":", "},{"$f":"'4. Serie'!D59","v":", "},{"$f":"'4. Serie'!D60","v":", "},{"$f":"'4. Serie'!D61","v":", "},{"$f":"'4. Serie'!D58","v":", "},{"$f":"'4. Serie'!D59","v":", "},{"$f":"'4. Serie'!D60","v":", "},{"$f":"'4. Serie'!D61","v":", "}]
[{"$f":"'4. Serie'!C58","v":115},{"$f":"'4. Serie'!C59","v":216},{"$f":"'4. Serie'!C60","v":301},{"$f":"'4. Serie'!C61","v":402},{"$f":"'4. Serie'!C58","v":115},{"$f":"'4. Serie'!C59","v":216},{"$f":"'4. Serie'!C60","v":301},{"$f":"'4. Serie'!C61","v":402}]
[{"$f":"A57","v":"2020-05-30"},{"$f":"$B$1","v":"4. Serie"},{"$f":"C57+1","v":16},null,{"$f":"E57","v":"2020-05-30"},{"$f":"$B$1","v":"4. Serie"},{"$f":"G57+1","v":16},{"$f":"D61","v":0}]
[]
[{"$f":"'4. Serie'!D62","v":", "},{"$f":"'4. Serie'!D63","v":", "},{"$f":"'4. Serie'!D64","v":", "},{"$f":"'4. Serie'!D65","v":", "},{"$f":"'4. Serie'!D62","v":", "},{"$f":"'4. Serie'!D63","v":", "},{"$f":"'4. Serie'!D64","v":", "},{"$f":"'4. Serie'!D65","v":", "}]
[{"$f":"'4. Serie'!C62","v":116},{"$f":"'4. Serie'!C63","v":201},{"$f":"'4. Serie'!C64","v":302},{"$f":"'4. Serie'!C65","v":403},{"$f":"'4. Serie'!C62","v":116},{"$f":"'4. Serie'!C63","v":201},{"$f":"'4. Serie'!C64","v":302},{"$f":"'4. Serie'!C65","v":403}]

{"sheet":"5. Serie","index":14,"n_rows":65,"n_cols":7,"rows_kept":65,"cut":false,"hidden":false,"merged":[[1,5,13,6],[5,0,8,0],[9,0,12,0],[13,0,16,0],[14,5,26,6],[17,0,20,0],[21,0,24,0],[25,0,28,0],[27,5,36,6],[29,0,32,0],[33,0,36,0],[53,0,56,0],[57,0,60,0],[61,0,64,0],[49,0,52,0],[1,0,4,0],[37,0,40,0],[41,0,44,0],[45,0,48,0]]}
["T",{"$f":"#REF!","v":{"$error":"#REF!"}},"Start Nr.:","Name:","Verein:",{"$f":"'1. Serie'!F1","v":64},"Teilnehmer"]
[1,1,403,{"$f":"IF($C2<>0,INDEX('Eingabe Spielernamen'!F:F,MATCH(C2,'Eingabe Spielernamen'!B:B))&\", \"&INDEX('Eingabe Spielernamen'!G:G,MATCH(C2,'Eingabe Spielernamen'!B:B,0)),\" \")","v":", "},{"$f":"IF($C2<>0,INDEX('Eingabe Spielernamen'!A:A,MATCH(C2,'Eingabe Spielernamen'!B:B,)),\" \")","v":0},"Sortiert nach Startkarten!"]
[null,2,106,{"$f":"IF($C3<>0,INDEX('Eingabe Spielernamen'!F:F,MATCH(C3,'Eingabe Spielernamen'!B:B))&\", \"&INDEX('Eingabe Spielernamen'!G:G,MATCH(C3,'Eingabe Spielernamen'!B:B,0)),\" \")","v":", "},{"$f":"IF($C3<>0,INDEX('Eingabe Spielernamen'!A:A,MATCH(C3,'Eingabe Spielernamen'!B:B,)),\" \")","v":0}]
[null,3,205,{"$f":"IF($C4<>0,INDEX('Eingabe Spielernamen'!F:F,MATCH(C4,'Eingabe Spielernamen'!B:B))&\", \"&INDEX('Eingabe Spielernamen'!G:G,MATCH(C4,'Eingabe Spielernamen'!B:B,0)),\" \")","v":", "},{"$f":"IF($C4<>0,INDEX('Eingabe Spielernamen'!A:A,MATCH(C4,'Eingabe Spielernamen'!B:B,)),\" \")","v":0}]
[null,4,304,{"$f":"IF($C5<>0,INDEX('Eingabe Spielernamen'!F:F,MATCH(C5,'Eingabe Spielernamen'!B:B))&\", \"&INDEX('Eingabe Spielernamen'!G:G,MATCH(C5,'Eingabe Spielernamen'!B:B,0)),\" \")","v":", "},{"$f":"IF($C5<>0,INDEX('Eingabe Spielernamen'!A:A,MATCH(C5,'Eingabe Spielernamen'!B:B,)),\" \")","v":0}]
[{"$f":"A2+1","v":2},5,404,{"$f":"IF($C6<>0,INDEX('Eingabe Spielernamen'!F:F,MATCH(C6,'Eingabe Spielernamen'!B:B))&\", \"&INDEX('Eingabe Spielernamen'!G:G,MATCH(C6,'Eingabe Spielernamen'!B:B,0)),\" \")","v":", "},{"$f":"IF($C6<>0,INDEX('Eingabe Spielernamen'!A:A,MATCH(C6,'Eingabe Spielernamen'!B:B,)),\" \")","v":0}]
[null,6,107,{"$f":"IF($C7<>0,INDEX('Eingabe Spielernamen'!F:F,MATCH(C7,'Eingabe Spielernamen'!B:B))&\", \"&INDEX('Eingabe Spielernamen'!G:G,MATCH(C7,'Eingabe Spielernamen'!B:B,0)),\" \")","v":", "},{"$f":"IF($C7<>0,INDEX('Eingabe Spielernamen'!A:A,MATCH(C7,'Eingabe Spielernamen'!B:B,)),\" \")","v":0}]
[null,7,206,{"$f":"IF($C8<>0,INDEX('Eingabe Spielernamen'!F:F,MATCH(C8,'Eingabe Spielernamen'!B:B))&\", \"&INDEX('Eingabe Spielernamen'!G:G,MATCH(C8,'Eingabe Spielernamen'!B:B,0)),\" \")","v":", "},{"$f":"IF($C8<>0,INDEX('Eingabe Spielernamen'!A:A,MATCH(C8,'Eingabe Spielernamen'!B:B,)),\" \")","v":0}]
[null,8,305,{"$f":"IF($C9<>0,INDEX('Eingabe Spielernamen'!F:F,MATCH(C9,'Eingabe Spielernamen'!B:B))&\", \"&INDEX('Eingabe Spielernamen'!G:G,MATCH(C9,'Eingabe Spielernamen'!B:B,0)),\" \")","v":", "},{"$f":"IF($C9<>0,INDEX('Eingabe Spielernamen'!A:A,MATCH(C9,'Eingabe Spielernamen'!B:B,)),\" \")","v":0}]
[{"$f":"A6+1","v":3},9,405,{"$f":"IF($C10<>0,INDEX('Eingabe Spielernamen'!F:F,MATCH(C10,'Eingabe Spielernamen'!B:B))&\", \"&INDEX('Eingabe Spielernamen'!G:G,MATCH(C10,'Eingabe Spielernamen'!B:B,0)),\" \")","v":", "},{"$f":"IF($C10<>0,INDEX('Eingabe Spielernamen'!A:A,MATCH(C10,'Eingabe Spielernamen'!B:B,)),\" \")","v":0}]
[null,10,108,{"$f":"IF($C11<>0,INDEX('Eingabe Spielernamen'!F:F,MATCH(C11,'Eingabe Spielernamen'!B:B))&\", \"&INDEX('Eingabe Spielernamen'!G:G,MATCH(C11,'Eingabe Spielernamen'!B:B,0)),\" \")","v":", "},{"$f":"IF($C11<>0,INDEX('Eingabe Spielernamen'!A:A,MATCH(C11,'Eingabe Spielernamen'!B:B,)),\" \")","v":0}]
[null,11,207,{"$f":"IF($C12<>0,INDEX('Eingabe Spielernamen'!F:F,MATCH(C12,'Eingabe Spielernamen'!B:B))&\", \"&INDEX('Eingabe Spielernamen'!G:G,MATCH(C12,'Eingabe Spielernamen'!B:B,0)),\" \")","v":", "},{"$f":"IF($C12<>0,INDEX('Eingabe Spielernamen'!A:A,MATCH(C12,'Eingabe Spielernamen'!B:B,)),\" \")","v":0}]
[null,12,306,{"$f":"IF($C13<>0,INDEX('Eingabe Spielernamen'!F:F,MATCH(C13,'Eingabe Spielernamen'!B:B))&\", \"&INDEX('Eingabe Spielernamen'!G:G,MATCH(C13,'Eingabe Spielernamen'!B:B,0)),\" \")","v":", "},{"$f":"IF($C13<>0,INDEX('Eingabe Spielernamen'!A:A,MATCH(C13,'Eingabe Spielernamen'!B:B,)),\" \")","v":0}]
[{"$f":"A10+1","v":4},13,406,{"$f":"IF($C14<>0,INDEX('Eingabe Spielernamen'!F:F,MATCH(C14,'Eingabe Spielernamen'!B:B))&\", \"&INDEX('Eingabe Spielernamen'!G:G,MATCH(C14,'Eingabe Spielernamen'!B:B,0)),\" \")","v":", "},{"$f":"IF($C14<>0,INDEX('Eingabe Spielernamen'!A:A,MATCH(C14,'Eingabe Spielernamen'!B:B,)),\" \")","v":0}]
[null,14,109,{"$f":"IF($C15<>0,INDEX('Eingabe Spielernamen'!F:F,MATCH(C15,'Eingabe Spielernamen'!B:B))&\", \"&INDEX('Eingabe Spielernamen'!G:G,MATCH(C15,'Eingabe Spielernamen'!B:B,0)),\" \")","v":", "},{"$f":"IF($C15<>0,INDEX('Eingabe Spielernamen'!A:A,MATCH(C15,'Eingabe Spielernamen'!B:B,)),\" \")","v":0},"Wenn weniger Tische, manuell umsetzen!"]
[null,15,208,{"$f":"IF($C16<>0,INDEX('Eingabe Spielernamen'!F:F,MATCH(C16,'Eingabe Spielernamen'!B:B))&\", \"&INDEX('Eingabe Spielernamen'!G:G,MATCH(C16,'Eingabe Spielernamen'!B:B,0)),\" \")","v":", "},{"$f":"IF($C16<>0,INDEX('Eingabe Spielernamen'!A:A,MATCH(C16,'Eingabe Spielernamen'!B:B,)),\" \")","v":0}]
[null,16,307,{"$f":"IF($C17<>0,INDEX('Eingabe Spielernamen'!F:F,MATCH(C17,'Eingabe Spielernamen'!B:B))&\", \"&INDEX('Eingabe Spielernamen'!G:G,MATCH(C17,'Eingabe Spielernamen'!B:B,0)),\" \")","v":", "},{"$f":"IF($C17<>0,INDEX('Eingabe Spielernamen'!A:A,MATCH(C17,'Eingabe Spielernamen'!B:B,)),\" \")","v":0}]
[{"$f":"A14+1","v":5},17,407,{"$f":"IF($C18<>0,INDEX('Eingabe Spielernamen'!F:F,MATCH(C18,'Eingabe Spielernamen'!B:B))&\", \"&INDEX('Eingabe Spielernamen'!G:G,MATCH(C18,'Eingabe Spielernamen'!B:B,0)),\" \")","v":", "},{"$f":"IF($C18<>0,INDEX('Eingabe Spielernamen'!A:A,MATCH(C18,'Eingabe Spielernamen'!B:B,)),\" \")","v":0}]
[null,18,110,{"$f":"IF($C19<>0,INDEX('Eingabe Spielernamen'!F:F,MATCH(C19,'Eingabe Spielernamen'!B:B))&\", \"&INDEX('Eingabe Spielernamen'!G:G,MATCH(C19,'Eingabe Spielernamen'!B:B,0)),\" \")","v":", "},{"$f":"IF($C19<>0,INDEX('Eingabe Spielernamen'!A:A,MATCH(C19,'Eingabe Spielernamen'!B:B,)),\" \")","v":0}]
[null,19,209,{"$f":"IF($C20<>0,INDEX('Eingabe Spielernamen'!F:F,MATCH(C20,'Eingabe Spielernamen'!B:B))&\", \"&INDEX('Eingabe Spielernamen'!G:G,MATCH(C20,'Eingabe Spielernamen'!B:B,0)),\" \")","v":", "},{"$f":"IF($C20<>0,INDEX('Eingabe Spielernamen'!A:A,MATCH(C20,'Eingabe Spielernamen'!B:B,)),\" \")","v":0}]
[null,20,308,{"$f":"IF($C21<>0,INDEX('Eingabe Spielernamen'!F:F,MATCH(C21,'Eingabe Spielernamen'!B:B))&\", \"&INDEX('Eingabe Spielernamen'!G:G,MATCH(C21,'Eingabe Spielernamen'!B:B,0)),\" \")","v":", "},{"$f":"IF($C21<>0,INDEX('Eingabe Spielernamen'!A:A,MATCH(C21,'Eingabe Spielernamen'!B:B,)),\" \")","v":0}]
[{"$f":"A18+1","v":6},21,408,{"$f":"IF($C22<>0,INDEX('Eingabe Spielernamen'!F:F,MATCH(C22,'Eingabe Spielernamen'!B:B))&\", \"&INDEX('Eingabe Spielernamen'!G:G,MATCH(C22,'Eingabe Spielernamen'!B:B,0)),\" \")","v":", "},{"$f":"IF($C22<>0,INDEX('Eingabe Spielernamen'!A:A,MATCH(C22,'Eingabe Spielernamen'!B:B,)),\" \")","v":0}]
[null,22,111,{"$f":"IF($C23<>0,INDEX('Eingabe Spielernamen'!F:F,MATCH(C23,'Eingabe Spielernamen'!B:B))&\", \"&INDEX('Eingabe Spielernamen'!G:G,MATCH(C23,'Eingabe Spielernamen'!B:B,0)),\" \")","v":", "},{"$f":"IF($C23<>0,INDEX('Eingabe Spielernamen'!A:A,MATCH(C23,'Eingabe Spielernamen'!B:B,)),\" \")","v":0}]
[null,23,210,{"$f":"IF($C24<>0,INDEX('Eingabe Spielernamen'!F:F,MATCH(C24,'Eingabe Spielernamen'!B:B))&\", \"&INDEX('Eingabe Spielernamen'!G:G,MATCH(C24,'Eingabe Spielernamen'!B:B,0)),\" \")","v":", "},{"$f":"IF($C24<>0,INDEX('Eingabe Spielernamen'!A:A,MATCH(C24,'Eingabe Spielernamen'!B:B,)),\" \")","v":0}]
[null,24,309,{"$f":"IF($C25<>0,INDEX('Eingabe Spielernamen'!F:F,MATCH(C25,'Eingabe Spielernamen'!B:B))&\", \"&INDEX('Eingabe Spielernamen'!G:G,MATCH(C25,'Eingabe Spielernamen'!B:B,0)),\" \")","v":", "},{"$f":"IF($C25<>0,INDEX('Eingabe Spielernamen'!A:A,MATCH(C25,'Eingabe Spielernamen'!B:B,)),\" \")","v":0}]
[{"$f":"A22+1","v":7},25,409,{"$f":"IF($C26<>0,INDEX('Eingabe Spielernamen'!F:F,MATCH(C26,'Eingabe Spielernamen'!B:B))&\", \"&INDEX('Eingabe Spielernamen'!G:G,MATCH(C26,'Eingabe Spielernamen'!B:B,0)),\" \")","v":", "},{"$f":"IF($C26<>0,INDEX('Eingabe Spielernamen'!A:A,MATCH(C26,'Eingabe Spielernamen'!B:B,)),\" \")","v":0}]
[null,26,112,{"$f":"IF($C27<>0,INDEX('Eingabe Spielernamen'!F:F,MATCH(C27,'Eingabe Spielernamen'!B:B))&\", \"&INDEX('Eingabe Spielernamen'!G:G,MATCH(C27,'Eingabe Spielernamen'!B:B,0)),\" \")","v":", "},{"$f":"IF($C27<>0,INDEX('Eingabe Spielernamen'!A:A,MATCH(C27,'Eingabe Spielernamen'!B:B,)),\" \")","v":0}]
[null,27,211,{"$f":"IF($C28<>0,INDEX('Eingabe Spielernamen'!F:F,MATCH(C28,'Eingabe Spielernamen'!B:B))&\", \"&INDEX('Eingabe Spielernamen'!G:G,MATCH(C28,'Eingabe Spielernamen'!B:B,0)),\" \")","v":", "},{"$f":"IF($C28<>0,INDEX('Eingabe Spielernamen'!A:A,MATCH(C28,'Eingabe Spielernamen'!B:B,)),\" \")","v":0},"In Spalte \"C\" dann die Startnummern ändern!"]
[null,28,310,{"$f":"IF($C29<>0,INDEX('Eingabe Spielernamen'!F:F,MATCH(C29,'Eingabe Spielernamen'!B:B))&\", \"&INDEX('Eingabe Spielernamen'!G:G,MATCH(C29,'Eingabe Spielernamen'!B:B,0)),\" \")","v":", "},{"$f":"IF($C29<>0,INDEX('Eingabe Spielernamen'!A:A,MATCH(C29,'Eingabe Spielernamen'!B:B,)),\" \")","v":0}]
[{"$f":"A26+1","v":8},29,410,{"$f":"IF($C30<>0,INDEX('Eingabe Spielernamen'!F:F,MATCH(C30,'Eingabe Spielernamen'!B:B))&\", \"&INDEX('Eingabe Spielernamen'!G:G,MATCH(C30,'Eingabe Spielernamen'!B:B,0)),\" \")","v":", "},{"$f":"IF($C30<>0,INDEX('Eingabe Spielernamen'!A:A,MATCH(C30,'Eingabe Spielernamen'!B:B,)),\" \")","v":0}]
[null,30,113,{"$f":"IF($C31<>0,INDEX('Eingabe Spielernamen'!F:F,MATCH(C31,'Eingabe Spielernamen'!B:B))&\", \"&INDEX('Eingabe Spielernamen'!G:G,MATCH(C31,'Eingabe Spielernamen'!B:B,0)),\" \")","v":", "},{"$f":"IF($C31<>0,INDEX('Eingabe Spielernamen'!A:A,MATCH(C31,'Eingabe Spielernamen'!B:B,)),\" \")","v":0}]
[null,31,212,{"$f":"IF($C32<>0,INDEX('Eingabe Spielernamen'!F:F,MATCH(C32,'Eingabe Spielernamen'!B:B))&\", \"&INDEX('Eingabe Spielernamen'!G:G,MATCH(C32,'Eingabe Spielernamen'!B:B,0)),\" \")","v":", "},{"$f":"IF($C32<>0,INDEX('Eingabe Spielernamen'!A:A,MATCH(C32,'Eingabe Spielernamen'!B:B,)),\" \")","v":0}]
[null,32,311,{"$f":"IF($C33<>0,INDEX('Eingabe Spielernamen'!F:F,MATCH(C33,'Eingabe Spielernamen'!B:B))&\", \"&INDEX('Eingabe Spielernamen'!G:G,MATCH(C33,'Eingabe Spielernamen'!B:B,0)),\" \")","v":", "},{"$f":"IF($C33<>0,INDEX('Eingabe Spielernamen'!A:A,MATCH(C33,'Eingabe Spielernamen'!B:B,)),\" \")","v":0}]
[{"$f":"A30+1","v":9},33,411,{"$f":"IF($C34<>0,INDEX('Eingabe Spielernamen'!F:F,MATCH(C34,'Eingabe Spielernamen'!B:B))&\", \"&INDEX('Eingabe Spielernamen'!G:G,MATCH(C34,'Eingabe Spielernamen'!B:B,0)),\" \")","v":", "},{"$f":"IF($C34<>0,INDEX('Eingabe Spielernamen'!A:A,MATCH(C34,'Eingabe Spielernamen'!B:B,)),\" \")","v":0}]
[null,34,114,{"$f":"IF($C35<>0,INDEX('Eingabe Spielernamen'!F:F,MATCH(C35,'Eingabe Spielernamen'!B:B))&\", \"&INDEX('Eingabe Spielernamen'!G:G,MATCH(C35,'Eingabe Spielernamen'!B:B,0)),\" \")","v":", "},{"$f":"IF($C35<>0,INDEX('Eingabe Spielernamen'!A:A,MATCH(C35,'Eingabe Spielernamen'!B:B,)),\" \")","v":0}]
[null,35,213,{"$f":"IF($C36<>0,INDEX('Eingabe Spielernamen'!F:F,MATCH(C36,'Eingabe Spielernamen'!B:B))&\", \"&INDEX('Eingabe Spielernamen'!G:G,MATCH(C36,'Eingabe Spielernamen'!B:B,0)),\" \")","v":", "},{"$f":"IF($C36<>0,INDEX('Eingabe Spielernamen'!A:A,MATCH(C36,'Eingabe Spielernamen'!B:B,)),\" \")","v":0}]
[null,36,312,{"$f":"IF($C37<>0,INDEX('Eingabe Spielernamen'!F:F,MATCH(C37,'Eingabe Spielernamen'!B:B))&\", \"&INDEX('Eingabe Spielernamen'!G:G,MATCH(C37,'Eingabe Spielernamen'!B:B,0)),\" \")","v":", "},{"$f":"IF($C37<>0,INDEX('Eingabe Spielernamen'!A:A,MATCH(C37,'Eingabe Spielernamen'!B:B,)),\" \")","v":0}]
[{"$f":"A34+1","v":10},37,412,{"$f":"IF($C38<>0,INDEX('Eingabe Spielernamen'!F:F,MATCH(C38,'Eingabe Spielernamen'!B:B))&\", \"&INDEX('Eingabe Spielernamen'!G:G,MATCH(C38,'Eingabe Spielernamen'!B:B,0)),\" \")","v":", "},{"$f":"IF($C38<>0,INDEX('Eingabe Spielernamen'!A:A,MATCH(C38,'Eingabe Spielernamen'!B:B,)),\" \")","v":0}]
[null,38,115,{"$f":"IF($C39<>0,INDEX('Eingabe Spielernamen'!F:F,MATCH(C39,'Eingabe Spielernamen'!B:B))&\", \"&INDEX('Eingabe Spielernamen'!G:G,MATCH(C39,'Eingabe Spielernamen'!B:B,0)),\" \")","v":", "},{"$f":"IF($C39<>0,INDEX('Eingabe Spielernamen'!A:A,MATCH(C39,'Eingabe Spielernamen'!B:B,)),\" \")","v":0}]
[null,39,214,{"$f":"IF($C40<>0,INDEX('Eingabe Spielernamen'!F:F,MATCH(C40,'Eingabe Spielernamen'!B:B))&\", \"&INDEX('Eingabe Spielernamen'!G:G,MATCH(C40,'Eingabe Spielernamen'!B:B,0)),\" \")","v":", "},{"$f":"IF($C40<>0,INDEX('Eingabe Spielernamen'!A:A,MATCH(C40,'Eingabe Spielernamen'!B:B,)),\" \")","v":0}]
[null,40,313,{"$f":"IF($C41<>0,INDEX('Eingabe Spielernamen'!F:F,MATCH(C41,'Eingabe Spielernamen'!B:B))&\", \"&INDEX('Eingabe Spielernamen'!G:G,MATCH(C41,'Eingabe Spielernamen'!B:B,0)),\" \")","v":", "},{"$f":"IF($C41<>0,INDEX('Eingabe Spielernamen'!A:A,MATCH(C41,'Eingabe Spielernamen'!B:B,)),\" \")","v":0}]
[{"$f":"A38+1","v":11},41,413,{"$f":"IF($C42<>0,INDEX('Eingabe Spielernamen'!F:F,MATCH(C42,'Eingabe Spielernamen'!B:B))&\", \"&INDEX('Eingabe Spielernamen'!G:G,MATCH(C42,'Eingabe Spielernamen'!B:B,0)),\" \")","v":", "},{"$f":"IF($C42<>0,INDEX('Eingabe Spielernamen'!A:A,MATCH(C42,'Eingabe Spielernamen'!B:B,)),\" \")","v":0}]
[null,42,116,{"$f":"IF($C43<>0,INDEX('Eingabe Spielernamen'!F:F,MATCH(C43,'Eingabe Spielernamen'!B:B))&\", \"&INDEX('Eingabe Spielernamen'!G:G,MATCH(C43,'Eingabe Spielernamen'!B:B,0)),\" \")","v":", "},{"$f":"IF($C43<>0,INDEX('Eingabe Spielernamen'!A:A,MATCH(C43,'Eingabe Spielernamen'!B:B,)),\" \")","v":0}]
[null,43,215,{"$f":"IF($C44<>0,INDEX('Eingabe Spielernamen'!F:F,MATCH(C44,'Eingabe Spielernamen'!B:B))&\", \"&INDEX('Eingabe Spielernamen'!G:G,MATCH(C44,'Eingabe Spielernamen'!B:B,0)),\" \")","v":", "},{"$f":"IF($C44<>0,INDEX('Eingabe Spielernamen'!A:A,MATCH(C44,'Eingabe Spielernamen'!B:B,)),\" \")","v":0}]
[null,44,314,{"$f":"IF($C45<>0,INDEX('Eingabe Spielernamen'!F:F,MATCH(C45,'Eingabe Spielernamen'!B:B))&\", \"&INDEX('Eingabe Spielernamen'!G:G,MATCH(C45,'Eingabe Spielernamen'!B:B,0)),\" \")","v":", "},{"$f":"IF($C45<>0,INDEX('Eingabe Spielernamen'!A:A,MATCH(C45,'Eingabe Spielernamen'!B:B,)),\" \")","v":0}]
[{"$f":"A42+1","v":12},45,414,{"$f":"IF($C46<>0,INDEX('Eingabe Spielernamen'!F:F,MATCH(C46,'Eingabe Spielernamen'!B:B))&\", \"&INDEX('Eingabe Spielernamen'!G:G,MATCH(C46,'Eingabe Spielernamen'!B:B,0)),\" \")","v":", "},{"$f":"IF($C46<>0,INDEX('Eingabe Spielernamen'!A:A,MATCH(C46,'Eingabe Spielernamen'!B:B,)),\" \")","v":0}]
[null,46,101,{"$f":"IF($C47<>0,INDEX('Eingabe Spielernamen'!F:F,MATCH(C47,'Eingabe Spielernamen'!B:B))&\", \"&INDEX('Eingabe Spielernamen'!G:G,MATCH(C47,'Eingabe Spielernamen'!B:B,0)),\" \")","v":", "},{"$f":"IF($C47<>0,INDEX('Eingabe Spielernamen'!A:A,MATCH(C47,'Eingabe Spielernamen'!B:B,)),\" \")","v":0}]
[null,47,216,{"$f":"IF($C48<>0,INDEX('Eingabe Spielernamen'!F:F,MATCH(C48,'Eingabe Spielernamen'!B:B))&\", \"&INDEX('Eingabe Spielernamen'!G:G,MATCH(C48,'Eingabe Spielernamen'!B:B,0)),\" \")","v":", "},{"$f":"IF($C48<>0,INDEX('Eingabe Spielernamen'!A:A,MATCH(C48,'Eingabe Spielernamen'!B:B,)),\" \")","v":0}]
[null,48,315,{"$f":"IF($C49<>0,INDEX('Eingabe Spielernamen'!F:F,MATCH(C49,'Eingabe Spielernamen'!B:B))&\", \"&INDEX('Eingabe Spielernamen'!G:G,MATCH(C49,'Eingabe Spielernamen'!B:B,0)),\" \")","v":", "},{"$f":"IF($C49<>0,INDEX('Eingabe Spielernamen'!A:A,MATCH(C49,'Eingabe Spielernamen'!B:B,)),\" \")","v":0}]
[{"$f":"A46+1","v":13},49,415,{"$f":"IF($C50<>0,INDEX('Eingabe Spielernamen'!F:F,MATCH(C50,'Eingabe Spielernamen'!B:B))&\", \"&INDEX('Eingabe Spielernamen'!G:G,MATCH(C50,'Eingabe Spielernamen'!B:B,0)),\" \")","v":", "},{"$f":"IF($C50<>0,INDEX('Eingabe Spielernamen'!A:A,MATCH(C50,'Eingabe Spielernamen'!B:B,)),\" \")","v":0}]
[null,50,102,{"$f":"IF($C51<>0,INDEX('Eingabe Spielernamen'!F:F,MATCH(C51,'Eingabe Spielernamen'!B:B))&\", \"&INDEX('Eingabe Spielernamen'!G:G,MATCH(C51,'Eingabe Spielernamen'!B:B,0)),\" \")","v":", "},{"$f":"IF($C51<>0,INDEX('Eingabe Spielernamen'!A:A,MATCH(C51,'Eingabe Spielernamen'!B:B,)),\" \")","v":0}]
[null,51,201,{"$f":"IF($C52<>0,INDEX('Eingabe Spielernamen'!F:F,MATCH(C52,'Eingabe Spielernamen'!B:B))&\", \"&INDEX('Eingabe Spielernamen'!G:G,MATCH(C52,'Eingabe Spielernamen'!B:B,0)),\" \")","v":", "},{"$f":"IF($C52<>0,INDEX('Eingabe Spielernamen'!A:A,MATCH(C52,'Eingabe Spielernamen'!B:B,)),\" \")","v":0}]
[null,52,316,{"$f":"IF($C53<>0,INDEX('Eingabe Spielernamen'!F:F,MATCH(C53,'Eingabe Spielernamen'!B:B))&\", \"&INDEX('Eingabe Spielernamen'!G:G,MATCH(C53,'Eingabe Spielernamen'!B:B,0)),\" \")","v":", "},{"$f":"IF($C53<>0,INDEX('Eingabe Spielernamen'!A:A,MATCH(C53,'Eingabe Spielernamen'!B:B,)),\" \")","v":0}]
[{"$f":"A50+1","v":14},53,416,{"$f":"IF($C54<>0,INDEX('Eingabe Spielernamen'!F:F,MATCH(C54,'Eingabe Spielernamen'!B:B))&\", \"&INDEX('Eingabe Spielernamen'!G:G,MATCH(C54,'Eingabe Spielernamen'!B:B,0)),\" \")","v":", "},{"$f":"IF($C54<>0,INDEX('Eingabe Spielernamen'!A:A,MATCH(C54,'Eingabe Spielernamen'!B:B,)),\" \")","v":0}]
[null,54,103,{"$f":"IF($C55<>0,INDEX('Eingabe Spielernamen'!F:F,MATCH(C55,'Eingabe Spielernamen'!B:B))&\", \"&INDEX('Eingabe Spielernamen'!G:G,MATCH(C55,'Eingabe Spielernamen'!B:B,0)),\" \")","v":", "},{"$f":"IF($C55<>0,INDEX('Eingabe Spielernamen'!A:A,MATCH(C55,'Eingabe Spielernamen'!B:B,)),\" \")","v":0}]
[null,55,202,{"$f":"IF($C56<>0,INDEX('Eingabe Spielernamen'!F:F,MATCH(C56,'Eingabe Spielernamen'!B:B))&\", \"&INDEX('Eingabe Spielernamen'!G:G,MATCH(C56,'Eingabe Spielernamen'!B:B,0)),\" \")","v":", "},{"$f":"IF($C56<>0,INDEX('Eingabe Spielernamen'!A:A,MATCH(C56,'Eingabe Spielernamen'!B:B,)),\" \")","v":0}]
[null,56,301,{"$f":"IF($C57<>0,INDEX('Eingabe Spielernamen'!F:F,MATCH(C57,'Eingabe Spielernamen'!B:B))&\", \"&INDEX('Eingabe Spielernamen'!G:G,MATCH(C57,'Eingabe Spielernamen'!B:B,0)),\" \")","v":", "},{"$f":"IF($C57<>0,INDEX('Eingabe Spielernamen'!A:A,MATCH(C57,'Eingabe Spielernamen'!B:B,)),\" \")","v":0}]
[{"$f":"A54+1","v":15},57,401,{"$f":"IF($C58<>0,INDEX('Eingabe Spielernamen'!F:F,MATCH(C58,'Eingabe Spielernamen'!B:B))&\", \"&INDEX('Eingabe Spielernamen'!G:G,MATCH(C58,'Eingabe Spielernamen'!B:B,0)),\" \")","v":", "},{"$f":"IF($C58<>0,INDEX('Eingabe Spielernamen'!A:A,MATCH(C58,'Eingabe Spielernamen'!B:B,)),\" \")","v":0}]
[null,58,104,{"$f":"IF($C59<>0,INDEX('Eingabe Spielernamen'!F:F,MATCH(C59,'Eingabe Spielernamen'!B:B))&\", \"&INDEX('Eingabe Spielernamen'!G:G,MATCH(C59,'Eingabe Spielernamen'!B:B,0)),\" \")","v":", "},{"$f":"IF($C59<>0,INDEX('Eingabe Spielernamen'!A:A,MATCH(C59,'Eingabe Spielernamen'!B:B,)),\" \")","v":0}]
[null,59,203,{"$f":"IF($C60<>0,INDEX('Eingabe Spielernamen'!F:F,MATCH(C60,'Eingabe Spielernamen'!B:B))&\", \"&INDEX('Eingabe Spielernamen'!G:G,MATCH(C60,'Eingabe Spielernamen'!B:B,0)),\" \")","v":", "},{"$f":"IF($C60<>0,INDEX('Eingabe Spielernamen'!A:A,MATCH(C60,'Eingabe Spielernamen'!B:B,)),\" \")","v":0}]
[null,60,302,{"$f":"IF($C61<>0,INDEX('Eingabe Spielernamen'!F:F,MATCH(C61,'Eingabe Spielernamen'!B:B))&\", \"&INDEX('Eingabe Spielernamen'!G:G,MATCH(C61,'Eingabe Spielernamen'!B:B,0)),\" \")","v":", "},{"$f":"IF($C61<>0,INDEX('Eingabe Spielernamen'!A:A,MATCH(C61,'Eingabe Spielernamen'!B:B,)),\" \")","v":0}]
[{"$f":"A58+1","v":16},61,402,{"$f":"IF($C62<>0,INDEX('Eingabe Spielernamen'!F:F,MATCH(C62,'Eingabe Spielernamen'!B:B))&\", \"&INDEX('Eingabe Spielernamen'!G:G,MATCH(C62,'Eingabe Spielernamen'!B:B,0)),\" \")","v":", "},{"$f":"IF($C62<>0,INDEX('Eingabe Spielernamen'!A:A,MATCH(C62,'Eingabe Spielernamen'!B:B,)),\" \")","v":0}]
[null,62,105,{"$f":"IF($C63<>0,INDEX('Eingabe Spielernamen'!F:F,MATCH(C63,'Eingabe Spielernamen'!B:B))&\", \"&INDEX('Eingabe Spielernamen'!G:G,MATCH(C63,'Eingabe Spielernamen'!B:B,0)),\" \")","v":", "},{"$f":"IF($C63<>0,INDEX('Eingabe Spielernamen'!A:A,MATCH(C63,'Eingabe Spielernamen'!B:B,)),\" \")","v":0}]
[null,63,204,{"$f":"IF($C64<>0,INDEX('Eingabe Spielernamen'!F:F,MATCH(C64,'Eingabe Spielernamen'!B:B))&\", \"&INDEX('Eingabe Spielernamen'!G:G,MATCH(C64,'Eingabe Spielernamen'!B:B,0)),\" \")","v":", "},{"$f":"IF($C64<>0,INDEX('Eingabe Spielernamen'!A:A,MATCH(C64,'Eingabe Spielernamen'!B:B,)),\" \")","v":0}]
[null,64,303,{"$f":"IF($C65<>0,INDEX('Eingabe Spielernamen'!F:F,MATCH(C65,'Eingabe Spielernamen'!B:B))&\", \"&INDEX('Eingabe Spielernamen'!G:G,MATCH(C65,'Eingabe Spielernamen'!B:B,0)),\" \")","v":", "},{"$f":"IF($C65<>0,INDEX('Eingabe Spielernamen'!A:A,MATCH(C65,'Eingabe Spielernamen'!B:B,)),\" \")","v":0}]

{"sheet":"Listen (5.)","index":15,"n_rows":64,"n_cols":8,"rows_kept":64,"cut":false,"hidden":false,"merged":[]}
[{"$f":"'Eingabe Spielernamen'!O6","v":"2020-05-31"},"5. Serie",1,null,{"$f":"A1","v":"2020-05-31"},{"$f":"B1","v":"5. Serie"},{"$f":"C1","v":1}]
[]
[{"$f":"'5. Serie'!D2","v":", "},{"$f":"'5. Serie'!D3","v":", "},{"$f":"'5. Serie'!D4","v":", "},{"$f":"'5. Serie'!D5","v":", "},{"$f":"'5. Serie'!D2","v":", "},{"$f":"'5. Serie'!D3","v":", "},{"$f":"'5. Serie'!D4","v":", "},{"$f":"'5. Serie'!D5","v":", "}]
[{"$f":"'5. Serie'!C2","v":403},{"$f":"'5. Serie'!C3","v":106},{"$f":"'5. Serie'!C4","v":205},{"$f":"'5. Serie'!C5","v":304},{"$f":"'5. Serie'!C2","v":403},{"$f":"'5. Serie'!C3","v":106},{"$f":"'5. Serie'!C4","v":205},{"$f":"'5. Serie'!C5","v":304}]
[{"$f":"A1","v":"2020-05-31"},{"$f":"$B$1","v":"5. Serie"},{"$f":"C1+1","v":2},null,{"$f":"E1","v":"2020-05-31"},{"$f":"$B$1","v":"5. Serie"},{"$f":"G1+1","v":2},{"$f":"D5","v":0}]
[]
[{"$f":"'5. Serie'!D6","v":", "},{"$f":"'5. Serie'!D7","v":", "},{"$f":"'5. Serie'!D8","v":", "},{"$f":"'5. Serie'!D9","v":", "},{"$f":"'5. Serie'!D6","v":", "},{"$f":"'5. Serie'!D7","v":", "},{"$f":"'5. Serie'!D8","v":", "},{"$f":"'5. Serie'!D9","v":", "}]
[{"$f":"'5. Serie'!C6","v":404},{"$f":"'5. Serie'!C7","v":107},{"$f":"'5. Serie'!C8","v":206},{"$f":"'5. Serie'!C9","v":305},{"$f":"'5. Serie'!C6","v":404},{"$f":"'5. Serie'!C7","v":107},{"$f":"'5. Serie'!C8","v":206},{"$f":"'5. Serie'!C9","v":305}]
[{"$f":"A5","v":"2020-05-31"},{"$f":"$B$1","v":"5. Serie"},{"$f":"C5+1","v":3},null,{"$f":"E5","v":"2020-05-31"},{"$f":"$B$1","v":"5. Serie"},{"$f":"G5+1","v":3},{"$f":"D9","v":0}]
[]
[{"$f":"'5. Serie'!D10","v":", "},{"$f":"'5. Serie'!D11","v":", "},{"$f":"'5. Serie'!D12","v":", "},{"$f":"'5. Serie'!D13","v":", "},{"$f":"'5. Serie'!D10","v":", "},{"$f":"'5. Serie'!D11","v":", "},{"$f":"'5. Serie'!D12","v":", "},{"$f":"'5. Serie'!D13","v":", "}]
[{"$f":"'5. Serie'!C10","v":405},{"$f":"'5. Serie'!C11","v":108},{"$f":"'5. Serie'!C12","v":207},{"$f":"'5. Serie'!C13","v":306},{"$f":"'5. Serie'!C10","v":405},{"$f":"'5. Serie'!C11","v":108},{"$f":"'5. Serie'!C12","v":207},{"$f":"'5. Serie'!C13","v":306}]
[{"$f":"A9","v":"2020-05-31"},{"$f":"$B$1","v":"5. Serie"},{"$f":"C9+1","v":4},null,{"$f":"E9","v":"2020-05-31"},{"$f":"$B$1","v":"5. Serie"},{"$f":"G9+1","v":4},{"$f":"D13","v":0}]
[]
[{"$f":"'5. Serie'!D14","v":", "},{"$f":"'5. Serie'!D15","v":", "},{"$f":"'5. Serie'!D16","v":", "},{"$f":"'5. Serie'!D17","v":", "},{"$f":"'5. Serie'!D14","v":", "},{"$f":"'5. Serie'!D15","v":", "},{"$f":"'5. Serie'!D16","v":", "},{"$f":"'5. Serie'!D17","v":", "}]
[{"$f":"'5. Serie'!C14","v":406},{"$f":"'5. Serie'!C15","v":109},{"$f":"'5. Serie'!C16","v":208},{"$f":"'5. Serie'!C17","v":307},{"$f":"'5. Serie'!C14","v":406},{"$f":"'5. Serie'!C15","v":109},{"$f":"'5. Serie'!C16","v":208},{"$f":"'5. Serie'!C17","v":307}]
[{"$f":"A13","v":"2020-05-31"},{"$f":"$B$1","v":"5. Serie"},{"$f":"C13+1","v":5},null,{"$f":"E13","v":"2020-05-31"},{"$f":"$B$1","v":"5. Serie"},{"$f":"G13+1","v":5},{"$f":"D17","v":0}]
[]
[{"$f":"'5. Serie'!D18","v":", "},{"$f":"'5. Serie'!D19","v":", "},{"$f":"'5. Serie'!D20","v":", "},{"$f":"'5. Serie'!D21","v":", "},{"$f":"'5. Serie'!D18","v":", "},{"$f":"'5. Serie'!D19","v":", "},{"$f":"'5. Serie'!D20","v":", "},{"$f":"'5. Serie'!D21","v":", "}]
[{"$f":"'5. Serie'!C18","v":407},{"$f":"'5. Serie'!C19","v":110},{"$f":"'5. Serie'!C20","v":209},{"$f":"'5. Serie'!C21","v":308},{"$f":"'5. Serie'!C18","v":407},{"$f":"'5. Serie'!C19","v":110},{"$f":"'5. Serie'!C20","v":209},{"$f":"'5. Serie'!C21","v":308}]
[{"$f":"A17","v":"2020-05-31"},{"$f":"$B$1","v":"5. Serie"},{"$f":"C17+1","v":6},null,{"$f":"E17","v":"2020-05-31"},{"$f":"$B$1","v":"5. Serie"},{"$f":"G17+1","v":6},{"$f":"D21","v":0}]
[]
[{"$f":"'5. Serie'!D22","v":", "},{"$f":"'5. Serie'!D23","v":", "},{"$f":"'5. Serie'!D24","v":", "},{"$f":"'5. Serie'!D25","v":", "},{"$f":"'5. Serie'!D22","v":", "},{"$f":"'5. Serie'!D23","v":", "},{"$f":"'5. Serie'!D24","v":", "},{"$f":"'5. Serie'!D25","v":", "}]
[{"$f":"'5. Serie'!C22","v":408},{"$f":"'5. Serie'!C23","v":111},{"$f":"'5. Serie'!C24","v":210},{"$f":"'5. Serie'!C25","v":309},{"$f":"'5. Serie'!C22","v":408},{"$f":"'5. Serie'!C23","v":111},{"$f":"'5. Serie'!C24","v":210},{"$f":"'5. Serie'!C25","v":309}]
[{"$f":"A21","v":"2020-05-31"},{"$f":"$B$1","v":"5. Serie"},{"$f":"C21+1","v":7},null,{"$f":"E21","v":"2020-05-31"},{"$f":"$B$1","v":"5. Serie"},{"$f":"G21+1","v":7},{"$f":"D25","v":0}]
[]
[{"$f":"'5. Serie'!D26","v":", "},{"$f":"'5. Serie'!D27","v":", "},{"$f":"'5. Serie'!D28","v":", "},{"$f":"'5. Serie'!D29","v":", "},{"$f":"'5. Serie'!D26","v":", "},{"$f":"'5. Serie'!D27","v":", "},{"$f":"'5. Serie'!D28","v":", "},{"$f":"'5. Serie'!D29","v":", "}]
[{"$f":"'5. Serie'!C26","v":409},{"$f":"'5. Serie'!C27","v":112},{"$f":"'5. Serie'!C28","v":211},{"$f":"'5. Serie'!C29","v":310},{"$f":"'5. Serie'!C26","v":409},{"$f":"'5. Serie'!C27","v":112},{"$f":"'5. Serie'!C28","v":211},{"$f":"'5. Serie'!C29","v":310}]
[{"$f":"A25","v":"2020-05-31"},{"$f":"$B$1","v":"5. Serie"},{"$f":"C25+1","v":8},null,{"$f":"E25","v":"2020-05-31"},{"$f":"$B$1","v":"5. Serie"},{"$f":"G25+1","v":8},{"$f":"D29","v":0}]
[]
[{"$f":"'5. Serie'!D30","v":", "},{"$f":"'5. Serie'!D31","v":", "},{"$f":"'5. Serie'!D32","v":", "},{"$f":"'5. Serie'!D33","v":", "},{"$f":"'5. Serie'!D30","v":", "},{"$f":"'5. Serie'!D31","v":", "},{"$f":"'5. Serie'!D32","v":", "},{"$f":"'5. Serie'!D33","v":", "}]
[{"$f":"'5. Serie'!C30","v":410},{"$f":"'5. Serie'!C31","v":113},{"$f":"'5. Serie'!C32","v":212},{"$f":"'5. Serie'!C33","v":311},{"$f":"'5. Serie'!C30","v":410},{"$f":"'5. Serie'!C31","v":113},{"$f":"'5. Serie'!C32","v":212},{"$f":"'5. Serie'!C33","v":311}]
[{"$f":"A29","v":"2020-05-31"},{"$f":"$B$1","v":"5. Serie"},{"$f":"C29+1","v":9},null,{"$f":"E29","v":"2020-05-31"},{"$f":"$B$1","v":"5. Serie"},{"$f":"G29+1","v":9},{"$f":"D33","v":0}]
[]
[{"$f":"'5. Serie'!D34","v":", "},{"$f":"'5. Serie'!D35","v":", "},{"$f":"'5. Serie'!D36","v":", "},{"$f":"'5. Serie'!D37","v":", "},{"$f":"'5. Serie'!D34","v":", "},{"$f":"'5. Serie'!D35","v":", "},{"$f":"'5. Serie'!D36","v":", "},{"$f":"'5. Serie'!D37","v":", "}]
[{"$f":"'5. Serie'!C34","v":411},{"$f":"'5. Serie'!C35","v":114},{"$f":"'5. Serie'!C36","v":213},{"$f":"'5. Serie'!C37","v":312},{"$f":"'5. Serie'!C34","v":411},{"$f":"'5. Serie'!C35","v":114},{"$f":"'5. Serie'!C36","v":213},{"$f":"'5. Serie'!C37","v":312}]
[{"$f":"A33","v":"2020-05-31"},{"$f":"$B$1","v":"5. Serie"},{"$f":"C33+1","v":10},null,{"$f":"E33","v":"2020-05-31"},{"$f":"$B$1","v":"5. Serie"},{"$f":"G33+1","v":10},{"$f":"D37","v":0}]
[]
[{"$f":"'5. Serie'!D38","v":", "},{"$f":"'5. Serie'!D39","v":", "},{"$f":"'5. Serie'!D40","v":", "},{"$f":"'5. Serie'!D41","v":", "},{"$f":"'5. Serie'!D38","v":", "},{"$f":"'5. Serie'!D39","v":", "},{"$f":"'5. Serie'!D40","v":", "},{"$f":"'5. Serie'!D41","v":", "}]
[{"$f":"'5. Serie'!C38","v":412},{"$f":"'5. Serie'!C39","v":115},{"$f":"'5. Serie'!C40","v":214},{"$f":"'5. Serie'!C41","v":313},{"$f":"'5. Serie'!C38","v":412},{"$f":"'5. Serie'!C39","v":115},{"$f":"'5. Serie'!C40","v":214},{"$f":"'5. Serie'!C41","v":313}]
[{"$f":"A37","v":"2020-05-31"},{"$f":"$B$1","v":"5. Serie"},{"$f":"C37+1","v":11},null,{"$f":"E37","v":"2020-05-31"},{"$f":"$B$1","v":"5. Serie"},{"$f":"G37+1","v":11},{"$f":"D41","v":0}]
[]
[{"$f":"'5. Serie'!D42","v":", "},{"$f":"'5. Serie'!D43","v":", "},{"$f":"'5. Serie'!D44","v":", "},{"$f":"'5. Serie'!D45","v":", "},{"$f":"'5. Serie'!D42","v":", "},{"$f":"'5. Serie'!D43","v":", "},{"$f":"'5. Serie'!D44","v":", "},{"$f":"'5. Serie'!D45","v":", "}]
[{"$f":"'5. Serie'!C42","v":413},{"$f":"'5. Serie'!C43","v":116},{"$f":"'5. Serie'!C44","v":215},{"$f":"'5. Serie'!C45","v":314},{"$f":"'5. Serie'!C42","v":413},{"$f":"'5. Serie'!C43","v":116},{"$f":"'5. Serie'!C44","v":215},{"$f":"'5. Serie'!C45","v":314}]
[{"$f":"A41","v":"2020-05-31"},{"$f":"$B$1","v":"5. Serie"},{"$f":"C41+1","v":12},null,{"$f":"E41","v":"2020-05-31"},{"$f":"$B$1","v":"5. Serie"},{"$f":"G41+1","v":12},{"$f":"D45","v":0}]
[]
[{"$f":"'5. Serie'!D46","v":", "},{"$f":"'5. Serie'!D47","v":", "},{"$f":"'5. Serie'!D48","v":", "},{"$f":"'5. Serie'!D49","v":", "},{"$f":"'5. Serie'!D46","v":", "},{"$f":"'5. Serie'!D47","v":", "},{"$f":"'5. Serie'!D48","v":", "},{"$f":"'5. Serie'!D49","v":", "}]
[{"$f":"'5. Serie'!C46","v":414},{"$f":"'5. Serie'!C47","v":101},{"$f":"'5. Serie'!C48","v":216},{"$f":"'5. Serie'!C49","v":315},{"$f":"'5. Serie'!C46","v":414},{"$f":"'5. Serie'!C47","v":101},{"$f":"'5. Serie'!C48","v":216},{"$f":"'5. Serie'!C49","v":315}]
[{"$f":"A45","v":"2020-05-31"},{"$f":"$B$1","v":"5. Serie"},{"$f":"C45+1","v":13},null,{"$f":"E45","v":"2020-05-31"},{"$f":"$B$1","v":"5. Serie"},{"$f":"G45+1","v":13},{"$f":"D49","v":0}]
[]
[{"$f":"'5. Serie'!D50","v":", "},{"$f":"'5. Serie'!D51","v":", "},{"$f":"'5. Serie'!D52","v":", "},{"$f":"'5. Serie'!D53","v":", "},{"$f":"'5. Serie'!D50","v":", "},{"$f":"'5. Serie'!D51","v":", "},{"$f":"'5. Serie'!D52","v":", "},{"$f":"'5. Serie'!D53","v":", "}]
[{"$f":"'5. Serie'!C50","v":415},{"$f":"'5. Serie'!C51","v":102},{"$f":"'5. Serie'!C52","v":201},{"$f":"'5. Serie'!C53","v":316},{"$f":"'5. Serie'!C50","v":415},{"$f":"'5. Serie'!C51","v":102},{"$f":"'5. Serie'!C52","v":201},{"$f":"'5. Serie'!C53","v":316}]
[{"$f":"A49","v":"2020-05-31"},{"$f":"$B$1","v":"5. Serie"},{"$f":"C49+1","v":14},null,{"$f":"E49","v":"2020-05-31"},{"$f":"$B$1","v":"5. Serie"},{"$f":"G49+1","v":14},{"$f":"D53","v":0}]
[]
[{"$f":"'5. Serie'!D54","v":", "},{"$f":"'5. Serie'!D55","v":", "},{"$f":"'5. Serie'!D56","v":", "},{"$f":"'5. Serie'!D57","v":", "},{"$f":"'5. Serie'!D54","v":", "},{"$f":"'5. Serie'!D55","v":", "},{"$f":"'5. Serie'!D56","v":", "},{"$f":"'5. Serie'!D57","v":", "}]
[{"$f":"'5. Serie'!C54","v":416},{"$f":"'5. Serie'!C55","v":103},{"$f":"'5. Serie'!C56","v":202},{"$f":"'5. Serie'!C57","v":301},{"$f":"'5. Serie'!C54","v":416},{"$f":"'5. Serie'!C55","v":103},{"$f":"'5. Serie'!C56","v":202},{"$f":"'5. Serie'!C57","v":301}]
[{"$f":"A53","v":"2020-05-31"},{"$f":"$B$1","v":"5. Serie"},{"$f":"C53+1","v":15},null,{"$f":"E53","v":"2020-05-31"},{"$f":"$B$1","v":"5. Serie"},{"$f":"G53+1","v":15},{"$f":"D57","v":0}]
[]
[{"$f":"'5. Serie'!D58","v":", "},{"$f":"'5. Serie'!D59","v":", "},{"$f":"'5. Serie'!D60","v":", "},{"$f":"'5. Serie'!D61","v":", "},{"$f":"'5. Serie'!D58","v":", "},{"$f":"'5. Serie'!D59","v":", "},{"$f":"'5. Serie'!D60","v":", "},{"$f":"'5. Serie'!D61","v":", "}]
[{"$f":"'5. Serie'!C58","v":401},{"$f":"'5. Serie'!C59","v":104},{"$f":"'5. Serie'!C60","v":203},{"$f":"'5. Serie'!C61","v":302},{"$f":"'5. Serie'!C58","v":401},{"$f":"'5. Serie'!C59","v":104},{"$f":"'5. Serie'!C60","v":203},{"$f":"'5. Serie'!C61","v":302}]
[{"$f":"A57","v":"2020-05-31"},{"$f":"$B$1","v":"5. Serie"},{"$f":"C57+1","v":16},null,{"$f":"E57","v":"2020-05-31"},{"$f":"$B$1","v":"5. Serie"},{"$f":"G57+1","v":16},{"$f":"D61","v":0}]
[]
[{"$f":"'5. Serie'!D62","v":", "},{"$f":"'5. Serie'!D63","v":", "},{"$f":"'5. Serie'!D64","v":", "},{"$f":"'5. Serie'!D65","v":", "},{"$f":"'5. Serie'!D62","v":", "},{"$f":"'5. Serie'!D63","v":", "},{"$f":"'5. Serie'!D64","v":", "},{"$f":"'5. Serie'!D65","v":", "}]
[{"$f":"'5. Serie'!C62","v":402},{"$f":"'5. Serie'!C63","v":105},{"$f":"'5. Serie'!C64","v":204},{"$f":"'5. Serie'!C65","v":303},{"$f":"'5. Serie'!C62","v":402},{"$f":"'5. Serie'!C63","v":105},{"$f":"'5. Serie'!C64","v":204},{"$f":"'5. Serie'!C65","v":303}]

{"sheet":"6. Serie","index":16,"n_rows":65,"n_cols":6,"rows_kept":65,"cut":false,"hidden":false,"merged":[[1,5,13,6],[5,0,8,0],[9,0,12,0],[13,0,16,0],[14,5,26,6],[17,0,20,0],[21,0,24,0],[25,0,28,0],[27,5,36,6],[29,0,32,0],[33,0,36,0],[53,0,56,0],[57,0,60,0],[61,0,64,0],[49,0,52,0],[1,0,4,0],[37,0,40,0],[41,0,44,0],[45,0,48,0]]}
["T",{"$f":"#REF!","v":{"$error":"#REF!"}},"Start Nr.:","Name:","Verein:"]
[1,1,{"$f":"'3. Serie'!C2","v":101},{"$f":"IF($C2<>0,INDEX('Eingabe Spielernamen'!F:F,MATCH(C2,'Eingabe Spielernamen'!B:B))&\", \"&INDEX('Eingabe Spielernamen'!G:G,MATCH(C2,'Eingabe Spielernamen'!B:B,0)),\" \")","v":", "},{"$f":"IF($C2<>0,INDEX('Eingabe Spielernamen'!A:A,MATCH(C2,'Eingabe Spielernamen'!B:B,)),\" \")","v":0},"HIER NUR DIREKT-SETZUNG!"]
[null,2,201,{"$f":"IF($C3<>0,INDEX('Eingabe Spielernamen'!F:F,MATCH(C3,'Eingabe Spielernamen'!B:B))&\", \"&INDEX('Eingabe Spielernamen'!G:G,MATCH(C3,'Eingabe Spielernamen'!B:B,0)),\" \")","v":", "},{"$f":"IF($C3<>0,INDEX('Eingabe Spielernamen'!A:A,MATCH(C3,'Eingabe Spielernamen'!B:B,)),\" \")","v":0}]
[null,3,301,{"$f":"IF($C4<>0,INDEX('Eingabe Spielernamen'!F:F,MATCH(C4,'Eingabe Spielernamen'!B:B))&\", \"&INDEX('Eingabe Spielernamen'!G:G,MATCH(C4,'Eingabe Spielernamen'!B:B,0)),\" \")","v":", "},{"$f":"IF($C4<>0,INDEX('Eingabe Spielernamen'!A:A,MATCH(C4,'Eingabe Spielernamen'!B:B,)),\" \")","v":0}]
[null,4,401,{"$f":"IF($C5<>0,INDEX('Eingabe Spielernamen'!F:F,MATCH(C5,'Eingabe Spielernamen'!B:B))&\", \"&INDEX('Eingabe Spielernamen'!G:G,MATCH(C5,'Eingabe Spielernamen'!B:B,0)),\" \")","v":", "},{"$f":"IF($C5<>0,INDEX('Eingabe Spielernamen'!A:A,MATCH(C5,'Eingabe Spielernamen'!B:B,)),\" \")","v":0}]
[{"$f":"A2+1","v":2},5,102,{"$f":"IF($C6<>0,INDEX('Eingabe Spielernamen'!F:F,MATCH(C6,'Eingabe Spielernamen'!B:B))&\", \"&INDEX('Eingabe Spielernamen'!G:G,MATCH(C6,'Eingabe Spielernamen'!B:B,0)),\" \")","v":", "},{"$f":"IF($C6<>0,INDEX('Eingabe Spielernamen'!A:A,MATCH(C6,'Eingabe Spielernamen'!B:B,)),\" \")","v":0}]
[null,6,202,{"$f":"IF($C7<>0,INDEX('Eingabe Spielernamen'!F:F,MATCH(C7,'Eingabe Spielernamen'!B:B))&\", \"&INDEX('Eingabe Spielernamen'!G:G,MATCH(C7,'Eingabe Spielernamen'!B:B,0)),\" \")","v":", "},{"$f":"IF($C7<>0,INDEX('Eingabe Spielernamen'!A:A,MATCH(C7,'Eingabe Spielernamen'!B:B,)),\" \")","v":0}]
[null,7,302,{"$f":"IF($C8<>0,INDEX('Eingabe Spielernamen'!F:F,MATCH(C8,'Eingabe Spielernamen'!B:B))&\", \"&INDEX('Eingabe Spielernamen'!G:G,MATCH(C8,'Eingabe Spielernamen'!B:B,0)),\" \")","v":", "},{"$f":"IF($C8<>0,INDEX('Eingabe Spielernamen'!A:A,MATCH(C8,'Eingabe Spielernamen'!B:B,)),\" \")","v":0}]
[null,8,402,{"$f":"IF($C9<>0,INDEX('Eingabe Spielernamen'!F:F,MATCH(C9,'Eingabe Spielernamen'!B:B))&\", \"&INDEX('Eingabe Spielernamen'!G:G,MATCH(C9,'Eingabe Spielernamen'!B:B,0)),\" \")","v":", "},{"$f":"IF($C9<>0,INDEX('Eingabe Spielernamen'!A:A,MATCH(C9,'Eingabe Spielernamen'!B:B,)),\" \")","v":0}]
[{"$f":"A6+1","v":3},9,103,{"$f":"IF($C10<>0,INDEX('Eingabe Spielernamen'!F:F,MATCH(C10,'Eingabe Spielernamen'!B:B))&\", \"&INDEX('Eingabe Spielernamen'!G:G,MATCH(C10,'Eingabe Spielernamen'!B:B,0)),\" \")","v":", "},{"$f":"IF($C10<>0,INDEX('Eingabe Spielernamen'!A:A,MATCH(C10,'Eingabe Spielernamen'!B:B,)),\" \")","v":0}]
[null,10,203,{"$f":"IF($C11<>0,INDEX('Eingabe Spielernamen'!F:F,MATCH(C11,'Eingabe Spielernamen'!B:B))&\", \"&INDEX('Eingabe Spielernamen'!G:G,MATCH(C11,'Eingabe Spielernamen'!B:B,0)),\" \")","v":", "},{"$f":"IF($C11<>0,INDEX('Eingabe Spielernamen'!A:A,MATCH(C11,'Eingabe Spielernamen'!B:B,)),\" \")","v":0}]
[null,11,303,{"$f":"IF($C12<>0,INDEX('Eingabe Spielernamen'!F:F,MATCH(C12,'Eingabe Spielernamen'!B:B))&\", \"&INDEX('Eingabe Spielernamen'!G:G,MATCH(C12,'Eingabe Spielernamen'!B:B,0)),\" \")","v":", "},{"$f":"IF($C12<>0,INDEX('Eingabe Spielernamen'!A:A,MATCH(C12,'Eingabe Spielernamen'!B:B,)),\" \")","v":0}]
[null,12,403,{"$f":"IF($C13<>0,INDEX('Eingabe Spielernamen'!F:F,MATCH(C13,'Eingabe Spielernamen'!B:B))&\", \"&INDEX('Eingabe Spielernamen'!G:G,MATCH(C13,'Eingabe Spielernamen'!B:B,0)),\" \")","v":", "},{"$f":"IF($C13<>0,INDEX('Eingabe Spielernamen'!A:A,MATCH(C13,'Eingabe Spielernamen'!B:B,)),\" \")","v":0}]
[{"$f":"A10+1","v":4},13,104,{"$f":"IF($C14<>0,INDEX('Eingabe Spielernamen'!F:F,MATCH(C14,'Eingabe Spielernamen'!B:B))&\", \"&INDEX('Eingabe Spielernamen'!G:G,MATCH(C14,'Eingabe Spielernamen'!B:B,0)),\" \")","v":", "},{"$f":"IF($C14<>0,INDEX('Eingabe Spielernamen'!A:A,MATCH(C14,'Eingabe Spielernamen'!B:B,)),\" \")","v":0}]
[null,14,204,{"$f":"IF($C15<>0,INDEX('Eingabe Spielernamen'!F:F,MATCH(C15,'Eingabe Spielernamen'!B:B))&\", \"&INDEX('Eingabe Spielernamen'!G:G,MATCH(C15,'Eingabe Spielernamen'!B:B,0)),\" \")","v":", "},{"$f":"IF($C15<>0,INDEX('Eingabe Spielernamen'!A:A,MATCH(C15,'Eingabe Spielernamen'!B:B,)),\" \")","v":0},"Sortiert nach Startkarten!"]
[null,15,304,{"$f":"IF($C16<>0,INDEX('Eingabe Spielernamen'!F:F,MATCH(C16,'Eingabe Spielernamen'!B:B))&\", \"&INDEX('Eingabe Spielernamen'!G:G,MATCH(C16,'Eingabe Spielernamen'!B:B,0)),\" \")","v":", "},{"$f":"IF($C16<>0,INDEX('Eingabe Spielernamen'!A:A,MATCH(C16,'Eingabe Spielernamen'!B:B,)),\" \")","v":0}]
[null,16,404,{"$f":"IF($C17<>0,INDEX('Eingabe Spielernamen'!F:F,MATCH(C17,'Eingabe Spielernamen'!B:B))&\", \"&INDEX('Eingabe Spielernamen'!G:G,MATCH(C17,'Eingabe Spielernamen'!B:B,0)),\" \")","v":", "},{"$f":"IF($C17<>0,INDEX('Eingabe Spielernamen'!A:A,MATCH(C17,'Eingabe Spielernamen'!B:B,)),\" \")","v":0}]
[{"$f":"A14+1","v":5},17,105,{"$f":"IF($C18<>0,INDEX('Eingabe Spielernamen'!F:F,MATCH(C18,'Eingabe Spielernamen'!B:B))&\", \"&INDEX('Eingabe Spielernamen'!G:G,MATCH(C18,'Eingabe Spielernamen'!B:B,0)),\" \")","v":", "},{"$f":"IF($C18<>0,INDEX('Eingabe Spielernamen'!A:A,MATCH(C18,'Eingabe Spielernamen'!B:B,)),\" \")","v":0}]
[null,18,205,{"$f":"IF($C19<>0,INDEX('Eingabe Spielernamen'!F:F,MATCH(C19,'Eingabe Spielernamen'!B:B))&\", \"&INDEX('Eingabe Spielernamen'!G:G,MATCH(C19,'Eingabe Spielernamen'!B:B,0)),\" \")","v":", "},{"$f":"IF($C19<>0,INDEX('Eingabe Spielernamen'!A:A,MATCH(C19,'Eingabe Spielernamen'!B:B,)),\" \")","v":0}]
[null,19,305,{"$f":"IF($C20<>0,INDEX('Eingabe Spielernamen'!F:F,MATCH(C20,'Eingabe Spielernamen'!B:B))&\", \"&INDEX('Eingabe Spielernamen'!G:G,MATCH(C20,'Eingabe Spielernamen'!B:B,0)),\" \")","v":", "},{"$f":"IF($C20<>0,INDEX('Eingabe Spielernamen'!A:A,MATCH(C20,'Eingabe Spielernamen'!B:B,)),\" \")","v":0}]
[null,20,405,{"$f":"IF($C21<>0,INDEX('Eingabe Spielernamen'!F:F,MATCH(C21,'Eingabe Spielernamen'!B:B))&\", \"&INDEX('Eingabe Spielernamen'!G:G,MATCH(C21,'Eingabe Spielernamen'!B:B,0)),\" \")","v":", "},{"$f":"IF($C21<>0,INDEX('Eingabe Spielernamen'!A:A,MATCH(C21,'Eingabe Spielernamen'!B:B,)),\" \")","v":0}]
[{"$f":"A18+1","v":6},21,106,{"$f":"IF($C22<>0,INDEX('Eingabe Spielernamen'!F:F,MATCH(C22,'Eingabe Spielernamen'!B:B))&\", \"&INDEX('Eingabe Spielernamen'!G:G,MATCH(C22,'Eingabe Spielernamen'!B:B,0)),\" \")","v":", "},{"$f":"IF($C22<>0,INDEX('Eingabe Spielernamen'!A:A,MATCH(C22,'Eingabe Spielernamen'!B:B,)),\" \")","v":0}]
[null,22,206,{"$f":"IF($C23<>0,INDEX('Eingabe Spielernamen'!F:F,MATCH(C23,'Eingabe Spielernamen'!B:B))&\", \"&INDEX('Eingabe Spielernamen'!G:G,MATCH(C23,'Eingabe Spielernamen'!B:B,0)),\" \")","v":", "},{"$f":"IF($C23<>0,INDEX('Eingabe Spielernamen'!A:A,MATCH(C23,'Eingabe Spielernamen'!B:B,)),\" \")","v":0}]
[null,23,306,{"$f":"IF($C24<>0,INDEX('Eingabe Spielernamen'!F:F,MATCH(C24,'Eingabe Spielernamen'!B:B))&\", \"&INDEX('Eingabe Spielernamen'!G:G,MATCH(C24,'Eingabe Spielernamen'!B:B,0)),\" \")","v":", "},{"$f":"IF($C24<>0,INDEX('Eingabe Spielernamen'!A:A,MATCH(C24,'Eingabe Spielernamen'!B:B,)),\" \")","v":0}]
[null,24,406,{"$f":"IF($C25<>0,INDEX('Eingabe Spielernamen'!F:F,MATCH(C25,'Eingabe Spielernamen'!B:B))&\", \"&INDEX('Eingabe Spielernamen'!G:G,MATCH(C25,'Eingabe Spielernamen'!B:B,0)),\" \")","v":", "},{"$f":"IF($C25<>0,INDEX('Eingabe Spielernamen'!A:A,MATCH(C25,'Eingabe Spielernamen'!B:B,)),\" \")","v":0}]
[{"$f":"A22+1","v":7},25,107,{"$f":"IF($C26<>0,INDEX('Eingabe Spielernamen'!F:F,MATCH(C26,'Eingabe Spielernamen'!B:B))&\", \"&INDEX('Eingabe Spielernamen'!G:G,MATCH(C26,'Eingabe Spielernamen'!B:B,0)),\" \")","v":", "},{"$f":"IF($C26<>0,INDEX('Eingabe Spielernamen'!A:A,MATCH(C26,'Eingabe Spielernamen'!B:B,)),\" \")","v":0}]
[null,26,207,{"$f":"IF($C27<>0,INDEX('Eingabe Spielernamen'!F:F,MATCH(C27,'Eingabe Spielernamen'!B:B))&\", \"&INDEX('Eingabe Spielernamen'!G:G,MATCH(C27,'Eingabe Spielernamen'!B:B,0)),\" \")","v":", "},{"$f":"IF($C27<>0,INDEX('Eingabe Spielernamen'!A:A,MATCH(C27,'Eingabe Spielernamen'!B:B,)),\" \")","v":0}]
[null,27,307,{"$f":"IF($C28<>0,INDEX('Eingabe Spielernamen'!F:F,MATCH(C28,'Eingabe Spielernamen'!B:B))&\", \"&INDEX('Eingabe Spielernamen'!G:G,MATCH(C28,'Eingabe Spielernamen'!B:B,0)),\" \")","v":", "},{"$f":"IF($C28<>0,INDEX('Eingabe Spielernamen'!A:A,MATCH(C28,'Eingabe Spielernamen'!B:B,)),\" \")","v":0}]
[null,28,407,{"$f":"IF($C29<>0,INDEX('Eingabe Spielernamen'!F:F,MATCH(C29,'Eingabe Spielernamen'!B:B))&\", \"&INDEX('Eingabe Spielernamen'!G:G,MATCH(C29,'Eingabe Spielernamen'!B:B,0)),\" \")","v":", "},{"$f":"IF($C29<>0,INDEX('Eingabe Spielernamen'!A:A,MATCH(C29,'Eingabe Spielernamen'!B:B,)),\" \")","v":0}]
[{"$f":"A26+1","v":8},29,108,{"$f":"IF($C30<>0,INDEX('Eingabe Spielernamen'!F:F,MATCH(C30,'Eingabe Spielernamen'!B:B))&\", \"&INDEX('Eingabe Spielernamen'!G:G,MATCH(C30,'Eingabe Spielernamen'!B:B,0)),\" \")","v":", "},{"$f":"IF($C30<>0,INDEX('Eingabe Spielernamen'!A:A,MATCH(C30,'Eingabe Spielernamen'!B:B,)),\" \")","v":0}]
[null,30,208,{"$f":"IF($C31<>0,INDEX('Eingabe Spielernamen'!F:F,MATCH(C31,'Eingabe Spielernamen'!B:B))&\", \"&INDEX('Eingabe Spielernamen'!G:G,MATCH(C31,'Eingabe Spielernamen'!B:B,0)),\" \")","v":", "},{"$f":"IF($C31<>0,INDEX('Eingabe Spielernamen'!A:A,MATCH(C31,'Eingabe Spielernamen'!B:B,)),\" \")","v":0}]
[null,31,308,{"$f":"IF($C32<>0,INDEX('Eingabe Spielernamen'!F:F,MATCH(C32,'Eingabe Spielernamen'!B:B))&\", \"&INDEX('Eingabe Spielernamen'!G:G,MATCH(C32,'Eingabe Spielernamen'!B:B,0)),\" \")","v":", "},{"$f":"IF($C32<>0,INDEX('Eingabe Spielernamen'!A:A,MATCH(C32,'Eingabe Spielernamen'!B:B,)),\" \")","v":0}]
[null,32,408,{"$f":"IF($C33<>0,INDEX('Eingabe Spielernamen'!F:F,MATCH(C33,'Eingabe Spielernamen'!B:B))&\", \"&INDEX('Eingabe Spielernamen'!G:G,MATCH(C33,'Eingabe Spielernamen'!B:B,0)),\" \")","v":", "},{"$f":"IF($C33<>0,INDEX('Eingabe Spielernamen'!A:A,MATCH(C33,'Eingabe Spielernamen'!B:B,)),\" \")","v":0}]
[{"$f":"A30+1","v":9},33,109,{"$f":"IF($C34<>0,INDEX('Eingabe Spielernamen'!F:F,MATCH(C34,'Eingabe Spielernamen'!B:B))&\", \"&INDEX('Eingabe Spielernamen'!G:G,MATCH(C34,'Eingabe Spielernamen'!B:B,0)),\" \")","v":", "},{"$f":"IF($C34<>0,INDEX('Eingabe Spielernamen'!A:A,MATCH(C34,'Eingabe Spielernamen'!B:B,)),\" \")","v":0}]
[null,34,209,{"$f":"IF($C35<>0,INDEX('Eingabe Spielernamen'!F:F,MATCH(C35,'Eingabe Spielernamen'!B:B))&\", \"&INDEX('Eingabe Spielernamen'!G:G,MATCH(C35,'Eingabe Spielernamen'!B:B,0)),\" \")","v":", "},{"$f":"IF($C35<>0,INDEX('Eingabe Spielernamen'!A:A,MATCH(C35,'Eingabe Spielernamen'!B:B,)),\" \")","v":0}]
[null,35,309,{"$f":"IF($C36<>0,INDEX('Eingabe Spielernamen'!F:F,MATCH(C36,'Eingabe Spielernamen'!B:B))&\", \"&INDEX('Eingabe Spielernamen'!G:G,MATCH(C36,'Eingabe Spielernamen'!B:B,0)),\" \")","v":", "},{"$f":"IF($C36<>0,INDEX('Eingabe Spielernamen'!A:A,MATCH(C36,'Eingabe Spielernamen'!B:B,)),\" \")","v":0}]
[null,36,409,{"$f":"IF($C37<>0,INDEX('Eingabe Spielernamen'!F:F,MATCH(C37,'Eingabe Spielernamen'!B:B))&\", \"&INDEX('Eingabe Spielernamen'!G:G,MATCH(C37,'Eingabe Spielernamen'!B:B,0)),\" \")","v":", "},{"$f":"IF($C37<>0,INDEX('Eingabe Spielernamen'!A:A,MATCH(C37,'Eingabe Spielernamen'!B:B,)),\" \")","v":0}]
[{"$f":"A34+1","v":10},37,110,{"$f":"IF($C38<>0,INDEX('Eingabe Spielernamen'!F:F,MATCH(C38,'Eingabe Spielernamen'!B:B))&\", \"&INDEX('Eingabe Spielernamen'!G:G,MATCH(C38,'Eingabe Spielernamen'!B:B,0)),\" \")","v":", "},{"$f":"IF($C38<>0,INDEX('Eingabe Spielernamen'!A:A,MATCH(C38,'Eingabe Spielernamen'!B:B,)),\" \")","v":0}]
[null,38,210,{"$f":"IF($C39<>0,INDEX('Eingabe Spielernamen'!F:F,MATCH(C39,'Eingabe Spielernamen'!B:B))&\", \"&INDEX('Eingabe Spielernamen'!G:G,MATCH(C39,'Eingabe Spielernamen'!B:B,0)),\" \")","v":", "},{"$f":"IF($C39<>0,INDEX('Eingabe Spielernamen'!A:A,MATCH(C39,'Eingabe Spielernamen'!B:B,)),\" \")","v":0}]
[null,39,310,{"$f":"IF($C40<>0,INDEX('Eingabe Spielernamen'!F:F,MATCH(C40,'Eingabe Spielernamen'!B:B))&\", \"&INDEX('Eingabe Spielernamen'!G:G,MATCH(C40,'Eingabe Spielernamen'!B:B,0)),\" \")","v":", "},{"$f":"IF($C40<>0,INDEX('Eingabe Spielernamen'!A:A,MATCH(C40,'Eingabe Spielernamen'!B:B,)),\" \")","v":0}]
[null,40,410,{"$f":"IF($C41<>0,INDEX('Eingabe Spielernamen'!F:F,MATCH(C41,'Eingabe Spielernamen'!B:B))&\", \"&INDEX('Eingabe Spielernamen'!G:G,MATCH(C41,'Eingabe Spielernamen'!B:B,0)),\" \")","v":", "},{"$f":"IF($C41<>0,INDEX('Eingabe Spielernamen'!A:A,MATCH(C41,'Eingabe Spielernamen'!B:B,)),\" \")","v":0}]
[{"$f":"A38+1","v":11},41,111,{"$f":"IF($C42<>0,INDEX('Eingabe Spielernamen'!F:F,MATCH(C42,'Eingabe Spielernamen'!B:B))&\", \"&INDEX('Eingabe Spielernamen'!G:G,MATCH(C42,'Eingabe Spielernamen'!B:B,0)),\" \")","v":", "},{"$f":"IF($C42<>0,INDEX('Eingabe Spielernamen'!A:A,MATCH(C42,'Eingabe Spielernamen'!B:B,)),\" \")","v":0}]
[null,42,211,{"$f":"IF($C43<>0,INDEX('Eingabe Spielernamen'!F:F,MATCH(C43,'Eingabe Spielernamen'!B:B))&\", \"&INDEX('Eingabe Spielernamen'!G:G,MATCH(C43,'Eingabe Spielernamen'!B:B,0)),\" \")","v":", "},{"$f":"IF($C43<>0,INDEX('Eingabe Spielernamen'!A:A,MATCH(C43,'Eingabe Spielernamen'!B:B,)),\" \")","v":0}]
[null,43,311,{"$f":"IF($C44<>0,INDEX('Eingabe Spielernamen'!F:F,MATCH(C44,'Eingabe Spielernamen'!B:B))&\", \"&INDEX('Eingabe Spielernamen'!G:G,MATCH(C44,'Eingabe Spielernamen'!B:B,0)),\" \")","v":", "},{"$f":"IF($C44<>0,INDEX('Eingabe Spielernamen'!A:A,MATCH(C44,'Eingabe Spielernamen'!B:B,)),\" \")","v":0}]
[null,44,411,{"$f":"IF($C45<>0,INDEX('Eingabe Spielernamen'!F:F,MATCH(C45,'Eingabe Spielernamen'!B:B))&\", \"&INDEX('Eingabe Spielernamen'!G:G,MATCH(C45,'Eingabe Spielernamen'!B:B,0)),\" \")","v":", "},{"$f":"IF($C45<>0,INDEX('Eingabe Spielernamen'!A:A,MATCH(C45,'Eingabe Spielernamen'!B:B,)),\" \")","v":0}]
[{"$f":"A42+1","v":12},45,112,{"$f":"IF($C46<>0,INDEX('Eingabe Spielernamen'!F:F,MATCH(C46,'Eingabe Spielernamen'!B:B))&\", \"&INDEX('Eingabe Spielernamen'!G:G,MATCH(C46,'Eingabe Spielernamen'!B:B,0)),\" \")","v":", "},{"$f":"IF($C46<>0,INDEX('Eingabe Spielernamen'!A:A,MATCH(C46,'Eingabe Spielernamen'!B:B,)),\" \")","v":0}]
[null,46,212,{"$f":"IF($C47<>0,INDEX('Eingabe Spielernamen'!F:F,MATCH(C47,'Eingabe Spielernamen'!B:B))&\", \"&INDEX('Eingabe Spielernamen'!G:G,MATCH(C47,'Eingabe Spielernamen'!B:B,0)),\" \")","v":", "},{"$f":"IF($C47<>0,INDEX('Eingabe Spielernamen'!A:A,MATCH(C47,'Eingabe Spielernamen'!B:B,)),\" \")","v":0}]
[null,47,312,{"$f":"IF($C48<>0,INDEX('Eingabe Spielernamen'!F:F,MATCH(C48,'Eingabe Spielernamen'!B:B))&\", \"&INDEX('Eingabe Spielernamen'!G:G,MATCH(C48,'Eingabe Spielernamen'!B:B,0)),\" \")","v":", "},{"$f":"IF($C48<>0,INDEX('Eingabe Spielernamen'!A:A,MATCH(C48,'Eingabe Spielernamen'!B:B,)),\" \")","v":0}]
[null,48,412,{"$f":"IF($C49<>0,INDEX('Eingabe Spielernamen'!F:F,MATCH(C49,'Eingabe Spielernamen'!B:B))&\", \"&INDEX('Eingabe Spielernamen'!G:G,MATCH(C49,'Eingabe Spielernamen'!B:B,0)),\" \")","v":", "},{"$f":"IF($C49<>0,INDEX('Eingabe Spielernamen'!A:A,MATCH(C49,'Eingabe Spielernamen'!B:B,)),\" \")","v":0}]
[{"$f":"A46+1","v":13},49,113,{"$f":"IF($C50<>0,INDEX('Eingabe Spielernamen'!F:F,MATCH(C50,'Eingabe Spielernamen'!B:B))&\", \"&INDEX('Eingabe Spielernamen'!G:G,MATCH(C50,'Eingabe Spielernamen'!B:B,0)),\" \")","v":", "},{"$f":"IF($C50<>0,INDEX('Eingabe Spielernamen'!A:A,MATCH(C50,'Eingabe Spielernamen'!B:B,)),\" \")","v":0}]
[null,50,213,{"$f":"IF($C51<>0,INDEX('Eingabe Spielernamen'!F:F,MATCH(C51,'Eingabe Spielernamen'!B:B))&\", \"&INDEX('Eingabe Spielernamen'!G:G,MATCH(C51,'Eingabe Spielernamen'!B:B,0)),\" \")","v":", "},{"$f":"IF($C51<>0,INDEX('Eingabe Spielernamen'!A:A,MATCH(C51,'Eingabe Spielernamen'!B:B,)),\" \")","v":0}]
[null,51,313,{"$f":"IF($C52<>0,INDEX('Eingabe Spielernamen'!F:F,MATCH(C52,'Eingabe Spielernamen'!B:B))&\", \"&INDEX('Eingabe Spielernamen'!G:G,MATCH(C52,'Eingabe Spielernamen'!B:B,0)),\" \")","v":", "},{"$f":"IF($C52<>0,INDEX('Eingabe Spielernamen'!A:A,MATCH(C52,'Eingabe Spielernamen'!B:B,)),\" \")","v":0}]
[null,52,413,{"$f":"IF($C53<>0,INDEX('Eingabe Spielernamen'!F:F,MATCH(C53,'Eingabe Spielernamen'!B:B))&\", \"&INDEX('Eingabe Spielernamen'!G:G,MATCH(C53,'Eingabe Spielernamen'!B:B,0)),\" \")","v":", "},{"$f":"IF($C53<>0,INDEX('Eingabe Spielernamen'!A:A,MATCH(C53,'Eingabe Spielernamen'!B:B,)),\" \")","v":0}]
[{"$f":"A50+1","v":14},53,114,{"$f":"IF($C54<>0,INDEX('Eingabe Spielernamen'!F:F,MATCH(C54,'Eingabe Spielernamen'!B:B))&\", \"&INDEX('Eingabe Spielernamen'!G:G,MATCH(C54,'Eingabe Spielernamen'!B:B,0)),\" \")","v":", "},{"$f":"IF($C54<>0,INDEX('Eingabe Spielernamen'!A:A,MATCH(C54,'Eingabe Spielernamen'!B:B,)),\" \")","v":0}]
[null,54,214,{"$f":"IF($C55<>0,INDEX('Eingabe Spielernamen'!F:F,MATCH(C55,'Eingabe Spielernamen'!B:B))&\", \"&INDEX('Eingabe Spielernamen'!G:G,MATCH(C55,'Eingabe Spielernamen'!B:B,0)),\" \")","v":", "},{"$f":"IF($C55<>0,INDEX('Eingabe Spielernamen'!A:A,MATCH(C55,'Eingabe Spielernamen'!B:B,)),\" \")","v":0}]
[null,55,314,{"$f":"IF($C56<>0,INDEX('Eingabe Spielernamen'!F:F,MATCH(C56,'Eingabe Spielernamen'!B:B))&\", \"&INDEX('Eingabe Spielernamen'!G:G,MATCH(C56,'Eingabe Spielernamen'!B:B,0)),\" \")","v":", "},{"$f":"IF($C56<>0,INDEX('Eingabe Spielernamen'!A:A,MATCH(C56,'Eingabe Spielernamen'!B:B,)),\" \")","v":0}]
[null,56,414,{"$f":"IF($C57<>0,INDEX('Eingabe Spielernamen'!F:F,MATCH(C57,'Eingabe Spielernamen'!B:B))&\", \"&INDEX('Eingabe Spielernamen'!G:G,MATCH(C57,'Eingabe Spielernamen'!B:B,0)),\" \")","v":", "},{"$f":"IF($C57<>0,INDEX('Eingabe Spielernamen'!A:A,MATCH(C57,'Eingabe Spielernamen'!B:B,)),\" \")","v":0}]
[{"$f":"A54+1","v":15},57,115,{"$f":"IF($C58<>0,INDEX('Eingabe Spielernamen'!F:F,MATCH(C58,'Eingabe Spielernamen'!B:B))&\", \"&INDEX('Eingabe Spielernamen'!G:G,MATCH(C58,'Eingabe Spielernamen'!B:B,0)),\" \")","v":", "},{"$f":"IF($C58<>0,INDEX('Eingabe Spielernamen'!A:A,MATCH(C58,'Eingabe Spielernamen'!B:B,)),\" \")","v":0}]
[null,58,215,{"$f":"IF($C59<>0,INDEX('Eingabe Spielernamen'!F:F,MATCH(C59,'Eingabe Spielernamen'!B:B))&\", \"&INDEX('Eingabe Spielernamen'!G:G,MATCH(C59,'Eingabe Spielernamen'!B:B,0)),\" \")","v":", "},{"$f":"IF($C59<>0,INDEX('Eingabe Spielernamen'!A:A,MATCH(C59,'Eingabe Spielernamen'!B:B,)),\" \")","v":0}]
[null,59,315,{"$f":"IF($C60<>0,INDEX('Eingabe Spielernamen'!F:F,MATCH(C60,'Eingabe Spielernamen'!B:B))&\", \"&INDEX('Eingabe Spielernamen'!G:G,MATCH(C60,'Eingabe Spielernamen'!B:B,0)),\" \")","v":", "},{"$f":"IF($C60<>0,INDEX('Eingabe Spielernamen'!A:A,MATCH(C60,'Eingabe Spielernamen'!B:B,)),\" \")","v":0}]
[null,60,415,{"$f":"IF($C61<>0,INDEX('Eingabe Spielernamen'!F:F,MATCH(C61,'Eingabe Spielernamen'!B:B))&\", \"&INDEX('Eingabe Spielernamen'!G:G,MATCH(C61,'Eingabe Spielernamen'!B:B,0)),\" \")","v":", "},{"$f":"IF($C61<>0,INDEX('Eingabe Spielernamen'!A:A,MATCH(C61,'Eingabe Spielernamen'!B:B,)),\" \")","v":0}]
[{"$f":"A58+1","v":16},61,116,{"$f":"IF($C62<>0,INDEX('Eingabe Spielernamen'!F:F,MATCH(C62,'Eingabe Spielernamen'!B:B))&\", \"&INDEX('Eingabe Spielernamen'!G:G,MATCH(C62,'Eingabe Spielernamen'!B:B,0)),\" \")","v":", "},{"$f":"IF($C62<>0,INDEX('Eingabe Spielernamen'!A:A,MATCH(C62,'Eingabe Spielernamen'!B:B,)),\" \")","v":0}]
[null,62,216,{"$f":"IF($C63<>0,INDEX('Eingabe Spielernamen'!F:F,MATCH(C63,'Eingabe Spielernamen'!B:B))&\", \"&INDEX('Eingabe Spielernamen'!G:G,MATCH(C63,'Eingabe Spielernamen'!B:B,0)),\" \")","v":", "},{"$f":"IF($C63<>0,INDEX('Eingabe Spielernamen'!A:A,MATCH(C63,'Eingabe Spielernamen'!B:B,)),\" \")","v":0}]
[null,63,316,{"$f":"IF($C64<>0,INDEX('Eingabe Spielernamen'!F:F,MATCH(C64,'Eingabe Spielernamen'!B:B))&\", \"&INDEX('Eingabe Spielernamen'!G:G,MATCH(C64,'Eingabe Spielernamen'!B:B,0)),\" \")","v":", "},{"$f":"IF($C64<>0,INDEX('Eingabe Spielernamen'!A:A,MATCH(C64,'Eingabe Spielernamen'!B:B,)),\" \")","v":0}]
[null,64,416,{"$f":"IF($C65<>0,INDEX('Eingabe Spielernamen'!F:F,MATCH(C65,'Eingabe Spielernamen'!B:B))&\", \"&INDEX('Eingabe Spielernamen'!G:G,MATCH(C65,'Eingabe Spielernamen'!B:B,0)),\" \")","v":", "},{"$f":"IF($C65<>0,INDEX('Eingabe Spielernamen'!A:A,MATCH(C65,'Eingabe Spielernamen'!B:B,)),\" \")","v":0}]

{"sheet":"Listen (6.)","index":17,"n_rows":64,"n_cols":8,"rows_kept":64,"cut":false,"hidden":false,"merged":[]}
[{"$f":"'Eingabe Spielernamen'!P6","v":"2020-05-31"},"6. Serie",1,null,{"$f":"A1","v":"2020-05-31"},{"$f":"B1","v":"6. Serie"},{"$f":"C1","v":1}]
[]
[{"$f":"'6. Serie'!D2","v":", "},{"$f":"'6. Serie'!D3","v":", "},{"$f":"'6. Serie'!D4","v":", "},{"$f":"'6. Serie'!D5","v":", "},{"$f":"'6. Serie'!D2","v":", "},{"$f":"'6. Serie'!D3","v":", "},{"$f":"'6. Serie'!D4","v":", "},{"$f":"'6. Serie'!D5","v":", "}]
[{"$f":"'6. Serie'!C2","v":101},{"$f":"'6. Serie'!C3","v":201},{"$f":"'6. Serie'!C4","v":301},{"$f":"'6. Serie'!C5","v":401},{"$f":"'6. Serie'!C2","v":101},{"$f":"'6. Serie'!C3","v":201},{"$f":"'6. Serie'!C4","v":301},{"$f":"'6. Serie'!C5","v":401}]
[{"$f":"A1","v":"2020-05-31"},{"$f":"$B$1","v":"6. Serie"},{"$f":"C1+1","v":2},null,{"$f":"E1","v":"2020-05-31"},{"$f":"$B$1","v":"6. Serie"},{"$f":"G1+1","v":2},{"$f":"D5","v":0}]
[]
[{"$f":"'6. Serie'!D6","v":", "},{"$f":"'6. Serie'!D7","v":", "},{"$f":"'6. Serie'!D8","v":", "},{"$f":"'6. Serie'!D9","v":", "},{"$f":"'6. Serie'!D6","v":", "},{"$f":"'6. Serie'!D7","v":", "},{"$f":"'6. Serie'!D8","v":", "},{"$f":"'6. Serie'!D9","v":", "}]
[{"$f":"'6. Serie'!C6","v":102},{"$f":"'6. Serie'!C7","v":202},{"$f":"'6. Serie'!C8","v":302},{"$f":"'6. Serie'!C9","v":402},{"$f":"'6. Serie'!C6","v":102},{"$f":"'6. Serie'!C7","v":202},{"$f":"'6. Serie'!C8","v":302},{"$f":"'6. Serie'!C9","v":402}]
[{"$f":"A5","v":"2020-05-31"},{"$f":"$B$1","v":"6. Serie"},{"$f":"C5+1","v":3},null,{"$f":"E5","v":"2020-05-31"},{"$f":"$B$1","v":"6. Serie"},{"$f":"G5+1","v":3},{"$f":"D9","v":0}]
[]
[{"$f":"'6. Serie'!D10","v":", "},{"$f":"'6. Serie'!D11","v":", "},{"$f":"'6. Serie'!D12","v":", "},{"$f":"'6. Serie'!D13","v":", "},{"$f":"'6. Serie'!D10","v":", "},{"$f":"'6. Serie'!D11","v":", "},{"$f":"'6. Serie'!D12","v":", "},{"$f":"'6. Serie'!D13","v":", "}]
[{"$f":"'6. Serie'!C10","v":103},{"$f":"'6. Serie'!C11","v":203},{"$f":"'6. Serie'!C12","v":303},{"$f":"'6. Serie'!C13","v":403},{"$f":"'6. Serie'!C10","v":103},{"$f":"'6. Serie'!C11","v":203},{"$f":"'6. Serie'!C12","v":303},{"$f":"'6. Serie'!C13","v":403}]
[{"$f":"A9","v":"2020-05-31"},{"$f":"$B$1","v":"6. Serie"},{"$f":"C9+1","v":4},null,{"$f":"E9","v":"2020-05-31"},{"$f":"$B$1","v":"6. Serie"},{"$f":"G9+1","v":4},{"$f":"D13","v":0}]
[]
[{"$f":"'6. Serie'!D14","v":", "},{"$f":"'6. Serie'!D15","v":", "},{"$f":"'6. Serie'!D16","v":", "},{"$f":"'6. Serie'!D17","v":", "},{"$f":"'6. Serie'!D14","v":", "},{"$f":"'6. Serie'!D15","v":", "},{"$f":"'6. Serie'!D16","v":", "},{"$f":"'6. Serie'!D17","v":", "}]
[{"$f":"'6. Serie'!C14","v":104},{"$f":"'6. Serie'!C15","v":204},{"$f":"'6. Serie'!C16","v":304},{"$f":"'6. Serie'!C17","v":404},{"$f":"'6. Serie'!C14","v":104},{"$f":"'6. Serie'!C15","v":204},{"$f":"'6. Serie'!C16","v":304},{"$f":"'6. Serie'!C17","v":404}]
[{"$f":"A13","v":"2020-05-31"},{"$f":"$B$1","v":"6. Serie"},{"$f":"C13+1","v":5},null,{"$f":"E13","v":"2020-05-31"},{"$f":"$B$1","v":"6. Serie"},{"$f":"G13+1","v":5},{"$f":"D17","v":0}]
[]
[{"$f":"'6. Serie'!D18","v":", "},{"$f":"'6. Serie'!D19","v":", "},{"$f":"'6. Serie'!D20","v":", "},{"$f":"'6. Serie'!D21","v":", "},{"$f":"'6. Serie'!D18","v":", "},{"$f":"'6. Serie'!D19","v":", "},{"$f":"'6. Serie'!D20","v":", "},{"$f":"'6. Serie'!D21","v":", "}]
[{"$f":"'6. Serie'!C18","v":105},{"$f":"'6. Serie'!C19","v":205},{"$f":"'6. Serie'!C20","v":305},{"$f":"'6. Serie'!C21","v":405},{"$f":"'6. Serie'!C18","v":105},{"$f":"'6. Serie'!C19","v":205},{"$f":"'6. Serie'!C20","v":305},{"$f":"'6. Serie'!C21","v":405}]
[{"$f":"A17","v":"2020-05-31"},{"$f":"$B$1","v":"6. Serie"},{"$f":"C17+1","v":6},null,{"$f":"E17","v":"2020-05-31"},{"$f":"$B$1","v":"6. Serie"},{"$f":"G17+1","v":6},{"$f":"D21","v":0}]
[]
[{"$f":"'6. Serie'!D22","v":", "},{"$f":"'6. Serie'!D23","v":", "},{"$f":"'6. Serie'!D24","v":", "},{"$f":"'6. Serie'!D25","v":", "},{"$f":"'6. Serie'!D22","v":", "},{"$f":"'6. Serie'!D23","v":", "},{"$f":"'6. Serie'!D24","v":", "},{"$f":"'6. Serie'!D25","v":", "}]
[{"$f":"'6. Serie'!C22","v":106},{"$f":"'6. Serie'!C23","v":206},{"$f":"'6. Serie'!C24","v":306},{"$f":"'6. Serie'!C25","v":406},{"$f":"'6. Serie'!C22","v":106},{"$f":"'6. Serie'!C23","v":206},{"$f":"'6. Serie'!C24","v":306},{"$f":"'6. Serie'!C25","v":406}]
[{"$f":"A21","v":"2020-05-31"},{"$f":"$B$1","v":"6. Serie"},{"$f":"C21+1","v":7},null,{"$f":"E21","v":"2020-05-31"},{"$f":"$B$1","v":"6. Serie"},{"$f":"G21+1","v":7},{"$f":"D25","v":0}]
[]
[{"$f":"'6. Serie'!D26","v":", "},{"$f":"'6. Serie'!D27","v":", "},{"$f":"'6. Serie'!D28","v":", "},{"$f":"'6. Serie'!D29","v":", "},{"$f":"'6. Serie'!D26","v":", "},{"$f":"'6. Serie'!D27","v":", "},{"$f":"'6. Serie'!D28","v":", "},{"$f":"'6. Serie'!D29","v":", "}]
[{"$f":"'6. Serie'!C26","v":107},{"$f":"'6. Serie'!C27","v":207},{"$f":"'6. Serie'!C28","v":307},{"$f":"'6. Serie'!C29","v":407},{"$f":"'6. Serie'!C26","v":107},{"$f":"'6. Serie'!C27","v":207},{"$f":"'6. Serie'!C28","v":307},{"$f":"'6. Serie'!C29","v":407}]
[{"$f":"A25","v":"2020-05-31"},{"$f":"$B$1","v":"6. Serie"},{"$f":"C25+1","v":8},null,{"$f":"E25","v":"2020-05-31"},{"$f":"$B$1","v":"6. Serie"},{"$f":"G25+1","v":8},{"$f":"D29","v":0}]
[]
[{"$f":"'6. Serie'!D30","v":", "},{"$f":"'6. Serie'!D31","v":", "},{"$f":"'6. Serie'!D32","v":", "},{"$f":"'6. Serie'!D33","v":", "},{"$f":"'6. Serie'!D30","v":", "},{"$f":"'6. Serie'!D31","v":", "},{"$f":"'6. Serie'!D32","v":", "},{"$f":"'6. Serie'!D33","v":", "}]
[{"$f":"'6. Serie'!C30","v":108},{"$f":"'6. Serie'!C31","v":208},{"$f":"'6. Serie'!C32","v":308},{"$f":"'6. Serie'!C33","v":408},{"$f":"'6. Serie'!C30","v":108},{"$f":"'6. Serie'!C31","v":208},{"$f":"'6. Serie'!C32","v":308},{"$f":"'6. Serie'!C33","v":408}]
[{"$f":"A29","v":"2020-05-31"},{"$f":"$B$1","v":"6. Serie"},{"$f":"C29+1","v":9},null,{"$f":"E29","v":"2020-05-31"},{"$f":"$B$1","v":"6. Serie"},{"$f":"G29+1","v":9},{"$f":"D33","v":0}]
[]
[{"$f":"'6. Serie'!D34","v":", "},{"$f":"'6. Serie'!D35","v":", "},{"$f":"'6. Serie'!D36","v":", "},{"$f":"'6. Serie'!D37","v":", "},{"$f":"'6. Serie'!D34","v":", "},{"$f":"'6. Serie'!D35","v":", "},{"$f":"'6. Serie'!D36","v":", "},{"$f":"'6. Serie'!D37","v":", "}]
[{"$f":"'6. Serie'!C34","v":109},{"$f":"'6. Serie'!C35","v":209},{"$f":"'6. Serie'!C36","v":309},{"$f":"'6. Serie'!C37","v":409},{"$f":"'6. Serie'!C34","v":109},{"$f":"'6. Serie'!C35","v":209},{"$f":"'6. Serie'!C36","v":309},{"$f":"'6. Serie'!C37","v":409}]
[{"$f":"A33","v":"2020-05-31"},{"$f":"$B$1","v":"6. Serie"},{"$f":"C33+1","v":10},null,{"$f":"E33","v":"2020-05-31"},{"$f":"$B$1","v":"6. Serie"},{"$f":"G33+1","v":10},{"$f":"D37","v":0}]
[]
[{"$f":"'6. Serie'!D38","v":", "},{"$f":"'6. Serie'!D39","v":", "},{"$f":"'6. Serie'!D40","v":", "},{"$f":"'6. Serie'!D41","v":", "},{"$f":"'6. Serie'!D38","v":", "},{"$f":"'6. Serie'!D39","v":", "},{"$f":"'6. Serie'!D40","v":", "},{"$f":"'6. Serie'!D41","v":", "}]
[{"$f":"'6. Serie'!C38","v":110},{"$f":"'6. Serie'!C39","v":210},{"$f":"'6. Serie'!C40","v":310},{"$f":"'6. Serie'!C41","v":410},{"$f":"'6. Serie'!C38","v":110},{"$f":"'6. Serie'!C39","v":210},{"$f":"'6. Serie'!C40","v":310},{"$f":"'6. Serie'!C41","v":410}]
[{"$f":"A37","v":"2020-05-31"},{"$f":"$B$1","v":"6. Serie"},{"$f":"C37+1","v":11},null,{"$f":"E37","v":"2020-05-31"},{"$f":"$B$1","v":"6. Serie"},{"$f":"G37+1","v":11},{"$f":"D41","v":0}]
[]
[{"$f":"'6. Serie'!D42","v":", "},{"$f":"'6. Serie'!D43","v":", "},{"$f":"'6. Serie'!D44","v":", "},{"$f":"'6. Serie'!D45","v":", "},{"$f":"'6. Serie'!D42","v":", "},{"$f":"'6. Serie'!D43","v":", "},{"$f":"'6. Serie'!D44","v":", "},{"$f":"'6. Serie'!D45","v":", "}]
[{"$f":"'6. Serie'!C42","v":111},{"$f":"'6. Serie'!C43","v":211},{"$f":"'6. Serie'!C44","v":311},{"$f":"'6. Serie'!C45","v":411},{"$f":"'6. Serie'!C42","v":111},{"$f":"'6. Serie'!C43","v":211},{"$f":"'6. Serie'!C44","v":311},{"$f":"'6. Serie'!C45","v":411}]
[{"$f":"A41","v":"2020-05-31"},{"$f":"$B$1","v":"6. Serie"},{"$f":"C41+1","v":12},null,{"$f":"E41","v":"2020-05-31"},{"$f":"$B$1","v":"6. Serie"},{"$f":"G41+1","v":12},{"$f":"D45","v":0}]
[]
[{"$f":"'6. Serie'!D46","v":", "},{"$f":"'6. Serie'!D47","v":", "},{"$f":"'6. Serie'!D48","v":", "},{"$f":"'6. Serie'!D49","v":", "},{"$f":"'6. Serie'!D46","v":", "},{"$f":"'6. Serie'!D47","v":", "},{"$f":"'6. Serie'!D48","v":", "},{"$f":"'6. Serie'!D49","v":", "}]
[{"$f":"'6. Serie'!C46","v":112},{"$f":"'6. Serie'!C47","v":212},{"$f":"'6. Serie'!C48","v":312},{"$f":"'6. Serie'!C49","v":412},{"$f":"'6. Serie'!C46","v":112},{"$f":"'6. Serie'!C47","v":212},{"$f":"'6. Serie'!C48","v":312},{"$f":"'6. Serie'!C49","v":412}]
[{"$f":"A45","v":"2020-05-31"},{"$f":"$B$1","v":"6. Serie"},{"$f":"C45+1","v":13},null,{"$f":"E45","v":"2020-05-31"},{"$f":"$B$1","v":"6. Serie"},{"$f":"G45+1","v":13},{"$f":"D49","v":0}]
[]
[{"$f":"'6. Serie'!D50","v":", "},{"$f":"'6. Serie'!D51","v":", "},{"$f":"'6. Serie'!D52","v":", "},{"$f":"'6. Serie'!D53","v":", "},{"$f":"'6. Serie'!D50","v":", "},{"$f":"'6. Serie'!D51","v":", "},{"$f":"'6. Serie'!D52","v":", "},{"$f":"'6. Serie'!D53","v":", "}]
[{"$f":"'6. Serie'!C50","v":113},{"$f":"'6. Serie'!C51","v":213},{"$f":"'6. Serie'!C52","v":313},{"$f":"'6. Serie'!C53","v":413},{"$f":"'6. Serie'!C50","v":113},{"$f":"'6. Serie'!C51","v":213},{"$f":"'6. Serie'!C52","v":313},{"$f":"'6. Serie'!C53","v":413}]
[{"$f":"A49","v":"2020-05-31"},{"$f":"$B$1","v":"6. Serie"},{"$f":"C49+1","v":14},null,{"$f":"E49","v":"2020-05-31"},{"$f":"$B$1","v":"6. Serie"},{"$f":"G49+1","v":14},{"$f":"D53","v":0}]
[]
[{"$f":"'6. Serie'!D54","v":", "},{"$f":"'6. Serie'!D55","v":", "},{"$f":"'6. Serie'!D56","v":", "},{"$f":"'6. Serie'!D57","v":", "},{"$f":"'6. Serie'!D54","v":", "},{"$f":"'6. Serie'!D55","v":", "},{"$f":"'6. Serie'!D56","v":", "},{"$f":"'6. Serie'!D57","v":", "}]
[{"$f":"'6. Serie'!C54","v":114},{"$f":"'6. Serie'!C55","v":214},{"$f":"'6. Serie'!C56","v":314},{"$f":"'6. Serie'!C57","v":414},{"$f":"'6. Serie'!C54","v":114},{"$f":"'6. Serie'!C55","v":214},{"$f":"'6. Serie'!C56","v":314},{"$f":"'6. Serie'!C57","v":414}]
[{"$f":"A53","v":"2020-05-31"},{"$f":"$B$1","v":"6. Serie"},{"$f":"C53+1","v":15},null,{"$f":"E53","v":"2020-05-31"},{"$f":"$B$1","v":"6. Serie"},{"$f":"G53+1","v":15},{"$f":"D57","v":0}]
[]
[{"$f":"'6. Serie'!D58","v":", "},{"$f":"'6. Serie'!D59","v":", "},{"$f":"'6. Serie'!D60","v":", "},{"$f":"'6. Serie'!D61","v":", "},{"$f":"'6. Serie'!D58","v":", "},{"$f":"'6. Serie'!D59","v":", "},{"$f":"'6. Serie'!D60","v":", "},{"$f":"'6. Serie'!D61","v":", "}]
[{"$f":"'6. Serie'!C58","v":115},{"$f":"'6. Serie'!C59","v":215},{"$f":"'6. Serie'!C60","v":315},{"$f":"'6. Serie'!C61","v":415},{"$f":"'6. Serie'!C58","v":115},{"$f":"'6. Serie'!C59","v":215},{"$f":"'6. Serie'!C60","v":315},{"$f":"'6. Serie'!C61","v":415}]
[{"$f":"A57","v":"2020-05-31"},{"$f":"$B$1","v":"6. Serie"},{"$f":"C57+1","v":16},null,{"$f":"E57","v":"2020-05-31"},{"$f":"$B$1","v":"6. Serie"},{"$f":"G57+1","v":16},{"$f":"D61","v":0}]
[]
[{"$f":"'6. Serie'!D62","v":", "},{"$f":"'6. Serie'!D63","v":", "},{"$f":"'6. Serie'!D64","v":", "},{"$f":"'6. Serie'!D65","v":", "},{"$f":"'6. Serie'!D62","v":", "},{"$f":"'6. Serie'!D63","v":", "},{"$f":"'6. Serie'!D64","v":", "},{"$f":"'6. Serie'!D65","v":", "}]
[{"$f":"'6. Serie'!C62","v":116},{"$f":"'6. Serie'!C63","v":216},{"$f":"'6. Serie'!C64","v":316},{"$f":"'6. Serie'!C65","v":416},{"$f":"'6. Serie'!C62","v":116},{"$f":"'6. Serie'!C63","v":216},{"$f":"'6. Serie'!C64","v":316},{"$f":"'6. Serie'!C65","v":416}]