{"text_format":"1","workbook":"xlsx","n_sheets":9,"sheets":["blanko","Spieler (nach Gruppe)","Spieler (sortiert)","Spieler (namentlich)","Hinweis","Gruppe (1)","Gruppe (2)","Gruppe (3)","Gruppe (4)"],"not_rendered":{"charts":0,"images":0,"macros":0,"external_links":0,"defined_names":16,"comments":0,"pivot_tables":0},"unopened":[],"bounds":{"document_bytes":16777216,"sheet_cells":100000,"rows_first":2000,"rows_last":500,"rows_between":2000,"halvings":0,"cell_chars":16384,"cell_head_chars":4096},"cells_cut":0,"cells_raw":0,"read":"whole","date_system":"1900"}

{"sheet":"blanko","index":0,"n_rows":33,"n_cols":8,"rows_kept":33,"cut":false,"hidden":false,"merged":[[2,3,2,7],[3,5,5,7],[4,0,4,2]]}
["Deutscher Skatverband e.V."]
[]
["Landesverband:",null,{"$f":"'Gruppe (1)'!C3","v":"04  NRW"},"nur zur manuellen Aufnahme zum ausdrucken!"]
[null,null,null,null,null,"Einzel = 1, Tandem und Mixed fortlaufende Nummern 1, 2, 3, ... !"]
["Teilnehmermeldung zum ",null,null,{"$f":"'Gruppe (1)'!D5","v":"Veranstaltung"}]
[]
["lfd.","VG","Name, Vorname","Verein","H","Einzel","Tandem","Mixed"]
["Nr.",null,null,null,"D"]
[null,null,null,null,null,1]
[null,null,null,null,null,1]
[null,null,null,null,null,1]
[null,null,null,null,null,1]
[null,null,null,null,null,1]
[null,null,null,null,null,1]
[null,null,null,null,null,1]
[null,null,null,null,null,1]
[null,null,null,null,null,1]
[null,null,null,null,null,1]
[null,null,null,null,null,1]
[null,null,null,null,null,1]
[null,null,null,null,null,1]
[null,null,null,null,null,1]
[null,null,null,null,null,1]
[null,null,null,null,null,1]
[null,null,null,null,null,1]
[null,null,null,null,null,1]
[null,null,null,null,null,1]
[null,null,null,null,null,1]
[null,null,null,null,null,1]
[null,null,null,null,null,1]
[null,null,null,null,null,1]
[null,null,null,null,null,1]
[null,null,null,null,null,1]

{"sheet":"Spieler (nach Gruppe)","index":1,"n_rows":201,"n_cols":10,"rows_kept":201,"cut":false,"hidden":false,"merged":[]}
["Start-Nr.:","1.Se","Pl.","VG","Name, Vorname","Verein","H","Einzel","Tandem","Mixed"]
[1,1,1,{"$f":"'Gruppe (1)'!B9","v":11},{"$f":"'Gruppe (1)'!C9","v":0},{"$f":"'Gruppe (1)'!D9","v":0},{"$f":"'Gruppe (1)'!E9","v":0},{"$f":"'Gruppe (1)'!F9","v":0},{"$f":"'Gruppe (1)'!G9","v":0},{"$f":"'Gruppe (1)'!H9","v":0}]
[{"$f":"A2+4","v":5},2,1,{"$f":"'Gruppe (1)'!B10","v":11},{"$f":"'Gruppe (1)'!C10","v":0},{"$f":"'Gruppe (1)'!D10","v":0},{"$f":"'Gruppe (1)'!E10","v":0},{"$f":"'Gruppe (1)'!F10","v":0},{"$f":"'Gruppe (1)'!G10","v":0},{"$f":"'Gruppe (1)'!H10","v":0}]
[9,3,1,{"$f":"'Gruppe (1)'!B11","v":11},{"$f":"'Gruppe (1)'!C11","v":0},{"$f":"'Gruppe (1)'!D11","v":0},{"$f":"'Gruppe (1)'!E11","v":0},{"$f":"'Gruppe (1)'!F11","v":0},{"$f":"'Gruppe (1)'!G11","v":0},{"$f":"'Gruppe (1)'!H11","v":0}]
[13,4,1,{"$f":"'Gruppe (1)'!B12","v":11},{"$f":"'Gruppe (1)'!C12","v":0},{"$f":"'Gruppe (1)'!D12","v":0},{"$f":"'Gruppe (1)'!E12","v":0},{"$f":"'Gruppe (1)'!F12","v":0},{"$f":"'Gruppe (1)'!G12","v":0},{"$f":"'Gruppe (1)'!H12","v":0}]
[17,5,1,{"$f":"'Gruppe (1)'!B13","v":11},{"$f":"'Gruppe (1)'!C13","v":0},{"$f":"'Gruppe (1)'!D13","v":0},{"$f":"'Gruppe (1)'!E13","v":0},{"$f":"'Gruppe (1)'!F13","v":0},{"$f":"'Gruppe (1)'!G13","v":0},{"$f":"'Gruppe (1)'!H13","v":0}]
[21,6,1,{"$f":"'Gruppe (1)'!B14","v":11},{"$f":"'Gruppe (1)'!C14","v":0},{"$f":"'Gruppe (1)'!D14","v":0},{"$f":"'Gruppe (1)'!E14","v":0},{"$f":"'Gruppe (1)'!F14","v":0},{"$f":"'Gruppe (1)'!G14","v":0},{"$f":"'Gruppe (1)'!H14","v":0}]
[25,7,1,{"$f":"'Gruppe (1)'!B15","v":11},{"$f":"'Gruppe (1)'!C15","v":0},{"$f":"'Gruppe (1)'!D15","v":0},{"$f":"'Gruppe (1)'!E15","v":0},{"$f":"'Gruppe (1)'!F15","v":0},{"$f":"'Gruppe (1)'!G15","v":0},{"$f":"'Gruppe (1)'!H15","v":0}]
[29,8,1,{"$f":"'Gruppe (1)'!B16","v":11},{"$f":"'Gruppe (1)'!C16","v":0},{"$f":"'Gruppe (1)'!D16","v":0},{"$f":"'Gruppe (1)'!E16","v":0},{"$f":"'Gruppe (1)'!F16","v":0},{"$f":"'Gruppe (1)'!G16","v":0},{"$f":"'Gruppe (1)'!H16","v":0}]
[33,9,1,{"$f":"'Gruppe (1)'!B17","v":11},{"$f":"'Gruppe (1)'!C17","v":0},{"$f":"'Gruppe (1)'!D17","v":0},{"$f":"'Gruppe (1)'!E17","v":0},{"$f":"'Gruppe (1)'!F17","v":0},{"$f":"'Gruppe (1)'!G17","v":0},{"$f":"'Gruppe (1)'!H17","v":0}]
[37,10,1,{"$f":"'Gruppe (1)'!B18","v":11},{"$f":"'Gruppe (1)'!C18","v":0},{"$f":"'Gruppe (1)'!D18","v":0},{"$f":"'Gruppe (1)'!E18","v":0},{"$f":"'Gruppe (1)'!F18","v":0},{"$f":"'Gruppe (1)'!G18","v":0},{"$f":"'Gruppe (1)'!H18","v":0}]
[41,11,1,{"$f":"'Gruppe (1)'!B19","v":11},{"$f":"'Gruppe (1)'!C19","v":0},{"$f":"'Gruppe (1)'!D19","v":0},{"$f":"'Gruppe (1)'!E19","v":0},{"$f":"'Gruppe (1)'!F19","v":0},{"$f":"'Gruppe (1)'!G19","v":0},{"$f":"'Gruppe (1)'!H19","v":0}]
[45,12,1,{"$f":"'Gruppe (1)'!B20","v":11},{"$f":"'Gruppe (1)'!C20","v":0},{"$f":"'Gruppe (1)'!D20","v":0},{"$f":"'Gruppe (1)'!E20","v":0},{"$f":"'Gruppe (1)'!F20","v":0},{"$f":"'Gruppe (1)'!G20","v":0},{"$f":"'Gruppe (1)'!H20","v":0}]
[49,13,1,{"$f":"'Gruppe (1)'!B21","v":11},{"$f":"'Gruppe (1)'!C21","v":0},{"$f":"'Gruppe (1)'!D21","v":0},{"$f":"'Gruppe (1)'!E21","v":0},{"$f":"'Gruppe (1)'!F21","v":0},{"$f":"'Gruppe (1)'!G21","v":0},{"$f":"'Gruppe (1)'!H21","v":0}]
[53,14,1,{"$f":"'Gruppe (1)'!B22","v":11},{"$f":"'Gruppe (1)'!C22","v":0},{"$f":"'Gruppe (1)'!D22","v":0},{"$f":"'Gruppe (1)'!E22","v":0},{"$f":"'Gruppe (1)'!F22","v":0},{"$f":"'Gruppe (1)'!G22","v":0},{"$f":"'Gruppe (1)'!H22","v":0}]
[57,15,1,{"$f":"'Gruppe (1)'!B23","v":11},{"$f":"'Gruppe (1)'!C23","v":0},{"$f":"'Gruppe (1)'!D23","v":0},{"$f":"'Gruppe (1)'!E23","v":0},{"$f":"'Gruppe (1)'!F23","v":0},{"$f":"'Gruppe (1)'!G23","v":0},{"$f":"'Gruppe (1)'!H23","v":0}]
[61,16,1,{"$f":"'Gruppe (1)'!B24","v":11},{"$f":"'Gruppe (1)'!C24","v":0},{"$f":"'Gruppe (1)'!D24","v":0},{"$f":"'Gruppe (1)'!E24","v":0},{"$f":"'Gruppe (1)'!F24","v":0},{"$f":"'Gruppe (1)'!G24","v":0},{"$f":"'Gruppe (1)'!H24","v":0}]
[65,17,1,{"$f":"'Gruppe (1)'!B25","v":11},{"$f":"'Gruppe (1)'!C25","v":0},{"$f":"'Gruppe (1)'!D25","v":0},{"$f":"'Gruppe (1)'!E25","v":0},{"$f":"'Gruppe (1)'!F25","v":0},{"$f":"'Gruppe (1)'!G25","v":0},{"$f":"'Gruppe (1)'!H25","v":0}]
[69,18,1,{"$f":"'Gruppe (1)'!B26","v":11},{"$f":"'Gruppe (1)'!C26","v":0},{"$f":"'Gruppe (1)'!D26","v":0},{"$f":"'Gruppe (1)'!E26","v":0},{"$f":"'Gruppe (1)'!F26","v":0},{"$f":"'Gruppe (1)'!G26","v":0},{"$f":"'Gruppe (1)'!H26","v":0}]
[73,19,1,{"$f":"'Gruppe (1)'!B27","v":11},{"$f":"'Gruppe (1)'!C27","v":0},{"$f":"'Gruppe (1)'!D27","v":0},{"$f":"'Gruppe (1)'!E27","v":0},{"$f":"'Gruppe (1)'!F27","v":0},{"$f":"'Gruppe (1)'!G27","v":0},{"$f":"'Gruppe (1)'!H27","v":0}]
[77,20,1,{"$f":"'Gruppe (1)'!B28","v":11},{"$f":"'Gruppe (1)'!C28","v":0},{"$f":"'Gruppe (1)'!D28","v":0},{"$f":"'Gruppe (1)'!E28","v":0},{"$f":"'Gruppe (1)'!F28","v":0},{"$f":"'Gruppe (1)'!G28","v":0},{"$f":"'Gruppe (1)'!H28","v":0}]
[81,21,1,{"$f":"'Gruppe (1)'!B29","v":11},{"$f":"'Gruppe (1)'!C29","v":0},{"$f":"'Gruppe (1)'!D29","v":0},{"$f":"'Gruppe (1)'!E29","v":0},{"$f":"'Gruppe (1)'!F29","v":0},{"$f":"'Gruppe (1)'!G29","v":0},{"$f":"'Gruppe (1)'!H29","v":0}]
[85,22,1,{"$f":"'Gruppe (1)'!B30","v":11},{"$f":"'Gruppe (1)'!C30","v":0},{"$f":"'Gruppe (1)'!D30","v":0},{"$f":"'Gruppe (1)'!E30","v":0},{"$f":"'Gruppe (1)'!F30","v":0},{"$f":"'Gruppe (1)'!G30","v":0},{"$f":"'Gruppe (1)'!H30","v":0}]
[89,23,1,{"$f":"'Gruppe (1)'!B31","v":11},{"$f":"'Gruppe (1)'!C31","v":0},{"$f":"'Gruppe (1)'!D31","v":0},{"$f":"'Gruppe (1)'!E31","v":0},{"$f":"'Gruppe (1)'!F31","v":0},{"$f":"'Gruppe (1)'!G31","v":0},{"$f":"'Gruppe (1)'!H31","v":0}]
[93,24,1,{"$f":"'Gruppe (1)'!B32","v":11},{"$f":"'Gruppe (1)'!C32","v":0},{"$f":"'Gruppe (1)'!D32","v":0},{"$f":"'Gruppe (1)'!E32","v":0},{"$f":"'Gruppe (1)'!F32","v":0},{"$f":"'Gruppe (1)'!G32","v":0},{"$f":"'Gruppe (1)'!H32","v":0}]
[97,25,1,{"$f":"'Gruppe (1)'!B33","v":11},{"$f":"'Gruppe (1)'!C33","v":0},{"$f":"'Gruppe (1)'!D33","v":0},{"$f":"'Gruppe (1)'!E33","v":0},{"$f":"'Gruppe (1)'!F33","v":0},{"$f":"'Gruppe (1)'!G33","v":0},{"$f":"'Gruppe (1)'!H33","v":0}]
[101,26,1,{"$f":"'Gruppe (1)'!B34","v":11},{"$f":"'Gruppe (1)'!C34","v":0},{"$f":"'Gruppe (1)'!D34","v":0},{"$f":"'Gruppe (1)'!E34","v":0},{"$f":"'Gruppe (1)'!F34","v":0},{"$f":"'Gruppe (1)'!G34","v":0},{"$f":"'Gruppe (1)'!H34","v":0}]
[105,27,1,{"$f":"'Gruppe (1)'!B35","v":11},{"$f":"'Gruppe (1)'!C35","v":0},{"$f":"'Gruppe (1)'!D35","v":0},{"$f":"'Gruppe (1)'!E35","v":0},{"$f":"'Gruppe (1)'!F35","v":0},{"$f":"'Gruppe (1)'!G35","v":0},{"$f":"'Gruppe (1)'!H35","v":0}]
[109,28,1,{"$f":"'Gruppe (1)'!B36","v":11},{"$f":"'Gruppe (1)'!C36","v":0},{"$f":"'Gruppe (1)'!D36","v":0},{"$f":"'Gruppe (1)'!E36","v":0},{"$f":"'Gruppe (1)'!F36","v":0},{"$f":"'Gruppe (1)'!G36","v":0},{"$f":"'Gruppe (1)'!H36","v":0}]
[113,29,1,{"$f":"'Gruppe (1)'!B37","v":11},{"$f":"'Gruppe (1)'!C37","v":0},{"$f":"'Gruppe (1)'!D37","v":0},{"$f":"'Gruppe (1)'!E37","v":0},{"$f":"'Gruppe (1)'!F37","v":0},{"$f":"'Gruppe (1)'!G37","v":0},{"$f":"'Gruppe (1)'!H37","v":0}]
[117,30,1,{"$f":"'Gruppe (1)'!B38","v":11},{"$f":"'Gruppe (1)'!C38","v":0},{"$f":"'Gruppe (1)'!D38","v":0},{"$f":"'Gruppe (1)'!E38","v":0},{"$f":"'Gruppe (1)'!F38","v":0},{"$f":"'Gruppe (1)'!G38","v":0},{"$f":"'Gruppe (1)'!H38","v":0}]
[121,31,1,{"$f":"'Gruppe (1)'!B39","v":0},{"$f":"'Gruppe (1)'!C39","v":0},{"$f":"'Gruppe (1)'!D39","v":0},{"$f":"'Gruppe (1)'!E39","v":0},{"$f":"'Gruppe (1)'!F39","v":0},{"$f":"'Gruppe (1)'!G39","v":0},{"$f":"'Gruppe (1)'!H39","v":0}]
[125,32,1,{"$f":"'Gruppe (1)'!B40","v":0},{"$f":"'Gruppe (1)'!C40","v":0},{"$f":"'Gruppe (1)'!D40","v":0},{"$f":"'Gruppe (1)'!E40","v":0},{"$f":"'Gruppe (1)'!F40","v":0},{"$f":"'Gruppe (1)'!G40","v":0},{"$f":"'Gruppe (1)'!H40","v":0}]
[129,33,1,{"$f":"'Gruppe (1)'!B41","v":0},{"$f":"'Gruppe (1)'!C41","v":0},{"$f":"'Gruppe (1)'!D41","v":0},{"$f":"'Gruppe (1)'!E41","v":0},{"$f":"'Gruppe (1)'!F41","v":0},{"$f":"'Gruppe (1)'!G41","v":0},{"$f":"'Gruppe (1)'!H41","v":0}]
[{"$f":"A34+4","v":133},34,1,{"$f":"'Gruppe (1)'!B42","v":0},{"$f":"'Gruppe (1)'!C42","v":0},{"$f":"'Gruppe (1)'!D42","v":0},{"$f":"'Gruppe (1)'!E42","v":0},{"$f":"'Gruppe (1)'!F42","v":0},{"$f":"'Gruppe (1)'!G42","v":0},{"$f":"'Gruppe (1)'!H42","v":0}]
[137,35,1,{"$f":"'Gruppe (1)'!B43","v":0},{"$f":"'Gruppe (1)'!C43","v":0},{"$f":"'Gruppe (1)'!D43","v":0},{"$f":"'Gruppe (1)'!E43","v":0},{"$f":"'Gruppe (1)'!F43","v":0},{"$f":"'Gruppe (1)'!G43","v":0},{"$f":"'Gruppe (1)'!H43","v":0}]
[141,36,1,{"$f":"'Gruppe (1)'!B44","v":0},{"$f":"'Gruppe (1)'!C44","v":0},{"$f":"'Gruppe (1)'!D44","v":0},{"$f":"'Gruppe (1)'!E44","v":0},{"$f":"'Gruppe (1)'!F44","v":0},{"$f":"'Gruppe (1)'!G44","v":0},{"$f":"'Gruppe (1)'!H44","v":0}]
[145,37,1,{"$f":"'Gruppe (1)'!B45","v":0},{"$f":"'Gruppe (1)'!C45","v":0},{"$f":"'Gruppe (1)'!D45","v":0},{"$f":"'Gruppe (1)'!E45","v":0},{"$f":"'Gruppe (1)'!F45","v":0},{"$f":"'Gruppe (1)'!G45","v":0},{"$f":"'Gruppe (1)'!H45","v":0}]
[149,38,1,{"$f":"'Gruppe (1)'!B46","v":0},{"$f":"'Gruppe (1)'!C46","v":0},{"$f":"'Gruppe (1)'!D46","v":0},{"$f":"'Gruppe (1)'!E46","v":0},{"$f":"'Gruppe (1)'!F46","v":0},{"$f":"'Gruppe (1)'!G46","v":0},{"$f":"'Gruppe (1)'!H46","v":0}]
[153,39,1,{"$f":"'Gruppe (1)'!B47","v":0},{"$f":"'Gruppe (1)'!C47","v":0},{"$f":"'Gruppe (1)'!D47","v":0},{"$f":"'Gruppe (1)'!E47","v":0},{"$f":"'Gruppe (1)'!F47","v":0},{"$f":"'Gruppe (1)'!G47","v":0},{"$f":"'Gruppe (1)'!H47","v":0}]
[157,40,1,{"$f":"'Gruppe (1)'!B48","v":0},{"$f":"'Gruppe (1)'!C48","v":0},{"$f":"'Gruppe (1)'!D48","v":0},{"$f":"'Gruppe (1)'!E48","v":0},{"$f":"'Gruppe (1)'!F48","v":0},{"$f":"'Gruppe (1)'!G48","v":0},{"$f":"'Gruppe (1)'!H48","v":0}]
[161,41,1,{"$f":"'Gruppe (1)'!B49","v":0},{"$f":"'Gruppe (1)'!C49","v":0},{"$f":"'Gruppe (1)'!D49","v":0},{"$f":"'Gruppe (1)'!E49","v":0},{"$f":"'Gruppe (1)'!F49","v":0},{"$f":"'Gruppe (1)'!G49","v":0},{"$f":"'Gruppe (1)'!H49","v":0}]
[165,42,1,{"$f":"'Gruppe (1)'!B50","v":0},{"$f":"'Gruppe (1)'!C50","v":0},{"$f":"'Gruppe (1)'!D50","v":0},{"$f":"'Gruppe (1)'!E50","v":0},{"$f":"'Gruppe (1)'!F50","v":0},{"$f":"'Gruppe (1)'!G50","v":0},{"$f":"'Gruppe (1)'!H50","v":0}]
[169,43,1,{"$f":"'Gruppe (1)'!B51","v":0},{"$f":"'Gruppe (1)'!C51","v":0},{"$f":"'Gruppe (1)'!D51","v":0},{"$f":"'Gruppe (1)'!E51","v":0},{"$f":"'Gruppe (1)'!F51","v":0},{"$f":"'Gruppe (1)'!G51","v":0},{"$f":"'Gruppe (1)'!H51","v":0}]
[173,44,1,{"$f":"'Gruppe (1)'!B52","v":0},{"$f":"'Gruppe (1)'!C52","v":0},{"$f":"'Gruppe (1)'!D52","v":0},{"$f":"'Gruppe (1)'!E52","v":0},{"$f":"'Gruppe (1)'!F52","v":0},{"$f":"'Gruppe (1)'!G52","v":0},{"$f":"'Gruppe (1)'!H52","v":0}]
[177,45,1,{"$f":"'Gruppe (1)'!B53","v":0},{"$f":"'Gruppe (1)'!C53","v":0},{"$f":"'Gruppe (1)'!D53","v":0},{"$f":"'Gruppe (1)'!E53","v":0},{"$f":"'Gruppe (1)'!F53","v":0},{"$f":"'Gruppe (1)'!G53","v":0},{"$f":"'Gruppe (1)'!H53","v":0}]
[181,46,1,{"$f":"'Gruppe (1)'!B59","v":0},{"$f":"'Gruppe (1)'!C59","v":0},{"$f":"'Gruppe (1)'!D59","v":0},{"$f":"'Gruppe (1)'!E59","v":0},{"$f":"'Gruppe (1)'!F59","v":0},{"$f":"'Gruppe (1)'!G59","v":0},{"$f":"'Gruppe (1)'!H59","v":0}]
[185,47,1,{"$f":"'Gruppe (1)'!B60","v":0},{"$f":"'Gruppe (1)'!C60","v":0},{"$f":"'Gruppe (1)'!D60","v":0},{"$f":"'Gruppe (1)'!E60","v":0},{"$f":"'Gruppe (1)'!F60","v":0},{"$f":"'Gruppe (1)'!G60","v":0},{"$f":"'Gruppe (1)'!H60","v":0}]
[189,48,1,{"$f":"'Gruppe (1)'!B61","v":0},{"$f":"'Gruppe (1)'!C61","v":0},{"$f":"'Gruppe (1)'!D61","v":0},{"$f":"'Gruppe (1)'!E61","v":0},{"$f":"'Gruppe (1)'!F61","v":0},{"$f":"'Gruppe (1)'!G61","v":0},{"$f":"'Gruppe (1)'!H61","v":0}]
[193,49,1,{"$f":"'Gruppe (1)'!B62","v":0},{"$f":"'Gruppe (1)'!C62","v":0},{"$f":"'Gruppe (1)'!D62","v":0},{"$f":"'Gruppe (1)'!E62","v":0},{"$f":"'Gruppe (1)'!F62","v":0},{"$f":"'Gruppe (1)'!G62","v":0},{"$f":"'Gruppe (1)'!H62","v":0}]
[197,50,1,{"$f":"'Gruppe (1)'!B63","v":0},{"$f":"'Gruppe (1)'!C63","v":0},{"$f":"'Gruppe (1)'!D63","v":0},{"$f":"'Gruppe (1)'!E63","v":0},{"$f":"'Gruppe (1)'!F63","v":0},{"$f":"'Gruppe (1)'!G63","v":0},{"$f":"'Gruppe (1)'!H63","v":0}]
[2,1,2,{"$f":"'Gruppe (2)'!B9","v":0},{"$f":"'Gruppe (2)'!C9","v":0},{"$f":"'Gruppe (2)'!D9","v":0},{"$f":"'Gruppe (2)'!E9","v":0},{"$f":"'Gruppe (2)'!F9","v":0},{"$f":"'Gruppe (2)'!G9","v":0},{"$f":"'Gruppe (2)'!H9","v":0}]
[{"$f":"A52+4","v":6},2,2,{"$f":"'Gruppe (2)'!B10","v":0},{"$f":"'Gruppe (2)'!C10","v":0},{"$f":"'Gruppe (2)'!D10","v":0},{"$f":"'Gruppe (2)'!E10","v":0},{"$f":"'Gruppe (2)'!F10","v":0},{"$f":"'Gruppe (2)'!G10","v":0},{"$f":"'Gruppe (2)'!H10","v":0}]
[10,3,2,{"$f":"'Gruppe (2)'!B11","v":0},{"$f":"'Gruppe (2)'!C11","v":0},{"$f":"'Gruppe (2)'!D11","v":0},{"$f":"'Gruppe (2)'!E11","v":0},{"$f":"'Gruppe (2)'!F11","v":0},{"$f":"'Gruppe (2)'!G11","v":0},{"$f":"'Gruppe (2)'!H11","v":0}]
[14,4,2,{"$f":"'Gruppe (2)'!B12","v":0},{"$f":"'Gruppe (2)'!C12","v":0},{"$f":"'Gruppe (2)'!D12","v":0},{"$f":"'Gruppe (2)'!E12","v":0},{"$f":"'Gruppe (2)'!F12","v":0},{"$f":"'Gruppe (2)'!G12","v":0},{"$f":"'Gruppe (2)'!H12","v":0}]
[18,5,2,{"$f":"'Gruppe (2)'!B13","v":0},{"$f":"'Gruppe (2)'!C13","v":0},{"$f":"'Gruppe (2)'!D13","v":0},{"$f":"'Gruppe (2)'!E13","v":0},{"$f":"'Gruppe (2)'!F13","v":0},{"$f":"'Gruppe (2)'!G13","v":0},{"$f":"'Gruppe (2)'!H13","v":0}]
[22,6,2,{"$f":"'Gruppe (2)'!B14","v":0},{"$f":"'Gruppe (2)'!C14","v":0},{"$f":"'Gruppe (2)'!D14","v":0},{"$f":"'Gruppe (2)'!E14","v":0},{"$f":"'Gruppe (2)'!F14","v":0},{"$f":"'Gruppe (2)'!G14","v":0},{"$f":"'Gruppe (2)'!H14","v":0}]
[26,7,2,{"$f":"'Gruppe (2)'!B15","v":0},{"$f":"'Gruppe (2)'!C15","v":0},{"$f":"'Gruppe (2)'!D15","v":0},{"$f":"'Gruppe (2)'!E15","v":0},{"$f":"'Gruppe (2)'!F15","v":0},{"$f":"'Gruppe (2)'!G15","v":0},{"$f":"'Gruppe (2)'!H15","v":0}]
[30,8,2,{"$f":"'Gruppe (2)'!B16","v":0},{"$f":"'Gruppe (2)'!C16","v":0},{"$f":"'Gruppe (2)'!D16","v":0},{"$f":"'Gruppe (2)'!E16","v":0},{"$f":"'Gruppe (2)'!F16","v":0},{"$f":"'Gruppe (2)'!G16","v":0},{"$f":"'Gruppe (2)'!H16","v":0}]
[34,9,2,{"$f":"'Gruppe (2)'!B17","v":0},{"$f":"'Gruppe (2)'!C17","v":0},{"$f":"'Gruppe (2)'!D17","v":0},{"$f":"'Gruppe (2)'!E17","v":0},{"$f":"'Gruppe (2)'!F17","v":0},{"$f":"'Gruppe (2)'!G17","v":0},{"$f":"'Gruppe (2)'!H17","v":0}]
[38,10,2,{"$f":"'Gruppe (2)'!B18","v":0},{"$f":"'Gruppe (2)'!C18","v":0},{"$f":"'Gruppe (2)'!D18","v":0},{"$f":"'Gruppe (2)'!E18","v":0},{"$f":"'Gruppe (2)'!F18","v":0},{"$f":"'Gruppe (2)'!G18","v":0},{"$f":"'Gruppe (2)'!H18","v":0}]
[42,11,2,{"$f":"'Gruppe (2)'!B19","v":0},{"$f":"'Gruppe (2)'!C19","v":0},{"$f":"'Gruppe (2)'!D19","v":0},{"$f":"'Gruppe (2)'!E19","v":0},{"$f":"'Gruppe (2)'!F19","v":0},{"$f":"'Gruppe (2)'!G19","v":0},{"$f":"'Gruppe (2)'!H19","v":0}]
[46,12,2,{"$f":"'Gruppe (2)'!B20","v":0},{"$f":"'Gruppe (2)'!C20","v":0},{"$f":"'Gruppe (2)'!D20","v":0},{"$f":"'Gruppe (2)'!E20","v":0},{"$f":"'Gruppe (2)'!F20","v":0},{"$f":"'Gruppe (2)'!G20","v":0},{"$f":"'Gruppe (2)'!H20","v":0}]
[50,13,2,{"$f":"'Gruppe (2)'!B21","v":0},{"$f":"'Gruppe (2)'!C21","v":0},{"$f":"'Gruppe (2)'!D21","v":0},{"$f":"'Gruppe (2)'!E21","v":0},{"$f":"'Gruppe (2)'!F21","v":0},{"$f":"'Gruppe (2)'!G21","v":0},{"$f":"'Gruppe (2)'!H21","v":0}]
[54,14,2,{"$f":"'Gruppe (2)'!B22","v":0},{"$f":"'Gruppe (2)'!C22","v":0},{"$f":"'Gruppe (2)'!D22","v":0},{"$f":"'Gruppe (2)'!E22","v":0},{"$f":"'Gruppe (2)'!F22","v":0},{"$f":"'Gruppe (2)'!G22","v":0},{"$f":"'Gruppe (2)'!H22","v":0}]
[58,15,2,{"$f":"'Gruppe (2)'!B23","v":0},{"$f":"'Gruppe (2)'!C23","v":0},{"$f":"'Gruppe (2)'!D23","v":0},{"$f":"'Gruppe (2)'!E23","v":0},{"$f":"'Gruppe (2)'!F23","v":0},{"$f":"'Gruppe (2)'!G23","v":0},{"$f":"'Gruppe (2)'!H23","v":0}]
[62,16,2,{"$f":"'Gruppe (2)'!B24","v":0},{"$f":"'Gruppe (2)'!C24","v":0},{"$f":"'Gruppe (2)'!D24","v":0},{"$f":"'Gruppe (2)'!E24","v":0},{"$f":"'Gruppe (2)'!F24","v":0},{"$f":"'Gruppe (2)'!G24","v":0},{"$f":"'Gruppe (2)'!H24","v":0}]
[66,17,2,{"$f":"'Gruppe (2)'!B25","v":0},{"$f":"'Gruppe (2)'!C25","v":0},{"$f":"'Gruppe (2)'!D25","v":0},{"$f":"'Gruppe (2)'!E25","v":0},{"$f":"'Gruppe (2)'!F25","v":0},{"$f":"'Gruppe (2)'!G25","v":0},{"$f":"'Gruppe (2)'!H25","v":0}]
[70,18,2,{"$f":"'Gruppe (2)'!B26","v":0},{"$f":"'Gruppe (2)'!C26","v":0},{"$f":"'Gruppe (2)'!D26","v":0},{"$f":"'Gruppe (2)'!E26","v":0},{"$f":"'Gruppe (2)'!F26","v":0},{"$f":"'Gruppe (2)'!G26","v":0},{"$f":"'Gruppe (2)'!H26","v":0}]
[74,19,2,{"$f":"'Gruppe (2)'!B27","v":0},{"$f":"'Gruppe (2)'!C27","v":0},{"$f":"'Gruppe (2)'!D27","v":0},{"$f":"'Gruppe (2)'!E27","v":0},{"$f":"'Gruppe (2)'!F27","v":0},{"$f":"'Gruppe (2)'!G27","v":0},{"$f":"'Gruppe (2)'!H27","v":0}]
[78,20,2,{"$f":"'Gruppe (2)'!B28","v":0},{"$f":"'Gruppe (2)'!C28","v":0},{"$f":"'Gruppe (2)'!D28","v":0},{"$f":"'Gruppe (2)'!E28","v":0},{"$f":"'Gruppe (2)'!F28","v":0},{"$f":"'Gruppe (2)'!G28","v":0},{"$f":"'Gruppe (2)'!H28","v":0}]
[82,21,2,{"$f":"'Gruppe (2)'!B29","v":0},{"$f":"'Gruppe (2)'!C29","v":0},{"$f":"'Gruppe (2)'!D29","v":0},{"$f":"'Gruppe (2)'!E29","v":0},{"$f":"'Gruppe (2)'!F29","v":0},{"$f":"'Gruppe (2)'!G29","v":0},{"$f":"'Gruppe (2)'!H29","v":0}]
[86,22,2,{"$f":"'Gruppe (2)'!B30","v":0},{"$f":"'Gruppe (2)'!C30","v":0},{"$f":"'Gruppe (2)'!D30","v":0},{"$f":"'Gruppe (2)'!E30","v":0},{"$f":"'Gruppe (2)'!F30","v":0},{"$f":"'Gruppe (2)'!G30","v":0},{"$f":"'Gruppe (2)'!H30","v":0}]
[90,23,2,{"$f":"'Gruppe (2)'!B31","v":0},{"$f":"'Gruppe (2)'!C31","v":0},{"$f":"'Gruppe (2)'!D31","v":0},{"$f":"'Gruppe (2)'!E31","v":0},{"$f":"'Gruppe (2)'!F31","v":0},{"$f":"'Gruppe (2)'!G31","v":0},{"$f":"'Gruppe (2)'!H31","v":0}]
[94,24,2,{"$f":"'Gruppe (2)'!B32","v":0},{"$f":"'Gruppe (2)'!C32","v":0},{"$f":"'Gruppe (2)'!D32","v":0},{"$f":"'Gruppe (2)'!E32","v":0},{"$f":"'Gruppe (2)'!F32","v":0},{"$f":"'Gruppe (2)'!G32","v":0},{"$f":"'Gruppe (2)'!H32","v":0}]
[98,25,2,{"$f":"'Gruppe (2)'!B33","v":0},{"$f":"'Gruppe (2)'!C33","v":0},{"$f":"'Gruppe (2)'!D33","v":0},{"$f":"'Gruppe (2)'!E33","v":0},{"$f":"'Gruppe (2)'!F33","v":0},{"$f":"'Gruppe (2)'!G33","v":0},{"$f":"'Gruppe (2)'!H33","v":0}]
[102,26,2,{"$f":"'Gruppe (2)'!B34","v":0},{"$f":"'Gruppe (2)'!C34","v":0},{"$f":"'Gruppe (2)'!D34","v":0},{"$f":"'Gruppe (2)'!E34","v":0},{"$f":"'Gruppe (2)'!F34","v":0},{"$f":"'Gruppe (2)'!G34","v":0},{"$f":"'Gruppe (2)'!H34","v":0}]
[106,27,2,{"$f":"'Gruppe (2)'!B35","v":0},{"$f":"'Gruppe (2)'!C35","v":0},{"$f":"'Gruppe (2)'!D35","v":0},{"$f":"'Gruppe (2)'!E35","v":0},{"$f":"'Gruppe (2)'!F35","v":0},{"$f":"'Gruppe (2)'!G35","v":0},{"$f":"'Gruppe (2)'!H35","v":0}]
[110,28,2,{"$f":"'Gruppe (2)'!B36","v":0},{"$f":"'Gruppe (2)'!C36","v":0},{"$f":"'Gruppe (2)'!D36","v":0},{"$f":"'Gruppe (2)'!E36","v":0},{"$f":"'Gruppe (2)'!F36","v":0},{"$f":"'Gruppe (2)'!G36","v":0},{"$f":"'Gruppe (2)'!H36","v":0}]
[114,29,2,{"$f":"'Gruppe (2)'!B37","v":0},{"$f":"'Gruppe (2)'!C37","v":0},{"$f":"'Gruppe (2)'!D37","v":0},{"$f":"'Gruppe (2)'!E37","v":0},{"$f":"'Gruppe (2)'!F37","v":0},{"$f":"'Gruppe (2)'!G37","v":0},{"$f":"'Gruppe (2)'!H37","v":0}]
[118,30,2,{"$f":"'Gruppe (2)'!B38","v":0},{"$f":"'Gruppe (2)'!C38","v":0},{"$f":"'Gruppe (2)'!D38","v":0},{"$f":"'Gruppe (2)'!E38","v":0},{"$f":"'Gruppe (2)'!F38","v":0},{"$f":"'Gruppe (2)'!G38","v":0},{"$f":"'Gruppe (2)'!H38","v":0}]
[122,31,2,{"$f":"'Gruppe (2)'!B39","v":0},{"$f":"'Gruppe (2)'!C39","v":0},{"$f":"'Gruppe (2)'!D39","v":0},{"$f":"'Gruppe (2)'!E39","v":0},{"$f":"'Gruppe (2)'!F39","v":0},{"$f":"'Gruppe (2)'!G39","v":0},{"$f":"'Gruppe (2)'!H39","v":0}]
[126,32,2,{"$f":"'Gruppe (2)'!B40","v":0},{"$f":"'Gruppe (2)'!C40","v":0},{"$f":"'Gruppe (2)'!D40","v":0},{"$f":"'Gruppe (2)'!E40","v":0},{"$f":"'Gruppe (2)'!F40","v":0},{"$f":"'Gruppe (2)'!G40","v":0},{"$f":"'Gruppe (2)'!H40","v":0}]
[130,33,2,{"$f":"'Gruppe (2)'!B41","v":0},{"$f":"'Gruppe (2)'!C41","v":0},{"$f":"'Gruppe (2)'!D41","v":0},{"$f":"'Gruppe (2)'!E41","v":0},{"$f":"'Gruppe (2)'!F41","v":0},{"$f":"'Gruppe (2)'!G41","v":0},{"$f":"'Gruppe (2)'!H41","v":0}]
[{"$f":"A84+4","v":134},34,2,{"$f":"'Gruppe (2)'!B42","v":0},{"$f":"'Gruppe (2)'!C42","v":0},{"$f":"'Gruppe (2)'!D42","v":0},{"$f":"'Gruppe (2)'!E42","v":0},{"$f":"'Gruppe (2)'!F42","v":0},{"$f":"'Gruppe (2)'!G42","v":0},{"$f":"'Gruppe (2)'!H42","v":0}]
[138,35,2,{"$f":"'Gruppe (2)'!B43","v":0},{"$f":"'Gruppe (2)'!C43","v":0},{"$f":"'Gruppe (2)'!D43","v":0},{"$f":"'Gruppe (2)'!E43","v":0},{"$f":"'Gruppe (2)'!F43","v":0},{"$f":"'Gruppe (2)'!G43","v":0},{"$f":"'Gruppe (2)'!H43","v":0}]
[142,36,2,{"$f":"'Gruppe (2)'!B44","v":0},{"$f":"'Gruppe (2)'!C44","v":0},{"$f":"'Gruppe (2)'!D44","v":0},{"$f":"'Gruppe (2)'!E44","v":0},{"$f":"'Gruppe (2)'!F44","v":0},{"$f":"'Gruppe (2)'!G44","v":0},{"$f":"'Gruppe (2)'!H44","v":0}]
[146,37,2,{"$f":"'Gruppe (2)'!B45","v":0},{"$f":"'Gruppe (2)'!C45","v":0},{"$f":"'Gruppe (2)'!D45","v":0},{"$f":"'Gruppe (2)'!E45","v":0},{"$f":"'Gruppe (2)'!F45","v":0},{"$f":"'Gruppe (2)'!G45","v":0},{"$f":"'Gruppe (2)'!H45","v":0}]
[150,38,2,{"$f":"'Gruppe (2)'!B46","v":0},{"$f":"'Gruppe (2)'!C46","v":0},{"$f":"'Gruppe (2)'!D46","v":0},{"$f":"'Gruppe (2)'!E46","v":0},{"$f":"'Gruppe (2)'!F46","v":0},{"$f":"'Gruppe (2)'!G46","v":0},{"$f":"'Gruppe (2)'!H46","v":0}]
[154,39,2,{"$f":"'Gruppe (2)'!B47","v":0},{"$f":"'Gruppe (2)'!C47","v":0},{"$f":"'Gruppe (2)'!D47","v":0},{"$f":"'Gruppe (2)'!E47","v":0},{"$f":"'Gruppe (2)'!F47","v":0},{"$f":"'Gruppe (2)'!G47","v":0},{"$f":"'Gruppe (2)'!H47","v":0}]
[158,40,2,{"$f":"'Gruppe (2)'!B48","v":0},{"$f":"'Gruppe (2)'!C48","v":0},{"$f":"'Gruppe (2)'!D48","v":0},{"$f":"'Gruppe (2)'!E48","v":0},{"$f":"'Gruppe (2)'!F48","v":0},{"$f":"'Gruppe (2)'!G48","v":0},{"$f":"'Gruppe (2)'!H48","v":0}]
[162,41,2,{"$f":"'Gruppe (2)'!B49","v":0},{"$f":"'Gruppe (2)'!C49","v":0},{"$f":"'Gruppe (2)'!D49","v":0},{"$f":"'Gruppe (2)'!E49","v":0},{"$f":"'Gruppe (2)'!F49","v":0},{"$f":"'Gruppe (2)'!G49","v":0},{"$f":"'Gruppe (2)'!H49","v":0}]
[166,42,2,{"$f":"'Gruppe (2)'!B50","v":0},{"$f":"'Gruppe (2)'!C50","v":0},{"$f":"'Gruppe (2)'!D50","v":0},{"$f":"'Gruppe (2)'!E50","v":0},{"$f":"'Gruppe (2)'!F50","v":0},{"$f":"'Gruppe (2)'!G50","v":0},{"$f":"'Gruppe (2)'!H50","v":0}]
[170,43,2,{"$f":"'Gruppe (2)'!B51","v":0},{"$f":"'Gruppe (2)'!C51","v":0},{"$f":"'Gruppe (2)'!D51","v":0},{"$f":"'Gruppe (2)'!E51","v":0},{"$f":"'Gruppe (2)'!F51","v":0},{"$f":"'Gruppe (2)'!G51","v":0},{"$f":"'Gruppe (2)'!H51","v":0}]
[174,44,2,{"$f":"'Gruppe (2)'!B52","v":0},{"$f":"'Gruppe (2)'!C52","v":0},{"$f":"'Gruppe (2)'!D52","v":0},{"$f":"'Gruppe (2)'!E52","v":0},{"$f":"'Gruppe (2)'!F52","v":0},{"$f":"'Gruppe (2)'!G52","v":0},{"$f":"'Gruppe (2)'!H52","v":0}]
[178,45,2,{"$f":"'Gruppe (2)'!B53","v":0},{"$f":"'Gruppe (2)'!C53","v":0},{"$f":"'Gruppe (2)'!D53","v":0},{"$f":"'Gruppe (2)'!E53","v":0},{"$f":"'Gruppe (2)'!F53","v":0},{"$f":"'Gruppe (2)'!G53","v":0},{"$f":"'Gruppe (2)'!H53","v":0}]
[182,46,2,{"$f":"'Gruppe (2)'!B59","v":0},{"$f":"'Gruppe (2)'!C59","v":0},{"$f":"'Gruppe (2)'!D59","v":0},{"$f":"'Gruppe (2)'!E59","v":0},{"$f":"'Gruppe (2)'!F59","v":0},{"$f":"'Gruppe (2)'!G59","v":0},{"$f":"'Gruppe (2)'!H59","v":0}]
[186,47,2,{"$f":"'Gruppe (2)'!B60","v":0},{"$f":"'Gruppe (2)'!C60","v":0},{"$f":"'Gruppe (2)'!D60","v":0},{"$f":"'Gruppe (2)'!E60","v":0},{"$f":"'Gruppe (2)'!F60","v":0},{"$f":"'Gruppe (2)'!G60","v":0},{"$f":"'Gruppe (2)'!H60","v":0}]
[190,48,2,{"$f":"'Gruppe (2)'!B61","v":0},{"$f":"'Gruppe (2)'!C61","v":0},{"$f":"'Gruppe (2)'!D61","v":0},{"$f":"'Gruppe (2)'!E61","v":0},{"$f":"'Gruppe (2)'!F61","v":0},{"$f":"'Gruppe (2)'!G61","v":0},{"$f":"'Gruppe (2)'!H61","v":0}]
[194,49,2,{"$f":"'Gruppe (2)'!B62","v":0},{"$f":"'Gruppe (2)'!C62","v":0},{"$f":"'Gruppe (2)'!D62","v":0},{"$f":"'Gruppe (2)'!E62","v":0},{"$f":"'Gruppe (2)'!F62","v":0},{"$f":"'Gruppe (2)'!G62","v":0},{"$f":"'Gruppe (2)'!H62","v":0}]
[198,50,2,{"$f":"'Gruppe (2)'!B63","v":0},{"$f":"'Gruppe (2)'!C63","v":0},{"$f":"'Gruppe (2)'!D63","v":0},{"$f":"'Gruppe (2)'!E63","v":0},{"$f":"'Gruppe (2)'!F63","v":0},{"$f":"'Gruppe (2)'!G63","v":0},{"$f":"'Gruppe (2)'!H63","v":0}]
[3,1,3,{"$f":"'Gruppe (3)'!B9","v":0},{"$f":"'Gruppe (3)'!C9","v":0},{"$f":"'Gruppe (3)'!D9","v":0},{"$f":"'Gruppe (3)'!E9","v":0},{"$f":"'Gruppe (3)'!F9","v":0},{"$f":"'Gruppe (3)'!G9","v":0},{"$f":"'Gruppe (3)'!H9","v":0}]
[{"$f":"A102+4","v":7},2,3,{"$f":"'Gruppe (3)'!B10","v":0},{"$f":"'Gruppe (3)'!C10","v":0},{"$f":"'Gruppe (3)'!D10","v":0},{"$f":"'Gruppe (3)'!E10","v":0},{"$f":"'Gruppe (3)'!F10","v":0},{"$f":"'Gruppe (3)'!G10","v":0},{"$f":"'Gruppe (3)'!H10","v":0}]
[11,3,3,{"$f":"'Gruppe (3)'!B11","v":0},{"$f":"'Gruppe (3)'!C11","v":0},{"$f":"'Gruppe (3)'!D11","v":0},{"$f":"'Gruppe (3)'!E11","v":0},{"$f":"'Gruppe (3)'!F11","v":0},{"$f":"'Gruppe (3)'!G11","v":0},{"$f":"'Gruppe (3)'!H11","v":0}]
[15,4,3,{"$f":"'Gruppe (3)'!B12","v":0},{"$f":"'Gruppe (3)'!C12","v":0},{"$f":"'Gruppe (3)'!D12","v":0},{"$f":"'Gruppe (3)'!E12","v":0},{"$f":"'Gruppe (3)'!F12","v":0},{"$f":"'Gruppe (3)'!G12","v":0},{"$f":"'Gruppe (3)'!H12","v":0}]
[19,5,3,{"$f":"'Gruppe (3)'!B13","v":0},{"$f":"'Gruppe (3)'!C13","v":0},{"$f":"'Gruppe (3)'!D13","v":0},{"$f":"'Gruppe (3)'!E13","v":0},{"$f":"'Gruppe (3)'!F13","v":0},{"$f":"'Gruppe (3)'!G13","v":0},{"$f":"'Gruppe (3)'!H13","v":0}]
[23,6,3,{"$f":"'Gruppe (3)'!B14","v":0},{"$f":"'Gruppe (3)'!C14","v":0},{"$f":"'Gruppe (3)'!D14","v":0},{"$f":"'Gruppe (3)'!E14","v":0},{"$f":"'Gruppe (3)'!F14","v":0},{"$f":"'Gruppe (3)'!G14","v":0},{"$f":"'Gruppe (3)'!H14","v":0}]
[27,7,3,{"$f":"'Gruppe (3)'!B15","v":0},{"$f":"'Gruppe (3)'!C15","v":0},{"$f":"'Gruppe (3)'!D15","v":0},{"$f":"'Gruppe (3)'!E15","v":0},{"$f":"'Gruppe (3)'!F15","v":0},{"$f":"'Gruppe (3)'!G15","v":0},{"$f":"'Gruppe (3)'!H15","v":0}]
[31,8,3,{"$f":"'Gruppe (3)'!B16","v":0},{"$f":"'Gruppe (3)'!C16","v":0},{"$f":"'Gruppe (3)'!D16","v":0},{"$f":"'Gruppe (3)'!E16","v":0},{"$f":"'Gruppe (3)'!F16","v":0},{"$f":"'Gruppe (3)'!G16","v":0},{"$f":"'Gruppe (3)'!H16","v":0}]
[35,9,3,{"$f":"'Gruppe (3)'!B17","v":0},{"$f":"'Gruppe (3)'!C17","v":0},{"$f":"'Gruppe (3)'!D17","v":0},{"$f":"'Gruppe (3)'!E17","v":0},{"$f":"'Gruppe (3)'!F17","v":0},{"$f":"'Gruppe (3)'!G17","v":0},{"$f":"'Gruppe (3)'!H17","v":0}]
[39,10,3,{"$f":"'Gruppe (3)'!B18","v":0},{"$f":"'Gruppe (3)'!C18","v":0},{"$f":"'Gruppe (3)'!D18","v":0},{"$f":"'Gruppe (3)'!E18","v":0},{"$f":"'Gruppe (3)'!F18","v":0},{"$f":"'Gruppe (3)'!G18","v":0},{"$f":"'Gruppe (3)'!H18","v":0}]
[43,11,3,{"$f":"'Gruppe (3)'!B19","v":0},{"$f":"'Gruppe (3)'!C19","v":0},{"$f":"'Gruppe (3)'!D19","v":0},{"$f":"'Gruppe (3)'!E19","v":0},{"$f":"'Gruppe (3)'!F19","v":0},{"$f":"'Gruppe (3)'!G19","v":0},{"$f":"'Gruppe (3)'!H19","v":0}]
[47,12,3,{"$f":"'Gruppe (3)'!B20","v":0},{"$f":"'Gruppe (3)'!C20","v":0},{"$f":"'Gruppe (3)'!D20","v":0},{"$f":"'Gruppe (3)'!E20","v":0},{"$f":"'Gruppe (3)'!F20","v":0},{"$f":"'Gruppe (3)'!G20","v":0},{"$f":"'Gruppe (3)'!H20","v":0}]
[51,13,3,{"$f":"'Gruppe (3)'!B21","v":0},{"$f":"'Gruppe (3)'!C21","v":0},{"$f":"'Gruppe (3)'!D21","v":0},{"$f":"'Gruppe (3)'!E21","v":0},{"$f":"'Gruppe (3)'!F21","v":0},{"$f":"'Gruppe (3)'!G21","v":0},{"$f":"'Gruppe (3)'!H21","v":0}]
[55,14,3,{"$f":"'Gruppe (3)'!B22","v":0},{"$f":"'Gruppe (3)'!C22","v":0},{"$f":"'Gruppe (3)'!D22","v":0},{"$f":"'Gruppe (3)'!E22","v":0},{"$f":"'Gruppe (3)'!F22","v":0},{"$f":"'Gruppe (3)'!G22","v":0},{"$f":"'Gruppe (3)'!H22","v":0}]
[59,15,3,{"$f":"'Gruppe (3)'!B23","v":0},{"$f":"'Gruppe (3)'!C23","v":0},{"$f":"'Gruppe (3)'!D23","v":0},{"$f":"'Gruppe (3)'!E23","v":0},{"$f":"'Gruppe (3)'!F23","v":0},{"$f":"'Gruppe (3)'!G23","v":0},{"$f":"'Gruppe (3)'!H23","v":0}]
[63,16,3,{"$f":"'Gruppe (3)'!B24","v":0},{"$f":"'Gruppe (3)'!C24","v":0},{"$f":"'Gruppe (3)'!D24","v":0},{"$f":"'Gruppe (3)'!E24","v":0},{"$f":"'Gruppe (3)'!F24","v":0},{"$f":"'Gruppe (3)'!G24","v":0},{"$f":"'Gruppe (3)'!H24","v":0}]
[67,17,3,{"$f":"'Gruppe (3)'!B25","v":0},{"$f":"'Gruppe (3)'!C25","v":0},{"$f":"'Gruppe (3)'!D25","v":0},{"$f":"'Gruppe (3)'!E25","v":0},{"$f":"'Gruppe (3)'!F25","v":0},{"$f":"'Gruppe (3)'!G25","v":0},{"$f":"'Gruppe (3)'!H25","v":0}]
[71,18,3,{"$f":"'Gruppe (3)'!B26","v":0},{"$f":"'Gruppe (3)'!C26","v":0},{"$f":"'Gruppe (3)'!D26","v":0},{"$f":"'Gruppe (3)'!E26","v":0},{"$f":"'Gruppe (3)'!F26","v":0},{"$f":"'Gruppe (3)'!G26","v":0},{"$f":"'Gruppe (3)'!H26","v":0}]
[75,19,3,{"$f":"'Gruppe (3)'!B27","v":0},{"$f":"'Gruppe (3)'!C27","v":0},{"$f":"'Gruppe (3)'!D27","v":0},{"$f":"'Gruppe (3)'!E27","v":0},{"$f":"'Gruppe (3)'!F27","v":0},{"$f":"'Gruppe (3)'!G27","v":0},{"$f":"'Gruppe (3)'!H27","v":0}]
[79,20,3,{"$f":"'Gruppe (3)'!B28","v":0},{"$f":"'Gruppe (3)'!C28","v":0},{"$f":"'Gruppe (3)'!D28","v":0},{"$f":"'Gruppe (3)'!E28","v":0},{"$f":"'Gruppe (3)'!F28","v":0},{"$f":"'Gruppe (3)'!G28","v":0},{"$f":"'Gruppe (3)'!H28","v":0}]
[83,21,3,{"$f":"'Gruppe (3)'!B29","v":0},{"$f":"'Gruppe (3)'!C29","v":0},{"$f":"'Gruppe (3)'!D29","v":0},{"$f":"'Gruppe (3)'!E29","v":0},{"$f":"'Gruppe (3)'!F29","v":0},{"$f":"'Gruppe (3)'!G29","v":0},{"$f":"'Gruppe (3)'!H29","v":0}]
[87,22,3,{"$f":"'Gruppe (3)'!B30","v":0},{"$f":"'Gruppe (3)'!C30","v":0},{"$f":"'Gruppe (3)'!D30","v":0},{"$f":"'Gruppe (3)'!E30","v":0},{"$f":"'Gruppe (3)'!F30","v":0},{"$f":"'Gruppe (3)'!G30","v":0},{"$f":"'Gruppe (3)'!H30","v":0}]
[91,23,3,{"$f":"'Gruppe (3)'!B31","v":0},{"$f":"'Gruppe (3)'!C31","v":0},{"$f":"'Gruppe (3)'!D31","v":0},{"$f":"'Gruppe (3)'!E31","v":0},{"$f":"'Gruppe (3)'!F31","v":0},{"$f":"'Gruppe (3)'!G31","v":0},{"$f":"'Gruppe (3)'!H31","v":0}]
[95,24,3,{"$f":"'Gruppe (3)'!B32","v":0},{"$f":"'Gruppe (3)'!C32","v":0},{"$f":"'Gruppe (3)'!D32","v":0},{"$f":"'Gruppe (3)'!E32","v":0},{"$f":"'Gruppe (3)'!F32","v":0},{"$f":"'Gruppe (3)'!G32","v":0},{"$f":"'Gruppe (3)'!H32","v":0}]
[99,25,3,{"$f":"'Gruppe (3)'!B33","v":0},{"$f":"'Gruppe (3)'!C33","v":0},{"$f":"'Gruppe (3)'!D33","v":0},{"$f":"'Gruppe (3)'!E33","v":0},{"$f":"'Gruppe (3)'!F33","v":0},{"$f":"'Gruppe (3)'!G33","v":0},{"$f":"'Gruppe (3)'!H33","v":0}]
[103,26,3,{"$f":"'Gruppe (3)'!B34","v":0},{"$f":"'Gruppe (3)'!C34","v":0},{"$f":"'Gruppe (3)'!D34","v":0},{"$f":"'Gruppe (3)'!E34","v":0},{"$f":"'Gruppe (3)'!F34","v":0},{"$f":"'Gruppe (3)'!G34","v":0},{"$f":"'Gruppe (3)'!H34","v":0}]
[107,27,3,{"$f":"'Gruppe (3)'!B35","v":0},{"$f":"'Gruppe (3)'!C35","v":0},{"$f":"'Gruppe (3)'!D35","v":0},{"$f":"'Gruppe (3)'!E35","v":0},{"$f":"'Gruppe (3)'!F35","v":0},{"$f":"'Gruppe (3)'!G35","v":0},{"$f":"'Gruppe (3)'!H35","v":0}]
[111,28,3,{"$f":"'Gruppe (3)'!B36","v":0},{"$f":"'Gruppe (3)'!C36","v":0},{"$f":"'Gruppe (3)'!D36","v":0},{"$f":"'Gruppe (3)'!E36","v":0},{"$f":"'Gruppe (3)'!F36","v":0},{"$f":"'Gruppe (3)'!G36","v":0},{"$f":"'Gruppe (3)'!H36","v":0}]
[115,29,3,{"$f":"'Gruppe (3)'!B37","v":0},{"$f":"'Gruppe (3)'!C37","v":0},{"$f":"'Gruppe (3)'!D37","v":0},{"$f":"'Gruppe (3)'!E37","v":0},{"$f":"'Gruppe (3)'!F37","v":0},{"$f":"'Gruppe (3)'!G37","v":0},{"$f":"'Gruppe (3)'!H37","v":0}]
[119,30,3,{"$f":"'Gruppe (3)'!B38","v":0},{"$f":"'Gruppe (3)'!C38","v":0},{"$f":"'Gruppe (3)'!D38","v":0},{"$f":"'Gruppe (3)'!E38","v":0},{"$f":"'Gruppe (3)'!F38","v":0},{"$f":"'Gruppe (3)'!G38","v":0},{"$f":"'Gruppe (3)'!H38","v":0}]
[123,31,3,{"$f":"'Gruppe (3)'!B39","v":0},{"$f":"'Gruppe (3)'!C39","v":0},{"$f":"'Gruppe (3)'!D39","v":0},{"$f":"'Gruppe (3)'!E39","v":0},{"$f":"'Gruppe (3)'!F39","v":0},{"$f":"'Gruppe (3)'!G39","v":0},{"$f":"'Gruppe (3)'!H39","v":0}]
[127,32,3,{"$f":"'Gruppe (3)'!B40","v":0},{"$f":"'Gruppe (3)'!C40","v":0},{"$f":"'Gruppe (3)'!D40","v":0},{"$f":"'Gruppe (3)'!E40","v":0},{"$f":"'Gruppe (3)'!F40","v":0},{"$f":"'Gruppe (3)'!G40","v":0},{"$f":"'Gruppe (3)'!H40","v":0}]
[131,33,3,{"$f":"'Gruppe (3)'!B41","v":0},{"$f":"'Gruppe (3)'!C41","v":0},{"$f":"'Gruppe (3)'!D41","v":0},{"$f":"'Gruppe (3)'!E41","v":0},{"$f":"'Gruppe (3)'!F41","v":0},{"$f":"'Gruppe (3)'!G41","v":0},{"$f":"'Gruppe (3)'!H41","v":0}]
[{"$f":"A134+4","v":135},34,3,{"$f":"'Gruppe (3)'!B42","v":0},{"$f":"'Gruppe (3)'!C42","v":0},{"$f":"'Gruppe (3)'!D42","v":0},{"$f":"'Gruppe (3)'!E42","v":0},{"$f":"'Gruppe (3)'!F42","v":0},{"$f":"'Gruppe (3)'!G42","v":0},{"$f":"'Gruppe (3)'!H42","v":0}]
[139,35,3,{"$f":"'Gruppe (3)'!B43","v":0},{"$f":"'Gruppe (3)'!C43","v":0},{"$f":"'Gruppe (3)'!D43","v":0},{"$f":"'Gruppe (3)'!E43","v":0},{"$f":"'Gruppe (3)'!F43","v":0},{"$f":"'Gruppe (3)'!G43","v":0},{"$f":"'Gruppe (3)'!H43","v":0}]
[143,36,3,{"$f":"'Gruppe (3)'!B44","v":0},{"$f":"'Gruppe (3)'!C44","v":0},{"$f":"'Gruppe (3)'!D44","v":0},{"$f":"'Gruppe (3)'!E44","v":0},{"$f":"'Gruppe (3)'!F44","v":0},{"$f":"'Gruppe (3)'!G44","v":0},{"$f":"'Gruppe (3)'!H44","v":0}]
[147,37,3,{"$f":"'Gruppe (3)'!B45","v":0},{"$f":"'Gruppe (3)'!C45","v":0},{"$f":"'Gruppe (3)'!D45","v":0},{"$f":"'Gruppe (3)'!E45","v":0},{"$f":"'Gruppe (3)'!F45","v":0},{"$f":"'Gruppe (3)'!G45","v":0},{"$f":"'Gruppe (3)'!H45","v":0}]
[151,38,3,{"$f":"'Gruppe (3)'!B46","v":0},{"$f":"'Gruppe (3)'!C46","v":0},{"$f":"'Gruppe (3)'!D46","v":0},{"$f":"'Gruppe (3)'!E46","v":0},{"$f":"'Gruppe (3)'!F46","v":0},{"$f":"'Gruppe (3)'!G46","v":0},{"$f":"'Gruppe (3)'!H46","v":0}]
[155,39,3,{"$f":"'Gruppe (3)'!B47","v":0},{"$f":"'Gruppe (3)'!C47","v":0},{"$f":"'Gruppe (3)'!D47","v":0},{"$f":"'Gruppe (3)'!E47","v":0},{"$f":"'Gruppe (3)'!F47","v":0},{"$f":"'Gruppe (3)'!G47","v":0},{"$f":"'Gruppe (3)'!H47","v":0}]
[159,40,3,{"$f":"'Gruppe (3)'!B48","v":0},{"$f":"'Gruppe (3)'!C48","v":0},{"$f":"'Gruppe (3)'!D48","v":0},{"$f":"'Gruppe (3)'!E48","v":0},{"$f":"'Gruppe (3)'!F48","v":0},{"$f":"'Gruppe (3)'!G48","v":0},{"$f":"'Gruppe (3)'!H48","v":0}]
[163,41,3,{"$f":"'Gruppe (3)'!B49","v":0},{"$f":"'Gruppe (3)'!C49","v":0},{"$f":"'Gruppe (3)'!D49","v":0},{"$f":"'Gruppe (3)'!E49","v":0},{"$f":"'Gruppe (3)'!F49","v":0},{"$f":"'Gruppe (3)'!G49","v":0},{"$f":"'Gruppe (3)'!H49","v":0}]
[167,42,3,{"$f":"'Gruppe (3)'!B50","v":0},{"$f":"'Gruppe (3)'!C50","v":0},{"$f":"'Gruppe (3)'!D50","v":0},{"$f":"'Gruppe (3)'!E50","v":0},{"$f":"'Gruppe (3)'!F50","v":0},{"$f":"'Gruppe (3)'!G50","v":0},{"$f":"'Gruppe (3)'!H50","v":0}]
[171,43,3,{"$f":"'Gruppe (3)'!B51","v":0},{"$f":"'Gruppe (3)'!C51","v":0},{"$f":"'Gruppe (3)'!D51","v":0},{"$f":"'Gruppe (3)'!E51","v":0},{"$f":"'Gruppe (3)'!F51","v":0},{"$f":"'Gruppe (3)'!G51","v":0},{"$f":"'Gruppe (3)'!H51","v":0}]
[175,44,3,{"$f":"'Gruppe (3)'!B52","v":0},{"$f":"'Gruppe (3)'!C52","v":0},{"$f":"'Gruppe (3)'!D52","v":0},{"$f":"'Gruppe (3)'!E52","v":0},{"$f":"'Gruppe (3)'!F52","v":0},{"$f":"'Gruppe (3)'!G52","v":0},{"$f":"'Gruppe (3)'!H52","v":0}]
[179,45,3,{"$f":"'Gruppe (3)'!B53","v":0},{"$f":"'Gruppe (3)'!C53","v":0},{"$f":"'Gruppe (3)'!D53","v":0},{"$f":"'Gruppe (3)'!E53","v":0},{"$f":"'Gruppe (3)'!F53","v":0},{"$f":"'Gruppe (3)'!G53","v":0},{"$f":"'Gruppe (3)'!H53","v":0}]
[183,46,3,{"$f":"'Gruppe (3)'!B59","v":0},{"$f":"'Gruppe (3)'!C59","v":0},{"$f":"'Gruppe (3)'!D59","v":0},{"$f":"'Gruppe (3)'!E59","v":0},{"$f":"'Gruppe (3)'!F59","v":0},{"$f":"'Gruppe (3)'!G59","v":0},{"$f":"'Gruppe (3)'!H59","v":0}]
[187,47,3,{"$f":"'Gruppe (3)'!B60","v":0},{"$f":"'Gruppe (3)'!C60","v":0},{"$f":"'Gruppe (3)'!D60","v":0},{"$f":"'Gruppe (3)'!E60","v":0},{"$f":"'Gruppe (3)'!F60","v":0},{"$f":"'Gruppe (3)'!G60","v":0},{"$f":"'Gruppe (3)'!H60","v":0}]
[191,48,3,{"$f":"'Gruppe (3)'!B61","v":0},{"$f":"'Gruppe (3)'!C61","v":0},{"$f":"'Gruppe (3)'!D61","v":0},{"$f":"'Gruppe (3)'!E61","v":0},{"$f":"'Gruppe (3)'!F61","v":0},{"$f":"'Gruppe (3)'!G61","v":0},{"$f":"'Gruppe (3)'!H61","v":0}]
[195,49,3,{"$f":"'Gruppe (3)'!B62","v":0},{"$f":"'Gruppe (3)'!C62","v":0},{"$f":"'Gruppe (3)'!D62","v":0},{"$f":"'Gruppe (3)'!E62","v":0},{"$f":"'Gruppe (3)'!F62","v":0},{"$f":"'Gruppe (3)'!G62","v":0},{"$f":"'Gruppe (3)'!H62","v":0}]
[199,50,3,{"$f":"'Gruppe (3)'!B63","v":0},{"$f":"'Gruppe (3)'!C63","v":0},{"$f":"'Gruppe (3)'!D63","v":0},{"$f":"'Gruppe (3)'!E63","v":0},{"$f":"'Gruppe (3)'!F63","v":0},{"$f":"'Gruppe (3)'!G63","v":0},{"$f":"'Gruppe (3)'!H63","v":0}]
[4,1,4,{"$f":"'Gruppe (4)'!B9","v":0},{"$f":"'Gruppe (4)'!C9","v":0},{"$f":"'Gruppe (4)'!D9","v":0},{"$f":"'Gruppe (4)'!E9","v":0},{"$f":"'Gruppe (4)'!F9","v":0},{"$f":"'Gruppe (4)'!G9","v":0},{"$f":"'Gruppe (4)'!H9","v":0}]
[{"$f":"A152+4","v":8},2,4,{"$f":"'Gruppe (4)'!B10","v":0},{"$f":"'Gruppe (4)'!C10","v":0},{"$f":"'Gruppe (4)'!D10","v":0},{"$f":"'Gruppe (4)'!E10","v":0},{"$f":"'Gruppe (4)'!F10","v":0},{"$f":"'Gruppe (4)'!G10","v":0},{"$f":"'Gruppe (4)'!H10","v":0}]
[12,3,4,{"$f":"'Gruppe (4)'!B11","v":0},{"$f":"'Gruppe (4)'!C11","v":0},{"$f":"'Gruppe (4)'!D11","v":0},{"$f":"'Gruppe (4)'!E11","v":0},{"$f":"'Gruppe (4)'!F11","v":0},{"$f":"'Gruppe (4)'!G11","v":0},{"$f":"'Gruppe (4)'!H11","v":0}]
[16,4,4,{"$f":"'Gruppe (4)'!B12","v":0},{"$f":"'Gruppe (4)'!C12","v":0},{"$f":"'Gruppe (4)'!D12","v":0},{"$f":"'Gruppe (4)'!E12","v":0},{"$f":"'Gruppe (4)'!F12","v":0},{"$f":"'Gruppe (4)'!G12","v":0},{"$f":"'Gruppe (4)'!H12","v":0}]
[20,5,4,{"$f":"'Gruppe (4)'!B13","v":0},{"$f":"'Gruppe (4)'!C13","v":0},{"$f":"'Gruppe (4)'!D13","v":0},{"$f":"'Gruppe (4)'!E13","v":0},{"$f":"'Gruppe (4)'!F13","v":0},{"$f":"'Gruppe (4)'!G13","v":0},{"$f":"'Gruppe (4)'!H13","v":0}]
[24,6,4,{"$f":"'Gruppe (4)'!B14","v":0},{"$f":"'Gruppe (4)'!C14","v":0},{"$f":"'Gruppe (4)'!D14","v":0},{"$f":"'Gruppe (4)'!E14","v":0},{"$f":"'Gruppe (4)'!F14","v":0},{"$f":"'Gruppe (4)'!G14","v":0},{"$f":"'Gruppe (4)'!H14","v":0}]
[28,7,4,{"$f":"'Gruppe (4)'!B15","v":0},{"$f":"'Gruppe (4)'!C15","v":0},{"$f":"'Gruppe (4)'!D15","v":0},{"$f":"'Gruppe (4)'!E15","v":0},{"$f":"'Gruppe (4)'!F15","v":0},{"$f":"'Gruppe (4)'!G15","v":0},{"$f":"'Gruppe (4)'!H15","v":0}]
[32,8,4,{"$f":"'Gruppe (4)'!B16","v":0},{"$f":"'Gruppe (4)'!C16","v":0},{"$f":"'Gruppe (4)'!D16","v":0},{"$f":"'Gruppe (4)'!E16","v":0},{"$f":"'Gruppe (4)'!F16","v":0},{"$f":"'Gruppe (4)'!G16","v":0},{"$f":"'Gruppe (4)'!H16","v":0}]
[36,9,4,{"$f":"'Gruppe (4)'!B17","v":0},{"$f":"'Gruppe (4)'!C17","v":0},{"$f":"'Gruppe (4)'!D17","v":0},{"$f":"'Gruppe (4)'!E17","v":0},{"$f":"'Gruppe (4)'!F17","v":0},{"$f":"'Gruppe (4)'!G17","v":0},{"$f":"'Gruppe (4)'!H17","v":0}]
[40,10,4,{"$f":"'Gruppe (4)'!B18","v":0},{"$f":"'Gruppe (4)'!C18","v":0},{"$f":"'Gruppe (4)'!D18","v":0},{"$f":"'Gruppe (4)'!E18","v":0},{"$f":"'Gruppe (4)'!F18","v":0},{"$f":"'Gruppe (4)'!G18","v":0},{"$f":"'Gruppe (4)'!H18","v":0}]
[44,11,4,{"$f":"'Gruppe (4)'!B19","v":0},{"$f":"'Gruppe (4)'!C19","v":0},{"$f":"'Gruppe (4)'!D19","v":0},{"$f":"'Gruppe (4)'!E19","v":0},{"$f":"'Gruppe (4)'!F19","v":0},{"$f":"'Gruppe (4)'!G19","v":0},{"$f":"'Gruppe (4)'!H19","v":0}]
[48,12,4,{"$f":"'Gruppe (4)'!B20","v":0},{"$f":"'Gruppe (4)'!C20","v":0},{"$f":"'Gruppe (4)'!D20","v":0},{"$f":"'Gruppe (4)'!E20","v":0},{"$f":"'Gruppe (4)'!F20","v":0},{"$f":"'Gruppe (4)'!G20","v":0},{"$f":"'Gruppe (4)'!H20","v":0}]
[52,13,4,{"$f":"'Gruppe (4)'!B21","v":0},{"$f":"'Gruppe (4)'!C21","v":0},{"$f":"'Gruppe (4)'!D21","v":0},{"$f":"'Gruppe (4)'!E21","v":0},{"$f":"'Gruppe (4)'!F21","v":0},{"$f":"'Gruppe (4)'!G21","v":0},{"$f":"'Gruppe (4)'!H21","v":0}]
[56,14,4,{"$f":"'Gruppe (4)'!B22","v":0},{"$f":"'Gruppe (4)'!C22","v":0},{"$f":"'Gruppe (4)'!D22","v":0},{"$f":"'Gruppe (4)'!E22","v":0},{"$f":"'Gruppe (4)'!F22","v":0},{"$f":"'Gruppe (4)'!G22","v":0},{"$f":"'Gruppe (4)'!H22","v":0}]
[60,15,4,{"$f":"'Gruppe (4)'!B23","v":0},{"$f":"'Gruppe (4)'!C23","v":0},{"$f":"'Gruppe (4)'!D23","v":0},{"$f":"'Gruppe (4)'!E23","v":0},{"$f":"'Gruppe (4)'!F23","v":0},{"$f":"'Gruppe (4)'!G23","v":0},{"$f":"'Gruppe (4)'!H23","v":0}]
[64,16,4,{"$f":"'Gruppe (4)'!B24","v":0},{"$f":"'Gruppe (4)'!C24","v":0},{"$f":"'Gruppe (4)'!D24","v":0},{"$f":"'Gruppe (4)'!E24","v":0},{"$f":"'Gruppe (4)'!F24","v":0},{"$f":"'Gruppe (4)'!G24","v":0},{"$f":"'Gruppe (4)'!H24","v":0}]
[68,17,4,{"$f":"'Gruppe (4)'!B25","v":0},{"$f":"'Gruppe (4)'!C25","v":0},{"$f":"'Gruppe (4)'!D25","v":0},{"$f":"'Gruppe (4)'!E25","v":0},{"$f":"'Gruppe (4)'!F25","v":0},{"$f":"'Gruppe (4)'!G25","v":0},{"$f":"'Gruppe (4)'!H25","v":0}]
[72,18,4,{"$f":"'Gruppe (4)'!B26","v":0},{"$f":"'Gruppe (4)'!C26","v":0},{"$f":"'Gruppe (4)'!D26","v":0},{"$f":"'Gruppe (4)'!E26","v":0},{"$f":"'Gruppe (4)'!F26","v":0},{"$f":"'Gruppe (4)'!G26","v":0},{"$f":"'Gruppe (4)'!H26","v":0}]
[76,19,4,{"$f":"'Gruppe (4)'!B27","v":0},{"$f":"'Gruppe (4)'!C27","v":0},{"$f":"'Gruppe (4)'!D27","v":0},{"$f":"'Gruppe (4)'!E27","v":0},{"$f":"'Gruppe (4)'!F27","v":0},{"$f":"'Gruppe (4)'!G27","v":0},{"$f":"'Gruppe (4)'!H27","v":0}]
[80,20,4,{"$f":"'Gruppe (4)'!B28","v":0},{"$f":"'Gruppe (4)'!C28","v":0},{"$f":"'Gruppe (4)'!D28","v":0},{"$f":"'Gruppe (4)'!E28","v":0},{"$f":"'Gruppe (4)'!F28","v":0},{"$f":"'Gruppe (4)'!G28","v":0},{"$f":"'Gruppe (4)'!H28","v":0}]
[84,21,4,{"$f":"'Gruppe (4)'!B29","v":0},{"$f":"'Gruppe (4)'!C29","v":0},{"$f":"'Gruppe (4)'!D29","v":0},{"$f":"'Gruppe (4)'!E29","v":0},{"$f":"'Gruppe (4)'!F29","v":0},{"$f":"'Gruppe (4)'!G29","v":0},{"$f":"'Gruppe (4)'!H29","v":0}]
[88,22,4,{"$f":"'Gruppe (4)'!B30","v":0},{"$f":"'Gruppe (4)'!C30","v":0},{"$f":"'Gruppe (4)'!D30","v":0},{"$f":"'Gruppe (4)'!E30","v":0},{"$f":"'Gruppe (4)'!F30","v":0},{"$f":"'Gruppe (4)'!G30","v":0},{"$f":"'Gruppe (4)'!H30","v":0}]
[92,23,4,{"$f":"'Gruppe (4)'!B31","v":0},{"$f":"'Gruppe (4)'!C31","v":0},{"$f":"'Gruppe (4)'!D31","v":0},{"$f":"'Gruppe (4)'!E31","v":0},{"$f":"'Gruppe (4)'!F31","v":0},{"$f":"'Gruppe (4)'!G31","v":0},{"$f":"'Gruppe (4)'!H31","v":0}]
[96,24,4,{"$f":"'Gruppe (4)'!B32","v":0},{"$f":"'Gruppe (4)'!C32","v":0},{"$f":"'Gruppe (4)'!D32","v":0},{"$f":"'Gruppe (4)'!E32","v":0},{"$f":"'Gruppe (4)'!F32","v":0},{"$f":"'Gruppe (4)'!G32","v":0},{"$f":"'Gruppe (4)'!H32","v":0}]
[100,25,4,{"$f":"'Gruppe (4)'!B33","v":0},{"$f":"'Gruppe (4)'!C33","v":0},{"$f":"'Gruppe (4)'!D33","v":0},{"$f":"'Gruppe (4)'!E33","v":0},{"$f":"'Gruppe (4)'!F33","v":0},{"$f":"'Gruppe (4)'!G33","v":0},{"$f":"'Gruppe (4)'!H33","v":0}]
[104,26,4,{"$f":"'Gruppe (4)'!B34","v":0},{"$f":"'Gruppe (4)'!C34","v":0},{"$f":"'Gruppe (4)'!D34","v":0},{"$f":"'Gruppe (4)'!E34","v":0},{"$f":"'Gruppe (4)'!F34","v":0},{"$f":"'Gruppe (4)'!G34","v":0},{"$f":"'Gruppe (4)'!H34","v":0}]
[108,27,4,{"$f":"'Gruppe (4)'!B35","v":0},{"$f":"'Gruppe (4)'!C35","v":0},{"$f":"'Gruppe (4)'!D35","v":0},{"$f":"'Gruppe (4)'!E35","v":0},{"$f":"'Gruppe (4)'!F35","v":0},{"$f":"'Gruppe (4)'!G35","v":0},{"$f":"'Gruppe (4)'!H35","v":0}]
[112,28,4,{"$f":"'Gruppe (4)'!B36","v":0},{"$f":"'Gruppe (4)'!C36","v":0},{"$f":"'Gruppe (4)'!D36","v":0},{"$f":"'Gruppe (4)'!E36","v":0},{"$f":"'Gruppe (4)'!F36","v":0},{"$f":"'Gruppe (4)'!G36","v":0},{"$f":"'Gruppe (4)'!H36","v":0}]
[116,29,4,{"$f":"'Gruppe (4)'!B37","v":0},{"$f":"'Gruppe (4)'!C37","v":0},{"$f":"'Gruppe (4)'!D37","v":0},{"$f":"'Gruppe (4)'!E37","v":0},{"$f":"'Gruppe (4)'!F37","v":0},{"$f":"'Gruppe (4)'!G37","v":0},{"$f":"'Gruppe (4)'!H37","v":0}]
[120,30,4,{"$f":"'Gruppe (4)'!B38","v":0},{"$f":"'Gruppe (4)'!C38","v":0},{"$f":"'Gruppe (4)'!D38","v":0},{"$f":"'Gruppe (4)'!E38","v":0},{"$f":"'Gruppe (4)'!F38","v":0},{"$f":"'Gruppe (4)'!G38","v":0},{"$f":"'Gruppe (4)'!H38","v":0}]
[124,31,4,{"$f":"'Gruppe (4)'!B39","v":0},{"$f":"'Gruppe (4)'!C39","v":0},{"$f":"'Gruppe (4)'!D39","v":0},{"$f":"'Gruppe (4)'!E39","v":0},{"$f":"'Gruppe (4)'!F39","v":0},{"$f":"'Gruppe (4)'!G39","v":0},{"$f":"'Gruppe (4)'!H39","v":0}]
[128,32,4,{"$f":"'Gruppe (4)'!B40","v":0},{"$f":"'Gruppe (4)'!C40","v":0},{"$f":"'Gruppe (4)'!D40","v":0},{"$f":"'Gruppe (4)'!E40","v":0},{"$f":"'Gruppe (4)'!F40","v":0},{"$f":"'Gruppe (4)'!G40","v":0},{"$f":"'Gruppe (4)'!H40","v":0}]
[132,33,4,{"$f":"'Gruppe (4)'!B41","v":0},{"$f":"'Gruppe (4)'!C41","v":0},{"$f":"'Gruppe (4)'!D41","v":0},{"$f":"'Gruppe (4)'!E41","v":0},{"$f":"'Gruppe (4)'!F41","v":0},{"$f":"'Gruppe (4)'!G41","v":0},{"$f":"'Gruppe (4)'!H41","v":0}]
[{"$f":"A184+4","v":136},34,4,{"$f":"'Gruppe (4)'!B42","v":0},{"$f":"'Gruppe (4)'!C42","v":0},{"$f":"'Gruppe (4)'!D42","v":0},{"$f":"'Gruppe (4)'!E42","v":0},{"$f":"'Gruppe (4)'!F42","v":0},{"$f":"'Gruppe (4)'!G42","v":0},{"$f":"'Gruppe (4)'!H42","v":0}]
[140,35,4,{"$f":"'Gruppe (4)'!B43","v":0},{"$f":"'Gruppe (4)'!C43","v":0},{"$f":"'Gruppe (4)'!D43","v":0},{"$f":"'Gruppe (4)'!E43","v":0},{"$f":"'Gruppe (4)'!F43","v":0},{"$f":"'Gruppe (4)'!G43","v":0},{"$f":"'Gruppe (4)'!H43","v":0}]
[144,36,4,{"$f":"'Gruppe (4)'!B44","v":0},{"$f":"'Gruppe (4)'!C44","v":0},{"$f":"'Gruppe (4)'!D44","v":0},{"$f":"'Gruppe (4)'!E44","v":0},{"$f":"'Gruppe (4)'!F44","v":0},{"$f":"'Gruppe (4)'!G44","v":0},{"$f":"'Gruppe (4)'!H44","v":0}]
[148,37,4,{"$f":"'Gruppe (4)'!B45","v":0},{"$f":"'Gruppe (4)'!C45","v":0},{"$f":"'Gruppe (4)'!D45","v":0},{"$f":"'Gruppe (4)'!E45","v":0},{"$f":"'Gruppe (4)'!F45","v":0},{"$f":"'Gruppe (4)'!G45","v":0},{"$f":"'Gruppe (4)'!H45","v":0}]
[152,38,4,{"$f":"'Gruppe (4)'!B46","v":0},{"$f":"'Gruppe (4)'!C46","v":0},{"$f":"'Gruppe (4)'!D46","v":0},{"$f":"'Gruppe (4)'!E46","v":0},{"$f":"'Gruppe (4)'!F46","v":0},{"$f":"'Gruppe (4)'!G46","v":0},{"$f":"'Gruppe (4)'!H46","v":0}]
[156,39,4,{"$f":"'Gruppe (4)'!B47","v":0},{"$f":"'Gruppe (4)'!C47","v":0},{"$f":"'Gruppe (4)'!D47","v":0},{"$f":"'Gruppe (4)'!E47","v":0},{"$f":"'Gruppe (4)'!F47","v":0},{"$f":"'Gruppe (4)'!G47","v":0},{"$f":"'Gruppe (4)'!H47","v":0}]
[160,40,4,{"$f":"'Gruppe (4)'!B48","v":0},{"$f":"'Gruppe (4)'!C48","v":0},{"$f":"'Gruppe (4)'!D48","v":0},{"$f":"'Gruppe (4)'!E48","v":0},{"$f":"'Gruppe (4)'!F48","v":0},{"$f":"'Gruppe (4)'!G48","v":0},{"$f":"'Gruppe (4)'!H48","v":0}]
[164,41,4,{"$f":"'Gruppe (4)'!B49","v":0},{"$f":"'Gruppe (4)'!C49","v":0},{"$f":"'Gruppe (4)'!D49","v":0},{"$f":"'Gruppe (4)'!E49","v":0},{"$f":"'Gruppe (4)'!F49","v":0},{"$f":"'Gruppe (4)'!G49","v":0},{"$f":"'Gruppe (4)'!H49","v":0}]
[168,42,4,{"$f":"'Gruppe (4)'!B50","v":0},{"$f":"'Gruppe (4)'!C50","v":0},{"$f":"'Gruppe (4)'!D50","v":0},{"$f":"'Gruppe (4)'!E50","v":0},{"$f":"'Gruppe (4)'!F50","v":0},{"$f":"'Gruppe (4)'!G50","v":0},{"$f":"'Gruppe (4)'!H50","v":0}]
[172,43,4,{"$f":"'Gruppe (4)'!B51","v":0},{"$f":"'Gruppe (4)'!C51","v":0},{"$f":"'Gruppe (4)'!D51","v":0},{"$f":"'Gruppe (4)'!E51","v":0},{"$f":"'Gruppe (4)'!F51","v":0},{"$f":"'Gruppe (4)'!G51","v":0},{"$f":"'Gruppe (4)'!H51","v":0}]
[176,44,4,{"$f":"'Gruppe (4)'!B52","v":0},{"$f":"'Gruppe (4)'!C52","v":0},{"$f":"'Gruppe (4)'!D52","v":0},{"$f":"'Gruppe (4)'!E52","v":0},{"$f":"'Gruppe (4)'!F52","v":0},{"$f":"'Gruppe (4)'!G52","v":0},{"$f":"'Gruppe (4)'!H52","v":0}]
[180,45,4,{"$f":"'Gruppe (4)'!B53","v":0},{"$f":"'Gruppe (4)'!C53","v":0},{"$f":"'Gruppe (4)'!D53","v":0},{"$f":"'Gruppe (4)'!E53","v":0},{"$f":"'Gruppe (4)'!F53","v":0},{"$f":"'Gruppe (4)'!G53","v":0},{"$f":"'Gruppe (4)'!H53","v":0}]
[184,46,4,{"$f":"'Gruppe (4)'!B54","v":0},{"$f":"'Gruppe (4)'!C54","v":0},{"$f":"'Gruppe (4)'!D54","v":0},{"$f":"'Gruppe (4)'!E54","v":0},{"$f":"'Gruppe (4)'!F54","v":0},{"$f":"'Gruppe (4)'!G54","v":0},{"$f":"'Gruppe (4)'!H54","v":0}]
[188,47,4,{"$f":"'Gruppe (4)'!B55","v":0},{"$f":"'Gruppe (4)'!C55","v":0},{"$f":"'Gruppe (4)'!D55","v":0},{"$f":"'Gruppe (4)'!E55","v":0},{"$f":"'Gruppe (4)'!F55","v":0},{"$f":"'Gruppe (4)'!G55","v":0},{"$f":"'Gruppe (4)'!H55","v":0}]
[192,48,4,{"$f":"'Gruppe (4)'!B56","v":0},{"$f":"'Gruppe (4)'!C56","v":0},{"$f":"'Gruppe (4)'!D56","v":0},{"$f":"'Gruppe (4)'!E56","v":0},{"$f":"'Gruppe (4)'!F56","v":0},{"$f":"'Gruppe (4)'!G56","v":0},{"$f":"'Gruppe (4)'!H56","v":0}]
[196,49,4,{"$f":"'Gruppe (4)'!B57","v":0},{"$f":"'Gruppe (4)'!C57","v":0},{"$f":"'Gruppe (4)'!D57","v":0},{"$f":"'Gruppe (4)'!E57","v":0},{"$f":"'Gruppe (4)'!F57","v":0},{"$f":"'Gruppe (4)'!G57","v":0},{"$f":"'Gruppe (4)'!H57","v":0}]
[200,50,4,{"$f":"'Gruppe (4)'!B58","v":0},{"$f":"'Gruppe (4)'!C58","v":0},{"$f":"'Gruppe (4)'!D58","v":0},{"$f":"'Gruppe (4)'!E58","v":0},{"$f":"'Gruppe (4)'!F58","v":0},{"$f":"'Gruppe (4)'!G58","v":0},{"$f":"'Gruppe (4)'!H58","v":0}]

{"sheet":"Spieler (sortiert)","index":2,"n_rows":201,"n_cols":10,"rows_kept":201,"cut":false,"hidden":false,"merged":[]}
["Start-Nr.:","1.Se","Pl.","VG","Name, Vorname","Verein","H","Einzel","Tandem","Mixed"]
[1,1,1,{"$f":"'Gruppe (1)'!B9","v":11},{"$f":"'Gruppe (1)'!C9","v":0},{"$f":"'Gruppe (1)'!D9","v":0},{"$f":"'Gruppe (1)'!E9","v":0},{"$f":"'Gruppe (1)'!F9","v":0},{"$f":"'Gruppe (1)'!G9","v":0},{"$f":"'Gruppe (1)'!H9","v":0}]
[2,1,2,{"$f":"'Gruppe (2)'!B9","v":0},{"$f":"'Gruppe (2)'!C9","v":0},{"$f":"'Gruppe (2)'!D9","v":0},{"$f":"'Gruppe (2)'!E9","v":0},{"$f":"'Gruppe (2)'!F9","v":0},{"$f":"'Gruppe (2)'!G9","v":0},{"$f":"'Gruppe (2)'!H9","v":0}]
[3,1,3,{"$f":"'Gruppe (3)'!B9","v":0},{"$f":"'Gruppe (3)'!C9","v":0},{"$f":"'Gruppe (3)'!D9","v":0},{"$f":"'Gruppe (3)'!E9","v":0},{"$f":"'Gruppe (3)'!F9","v":0},{"$f":"'Gruppe (3)'!G9","v":0},{"$f":"'Gruppe (3)'!H9","v":0}]
[4,1,4,{"$f":"'Gruppe (4)'!B9","v":0},{"$f":"'Gruppe (4)'!C9","v":0},{"$f":"'Gruppe (4)'!D9","v":0},{"$f":"'Gruppe (4)'!E9","v":0},{"$f":"'Gruppe (4)'!F9","v":0},{"$f":"'Gruppe (4)'!G9","v":0},{"$f":"'Gruppe (4)'!H9","v":0}]
[5,2,1,{"$f":"'Gruppe (1)'!B10","v":11},{"$f":"'Gruppe (1)'!C10","v":0},{"$f":"'Gruppe (1)'!D10","v":0},{"$f":"'Gruppe (1)'!E10","v":0},{"$f":"'Gruppe (1)'!F10","v":0},{"$f":"'Gruppe (1)'!G10","v":0},{"$f":"'Gruppe (1)'!H10","v":0}]
[6,2,2,{"$f":"'Gruppe (2)'!B10","v":0},{"$f":"'Gruppe (2)'!C10","v":0},{"$f":"'Gruppe (2)'!D10","v":0},{"$f":"'Gruppe (2)'!E10","v":0},{"$f":"'Gruppe (2)'!F10","v":0},{"$f":"'Gruppe (2)'!G10","v":0},{"$f":"'Gruppe (2)'!H10","v":0}]
[7,2,3,{"$f":"'Gruppe (3)'!B10","v":0},{"$f":"'Gruppe (3)'!C10","v":0},{"$f":"'Gruppe (3)'!D10","v":0},{"$f":"'Gruppe (3)'!E10","v":0},{"$f":"'Gruppe (3)'!F10","v":0},{"$f":"'Gruppe (3)'!G10","v":0},{"$f":"'Gruppe (3)'!H10","v":0}]
[8,2,4,{"$f":"'Gruppe (4)'!B10","v":0},{"$f":"'Gruppe (4)'!C10","v":0},{"$f":"'Gruppe (4)'!D10","v":0},{"$f":"'Gruppe (4)'!E10","v":0},{"$f":"'Gruppe (4)'!F10","v":0},{"$f":"'Gruppe (4)'!G10","v":0},{"$f":"'Gruppe (4)'!H10","v":0}]
[9,3,1,{"$f":"'Gruppe (1)'!B11","v":11},{"$f":"'Gruppe (1)'!C11","v":0},{"$f":"'Gruppe (1)'!D11","v":0},{"$f":"'Gruppe (1)'!E11","v":0},{"$f":"'Gruppe (1)'!F11","v":0},{"$f":"'Gruppe (1)'!G11","v":0},{"$f":"'Gruppe (1)'!H11","v":0}]
[10,3,2,{"$f":"'Gruppe (2)'!B11","v":0},{"$f":"'Gruppe (2)'!C11","v":0},{"$f":"'Gruppe (2)'!D11","v":0},{"$f":"'Gruppe (2)'!E11","v":0},{"$f":"'Gruppe (2)'!F11","v":0},{"$f":"'Gruppe (2)'!G11","v":0},{"$f":"'Gruppe (2)'!H11","v":0}]
[11,3,3,{"$f":"'Gruppe (3)'!B11","v":0},{"$f":"'Gruppe (3)'!C11","v":0},{"$f":"'Gruppe (3)'!D11","v":0},{"$f":"'Gruppe (3)'!E11","v":0},{"$f":"'Gruppe (3)'!F11","v":0},{"$f":"'Gruppe (3)'!G11","v":0},{"$f":"'Gruppe (3)'!H11","v":0}]
[12,3,4,{"$f":"'Gruppe (4)'!B11","v":0},{"$f":"'Gruppe (4)'!C11","v":0},{"$f":"'Gruppe (4)'!D11","v":0},{"$f":"'Gruppe (4)'!E11","v":0},{"$f":"'Gruppe (4)'!F11","v":0},{"$f":"'Gruppe (4)'!G11","v":0},{"$f":"'Gruppe (4)'!H11","v":0}]
[13,4,1,{"$f":"'Gruppe (1)'!B12","v":11},{"$f":"'Gruppe (1)'!C12","v":0},{"$f":"'Gruppe (1)'!D12","v":0},{"$f":"'Gruppe (1)'!E12","v":0},{"$f":"'Gruppe (1)'!F12","v":0},{"$f":"'Gruppe (1)'!G12","v":0},{"$f":"'Gruppe (1)'!H12","v":0}]
[14,4,2,{"$f":"'Gruppe (2)'!B12","v":0},{"$f":"'Gruppe (2)'!C12","v":0},{"$f":"'Gruppe (2)'!D12","v":0},{"$f":"'Gruppe (2)'!E12","v":0},{"$f":"'Gruppe (2)'!F12","v":0},{"$f":"'Gruppe (2)'!G12","v":0},{"$f":"'Gruppe (2)'!H12","v":0}]
[15,4,3,{"$f":"'Gruppe (3)'!B12","v":0},{"$f":"'Gruppe (3)'!C12","v":0},{"$f":"'Gruppe (3)'!D12","v":0},{"$f":"'Gruppe (3)'!E12","v":0},{"$f":"'Gruppe (3)'!F12","v":0},{"$f":"'Gruppe (3)'!G12","v":0},{"$f":"'Gruppe (3)'!H12","v":0}]
[16,4,4,{"$f":"'Gruppe (4)'!B12","v":0},{"$f":"'Gruppe (4)'!C12","v":0},{"$f":"'Gruppe (4)'!D12","v":0},{"$f":"'Gruppe (4)'!E12","v":0},{"$f":"'Gruppe (4)'!F12","v":0},{"$f":"'Gruppe (4)'!G12","v":0},{"$f":"'Gruppe (4)'!H12","v":0}]
[17,5,1,{"$f":"'Gruppe (1)'!B13","v":11},{"$f":"'Gruppe (1)'!C13","v":0},{"$f":"'Gruppe (1)'!D13","v":0},{"$f":"'Gruppe (1)'!E13","v":0},{"$f":"'Gruppe (1)'!F13","v":0},{"$f":"'Gruppe (1)'!G13","v":0},{"$f":"'Gruppe (1)'!H13","v":0}]
[18,5,2,{"$f":"'Gruppe (2)'!B13","v":0},{"$f":"'Gruppe (2)'!C13","v":0},{"$f":"'Gruppe (2)'!D13","v":0},{"$f":"'Gruppe (2)'!E13","v":0},{"$f":"'Gruppe (2)'!F13","v":0},{"$f":"'Gruppe (2)'!G13","v":0},{"$f":"'Gruppe (2)'!H13","v":0}]
[19,5,3,{"$f":"'Gruppe (3)'!B13","v":0},{"$f":"'Gruppe (3)'!C13","v":0},{"$f":"'Gruppe (3)'!D13","v":0},{"$f":"'Gruppe (3)'!E13","v":0},{"$f":"'Gruppe (3)'!F13","v":0},{"$f":"'Gruppe (3)'!G13","v":0},{"$f":"'Gruppe (3)'!H13","v":0}]
[20,5,4,{"$f":"'Gruppe (4)'!B13","v":0},{"$f":"'Gruppe (4)'!C13","v":0},{"$f":"'Gruppe (4)'!D13","v":0},{"$f":"'Gruppe (4)'!E13","v":0},{"$f":"'Gruppe (4)'!F13","v":0},{"$f":"'Gruppe (4)'!G13","v":0},{"$f":"'Gruppe (4)'!H13","v":0}]
[21,6,1,{"$f":"'Gruppe (1)'!B14","v":11},{"$f":"'Gruppe (1)'!C14","v":0},{"$f":"'Gruppe (1)'!D14","v":0},{"$f":"'Gruppe (1)'!E14","v":0},{"$f":"'Gruppe (1)'!F14","v":0},{"$f":"'Gruppe (1)'!G14","v":0},{"$f":"'Gruppe (1)'!H14","v":0}]
[22,6,2,{"$f":"'Gruppe (2)'!B14","v":0},{"$f":"'Gruppe (2)'!C14","v":0},{"$f":"'Gruppe (2)'!D14","v":0},{"$f":"'Gruppe (2)'!E14","v":0},{"$f":"'Gruppe (2)'!F14","v":0},{"$f":"'Gruppe (2)'!G14","v":0},{"$f":"'Gruppe (2)'!H14","v":0}]
[23,6,3,{"$f":"'Gruppe (3)'!B14","v":0},{"$f":"'Gruppe (3)'!C14","v":0},{"$f":"'Gruppe (3)'!D14","v":0},{"$f":"'Gruppe (3)'!E14","v":0},{"$f":"'Gruppe (3)'!F14","v":0},{"$f":"'Gruppe (3)'!G14","v":0},{"$f":"'Gruppe (3)'!H14","v":0}]
[24,6,4,{"$f":"'Gruppe (4)'!B14","v":0},{"$f":"'Gruppe (4)'!C14","v":0},{"$f":"'Gruppe (4)'!D14","v":0},{"$f":"'Gruppe (4)'!E14","v":0},{"$f":"'Gruppe (4)'!F14","v":0},{"$f":"'Gruppe (4)'!G14","v":0},{"$f":"'Gruppe (4)'!H14","v":0}]
[25,7,1,{"$f":"'Gruppe (1)'!B15","v":11},{"$f":"'Gruppe (1)'!C15","v":0},{"$f":"'Gruppe (1)'!D15","v":0},{"$f":"'Gruppe (1)'!E15","v":0},{"$f":"'Gruppe (1)'!F15","v":0},{"$f":"'Gruppe (1)'!G15","v":0},{"$f":"'Gruppe (1)'!H15","v":0}]
[26,7,2,{"$f":"'Gruppe (2)'!B15","v":0},{"$f":"'Gruppe (2)'!C15","v":0},{"$f":"'Gruppe (2)'!D15","v":0},{"$f":"'Gruppe (2)'!E15","v":0},{"$f":"'Gruppe (2)'!F15","v":0},{"$f":"'Gruppe (2)'!G15","v":0},{"$f":"'Gruppe (2)'!H15","v":0}]
[27,7,3,{"$f":"'Gruppe (3)'!B15","v":0},{"$f":"'Gruppe (3)'!C15","v":0},{"$f":"'Gruppe (3)'!D15","v":0},{"$f":"'Gruppe (3)'!E15","v":0},{"$f":"'Gruppe (3)'!F15","v":0},{"$f":"'Gruppe (3)'!G15","v":0},{"$f":"'Gruppe (3)'!H15","v":0}]
[28,7,4,{"$f":"'Gruppe (4)'!B15","v":0},{"$f":"'Gruppe (4)'!C15","v":0},{"$f":"'Gruppe (4)'!D15","v":0},{"$f":"'Gruppe (4)'!E15","v":0},{"$f":"'Gruppe (4)'!F15","v":0},{"$f":"'Gruppe (4)'!G15","v":0},{"$f":"'Gruppe (4)'!H15","v":0}]
[29,8,1,{"$f":"'Gruppe (1)'!B16","v":11},{"$f":"'Gruppe (1)'!C16","v":0},{"$f":"'Gruppe (1)'!D16","v":0},{"$f":"'Gruppe (1)'!E16","v":0},{"$f":"'Gruppe (1)'!F16","v":0},{"$f":"'Gruppe (1)'!G16","v":0},{"$f":"'Gruppe (1)'!H16","v":0}]
[30,8,2,{"$f":"'Gruppe (2)'!B16","v":0},{"$f":"'Gruppe (2)'!C16","v":0},{"$f":"'Gruppe (2)'!D16","v":0},{"$f":"'Gruppe (2)'!E16","v":0},{"$f":"'Gruppe (2)'!F16","v":0},{"$f":"'Gruppe (2)'!G16","v":0},{"$f":"'Gruppe (2)'!H16","v":0}]
[31,8,3,{"$f":"'Gruppe (3)'!B16","v":0},{"$f":"'Gruppe (3)'!C16","v":0},{"$f":"'Gruppe (3)'!D16","v":0},{"$f":"'Gruppe (3)'!E16","v":0},{"$f":"'Gruppe (3)'!F16","v":0},{"$f":"'Gruppe (3)'!G16","v":0},{"$f":"'Gruppe (3)'!H16","v":0}]
[32,8,4,{"$f":"'Gruppe (4)'!B16","v":0},{"$f":"'Gruppe (4)'!C16","v":0},{"$f":"'Gruppe (4)'!D16","v":0},{"$f":"'Gruppe (4)'!E16","v":0},{"$f":"'Gruppe (4)'!F16","v":0},{"$f":"'Gruppe (4)'!G16","v":0},{"$f":"'Gruppe (4)'!H16","v":0}]
[33,9,1,{"$f":"'Gruppe (1)'!B17","v":11},{"$f":"'Gruppe (1)'!C17","v":0},{"$f":"'Gruppe (1)'!D17","v":0},{"$f":"'Gruppe (1)'!E17","v":0},{"$f":"'Gruppe (1)'!F17","v":0},{"$f":"'Gruppe (1)'!G17","v":0},{"$f":"'Gruppe (1)'!H17","v":0}]
[34,9,2,{"$f":"'Gruppe (2)'!B17","v":0},{"$f":"'Gruppe (2)'!C17","v":0},{"$f":"'Gruppe (2)'!D17","v":0},{"$f":"'Gruppe (2)'!E17","v":0},{"$f":"'Gruppe (2)'!F17","v":0},{"$f":"'Gruppe (2)'!G17","v":0},{"$f":"'Gruppe (2)'!H17","v":0}]
[35,9,3,{"$f":"'Gruppe (3)'!B17","v":0},{"$f":"'Gruppe (3)'!C17","v":0},{"$f":"'Gruppe (3)'!D17","v":0},{"$f":"'Gruppe (3)'!E17","v":0},{"$f":"'Gruppe (3)'!F17","v":0},{"$f":"'Gruppe (3)'!G17","v":0},{"$f":"'Gruppe (3)'!H17","v":0}]
[36,9,4,{"$f":"'Gruppe (4)'!B17","v":0},{"$f":"'Gruppe (4)'!C17","v":0},{"$f":"'Gruppe (4)'!D17","v":0},{"$f":"'Gruppe (4)'!E17","v":0},{"$f":"'Gruppe (4)'!F17","v":0},{"$f":"'Gruppe (4)'!G17","v":0},{"$f":"'Gruppe (4)'!H17","v":0}]
[37,10,1,{"$f":"'Gruppe (1)'!B18","v":11},{"$f":"'Gruppe (1)'!C18","v":0},{"$f":"'Gruppe (1)'!D18","v":0},{"$f":"'Gruppe (1)'!E18","v":0},{"$f":"'Gruppe (1)'!F18","v":0},{"$f":"'Gruppe (1)'!G18","v":0},{"$f":"'Gruppe (1)'!H18","v":0}]
[38,10,2,{"$f":"'Gruppe (2)'!B18","v":0},{"$f":"'Gruppe (2)'!C18","v":0},{"$f":"'Gruppe (2)'!D18","v":0},{"$f":"'Gruppe (2)'!E18","v":0},{"$f":"'Gruppe (2)'!F18","v":0},{"$f":"'Gruppe (2)'!G18","v":0},{"$f":"'Gruppe (2)'!H18","v":0}]
[39,10,3,{"$f":"'Gruppe (3)'!B18","v":0},{"$f":"'Gruppe (3)'!C18","v":0},{"$f":"'Gruppe (3)'!D18","v":0},{"$f":"'Gruppe (3)'!E18","v":0},{"$f":"'Gruppe (3)'!F18","v":0},{"$f":"'Gruppe (3)'!G18","v":0},{"$f":"'Gruppe (3)'!H18","v":0}]
[40,10,4,{"$f":"'Gruppe (4)'!B18","v":0},{"$f":"'Gruppe (4)'!C18","v":0},{"$f":"'Gruppe (4)'!D18","v":0},{"$f":"'Gruppe (4)'!E18","v":0},{"$f":"'Gruppe (4)'!F18","v":0},{"$f":"'Gruppe (4)'!G18","v":0},{"$f":"'Gruppe (4)'!H18","v":0}]
[41,11,1,{"$f":"'Gruppe (1)'!B19","v":11},{"$f":"'Gruppe (1)'!C19","v":0},{"$f":"'Gruppe (1)'!D19","v":0},{"$f":"'Gruppe (1)'!E19","v":0},{"$f":"'Gruppe (1)'!F19","v":0},{"$f":"'Gruppe (1)'!G19","v":0},{"$f":"'Gruppe (1)'!H19","v":0}]
[42,11,2,{"$f":"'Gruppe (2)'!B19","v":0},{"$f":"'Gruppe (2)'!C19","v":0},{"$f":"'Gruppe (2)'!D19","v":0},{"$f":"'Gruppe (2)'!E19","v":0},{"$f":"'Gruppe (2)'!F19","v":0},{"$f":"'Gruppe (2)'!G19","v":0},{"$f":"'Gruppe (2)'!H19","v":0}]
[43,11,3,{"$f":"'Gruppe (3)'!B19","v":0},{"$f":"'Gruppe (3)'!C19","v":0},{"$f":"'Gruppe (3)'!D19","v":0},{"$f":"'Gruppe (3)'!E19","v":0},{"$f":"'Gruppe (3)'!F19","v":0},{"$f":"'Gruppe (3)'!G19","v":0},{"$f":"'Gruppe (3)'!H19","v":0}]
[44,11,4,{"$f":"'Gruppe (4)'!B19","v":0},{"$f":"'Gruppe (4)'!C19","v":0},{"$f":"'Gruppe (4)'!D19","v":0},{"$f":"'Gruppe (4)'!E19","v":0},{"$f":"'Gruppe (4)'!F19","v":0},{"$f":"'Gruppe (4)'!G19","v":0},{"$f":"'Gruppe (4)'!H19","v":0}]
[45,12,1,{"$f":"'Gruppe (1)'!B20","v":11},{"$f":"'Gruppe (1)'!C20","v":0},{"$f":"'Gruppe (1)'!D20","v":0},{"$f":"'Gruppe (1)'!E20","v":0},{"$f":"'Gruppe (1)'!F20","v":0},{"$f":"'Gruppe (1)'!G20","v":0},{"$f":"'Gruppe (1)'!H20","v":0}]
[46,12,2,{"$f":"'Gruppe (2)'!B20","v":0},{"$f":"'Gruppe (2)'!C20","v":0},{"$f":"'Gruppe (2)'!D20","v":0},{"$f":"'Gruppe (2)'!E20","v":0},{"$f":"'Gruppe (2)'!F20","v":0},{"$f":"'Gruppe (2)'!G20","v":0},{"$f":"'Gruppe (2)'!H20","v":0}]
[47,12,3,{"$f":"'Gruppe (3)'!B20","v":0},{"$f":"'Gruppe (3)'!C20","v":0},{"$f":"'Gruppe (3)'!D20","v":0},{"$f":"'Gruppe (3)'!E20","v":0},{"$f":"'Gruppe (3)'!F20","v":0},{"$f":"'Gruppe (3)'!G20","v":0},{"$f":"'Gruppe (3)'!H20","v":0}]
[48,12,4,{"$f":"'Gruppe (4)'!B20","v":0},{"$f":"'Gruppe (4)'!C20","v":0},{"$f":"'Gruppe (4)'!D20","v":0},{"$f":"'Gruppe (4)'!E20","v":0},{"$f":"'Gruppe (4)'!F20","v":0},{"$f":"'Gruppe (4)'!G20","v":0},{"$f":"'Gruppe (4)'!H20","v":0}]
[49,13,1,{"$f":"'Gruppe (1)'!B21","v":11},{"$f":"'Gruppe (1)'!C21","v":0},{"$f":"'Gruppe (1)'!D21","v":0},{"$f":"'Gruppe (1)'!E21","v":0},{"$f":"'Gruppe (1)'!F21","v":0},{"$f":"'Gruppe (1)'!G21","v":0},{"$f":"'Gruppe (1)'!H21","v":0}]
[50,13,2,{"$f":"'Gruppe (2)'!B21","v":0},{"$f":"'Gruppe (2)'!C21","v":0},{"$f":"'Gruppe (2)'!D21","v":0},{"$f":"'Gruppe (2)'!E21","v":0},{"$f":"'Gruppe (2)'!F21","v":0},{"$f":"'Gruppe (2)'!G21","v":0},{"$f":"'Gruppe (2)'!H21","v":0}]
[51,13,3,{"$f":"'Gruppe (3)'!B21","v":0},{"$f":"'Gruppe (3)'!C21","v":0},{"$f":"'Gruppe (3)'!D21","v":0},{"$f":"'Gruppe (3)'!E21","v":0},{"$f":"'Gruppe (3)'!F21","v":0},{"$f":"'Gruppe (3)'!G21","v":0},{"$f":"'Gruppe (3)'!H21","v":0}]
[52,13,4,{"$f":"'Gruppe (4)'!B21","v":0},{"$f":"'Gruppe (4)'!C21","v":0},{"$f":"'Gruppe (4)'!D21","v":0},{"$f":"'Gruppe (4)'!E21","v":0},{"$f":"'Gruppe (4)'!F21","v":0},{"$f":"'Gruppe (4)'!G21","v":0},{"$f":"'Gruppe (4)'!H21","v":0}]
[53,14,1,{"$f":"'Gruppe (1)'!B22","v":11},{"$f":"'Gruppe (1)'!C22","v":0},{"$f":"'Gruppe (1)'!D22","v":0},{"$f":"'Gruppe (1)'!E22","v":0},{"$f":"'Gruppe (1)'!F22","v":0},{"$f":"'Gruppe (1)'!G22","v":0},{"$f":"'Gruppe (1)'!H22","v":0}]
[54,14,2,{"$f":"'Gruppe (2)'!B22","v":0},{"$f":"'Gruppe (2)'!C22","v":0},{"$f":"'Gruppe (2)'!D22","v":0},{"$f":"'Gruppe (2)'!E22","v":0},{"$f":"'Gruppe (2)'!F22","v":0},{"$f":"'Gruppe (2)'!G22","v":0},{"$f":"'Gruppe (2)'!H22","v":0}]
[55,14,3,{"$f":"'Gruppe (3)'!B22","v":0},{"$f":"'Gruppe (3)'!C22","v":0},{"$f":"'Gruppe (3)'!D22","v":0},{"$f":"'Gruppe (3)'!E22","v":0},{"$f":"'Gruppe (3)'!F22","v":0},{"$f":"'Gruppe (3)'!G22","v":0},{"$f":"'Gruppe (3)'!H22","v":0}]
[56,14,4,{"$f":"'Gruppe (4)'!B22","v":0},{"$f":"'Gruppe (4)'!C22","v":0},{"$f":"'Gruppe (4)'!D22","v":0},{"$f":"'Gruppe (4)'!E22","v":0},{"$f":"'Gruppe (4)'!F22","v":0},{"$f":"'Gruppe (4)'!G22","v":0},{"$f":"'Gruppe (4)'!H22","v":0}]
[57,15,1,{"$f":"'Gruppe (1)'!B23","v":11},{"$f":"'Gruppe (1)'!C23","v":0},{"$f":"'Gruppe (1)'!D23","v":0},{"$f":"'Gruppe (1)'!E23","v":0},{"$f":"'Gruppe (1)'!F23","v":0},{"$f":"'Gruppe (1)'!G23","v":0},{"$f":"'Gruppe (1)'!H23","v":0}]
[58,15,2,{"$f":"'Gruppe (2)'!B23","v":0},{"$f":"'Gruppe (2)'!C23","v":0},{"$f":"'Gruppe (2)'!D23","v":0},{"$f":"'Gruppe (2)'!E23","v":0},{"$f":"'Gruppe (2)'!F23","v":0},{"$f":"'Gruppe (2)'!G23","v":0},{"$f":"'Gruppe (2)'!H23","v":0}]
[59,15,3,{"$f":"'Gruppe (3)'!B23","v":0},{"$f":"'Gruppe (3)'!C23","v":0},{"$f":"'Gruppe (3)'!D23","v":0},{"$f":"'Gruppe (3)'!E23","v":0},{"$f":"'Gruppe (3)'!F23","v":0},{"$f":"'Gruppe (3)'!G23","v":0},{"$f":"'Gruppe (3)'!H23","v":0}]
[60,15,4,{"$f":"'Gruppe (4)'!B23","v":0},{"$f":"'Gruppe (4)'!C23","v":0},{"$f":"'Gruppe (4)'!D23","v":0},{"$f":"'Gruppe (4)'!E23","v":0},{"$f":"'Gruppe (4)'!F23","v":0},{"$f":"'Gruppe (4)'!G23","v":0},{"$f":"'Gruppe (4)'!H23","v":0}]
[61,16,1,{"$f":"'Gruppe (1)'!B24","v":11},{"$f":"'Gruppe (1)'!C24","v":0},{"$f":"'Gruppe (1)'!D24","v":0},{"$f":"'Gruppe (1)'!E24","v":0},{"$f":"'Gruppe (1)'!F24","v":0},{"$f":"'Gruppe (1)'!G24","v":0},{"$f":"'Gruppe (1)'!H24","v":0}]
[62,16,2,{"$f":"'Gruppe (2)'!B24","v":0},{"$f":"'Gruppe (2)'!C24","v":0},{"$f":"'Gruppe (2)'!D24","v":0},{"$f":"'Gruppe (2)'!E24","v":0},{"$f":"'Gruppe (2)'!F24","v":0},{"$f":"'Gruppe (2)'!G24","v":0},{"$f":"'Gruppe (2)'!H24","v":0}]
[63,16,3,{"$f":"'Gruppe (3)'!B24","v":0},{"$f":"'Gruppe (3)'!C24","v":0},{"$f":"'Gruppe (3)'!D24","v":0},{"$f":"'Gruppe (3)'!E24","v":0},{"$f":"'Gruppe (3)'!F24","v":0},{"$f":"'Gruppe (3)'!G24","v":0},{"$f":"'Gruppe (3)'!H24","v":0}]
[64,16,4,{"$f":"'Gruppe (4)'!B24","v":0},{"$f":"'Gruppe (4)'!C24","v":0},{"$f":"'Gruppe (4)'!D24","v":0},{"$f":"'Gruppe (4)'!E24","v":0},{"$f":"'Gruppe (4)'!F24","v":0},{"$f":"'Gruppe (4)'!G24","v":0},{"$f":"'Gruppe (4)'!H24","v":0}]
[65,17,1,{"$f":"'Gruppe (1)'!B25","v":11},{"$f":"'Gruppe (1)'!C25","v":0},{"$f":"'Gruppe (1)'!D25","v":0},{"$f":"'Gruppe (1)'!E25","v":0},{"$f":"'Gruppe (1)'!F25","v":0},{"$f":"'Gruppe (1)'!G25","v":0},{"$f":"'Gruppe (1)'!H25","v":0}]
[66,17,2,{"$f":"'Gruppe (2)'!B25","v":0},{"$f":"'Gruppe (2)'!C25","v":0},{"$f":"'Gruppe (2)'!D25","v":0},{"$f":"'Gruppe (2)'!E25","v":0},{"$f":"'Gruppe (2)'!F25","v":0},{"$f":"'Gruppe (2)'!G25","v":0},{"$f":"'Gruppe (2)'!H25","v":0}]
[67,17,3,{"$f":"'Gruppe (3)'!B25","v":0},{"$f":"'Gruppe (3)'!C25","v":0},{"$f":"'Gruppe (3)'!D25","v":0},{"$f":"'Gruppe (3)'!E25","v":0},{"$f":"'Gruppe (3)'!F25","v":0},{"$f":"'Gruppe (3)'!G25","v":0},{"$f":"'Gruppe (3)'!H25","v":0}]
[68,17,4,{"$f":"'Gruppe (4)'!B25","v":0},{"$f":"'Gruppe (4)'!C25","v":0},{"$f":"'Gruppe (4)'!D25","v":0},{"$f":"'Gruppe (4)'!E25","v":0},{"$f":"'Gruppe (4)'!F25","v":0},{"$f":"'Gruppe (4)'!G25","v":0},{"$f":"'Gruppe (4)'!H25","v":0}]
[69,18,1,{"$f":"'Gruppe (1)'!B26","v":11},{"$f":"'Gruppe (1)'!C26","v":0},{"$f":"'Gruppe (1)'!D26","v":0},{"$f":"'Gruppe (1)'!E26","v":0},{"$f":"'Gruppe (1)'!F26","v":0},{"$f":"'Gruppe (1)'!G26","v":0},{"$f":"'Gruppe (1)'!H26","v":0}]
[70,18,2,{"$f":"'Gruppe (2)'!B26","v":0},{"$f":"'Gruppe (2)'!C26","v":0},{"$f":"'Gruppe (2)'!D26","v":0},{"$f":"'Gruppe (2)'!E26","v":0},{"$f":"'Gruppe (2)'!F26","v":0},{"$f":"'Gruppe (2)'!G26","v":0},{"$f":"'Gruppe (2)'!H26","v":0}]
[71,18,3,{"$f":"'Gruppe (3)'!B26","v":0},{"$f":"'Gruppe (3)'!C26","v":0},{"$f":"'Gruppe (3)'!D26","v":0},{"$f":"'Gruppe (3)'!E26","v":0},{"$f":"'Gruppe (3)'!F26","v":0},{"$f":"'Gruppe (3)'!G26","v":0},{"$f":"'Gruppe (3)'!H26","v":0}]
[72,18,4,{"$f":"'Gruppe (4)'!B26","v":0},{"$f":"'Gruppe (4)'!C26","v":0},{"$f":"'Gruppe (4)'!D26","v":0},{"$f":"'Gruppe (4)'!E26","v":0},{"$f":"'Gruppe (4)'!F26","v":0},{"$f":"'Gruppe (4)'!G26","v":0},{"$f":"'Gruppe (4)'!H26","v":0}]
[73,19,1,{"$f":"'Gruppe (1)'!B27","v":11},{"$f":"'Gruppe (1)'!C27","v":0},{"$f":"'Gruppe (1)'!D27","v":0},{"$f":"'Gruppe (1)'!E27","v":0},{"$f":"'Gruppe (1)'!F27","v":0},{"$f":"'Gruppe (1)'!G27","v":0},{"$f":"'Gruppe (1)'!H27","v":0}]
[74,19,2,{"$f":"'Gruppe (2)'!B27","v":0},{"$f":"'Gruppe (2)'!C27","v":0},{"$f":"'Gruppe (2)'!D27","v":0},{"$f":"'Gruppe (2)'!E27","v":0},{"$f":"'Gruppe (2)'!F27","v":0},{"$f":"'Gruppe (2)'!G27","v":0},{"$f":"'Gruppe (2)'!H27","v":0}]
[75,19,3,{"$f":"'Gruppe (3)'!B27","v":0},{"$f":"'Gruppe (3)'!C27","v":0},{"$f":"'Gruppe (3)'!D27","v":0},{"$f":"'Gruppe (3)'!E27","v":0},{"$f":"'Gruppe (3)'!F27","v":0},{"$f":"'Gruppe (3)'!G27","v":0},{"$f":"'Gruppe (3)'!H27","v":0}]
[76,19,4,{"$f":"'Gruppe (4)'!B27","v":0},{"$f":"'Gruppe (4)'!C27","v":0},{"$f":"'Gruppe (4)'!D27","v":0},{"$f":"'Gruppe (4)'!E27","v":0},{"$f":"'Gruppe (4)'!F27","v":0},{"$f":"'Gruppe (4)'!G27","v":0},{"$f":"'Gruppe (4)'!H27","v":0}]
[77,20,1,{"$f":"'Gruppe (1)'!B28","v":11},{"$f":"'Gruppe (1)'!C28","v":0},{"$f":"'Gruppe (1)'!D28","v":0},{"$f":"'Gruppe (1)'!E28","v":0},{"$f":"'Gruppe (1)'!F28","v":0},{"$f":"'Gruppe (1)'!G28","v":0},{"$f":"'Gruppe (1)'!H28","v":0}]
[78,20,2,{"$f":"'Gruppe (2)'!B28","v":0},{"$f":"'Gruppe (2)'!C28","v":0},{"$f":"'Gruppe (2)'!D28","v":0},{"$f":"'Gruppe (2)'!E28","v":0},{"$f":"'Gruppe (2)'!F28","v":0},{"$f":"'Gruppe (2)'!G28","v":0},{"$f":"'Gruppe (2)'!H28","v":0}]
[79,20,3,{"$f":"'Gruppe (3)'!B28","v":0},{"$f":"'Gruppe (3)'!C28","v":0},{"$f":"'Gruppe (3)'!D28","v":0},{"$f":"'Gruppe (3)'!E28","v":0},{"$f":"'Gruppe (3)'!F28","v":0},{"$f":"'Gruppe (3)'!G28","v":0},{"$f":"'Gruppe (3)'!H28","v":0}]
[80,20,4,{"$f":"'Gruppe (4)'!B28","v":0},{"$f":"'Gruppe (4)'!C28","v":0},{"$f":"'Gruppe (4)'!D28","v":0},{"$f":"'Gruppe (4)'!E28","v":0},{"$f":"'Gruppe (4)'!F28","v":0},{"$f":"'Gruppe (4)'!G28","v":0},{"$f":"'Gruppe (4)'!H28","v":0}]
[81,21,1,{"$f":"'Gruppe (1)'!B29","v":11},{"$f":"'Gruppe (1)'!C29","v":0},{"$f":"'Gruppe (1)'!D29","v":0},{"$f":"'Gruppe (1)'!E29","v":0},{"$f":"'Gruppe (1)'!F29","v":0},{"$f":"'Gruppe (1)'!G29","v":0},{"$f":"'Gruppe (1)'!H29","v":0}]
[82,21,2,{"$f":"'Gruppe (2)'!B29","v":0},{"$f":"'Gruppe (2)'!C29","v":0},{"$f":"'Gruppe (2)'!D29","v":0},{"$f":"'Gruppe (2)'!E29","v":0},{"$f":"'Gruppe (2)'!F29","v":0},{"$f":"'Gruppe (2)'!G29","v":0},{"$f":"'Gruppe (2)'!H29","v":0}]
[83,21,3,{"$f":"'Gruppe (3)'!B29","v":0},{"$f":"'Gruppe (3)'!C29","v":0},{"$f":"'Gruppe (3)'!D29","v":0},{"$f":"'Gruppe (3)'!E29","v":0},{"$f":"'Gruppe (3)'!F29","v":0},{"$f":"'Gruppe (3)'!G29","v":0},{"$f":"'Gruppe (3)'!H29","v":0}]
[84,21,4,{"$f":"'Gruppe (4)'!B29","v":0},{"$f":"'Gruppe (4)'!C29","v":0},{"$f":"'Gruppe (4)'!D29","v":0},{"$f":"'Gruppe (4)'!E29","v":0},{"$f":"'Gruppe (4)'!F29","v":0},{"$f":"'Gruppe (4)'!G29","v":0},{"$f":"'Gruppe (4)'!H29","v":0}]
[85,22,1,{"$f":"'Gruppe (1)'!B30","v":11},{"$f":"'Gruppe (1)'!C30","v":0},{"$f":"'Gruppe (1)'!D30","v":0},{"$f":"'Gruppe (1)'!E30","v":0},{"$f":"'Gruppe (1)'!F30","v":0},{"$f":"'Gruppe (1)'!G30","v":0},{"$f":"'Gruppe (1)'!H30","v":0}]
[86,22,2,{"$f":"'Gruppe (2)'!B30","v":0},{"$f":"'Gruppe (2)'!C30","v":0},{"$f":"'Gruppe (2)'!D30","v":0},{"$f":"'Gruppe (2)'!E30","v":0},{"$f":"'Gruppe (2)'!F30","v":0},{"$f":"'Gruppe (2)'!G30","v":0},{"$f":"'Gruppe (2)'!H30","v":0}]
[87,22,3,{"$f":"'Gruppe (3)'!B30","v":0},{"$f":"'Gruppe (3)'!C30","v":0},{"$f":"'Gruppe (3)'!D30","v":0},{"$f":"'Gruppe (3)'!E30","v":0},{"$f":"'Gruppe (3)'!F30","v":0},{"$f":"'Gruppe (3)'!G30","v":0},{"$f":"'Gruppe (3)'!H30","v":0}]
[88,22,4,{"$f":"'Gruppe (4)'!B30","v":0},{"$f":"'Gruppe (4)'!C30","v":0},{"$f":"'Gruppe (4)'!D30","v":0},{"$f":"'Gruppe (4)'!E30","v":0},{"$f":"'Gruppe (4)'!F30","v":0},{"$f":"'Gruppe (4)'!G30","v":0},{"$f":"'Gruppe (4)'!H30","v":0}]
[89,23,1,{"$f":"'Gruppe (1)'!B31","v":11},{"$f":"'Gruppe (1)'!C31","v":0},{"$f":"'Gruppe (1)'!D31","v":0},{"$f":"'Gruppe (1)'!E31","v":0},{"$f":"'Gruppe (1)'!F31","v":0},{"$f":"'Gruppe (1)'!G31","v":0},{"$f":"'Gruppe (1)'!H31","v":0}]
[90,23,2,{"$f":"'Gruppe (2)'!B31","v":0},{"$f":"'Gruppe (2)'!C31","v":0},{"$f":"'Gruppe (2)'!D31","v":0},{"$f":"'Gruppe (2)'!E31","v":0},{"$f":"'Gruppe (2)'!F31","v":0},{"$f":"'Gruppe (2)'!G31","v":0},{"$f":"'Gruppe (2)'!H31","v":0}]
[91,23,3,{"$f":"'Gruppe (3)'!B31","v":0},{"$f":"'Gruppe (3)'!C31","v":0},{"$f":"'Gruppe (3)'!D31","v":0},{"$f":"'Gruppe (3)'!E31","v":0},{"$f":"'Gruppe (3)'!F31","v":0},{"$f":"'Gruppe (3)'!G31","v":0},{"$f":"'Gruppe (3)'!H31","v":0}]
[92,23,4,{"$f":"'Gruppe (4)'!B31","v":0},{"$f":"'Gruppe (4)'!C31","v":0},{"$f":"'Gruppe (4)'!D31","v":0},{"$f":"'Gruppe (4)'!E31","v":0},{"$f":"'Gruppe (4)'!F31","v":0},{"$f":"'Gruppe (4)'!G31","v":0},{"$f":"'Gruppe (4)'!H31","v":0}]
[93,24,1,{"$f":"'Gruppe (1)'!B32","v":11},{"$f":"'Gruppe (1)'!C32","v":0},{"$f":"'Gruppe (1)'!D32","v":0},{"$f":"'Gruppe (1)'!E32","v":0},{"$f":"'Gruppe (1)'!F32","v":0},{"$f":"'Gruppe (1)'!G32","v":0},{"$f":"'Gruppe (1)'!H32","v":0}]
[94,24,2,{"$f":"'Gruppe (2)'!B32","v":0},{"$f":"'Gruppe (2)'!C32","v":0},{"$f":"'Gruppe (2)'!D32","v":0},{"$f":"'Gruppe (2)'!E32","v":0},{"$f":"'Gruppe (2)'!F32","v":0},{"$f":"'Gruppe (2)'!G32","v":0},{"$f":"'Gruppe (2)'!H32","v":0}]
[95,24,3,{"$f":"'Gruppe (3)'!B32","v":0},{"$f":"'Gruppe (3)'!C32","v":0},{"$f":"'Gruppe (3)'!D32","v":0},{"$f":"'Gruppe (3)'!E32","v":0},{"$f":"'Gruppe (3)'!F32","v":0},{"$f":"'Gruppe (3)'!G32","v":0},{"$f":"'Gruppe (3)'!H32","v":0}]
[96,24,4,{"$f":"'Gruppe (4)'!B32","v":0},{"$f":"'Gruppe (4)'!C32","v":0},{"$f":"'Gruppe (4)'!D32","v":0},{"$f":"'Gruppe (4)'!E32","v":0},{"$f":"'Gruppe (4)'!F32","v":0},{"$f":"'Gruppe (4)'!G32","v":0},{"$f":"'Gruppe (4)'!H32","v":0}]
[97,25,1,{"$f":"'Gruppe (1)'!B33","v":11},{"$f":"'Gruppe (1)'!C33","v":0},{"$f":"'Gruppe (1)'!D33","v":0},{"$f":"'Gruppe (1)'!E33","v":0},{"$f":"'Gruppe (1)'!F33","v":0},{"$f":"'Gruppe (1)'!G33","v":0},{"$f":"'Gruppe (1)'!H33","v":0}]
[98,25,2,{"$f":"'Gruppe (2)'!B33","v":0},{"$f":"'Gruppe (2)'!C33","v":0},{"$f":"'Gruppe (2)'!D33","v":0},{"$f":"'Gruppe (2)'!E33","v":0},{"$f":"'Gruppe (2)'!F33","v":0},{"$f":"'Gruppe (2)'!G33","v":0},{"$f":"'Gruppe (2)'!H33","v":0}]
[99,25,3,{"$f":"'Gruppe (3)'!B33","v":0},{"$f":"'Gruppe (3)'!C33","v":0},{"$f":"'Gruppe (3)'!D33","v":0},{"$f":"'Gruppe (3)'!E33","v":0},{"$f":"'Gruppe (3)'!F33","v":0},{"$f":"'Gruppe (3)'!G33","v":0},{"$f":"'Gruppe (3)'!H33","v":0}]
[100,25,4,{"$f":"'Gruppe (4)'!B33","v":0},{"$f":"'Gruppe (4)'!C33","v":0},{"$f":"'Gruppe (4)'!D33","v":0},{"$f":"'Gruppe (4)'!E33","v":0},{"$f":"'Gruppe (4)'!F33","v":0},{"$f":"'Gruppe (4)'!G33","v":0},{"$f":"'Gruppe (4)'!H33","v":0}]
[101,26,1,{"$f":"'Gruppe (1)'!B34","v":11},{"$f":"'Gruppe (1)'!C34","v":0},{"$f":"'Gruppe (1)'!D34","v":0},{"$f":"'Gruppe (1)'!E34","v":0},{"$f":"'Gruppe (1)'!F34","v":0},{"$f":"'Gruppe (1)'!G34","v":0},{"$f":"'Gruppe (1)'!H34","v":0}]
[102,26,2,{"$f":"'Gruppe (2)'!B34","v":0},{"$f":"'Gruppe (2)'!C34","v":0},{"$f":"'Gruppe (2)'!D34","v":0},{"$f":"'Gruppe (2)'!E34","v":0},{"$f":"'Gruppe (2)'!F34","v":0},{"$f":"'Gruppe (2)'!G34","v":0},{"$f":"'Gruppe (2)'!H34","v":0}]
[103,26,3,{"$f":"'Gruppe (3)'!B34","v":0},{"$f":"'Gruppe (3)'!C34","v":0},{"$f":"'Gruppe (3)'!D34","v":0},{"$f":"'Gruppe (3)'!E34","v":0},{"$f":"'Gruppe (3)'!F34","v":0},{"$f":"'Gruppe (3)'!G34","v":0},{"$f":"'Gruppe (3)'!H34","v":0}]
[104,26,4,{"$f":"'Gruppe (4)'!B34","v":0},{"$f":"'Gruppe (4)'!C34","v":0},{"$f":"'Gruppe (4)'!D34","v":0},{"$f":"'Gruppe (4)'!E34","v":0},{"$f":"'Gruppe (4)'!F34","v":0},{"$f":"'Gruppe (4)'!G34","v":0},{"$f":"'Gruppe (4)'!H34","v":0}]
[105,27,1,{"$f":"'Gruppe (1)'!B35","v":11},{"$f":"'Gruppe (1)'!C35","v":0},{"$f":"'Gruppe (1)'!D35","v":0},{"$f":"'Gruppe (1)'!E35","v":0},{"$f":"'Gruppe (1)'!F35","v":0},{"$f":"'Gruppe (1)'!G35","v":0},{"$f":"'Gruppe (1)'!H35","v":0}]
[106,27,2,{"$f":"'Gruppe (2)'!B35","v":0},{"$f":"'Gruppe (2)'!C35","v":0},{"$f":"'Gruppe (2)'!D35","v":0},{"$f":"'Gruppe (2)'!E35","v":0},{"$f":"'Gruppe (2)'!F35","v":0},{"$f":"'Gruppe (2)'!G35","v":0},{"$f":"'Gruppe (2)'!H35","v":0}]
[107,27,3,{"$f":"'Gruppe (3)'!B35","v":0},{"$f":"'Gruppe (3)'!C35","v":0},{"$f":"'Gruppe (3)'!D35","v":0},{"$f":"'Gruppe (3)'!E35","v":0},{"$f":"'Gruppe (3)'!F35","v":0},{"$f":"'Gruppe (3)'!G35","v":0},{"$f":"'Gruppe (3)'!H35","v":0}]
[108,27,4,{"$f":"'Gruppe (4)'!B35","v":0},{"$f":"'Gruppe (4)'!C35","v":0},{"$f":"'Gruppe (4)'!D35","v":0},{"$f":"'Gruppe (4)'!E35","v":0},{"$f":"'Gruppe (4)'!F35","v":0},{"$f":"'Gruppe (4)'!G35","v":0},{"$f":"'Gruppe (4)'!H35","v":0}]
[109,28,1,{"$f":"'Gruppe (1)'!B36","v":11},{"$f":"'Gruppe (1)'!C36","v":0},{"$f":"'Gruppe (1)'!D36","v":0},{"$f":"'Gruppe (1)'!E36","v":0},{"$f":"'Gruppe (1)'!F36","v":0},{"$f":"'Gruppe (1)'!G36","v":0},{"$f":"'Gruppe (1)'!H36","v":0}]
[110,28,2,{"$f":"'Gruppe (2)'!B36","v":0},{"$f":"'Gruppe (2)'!C36","v":0},{"$f":"'Gruppe (2)'!D36","v":0},{"$f":"'Gruppe (2)'!E36","v":0},{"$f":"'Gruppe (2)'!F36","v":0},{"$f":"'Gruppe (2)'!G36","v":0},{"$f":"'Gruppe (2)'!H36","v":0}]
[111,28,3,{"$f":"'Gruppe (3)'!B36","v":0},{"$f":"'Gruppe (3)'!C36","v":0},{"$f":"'Gruppe (3)'!D36","v":0},{"$f":"'Gruppe (3)'!E36","v":0},{"$f":"'Gruppe (3)'!F36","v":0},{"$f":"'Gruppe (3)'!G36","v":0},{"$f":"'Gruppe (3)'!H36","v":0}]
[112,28,4,{"$f":"'Gruppe (4)'!B36","v":0},{"$f":"'Gruppe (4)'!C36","v":0},{"$f":"'Gruppe (4)'!D36","v":0},{"$f":"'Gruppe (4)'!E36","v":0},{"$f":"'Gruppe (4)'!F36","v":0},{"$f":"'Gruppe (4)'!G36","v":0},{"$f":"'Gruppe (4)'!H36","v":0}]
[113,29,1,{"$f":"'Gruppe (1)'!B37","v":11},{"$f":"'Gruppe (1)'!C37","v":0},{"$f":"'Gruppe (1)'!D37","v":0},{"$f":"'Gruppe (1)'!E37","v":0},{"$f":"'Gruppe (1)'!F37","v":0},{"$f":"'Gruppe (1)'!G37","v":0},{"$f":"'Gruppe (1)'!H37","v":0}]
[114,29,2,{"$f":"'Gruppe (2)'!B37","v":0},{"$f":"'Gruppe (2)'!C37","v":0},{"$f":"'Gruppe (2)'!D37","v":0},{"$f":"'Gruppe (2)'!E37","v":0},{"$f":"'Gruppe (2)'!F37","v":0},{"$f":"'Gruppe (2)'!G37","v":0},{"$f":"'Gruppe (2)'!H37","v":0}]
[115,29,3,{"$f":"'Gruppe (3)'!B37","v":0},{"$f":"'Gruppe (3)'!C37","v":0},{"$f":"'Gruppe (3)'!D37","v":0},{"$f":"'Gruppe (3)'!E37","v":0},{"$f":"'Gruppe (3)'!F37","v":0},{"$f":"'Gruppe (3)'!G37","v":0},{"$f":"'Gruppe (3)'!H37","v":0}]
[116,29,4,{"$f":"'Gruppe (4)'!B37","v":0},{"$f":"'Gruppe (4)'!C37","v":0},{"$f":"'Gruppe (4)'!D37","v":0},{"$f":"'Gruppe (4)'!E37","v":0},{"$f":"'Gruppe (4)'!F37","v":0},{"$f":"'Gruppe (4)'!G37","v":0},{"$f":"'Gruppe (4)'!H37","v":0}]
[117,30,1,{"$f":"'Gruppe (1)'!B38","v":11},{"$f":"'Gruppe (1)'!C38","v":0},{"$f":"'Gruppe (1)'!D38","v":0},{"$f":"'Gruppe (1)'!E38","v":0},{"$f":"'Gruppe (1)'!F38","v":0},{"$f":"'Gruppe (1)'!G38","v":0},{"$f":"'Gruppe (1)'!H38","v":0}]
[118,30,2,{"$f":"'Gruppe (2)'!B38","v":0},{"$f":"'Gruppe (2)'!C38","v":0},{"$f":"'Gruppe (2)'!D38","v":0},{"$f":"'Gruppe (2)'!E38","v":0},{"$f":"'Gruppe (2)'!F38","v":0},{"$f":"'Gruppe (2)'!G38","v":0},{"$f":"'Gruppe (2)'!H38","v":0}]
[119,30,3,{"$f":"'Gruppe (3)'!B38","v":0},{"$f":"'Gruppe (3)'!C38","v":0},{"$f":"'Gruppe (3)'!D38","v":0},{"$f":"'Gruppe (3)'!E38","v":0},{"$f":"'Gruppe (3)'!F38","v":0},{"$f":"'Gruppe (3)'!G38","v":0},{"$f":"'Gruppe (3)'!H38","v":0}]
[120,30,4,{"$f":"'Gruppe (4)'!B38","v":0},{"$f":"'Gruppe (4)'!C38","v":0},{"$f":"'Gruppe (4)'!D38","v":0},{"$f":"'Gruppe (4)'!E38","v":0},{"$f":"'Gruppe (4)'!F38","v":0},{"$f":"'Gruppe (4)'!G38","v":0},{"$f":"'Gruppe (4)'!H38","v":0}]
[121,31,1,{"$f":"'Gruppe (1)'!B39","v":0},{"$f":"'Gruppe (1)'!C39","v":0},{"$f":"'Gruppe (1)'!D39","v":0},{"$f":"'Gruppe (1)'!E39","v":0},{"$f":"'Gruppe (1)'!F39","v":0},{"$f":"'Gruppe (1)'!G39","v":0},{"$f":"'Gruppe (1)'!H39","v":0}]
[122,31,2,{"$f":"'Gruppe (2)'!B39","v":0},{"$f":"'Gruppe (2)'!C39","v":0},{"$f":"'Gruppe (2)'!D39","v":0},{"$f":"'Gruppe (2)'!E39","v":0},{"$f":"'Gruppe (2)'!F39","v":0},{"$f":"'Gruppe (2)'!G39","v":0},{"$f":"'Gruppe (2)'!H39","v":0}]
[123,31,3,{"$f":"'Gruppe (3)'!B39","v":0},{"$f":"'Gruppe (3)'!C39","v":0},{"$f":"'Gruppe (3)'!D39","v":0},{"$f":"'Gruppe (3)'!E39","v":0},{"$f":"'Gruppe (3)'!F39","v":0},{"$f":"'Gruppe (3)'!G39","v":0},{"$f":"'Gruppe (3)'!H39","v":0}]
[124,31,4,{"$f":"'Gruppe (4)'!B39","v":0},{"$f":"'Gruppe (4)'!C39","v":0},{"$f":"'Gruppe (4)'!D39","v":0},{"$f":"'Gruppe (4)'!E39","v":0},{"$f":"'Gruppe (4)'!F39","v":0},{"$f":"'Gruppe (4)'!G39","v":0},{"$f":"'Gruppe (4)'!H39","v":0}]
[125,32,1,{"$f":"'Gruppe (1)'!B40","v":0},{"$f":"'Gruppe (1)'!C40","v":0},{"$f":"'Gruppe (1)'!D40","v":0},{"$f":"'Gruppe (1)'!E40","v":0},{"$f":"'Gruppe (1)'!F40","v":0},{"$f":"'Gruppe (1)'!G40","v":0},{"$f":"'Gruppe (1)'!H40","v":0}]
[126,32,2,{"$f":"'Gruppe (2)'!B40","v":0},{"$f":"'Gruppe (2)'!C40","v":0},{"$f":"'Gruppe (2)'!D40","v":0},{"$f":"'Gruppe (2)'!E40","v":0},{"$f":"'Gruppe (2)'!F40","v":0},{"$f":"'Gruppe (2)'!G40","v":0},{"$f":"'Gruppe (2)'!H40","v":0}]
[127,32,3,{"$f":"'Gruppe (3)'!B40","v":0},{"$f":"'Gruppe (3)'!C40","v":0},{"$f":"'Gruppe (3)'!D40","v":0},{"$f":"'Gruppe (3)'!E40","v":0},{"$f":"'Gruppe (3)'!F40","v":0},{"$f":"'Gruppe (3)'!G40","v":0},{"$f":"'Gruppe (3)'!H40","v":0}]
[128,32,4,{"$f":"'Gruppe (4)'!B40","v":0},{"$f":"'Gruppe (4)'!C40","v":0},{"$f":"'Gruppe (4)'!D40","v":0},{"$f":"'Gruppe (4)'!E40","v":0},{"$f":"'Gruppe (4)'!F40","v":0},{"$f":"'Gruppe (4)'!G40","v":0},{"$f":"'Gruppe (4)'!H40","v":0}]
[129,33,1,{"$f":"'Gruppe (1)'!B41","v":0},{"$f":"'Gruppe (1)'!C41","v":0},{"$f":"'Gruppe (1)'!D41","v":0},{"$f":"'Gruppe (1)'!E41","v":0},{"$f":"'Gruppe (1)'!F41","v":0},{"$f":"'Gruppe (1)'!G41","v":0},{"$f":"'Gruppe (1)'!H41","v":0}]
[130,33,2,{"$f":"'Gruppe (2)'!B41","v":0},{"$f":"'Gruppe (2)'!C41","v":0},{"$f":"'Gruppe (2)'!D41","v":0},{"$f":"'Gruppe (2)'!E41","v":0},{"$f":"'Gruppe (2)'!F41","v":0},{"$f":"'Gruppe (2)'!G41","v":0},{"$f":"'Gruppe (2)'!H41","v":0}]
[131,33,3,{"$f":"'Gruppe (3)'!B41","v":0},{"$f":"'Gruppe (3)'!C41","v":0},{"$f":"'Gruppe (3)'!D41","v":0},{"$f":"'Gruppe (3)'!E41","v":0},{"$f":"'Gruppe (3)'!F41","v":0},{"$f":"'Gruppe (3)'!G41","v":0},{"$f":"'Gruppe (3)'!H41","v":0}]
[132,33,4,{"$f":"'Gruppe (4)'!B41","v":0},{"$f":"'Gruppe (4)'!C41","v":0},{"$f":"'Gruppe (4)'!D41","v":0},{"$f":"'Gruppe (4)'!E41","v":0},{"$f":"'Gruppe (4)'!F41","v":0},{"$f":"'Gruppe (4)'!G41","v":0},{"$f":"'Gruppe (4)'!H41","v":0}]
[133,34,1,{"$f":"'Gruppe (1)'!B42","v":0},{"$f":"'Gruppe (1)'!C42","v":0},{"$f":"'Gruppe (1)'!D42","v":0},{"$f":"'Gruppe (1)'!E42","v":0},{"$f":"'Gruppe (1)'!F42","v":0},{"$f":"'Gruppe (1)'!G42","v":0},{"$f":"'Gruppe (1)'!H42","v":0}]
[134,34,2,{"$f":"'Gruppe (2)'!B42","v":0},{"$f":"'Gruppe (2)'!C42","v":0},{"$f":"'Gruppe (2)'!D42","v":0},{"$f":"'Gruppe (2)'!E42","v":0},{"$f":"'Gruppe (2)'!F42","v":0},{"$f":"'Gruppe (2)'!G42","v":0},{"$f":"'Gruppe (2)'!H42","v":0}]
[135,34,3,{"$f":"'Gruppe (3)'!B42","v":0},{"$f":"'Gruppe (3)'!C42","v":0},{"$f":"'Gruppe (3)'!D42","v":0},{"$f":"'Gruppe (3)'!E42","v":0},{"$f":"'Gruppe (3)'!F42","v":0},{"$f":"'Gruppe (3)'!G42","v":0},{"$f":"'Gruppe (3)'!H42","v":0}]
[136,34,4,{"$f":"'Gruppe (4)'!B42","v":0},{"$f":"'Gruppe (4)'!C42","v":0},{"$f":"'Gruppe (4)'!D42","v":0},{"$f":"'Gruppe (4)'!E42","v":0},{"$f":"'Gruppe (4)'!F42","v":0},{"$f":"'Gruppe (4)'!G42","v":0},{"$f":"'Gruppe (4)'!H42","v":0}]
[137,35,1,{"$f":"'Gruppe (1)'!B43","v":0},{"$f":"'Gruppe (1)'!C43","v":0},{"$f":"'Gruppe (1)'!D43","v":0},{"$f":"'Gruppe (1)'!E43","v":0},{"$f":"'Gruppe (1)'!F43","v":0},{"$f":"'Gruppe (1)'!G43","v":0},{"$f":"'Gruppe (1)'!H43","v":0}]
[138,35,2,{"$f":"'Gruppe (2)'!B43","v":0},{"$f":"'Gruppe (2)'!C43","v":0},{"$f":"'Gruppe (2)'!D43","v":0},{"$f":"'Gruppe (2)'!E43","v":0},{"$f":"'Gruppe (2)'!F43","v":0},{"$f":"'Gruppe (2)'!G43","v":0},{"$f":"'Gruppe (2)'!H43","v":0}]
[139,35,3,{"$f":"'Gruppe (3)'!B43","v":0},{"$f":"'Gruppe (3)'!C43","v":0},{"$f":"'Gruppe (3)'!D43","v":0},{"$f":"'Gruppe (3)'!E43","v":0},{"$f":"'Gruppe (3)'!F43","v":0},{"$f":"'Gruppe (3)'!G43","v":0},{"$f":"'Gruppe (3)'!H43","v":0}]
[140,35,4,{"$f":"'Gruppe (4)'!B43","v":0},{"$f":"'Gruppe (4)'!C43","v":0},{"$f":"'Gruppe (4)'!D43","v":0},{"$f":"'Gruppe (4)'!E43","v":0},{"$f":"'Gruppe (4)'!F43","v":0},{"$f":"'Gruppe (4)'!G43","v":0},{"$f":"'Gruppe (4)'!H43","v":0}]
[141,36,1,{"$f":"'Gruppe (1)'!B44","v":0},{"$f":"'Gruppe (1)'!C44","v":0},{"$f":"'Gruppe (1)'!D44","v":0},{"$f":"'Gruppe (1)'!E44","v":0},{"$f":"'Gruppe (1)'!F44","v":0},{"$f":"'Gruppe (1)'!G44","v":0},{"$f":"'Gruppe (1)'!H44","v":0}]
[142,36,2,{"$f":"'Gruppe (2)'!B44","v":0},{"$f":"'Gruppe (2)'!C44","v":0},{"$f":"'Gruppe (2)'!D44","v":0},{"$f":"'Gruppe (2)'!E44","v":0},{"$f":"'Gruppe (2)'!F44","v":0},{"$f":"'Gruppe (2)'!G44","v":0},{"$f":"'Gruppe (2)'!H44","v":0}]
[143,36,3,{"$f":"'Gruppe (3)'!B44","v":0},{"$f":"'Gruppe (3)'!C44","v":0},{"$f":"'Gruppe (3)'!D44","v":0},{"$f":"'Gruppe (3)'!E44","v":0},{"$f":"'Gruppe (3)'!F44","v":0},{"$f":"'Gruppe (3)'!G44","v":0},{"$f":"'Gruppe (3)'!H44","v":0}]
[144,36,4,{"$f":"'Gruppe (4)'!B44","v":0},{"$f":"'Gruppe (4)'!C44","v":0},{"$f":"'Gruppe (4)'!D44","v":0},{"$f":"'Gruppe (4)'!E44","v":0},{"$f":"'Gruppe (4)'!F44","v":0},{"$f":"'Gruppe (4)'!G44","v":0},{"$f":"'Gruppe (4)'!H44","v":0}]
[145,37,1,{"$f":"'Gruppe (1)'!B45","v":0},{"$f":"'Gruppe (1)'!C45","v":0},{"$f":"'Gruppe (1)'!D45","v":0},{"$f":"'Gruppe (1)'!E45","v":0},{"$f":"'Gruppe (1)'!F45","v":0},{"$f":"'Gruppe (1)'!G45","v":0},{"$f":"'Gruppe (1)'!H45","v":0}]
[146,37,2,{"$f":"'Gruppe (2)'!B45","v":0},{"$f":"'Gruppe (2)'!C45","v":0},{"$f":"'Gruppe (2)'!D45","v":0},{"$f":"'Gruppe (2)'!E45","v":0},{"$f":"'Gruppe (2)'!F45","v":0},{"$f":"'Gruppe (2)'!G45","v":0},{"$f":"'Gruppe (2)'!H45","v":0}]
[147,37,3,{"$f":"'Gruppe (3)'!B45","v":0},{"$f":"'Gruppe (3)'!C45","v":0},{"$f":"'Gruppe (3)'!D45","v":0},{"$f":"'Gruppe (3)'!E45","v":0},{"$f":"'Gruppe (3)'!F45","v":0},{"$f":"'Gruppe (3)'!G45","v":0},{"$f":"'Gruppe (3)'!H45","v":0}]
[148,37,4,{"$f":"'Gruppe (4)'!B45","v":0},{"$f":"'Gruppe (4)'!C45","v":0},{"$f":"'Gruppe (4)'!D45","v":0},{"$f":"'Gruppe (4)'!E45","v":0},{"$f":"'Gruppe (4)'!F45","v":0},{"$f":"'Gruppe (4)'!G45","v":0},{"$f":"'Gruppe (4)'!H45","v":0}]
[149,38,1,{"$f":"'Gruppe (1)'!B46","v":0},{"$f":"'Gruppe (1)'!C46","v":0},{"$f":"'Gruppe (1)'!D46","v":0},{"$f":"'Gruppe (1)'!E46","v":0},{"$f":"'Gruppe (1)'!F46","v":0},{"$f":"'Gruppe (1)'!G46","v":0},{"$f":"'Gruppe (1)'!H46","v":0}]
[150,38,2,{"$f":"'Gruppe (2)'!B46","v":0},{"$f":"'Gruppe (2)'!C46","v":0},{"$f":"'Gruppe (2)'!D46","v":0},{"$f":"'Gruppe (2)'!E46","v":0},{"$f":"'Gruppe (2)'!F46","v":0},{"$f":"'Gruppe (2)'!G46","v":0},{"$f":"'Gruppe (2)'!H46","v":0}]
[151,38,3,{"$f":"'Gruppe (3)'!B46","v":0},{"$f":"'Gruppe (3)'!C46","v":0},{"$f":"'Gruppe (3)'!D46","v":0},{"$f":"'Gruppe (3)'!E46","v":0},{"$f":"'Gruppe (3)'!F46","v":0},{"$f":"'Gruppe (3)'!G46","v":0},{"$f":"'Gruppe (3)'!H46","v":0}]
[152,38,4,{"$f":"'Gruppe (4)'!B46","v":0},{"$f":"'Gruppe (4)'!C46","v":0},{"$f":"'Gruppe (4)'!D46","v":0},{"$f":"'Gruppe (4)'!E46","v":0},{"$f":"'Gruppe (4)'!F46","v":0},{"$f":"'Gruppe (4)'!G46","v":0},{"$f":"'Gruppe (4)'!H46","v":0}]
[153,39,1,{"$f":"'Gruppe (1)'!B47","v":0},{"$f":"'Gruppe (1)'!C47","v":0},{"$f":"'Gruppe (1)'!D47","v":0},{"$f":"'Gruppe (1)'!E47","v":0},{"$f":"'Gruppe (1)'!F47","v":0},{"$f":"'Gruppe (1)'!G47","v":0},{"$f":"'Gruppe (1)'!H47","v":0}]
[154,39,2,{"$f":"'Gruppe (2)'!B47","v":0},{"$f":"'Gruppe (2)'!C47","v":0},{"$f":"'Gruppe (2)'!D47","v":0},{"$f":"'Gruppe (2)'!E47","v":0},{"$f":"'Gruppe (2)'!F47","v":0},{"$f":"'Gruppe (2)'!G47","v":0},{"$f":"'Gruppe (2)'!H47","v":0}]
[155,39,3,{"$f":"'Gruppe (3)'!B47","v":0},{"$f":"'Gruppe (3)'!C47","v":0},{"$f":"'Gruppe (3)'!D47","v":0},{"$f":"'Gruppe (3)'!E47","v":0},{"$f":"'Gruppe (3)'!F47","v":0},{"$f":"'Gruppe (3)'!G47","v":0},{"$f":"'Gruppe (3)'!H47","v":0}]
[156,39,4,{"$f":"'Gruppe (4)'!B47","v":0},{"$f":"'Gruppe (4)'!C47","v":0},{"$f":"'Gruppe (4)'!D47","v":0},{"$f":"'Gruppe (4)'!E47","v":0},{"$f":"'Gruppe (4)'!F47","v":0},{"$f":"'Gruppe (4)'!G47","v":0},{"$f":"'Gruppe (4)'!H47","v":0}]
[157,40,1,{"$f":"'Gruppe (1)'!B48","v":0},{"$f":"'Gruppe (1)'!C48","v":0},{"$f":"'Gruppe (1)'!D48","v":0},{"$f":"'Gruppe (1)'!E48","v":0},{"$f":"'Gruppe (1)'!F48","v":0},{"$f":"'Gruppe (1)'!G48","v":0},{"$f":"'Gruppe (1)'!H48","v":0}]
[158,40,2,{"$f":"'Gruppe (2)'!B48","v":0},{"$f":"'Gruppe (2)'!C48","v":0},{"$f":"'Gruppe (2)'!D48","v":0},{"$f":"'Gruppe (2)'!E48","v":0},{"$f":"'Gruppe (2)'!F48","v":0},{"$f":"'Gruppe (2)'!G48","v":0},{"$f":"'Gruppe (2)'!H48","v":0}]
[159,40,3,{"$f":"'Gruppe (3)'!B48","v":0},{"$f":"'Gruppe (3)'!C48","v":0},{"$f":"'Gruppe (3)'!D48","v":0},{"$f":"'Gruppe (3)'!E48","v":0},{"$f":"'Gruppe (3)'!F48","v":0},{"$f":"'Gruppe (3)'!G48","v":0},{"$f":"'Gruppe (3)'!H48","v":0}]
[160,40,4,{"$f":"'Gruppe (4)'!B48","v":0},{"$f":"'Gruppe (4)'!C48","v":0},{"$f":"'Gruppe (4)'!D48","v":0},{"$f":"'Gruppe (4)'!E48","v":0},{"$f":"'Gruppe (4)'!F48","v":0},{"$f":"'Gruppe (4)'!G48","v":0},{"$f":"'Gruppe (4)'!H48","v":0}]
[161,41,1,{"$f":"'Gruppe (1)'!B49","v":0},{"$f":"'Gruppe (1)'!C49","v":0},{"$f":"'Gruppe (1)'!D49","v":0},{"$f":"'Gruppe (1)'!E49","v":0},{"$f":"'Gruppe (1)'!F49","v":0},{"$f":"'Gruppe (1)'!G49","v":0},{"$f":"'Gruppe (1)'!H49","v":0}]
[162,41,2,{"$f":"'Gruppe (2)'!B49","v":0},{"$f":"'Gruppe (2)'!C49","v":0},{"$f":"'Gruppe (2)'!D49","v":0},{"$f":"'Gruppe (2)'!E49","v":0},{"$f":"'Gruppe (2)'!F49","v":0},{"$f":"'Gruppe (2)'!G49","v":0},{"$f":"'Gruppe (2)'!H49","v":0}]
[163,41,3,{"$f":"'Gruppe (3)'!B49","v":0},{"$f":"'Gruppe (3)'!C49","v":0},{"$f":"'Gruppe (3)'!D49","v":0},{"$f":"'Gruppe (3)'!E49","v":0},{"$f":"'Gruppe (3)'!F49","v":0},{"$f":"'Gruppe (3)'!G49","v":0},{"$f":"'Gruppe (3)'!H49","v":0}]
[164,41,4,{"$f":"'Gruppe (4)'!B49","v":0},{"$f":"'Gruppe (4)'!C49","v":0},{"$f":"'Gruppe (4)'!D49","v":0},{"$f":"'Gruppe (4)'!E49","v":0},{"$f":"'Gruppe (4)'!F49","v":0},{"$f":"'Gruppe (4)'!G49","v":0},{"$f":"'Gruppe (4)'!H49","v":0}]
[165,42,1,{"$f":"'Gruppe (1)'!B50","v":0},{"$f":"'Gruppe (1)'!C50","v":0},{"$f":"'Gruppe (1)'!D50","v":0},{"$f":"'Gruppe (1)'!E50","v":0},{"$f":"'Gruppe (1)'!F50","v":0},{"$f":"'Gruppe (1)'!G50","v":0},{"$f":"'Gruppe (1)'!H50","v":0}]
[166,42,2,{"$f":"'Gruppe (2)'!B50","v":0},{"$f":"'Gruppe (2)'!C50","v":0},{"$f":"'Gruppe (2)'!D50","v":0},{"$f":"'Gruppe (2)'!E50","v":0},{"$f":"'Gruppe (2)'!F50","v":0},{"$f":"'Gruppe (2)'!G50","v":0},{"$f":"'Gruppe (2)'!H50","v":0}]
[167,42,3,{"$f":"'Gruppe (3)'!B50","v":0},{"$f":"'Gruppe (3)'!C50","v":0},{"$f":"'Gruppe (3)'!D50","v":0},{"$f":"'Gruppe (3)'!E50","v":0},{"$f":"'Gruppe (3)'!F50","v":0},{"$f":"'Gruppe (3)'!G50","v":0},{"$f":"'Gruppe (3)'!H50","v":0}]
[168,42,4,{"$f":"'Gruppe (4)'!B50","v":0},{"$f":"'Gruppe (4)'!C50","v":0},{"$f":"'Gruppe (4)'!D50","v":0},{"$f":"'Gruppe (4)'!E50","v":0},{"$f":"'Gruppe (4)'!F50","v":0},{"$f":"'Gruppe (4)'!G50","v":0},{"$f":"'Gruppe (4)'!H50","v":0}]
[169,43,1,{"$f":"'Gruppe (1)'!B51","v":0},{"$f":"'Gruppe (1)'!C51","v":0},{"$f":"'Gruppe (1)'!D51","v":0},{"$f":"'Gruppe (1)'!E51","v":0},{"$f":"'Gruppe (1)'!F51","v":0},{"$f":"'Gruppe (1)'!G51","v":0},{"$f":"'Gruppe (1)'!H51","v":0}]
[170,43,2,{"$f":"'Gruppe (2)'!B51","v":0},{"$f":"'Gruppe (2)'!C51","v":0},{"$f":"'Gruppe (2)'!D51","v":0},{"$f":"'Gruppe (2)'!E51","v":0},{"$f":"'Gruppe (2)'!F51","v":0},{"$f":"'Gruppe (2)'!G51","v":0},{"$f":"'Gruppe (2)'!H51","v":0}]
[171,43,3,{"$f":"'Gruppe (3)'!B51","v":0},{"$f":"'Gruppe (3)'!C51","v":0},{"$f":"'Gruppe (3)'!D51","v":0},{"$f":"'Gruppe (3)'!E51","v":0},{"$f":"'Gruppe (3)'!F51","v":0},{"$f":"'Gruppe (3)'!G51","v":0},{"$f":"'Gruppe (3)'!H51","v":0}]
[172,43,4,{"$f":"'Gruppe (4)'!B51","v":0},{"$f":"'Gruppe (4)'!C51","v":0},{"$f":"'Gruppe (4)'!D51","v":0},{"$f":"'Gruppe (4)'!E51","v":0},{"$f":"'Gruppe (4)'!F51","v":0},{"$f":"'Gruppe (4)'!G51","v":0},{"$f":"'Gruppe (4)'!H51","v":0}]
[173,44,1,{"$f":"'Gruppe (1)'!B52","v":0},{"$f":"'Gruppe (1)'!C52","v":0},{"$f":"'Gruppe (1)'!D52","v":0},{"$f":"'Gruppe (1)'!E52","v":0},{"$f":"'Gruppe (1)'!F52","v":0},{"$f":"'Gruppe (1)'!G52","v":0},{"$f":"'Gruppe (1)'!H52","v":0}]
[174,44,2,{"$f":"'Gruppe (2)'!B52","v":0},{"$f":"'Gruppe (2)'!C52","v":0},{"$f":"'Gruppe (2)'!D52","v":0},{"$f":"'Gruppe (2)'!E52","v":0},{"$f":"'Gruppe (2)'!F52","v":0},{"$f":"'Gruppe (2)'!G52","v":0},{"$f":"'Gruppe (2)'!H52","v":0}]
[175,44,3,{"$f":"'Gruppe (3)'!B52","v":0},{"$f":"'Gruppe (3)'!C52","v":0},{"$f":"'Gruppe (3)'!D52","v":0},{"$f":"'Gruppe (3)'!E52","v":0},{"$f":"'Gruppe (3)'!F52","v":0},{"$f":"'Gruppe (3)'!G52","v":0},{"$f":"'Gruppe (3)'!H52","v":0}]
[176,44,4,{"$f":"'Gruppe (4)'!B52","v":0},{"$f":"'Gruppe (4)'!C52","v":0},{"$f":"'Gruppe (4)'!D52","v":0},{"$f":"'Gruppe (4)'!E52","v":0},{"$f":"'Gruppe (4)'!F52","v":0},{"$f":"'Gruppe (4)'!G52","v":0},{"$f":"'Gruppe (4)'!H52","v":0}]
[177,45,1,{"$f":"'Gruppe (1)'!B53","v":0},{"$f":"'Gruppe (1)'!C53","v":0},{"$f":"'Gruppe (1)'!D53","v":0},{"$f":"'Gruppe (1)'!E53","v":0},{"$f":"'Gruppe (1)'!F53","v":0},{"$f":"'Gruppe (1)'!G53","v":0},{"$f":"'Gruppe (1)'!H53","v":0}]
[178,45,2,{"$f":"'Gruppe (2)'!B53","v":0},{"$f":"'Gruppe (2)'!C53","v":0},{"$f":"'Gruppe (2)'!D53","v":0},{"$f":"'Gruppe (2)'!E53","v":0},{"$f":"'Gruppe (2)'!F53","v":0},{"$f":"'Gruppe (2)'!G53","v":0},{"$f":"'Gruppe (2)'!H53","v":0}]
[179,45,3,{"$f":"'Gruppe (3)'!B53","v":0},{"$f":"'Gruppe (3)'!C53","v":0},{"$f":"'Gruppe (3)'!D53","v":0},{"$f":"'Gruppe (3)'!E53","v":0},{"$f":"'Gruppe (3)'!F53","v":0},{"$f":"'Gruppe (3)'!G53","v":0},{"$f":"'Gruppe (3)'!H53","v":0}]
[180,45,4,{"$f":"'Gruppe (4)'!B53","v":0},{"$f":"'Gruppe (4)'!C53","v":0},{"$f":"'Gruppe (4)'!D53","v":0},{"$f":"'Gruppe (4)'!E53","v":0},{"$f":"'Gruppe (4)'!F53","v":0},{"$f":"'Gruppe (4)'!G53","v":0},{"$f":"'Gruppe (4)'!H53","v":0}]
[181,46,1,{"$f":"'Gruppe (1)'!B59","v":0},{"$f":"'Gruppe (1)'!C59","v":0},{"$f":"'Gruppe (1)'!D59","v":0},{"$f":"'Gruppe (1)'!E59","v":0},{"$f":"'Gruppe (1)'!F59","v":0},{"$f":"'Gruppe (1)'!G59","v":0},{"$f":"'Gruppe (1)'!H59","v":0}]
[182,46,2,{"$f":"'Gruppe (2)'!B59","v":0},{"$f":"'Gruppe (2)'!C59","v":0},{"$f":"'Gruppe (2)'!D59","v":0},{"$f":"'Gruppe (2)'!E59","v":0},{"$f":"'Gruppe (2)'!F59","v":0},{"$f":"'Gruppe (2)'!G59","v":0},{"$f":"'Gruppe (2)'!H59","v":0}]
[183,46,3,{"$f":"'Gruppe (3)'!B59","v":0},{"$f":"'Gruppe (3)'!C59","v":0},{"$f":"'Gruppe (3)'!D59","v":0},{"$f":"'Gruppe (3)'!E59","v":0},{"$f":"'Gruppe (3)'!F59","v":0},{"$f":"'Gruppe (3)'!G59","v":0},{"$f":"'Gruppe (3)'!H59","v":0}]
[184,46,4,{"$f":"'Gruppe (4)'!B54","v":0},{"$f":"'Gruppe (4)'!C54","v":0},{"$f":"'Gruppe (4)'!D54","v":0},{"$f":"'Gruppe (4)'!E54","v":0},{"$f":"'Gruppe (4)'!F54","v":0},{"$f":"'Gruppe (4)'!G54","v":0},{"$f":"'Gruppe (4)'!H54","v":0}]
[185,47,1,{"$f":"'Gruppe (1)'!B60","v":0},{"$f":"'Gruppe (1)'!C60","v":0},{"$f":"'Gruppe (1)'!D60","v":0},{"$f":"'Gruppe (1)'!E60","v":0},{"$f":"'Gruppe (1)'!F60","v":0},{"$f":"'Gruppe (1)'!G60","v":0},{"$f":"'Gruppe (1)'!H60","v":0}]
[186,47,2,{"$f":"'Gruppe (2)'!B60","v":0},{"$f":"'Gruppe (2)'!C60","v":0},{"$f":"'Gruppe (2)'!D60","v":0},{"$f":"'Gruppe (2)'!E60","v":0},{"$f":"'Gruppe (2)'!F60","v":0},{"$f":"'Gruppe (2)'!G60","v":0},{"$f":"'Gruppe (2)'!H60","v":0}]
[187,47,3,{"$f":"'Gruppe (3)'!B60","v":0},{"$f":"'Gruppe (3)'!C60","v":0},{"$f":"'Gruppe (3)'!D60","v":0},{"$f":"'Gruppe (3)'!E60","v":0},{"$f":"'Gruppe (3)'!F60","v":0},{"$f":"'Gruppe (3)'!G60","v":0},{"$f":"'Gruppe (3)'!H60","v":0}]
[188,47,4,{"$f":"'Gruppe (4)'!B55","v":0},{"$f":"'Gruppe (4)'!C55","v":0},{"$f":"'Gruppe (4)'!D55","v":0},{"$f":"'Gruppe (4)'!E55","v":0},{"$f":"'Gruppe (4)'!F55","v":0},{"$f":"'Gruppe (4)'!G55","v":0},{"$f":"'Gruppe (4)'!H55","v":0}]
[189,48,1,{"$f":"'Gruppe (1)'!B61","v":0},{"$f":"'Gruppe (1)'!C61","v":0},{"$f":"'Gruppe (1)'!D61","v":0},{"$f":"'Gruppe (1)'!E61","v":0},{"$f":"'Gruppe (1)'!F61","v":0},{"$f":"'Gruppe (1)'!G61","v":0},{"$f":"'Gruppe (1)'!H61","v":0}]
[190,48,2,{"$f":"'Gruppe (2)'!B61","v":0},{"$f":"'Gruppe (2)'!C61","v":0},{"$f":"'Gruppe (2)'!D61","v":0},{"$f":"'Gruppe (2)'!E61","v":0},{"$f":"'Gruppe (2)'!F61","v":0},{"$f":"'Gruppe (2)'!G61","v":0},{"$f":"'Gruppe (2)'!H61","v":0}]
[191,48,3,{"$f":"'Gruppe (3)'!B61","v":0},{"$f":"'Gruppe (3)'!C61","v":0},{"$f":"'Gruppe (3)'!D61","v":0},{"$f":"'Gruppe (3)'!E61","v":0},{"$f":"'Gruppe (3)'!F61","v":0},{"$f":"'Gruppe (3)'!G61","v":0},{"$f":"'Gruppe (3)'!H61","v":0}]
[192,48,4,{"$f":"'Gruppe (4)'!B56","v":0},{"$f":"'Gruppe (4)'!C56","v":0},{"$f":"'Gruppe (4)'!D56","v":0},{"$f":"'Gruppe (4)'!E56","v":0},{"$f":"'Gruppe (4)'!F56","v":0},{"$f":"'Gruppe (4)'!G56","v":0},{"$f":"'Gruppe (4)'!H56","v":0}]
[193,49,1,{"$f":"'Gruppe (1)'!B62","v":0},{"$f":"'Gruppe (1)'!C62","v":0},{"$f":"'Gruppe (1)'!D62","v":0},{"$f":"'Gruppe (1)'!E62","v":0},{"$f":"'Gruppe (1)'!F62","v":0},{"$f":"'Gruppe (1)'!G62","v":0},{"$f":"'Gruppe (1)'!H62","v":0}]
[194,49,2,{"$f":"'Gruppe (2)'!B62","v":0},{"$f":"'Gruppe (2)'!C62","v":0},{"$f":"'Gruppe (2)'!D62","v":0},{"$f":"'Gruppe (2)'!E62","v":0},{"$f":"'Gruppe (2)'!F62","v":0},{"$f":"'Gruppe (2)'!G62","v":0},{"$f":"'Gruppe (2)'!H62","v":0}]
[195,49,3,{"$f":"'Gruppe (3)'!B62","v":0},{"$f":"'Gruppe (3)'!C62","v":0},{"$f":"'Gruppe (3)'!D62","v":0},{"$f":"'Gruppe (3)'!E62","v":0},{"$f":"'Gruppe (3)'!F62","v":0},{"$f":"'Gruppe (3)'!G62","v":0},{"$f":"'Gruppe (3)'!H62","v":0}]
[196,49,4,{"$f":"'Gruppe (4)'!B57","v":0},{"$f":"'Gruppe (4)'!C57","v":0},{"$f":"'Gruppe (4)'!D57","v":0},{"$f":"'Gruppe (4)'!E57","v":0},{"$f":"'Gruppe (4)'!F57","v":0},{"$f":"'Gruppe (4)'!G57","v":0},{"$f":"'Gruppe (4)'!H57","v":0}]
[197,50,1,{"$f":"'Gruppe (1)'!B63","v":0},{"$f":"'Gruppe (1)'!C63","v":0},{"$f":"'Gruppe (1)'!D63","v":0},{"$f":"'Gruppe (1)'!E63","v":0},{"$f":"'Gruppe (1)'!F63","v":0},{"$f":"'Gruppe (1)'!G63","v":0},{"$f":"'Gruppe (1)'!H63","v":0}]
[198,50,2,{"$f":"'Gruppe (2)'!B63","v":0},{"$f":"'Gruppe (2)'!C63","v":0},{"$f":"'Gruppe (2)'!D63","v":0},{"$f":"'Gruppe (2)'!E63","v":0},{"$f":"'Gruppe (2)'!F63","v":0},{"$f":"'Gruppe (2)'!G63","v":0},{"$f":"'Gruppe (2)'!H63","v":0}]
[199,50,3,{"$f":"'Gruppe (3)'!B63","v":0},{"$f":"'Gruppe (3)'!C63","v":0},{"$f":"'Gruppe (3)'!D63","v":0},{"$f":"'Gruppe (3)'!E63","v":0},{"$f":"'Gruppe (3)'!F63","v":0},{"$f":"'Gruppe (3)'!G63","v":0},{"$f":"'Gruppe (3)'!H63","v":0}]
[200,50,4,{"$f":"'Gruppe (4)'!B58","v":0},{"$f":"'Gruppe (4)'!C58","v":0},{"$f":"'Gruppe (4)'!D58","v":0},{"$f":"'Gruppe (4)'!E58","v":0},{"$f":"'Gruppe (4)'!F58","v":0},{"$f":"'Gruppe (4)'!G58","v":0},{"$f":"'Gruppe (4)'!H58","v":0}]

{"sheet":"Spieler (namentlich)","index":3,"n_rows":201,"n_cols":10,"rows_kept":201,"cut":false,"hidden":false,"merged":[]}
["Start-Nr.:","1.Se","Pl.","VG","Name, Vorname","Verein","H","Einzel","Tandem","Mixed"]
[1,1,1,{"$f":"'Gruppe (1)'!B9","v":11},{"$f":"'Gruppe (1)'!C9","v":0},{"$f":"'Gruppe (1)'!D9","v":0},{"$f":"'Gruppe (1)'!E9","v":0},{"$f":"'Gruppe (1)'!F9","v":0},{"$f":"'Gruppe (1)'!G9","v":0},{"$f":"'Gruppe (1)'!H9","v":0}]
[2,1,2,{"$f":"'Gruppe (2)'!B9","v":0},{"$f":"'Gruppe (2)'!C9","v":0},{"$f":"'Gruppe (2)'!D9","v":0},{"$f":"'Gruppe (2)'!E9","v":0},{"$f":"'Gruppe (2)'!F9","v":0},{"$f":"'Gruppe (2)'!G9","v":0},{"$f":"'Gruppe (2)'!H9","v":0}]
[3,1,3,{"$f":"'Gruppe (3)'!B9","v":0},{"$f":"'Gruppe (3)'!C9","v":0},{"$f":"'Gruppe (3)'!D9","v":0},{"$f":"'Gruppe (3)'!E9","v":0},{"$f":"'Gruppe (3)'!F9","v":0},{"$f":"'Gruppe (3)'!G9","v":0},{"$f":"'Gruppe (3)'!H9","v":0}]
[4,1,4,{"$f":"'Gruppe (4)'!B9","v":0},{"$f":"'Gruppe (4)'!C9","v":0},{"$f":"'Gruppe (4)'!D9","v":0},{"$f":"'Gruppe (4)'!E9","v":0},{"$f":"'Gruppe (4)'!F9","v":0},{"$f":"'Gruppe (4)'!G9","v":0},{"$f":"'Gruppe (4)'!H9","v":0}]
[5,2,1,{"$f":"'Gruppe (1)'!B10","v":11},{"$f":"'Gruppe (1)'!C10","v":0},{"$f":"'Gruppe (1)'!D10","v":0},{"$f":"'Gruppe (1)'!E10","v":0},{"$f":"'Gruppe (1)'!F10","v":0},{"$f":"'Gruppe (1)'!G10","v":0},{"$f":"'Gruppe (1)'!H10","v":0}]
[6,2,2,{"$f":"'Gruppe (2)'!B10","v":0},{"$f":"'Gruppe (2)'!C10","v":0},{"$f":"'Gruppe (2)'!D10","v":0},{"$f":"'Gruppe (2)'!E10","v":0},{"$f":"'Gruppe (2)'!F10","v":0},{"$f":"'Gruppe (2)'!G10","v":0},{"$f":"'Gruppe (2)'!H10","v":0}]
[7,2,3,{"$f":"'Gruppe (3)'!B10","v":0},{"$f":"'Gruppe (3)'!C10","v":0},{"$f":"'Gruppe (3)'!D10","v":0},{"$f":"'Gruppe (3)'!E10","v":0},{"$f":"'Gruppe (3)'!F10","v":0},{"$f":"'Gruppe (3)'!G10","v":0},{"$f":"'Gruppe (3)'!H10","v":0}]
[8,2,4,{"$f":"'Gruppe (4)'!B10","v":0},{"$f":"'Gruppe (4)'!C10","v":0},{"$f":"'Gruppe (4)'!D10","v":0},{"$f":"'Gruppe (4)'!E10","v":0},{"$f":"'Gruppe (4)'!F10","v":0},{"$f":"'Gruppe (4)'!G10","v":0},{"$f":"'Gruppe (4)'!H10","v":0}]
[9,3,1,{"$f":"'Gruppe (1)'!B11","v":11},{"$f":"'Gruppe (1)'!C11","v":0},{"$f":"'Gruppe (1)'!D11","v":0},{"$f":"'Gruppe (1)'!E11","v":0},{"$f":"'Gruppe (1)'!F11","v":0},{"$f":"'Gruppe (1)'!G11","v":0},{"$f":"'Gruppe (1)'!H11","v":0}]
[10,3,2,{"$f":"'Gruppe (2)'!B11","v":0},{"$f":"'Gruppe (2)'!C11","v":0},{"$f":"'Gruppe (2)'!D11","v":0},{"$f":"'Gruppe (2)'!E11","v":0},{"$f":"'Gruppe (2)'!F11","v":0},{"$f":"'Gruppe (2)'!G11","v":0},{"$f":"'Gruppe (2)'!H11","v":0}]
[11,3,3,{"$f":"'Gruppe (3)'!B11","v":0},{"$f":"'Gruppe (3)'!C11","v":0},{"$f":"'Gruppe (3)'!D11","v":0},{"$f":"'Gruppe (3)'!E11","v":0},{"$f":"'Gruppe (3)'!F11","v":0},{"$f":"'Gruppe (3)'!G11","v":0},{"$f":"'Gruppe (3)'!H11","v":0}]
[12,3,4,{"$f":"'Gruppe (4)'!B11","v":0},{"$f":"'Gruppe (4)'!C11","v":0},{"$f":"'Gruppe (4)'!D11","v":0},{"$f":"'Gruppe (4)'!E11","v":0},{"$f":"'Gruppe (4)'!F11","v":0},{"$f":"'Gruppe (4)'!G11","v":0},{"$f":"'Gruppe (4)'!H11","v":0}]
[13,4,1,{"$f":"'Gruppe (1)'!B12","v":11},{"$f":"'Gruppe (1)'!C12","v":0},{"$f":"'Gruppe (1)'!D12","v":0},{"$f":"'Gruppe (1)'!E12","v":0},{"$f":"'Gruppe (1)'!F12","v":0},{"$f":"'Gruppe (1)'!G12","v":0},{"$f":"'Gruppe (1)'!H12","v":0}]
[14,4,2,{"$f":"'Gruppe (2)'!B12","v":0},{"$f":"'Gruppe (2)'!C12","v":0},{"$f":"'Gruppe (2)'!D12","v":0},{"$f":"'Gruppe (2)'!E12","v":0},{"$f":"'Gruppe (2)'!F12","v":0},{"$f":"'Gruppe (2)'!G12","v":0},{"$f":"'Gruppe (2)'!H12","v":0}]
[15,4,3,{"$f":"'Gruppe (3)'!B12","v":0},{"$f":"'Gruppe (3)'!C12","v":0},{"$f":"'Gruppe (3)'!D12","v":0},{"$f":"'Gruppe (3)'!E12","v":0},{"$f":"'Gruppe (3)'!F12","v":0},{"$f":"'Gruppe (3)'!G12","v":0},{"$f":"'Gruppe (3)'!H12","v":0}]
[16,4,4,{"$f":"'Gruppe (4)'!B12","v":0},{"$f":"'Gruppe (4)'!C12","v":0},{"$f":"'Gruppe (4)'!D12","v":0},{"$f":"'Gruppe (4)'!E12","v":0},{"$f":"'Gruppe (4)'!F12","v":0},{"$f":"'Gruppe (4)'!G12","v":0},{"$f":"'Gruppe (4)'!H12","v":0}]
[17,5,1,{"$f":"'Gruppe (1)'!B13","v":11},{"$f":"'Gruppe (1)'!C13","v":0},{"$f":"'Gruppe (1)'!D13","v":0},{"$f":"'Gruppe (1)'!E13","v":0},{"$f":"'Gruppe (1)'!F13","v":0},{"$f":"'Gruppe (1)'!G13","v":0},{"$f":"'Gruppe (1)'!H13","v":0}]
[18,5,2,{"$f":"'Gruppe (2)'!B13","v":0},{"$f":"'Gruppe (2)'!C13","v":0},{"$f":"'Gruppe (2)'!D13","v":0},{"$f":"'Gruppe (2)'!E13","v":0},{"$f":"'Gruppe (2)'!F13","v":0},{"$f":"'Gruppe (2)'!G13","v":0},{"$f":"'Gruppe (2)'!H13","v":0}]
[19,5,3,{"$f":"'Gruppe (3)'!B13","v":0},{"$f":"'Gruppe (3)'!C13","v":0},{"$f":"'Gruppe (3)'!D13","v":0},{"$f":"'Gruppe (3)'!E13","v":0},{"$f":"'Gruppe (3)'!F13","v":0},{"$f":"'Gruppe (3)'!G13","v":0},{"$f":"'Gruppe (3)'!H13","v":0}]
[20,5,4,{"$f":"'Gruppe (4)'!B13","v":0},{"$f":"'Gruppe (4)'!C13","v":0},{"$f":"'Gruppe (4)'!D13","v":0},{"$f":"'Gruppe (4)'!E13","v":0},{"$f":"'Gruppe (4)'!F13","v":0},{"$f":"'Gruppe (4)'!G13","v":0},{"$f":"'Gruppe (4)'!H13","v":0}]
[21,6,1,{"$f":"'Gruppe (1)'!B14","v":11},{"$f":"'Gruppe (1)'!C14","v":0},{"$f":"'Gruppe (1)'!D14","v":0},{"$f":"'Gruppe (1)'!E14","v":0},{"$f":"'Gruppe (1)'!F14","v":0},{"$f":"'Gruppe (1)'!G14","v":0},{"$f":"'Gruppe (1)'!H14","v":0}]
[22,6,2,{"$f":"'Gruppe (2)'!B14","v":0},{"$f":"'Gruppe (2)'!C14","v":0},{"$f":"'Gruppe (2)'!D14","v":0},{"$f":"'Gruppe (2)'!E14","v":0},{"$f":"'Gruppe (2)'!F14","v":0},{"$f":"'Gruppe (2)'!G14","v":0},{"$f":"'Gruppe (2)'!H14","v":0}]
[23,6,3,{"$f":"'Gruppe (3)'!B14","v":0},{"$f":"'Gruppe (3)'!C14","v":0},{"$f":"'Gruppe (3)'!D14","v":0},{"$f":"'Gruppe (3)'!E14","v":0},{"$f":"'Gruppe (3)'!F14","v":0},{"$f":"'Gruppe (3)'!G14","v":0},{"$f":"'Gruppe (3)'!H14","v":0}]
[24,6,4,{"$f":"'Gruppe (4)'!B14","v":0},{"$f":"'Gruppe (4)'!C14","v":0},{"$f":"'Gruppe (4)'!D14","v":0},{"$f":"'Gruppe (4)'!E14","v":0},{"$f":"'Gruppe (4)'!F14","v":0},{"$f":"'Gruppe (4)'!G14","v":0},{"$f":"'Gruppe (4)'!H14","v":0}]
[25,7,1,{"$f":"'Gruppe (1)'!B15","v":11},{"$f":"'Gruppe (1)'!C15","v":0},{"$f":"'Gruppe (1)'!D15","v":0},{"$f":"'Gruppe (1)'!E15","v":0},{"$f":"'Gruppe (1)'!F15","v":0},{"$f":"'Gruppe (1)'!G15","v":0},{"$f":"'Gruppe (1)'!H15","v":0}]
[26,7,2,{"$f":"'Gruppe (2)'!B15","v":0},{"$f":"'Gruppe (2)'!C15","v":0},{"$f":"'Gruppe (2)'!D15","v":0},{"$f":"'Gruppe (2)'!E15","v":0},{"$f":"'Gruppe (2)'!F15","v":0},{"$f":"'Gruppe (2)'!G15","v":0},{"$f":"'Gruppe (2)'!H15","v":0}]
[27,7,3,{"$f":"'Gruppe (3)'!B15","v":0},{"$f":"'Gruppe (3)'!C15","v":0},{"$f":"'Gruppe (3)'!D15","v":0},{"$f":"'Gruppe (3)'!E15","v":0},{"$f":"'Gruppe (3)'!F15","v":0},{"$f":"'Gruppe (3)'!G15","v":0},{"$f":"'Gruppe (3)'!H15","v":0}]
[28,7,4,{"$f":"'Gruppe (4)'!B15","v":0},{"$f":"'Gruppe (4)'!C15","v":0},{"$f":"'Gruppe (4)'!D15","v":0},{"$f":"'Gruppe (4)'!E15","v":0},{"$f":"'Gruppe (4)'!F15","v":0},{"$f":"'Gruppe (4)'!G15","v":0},{"$f":"'Gruppe (4)'!H15","v":0}]
[29,8,1,{"$f":"'Gruppe (1)'!B16","v":11},{"$f":"'Gruppe (1)'!C16","v":0},{"$f":"'Gruppe (1)'!D16","v":0},{"$f":"'Gruppe (1)'!E16","v":0},{"$f":"'Gruppe (1)'!F16","v":0},{"$f":"'Gruppe (1)'!G16","v":0},{"$f":"'Gruppe (1)'!H16","v":0}]
[30,8,2,{"$f":"'Gruppe (2)'!B16","v":0},{"$f":"'Gruppe (2)'!C16","v":0},{"$f":"'Gruppe (2)'!D16","v":0},{"$f":"'Gruppe (2)'!E16","v":0},{"$f":"'Gruppe (2)'!F16","v":0},{"$f":"'Gruppe (2)'!G16","v":0},{"$f":"'Gruppe (2)'!H16","v":0}]
[31,8,3,{"$f":"'Gruppe (3)'!B16","v":0},{"$f":"'Gruppe (3)'!C16","v":0},{"$f":"'Gruppe (3)'!D16","v":0},{"$f":"'Gruppe (3)'!E16","v":0},{"$f":"'Gruppe (3)'!F16","v":0},{"$f":"'Gruppe (3)'!G16","v":0},{"$f":"'Gruppe (3)'!H16","v":0}]
[32,8,4,{"$f":"'Gruppe (4)'!B16","v":0},{"$f":"'Gruppe (4)'!C16","v":0},{"$f":"'Gruppe (4)'!D16","v":0},{"$f":"'Gruppe (4)'!E16","v":0},{"$f":"'Gruppe (4)'!F16","v":0},{"$f":"'Gruppe (4)'!G16","v":0},{"$f":"'Gruppe (4)'!H16","v":0}]
[33,9,1,{"$f":"'Gruppe (1)'!B17","v":11},{"$f":"'Gruppe (1)'!C17","v":0},{"$f":"'Gruppe (1)'!D17","v":0},{"$f":"'Gruppe (1)'!E17","v":0},{"$f":"'Gruppe (1)'!F17","v":0},{"$f":"'Gruppe (1)'!G17","v":0},{"$f":"'Gruppe (1)'!H17","v":0}]
[34,9,2,{"$f":"'Gruppe (2)'!B17","v":0},{"$f":"'Gruppe (2)'!C17","v":0},{"$f":"'Gruppe (2)'!D17","v":0},{"$f":"'Gruppe (2)'!E17","v":0},{"$f":"'Gruppe (2)'!F17","v":0},{"$f":"'Gruppe (2)'!G17","v":0},{"$f":"'Gruppe (2)'!H17","v":0}]
[35,9,3,{"$f":"'Gruppe (3)'!B17","v":0},{"$f":"'Gruppe (3)'!C17","v":0},{"$f":"'Gruppe (3)'!D17","v":0},{"$f":"'Gruppe (3)'!E17","v":0},{"$f":"'Gruppe (3)'!F17","v":0},{"$f":"'Gruppe (3)'!G17","v":0},{"$f":"'Gruppe (3)'!H17","v":0}]
[36,9,4,{"$f":"'Gruppe (4)'!B17","v":0},{"$f":"'Gruppe (4)'!C17","v":0},{"$f":"'Gruppe (4)'!D17","v":0},{"$f":"'Gruppe (4)'!E17","v":0},{"$f":"'Gruppe (4)'!F17","v":0},{"$f":"'Gruppe (4)'!G17","v":0},{"$f":"'Gruppe (4)'!H17","v":0}]
[37,10,1,{"$f":"'Gruppe (1)'!B18","v":11},{"$f":"'Gruppe (1)'!C18","v":0},{"$f":"'Gruppe (1)'!D18","v":0},{"$f":"'Gruppe (1)'!E18","v":0},{"$f":"'Gruppe (1)'!F18","v":0},{"$f":"'Gruppe (1)'!G18","v":0},{"$f":"'Gruppe (1)'!H18","v":0}]
[38,10,2,{"$f":"'Gruppe (2)'!B18","v":0},{"$f":"'Gruppe (2)'!C18","v":0},{"$f":"'Gruppe (2)'!D18","v":0},{"$f":"'Gruppe (2)'!E18","v":0},{"$f":"'Gruppe (2)'!F18","v":0},{"$f":"'Gruppe (2)'!G18","v":0},{"$f":"'Gruppe (2)'!H18","v":0}]
[39,10,3,{"$f":"'Gruppe (3)'!B18","v":0},{"$f":"'Gruppe (3)'!C18","v":0},{"$f":"'Gruppe (3)'!D18","v":0},{"$f":"'Gruppe (3)'!E18","v":0},{"$f":"'Gruppe (3)'!F18","v":0},{"$f":"'Gruppe (3)'!G18","v":0},{"$f":"'Gruppe (3)'!H18","v":0}]
[40,10,4,{"$f":"'Gruppe (4)'!B18","v":0},{"$f":"'Gruppe (4)'!C18","v":0},{"$f":"'Gruppe (4)'!D18","v":0},{"$f":"'Gruppe (4)'!E18","v":0},{"$f":"'Gruppe (4)'!F18","v":0},{"$f":"'Gruppe (4)'!G18","v":0},{"$f":"'Gruppe (4)'!H18","v":0}]
[41,11,1,{"$f":"'Gruppe (1)'!B19","v":11},{"$f":"'Gruppe (1)'!C19","v":0},{"$f":"'Gruppe (1)'!D19","v":0},{"$f":"'Gruppe (1)'!E19","v":0},{"$f":"'Gruppe (1)'!F19","v":0},{"$f":"'Gruppe (1)'!G19","v":0},{"$f":"'Gruppe (1)'!H19","v":0}]
[42,11,2,{"$f":"'Gruppe (2)'!B19","v":0},{"$f":"'Gruppe (2)'!C19","v":0},{"$f":"'Gruppe (2)'!D19","v":0},{"$f":"'Gruppe (2)'!E19","v":0},{"$f":"'Gruppe (2)'!F19","v":0},{"$f":"'Gruppe (2)'!G19","v":0},{"$f":"'Gruppe (2)'!H19","v":0}]
[43,11,3,{"$f":"'Gruppe (3)'!B19","v":0},{"$f":"'Gruppe (3)'!C19","v":0},{"$f":"'Gruppe (3)'!D19","v":0},{"$f":"'Gruppe (3)'!E19","v":0},{"$f":"'Gruppe (3)'!F19","v":0},{"$f":"'Gruppe (3)'!G19","v":0},{"$f":"'Gruppe (3)'!H19","v":0}]
[44,11,4,{"$f":"'Gruppe (4)'!B19","v":0},{"$f":"'Gruppe (4)'!C19","v":0},{"$f":"'Gruppe (4)'!D19","v":0},{"$f":"'Gruppe (4)'!E19","v":0},{"$f":"'Gruppe (4)'!F19","v":0},{"$f":"'Gruppe (4)'!G19","v":0},{"$f":"'Gruppe (4)'!H19","v":0}]
[45,12,1,{"$f":"'Gruppe (1)'!B20","v":11},{"$f":"'Gruppe (1)'!C20","v":0},{"$f":"'Gruppe (1)'!D20","v":0},{"$f":"'Gruppe (1)'!E20","v":0},{"$f":"'Gruppe (1)'!F20","v":0},{"$f":"'Gruppe (1)'!G20","v":0},{"$f":"'Gruppe (1)'!H20","v":0}]
[46,12,2,{"$f":"'Gruppe (2)'!B20","v":0},{"$f":"'Gruppe (2)'!C20","v":0},{"$f":"'Gruppe (2)'!D20","v":0},{"$f":"'Gruppe (2)'!E20","v":0},{"$f":"'Gruppe (2)'!F20","v":0},{"$f":"'Gruppe (2)'!G20","v":0},{"$f":"'Gruppe (2)'!H20","v":0}]
[47,12,3,{"$f":"'Gruppe (3)'!B20","v":0},{"$f":"'Gruppe (3)'!C20","v":0},{"$f":"'Gruppe (3)'!D20","v":0},{"$f":"'Gruppe (3)'!E20","v":0},{"$f":"'Gruppe (3)'!F20","v":0},{"$f":"'Gruppe (3)'!G20","v":0},{"$f":"'Gruppe (3)'!H20","v":0}]
[48,12,4,{"$f":"'Gruppe (4)'!B20","v":0},{"$f":"'Gruppe (4)'!C20","v":0},{"$f":"'Gruppe (4)'!D20","v":0},{"$f":"'Gruppe (4)'!E20","v":0},{"$f":"'Gruppe (4)'!F20","v":0},{"$f":"'Gruppe (4)'!G20","v":0},{"$f":"'Gruppe (4)'!H20","v":0}]
[49,13,1,{"$f":"'Gruppe (1)'!B21","v":11},{"$f":"'Gruppe (1)'!C21","v":0},{"$f":"'Gruppe (1)'!D21","v":0},{"$f":"'Gruppe (1)'!E21","v":0},{"$f":"'Gruppe (1)'!F21","v":0},{"$f":"'Gruppe (1)'!G21","v":0},{"$f":"'Gruppe (1)'!H21","v":0}]
[50,13,2,{"$f":"'Gruppe (2)'!B21","v":0},{"$f":"'Gruppe (2)'!C21","v":0},{"$f":"'Gruppe (2)'!D21","v":0},{"$f":"'Gruppe (2)'!E21","v":0},{"$f":"'Gruppe (2)'!F21","v":0},{"$f":"'Gruppe (2)'!G21","v":0},{"$f":"'Gruppe (2)'!H21","v":0}]
[51,13,3,{"$f":"'Gruppe (3)'!B21","v":0},{"$f":"'Gruppe (3)'!C21","v":0},{"$f":"'Gruppe (3)'!D21","v":0},{"$f":"'Gruppe (3)'!E21","v":0},{"$f":"'Gruppe (3)'!F21","v":0},{"$f":"'Gruppe (3)'!G21","v":0},{"$f":"'Gruppe (3)'!H21","v":0}]
[52,13,4,{"$f":"'Gruppe (4)'!B21","v":0},{"$f":"'Gruppe (4)'!C21","v":0},{"$f":"'Gruppe (4)'!D21","v":0},{"$f":"'Gruppe (4)'!E21","v":0},{"$f":"'Gruppe (4)'!F21","v":0},{"$f":"'Gruppe (4)'!G21","v":0},{"$f":"'Gruppe (4)'!H21","v":0}]
[53,14,1,{"$f":"'Gruppe (1)'!B22","v":11},{"$f":"'Gruppe (1)'!C22","v":0},{"$f":"'Gruppe (1)'!D22","v":0},{"$f":"'Gruppe (1)'!E22","v":0},{"$f":"'Gruppe (1)'!F22","v":0},{"$f":"'Gruppe (1)'!G22","v":0},{"$f":"'Gruppe (1)'!H22","v":0}]
[54,14,2,{"$f":"'Gruppe (2)'!B22","v":0},{"$f":"'Gruppe (2)'!C22","v":0},{"$f":"'Gruppe (2)'!D22","v":0},{"$f":"'Gruppe (2)'!E22","v":0},{"$f":"'Gruppe (2)'!F22","v":0},{"$f":"'Gruppe (2)'!G22","v":0},{"$f":"'Gruppe (2)'!H22","v":0}]
[55,14,3,{"$f":"'Gruppe (3)'!B22","v":0},{"$f":"'Gruppe (3)'!C22","v":0},{"$f":"'Gruppe (3)'!D22","v":0},{"$f":"'Gruppe (3)'!E22","v":0},{"$f":"'Gruppe (3)'!F22","v":0},{"$f":"'Gruppe (3)'!G22","v":0},{"$f":"'Gruppe (3)'!H22","v":0}]
[56,14,4,{"$f":"'Gruppe (4)'!B22","v":0},{"$f":"'Gruppe (4)'!C22","v":0},{"$f":"'Gruppe (4)'!D22","v":0},{"$f":"'Gruppe (4)'!E22","v":0},{"$f":"'Gruppe (4)'!F22","v":0},{"$f":"'Gruppe (4)'!G22","v":0},{"$f":"'Gruppe (4)'!H22","v":0}]
[57,15,1,{"$f":"'Gruppe (1)'!B23","v":11},{"$f":"'Gruppe (1)'!C23","v":0},{"$f":"'Gruppe (1)'!D23","v":0},{"$f":"'Gruppe (1)'!E23","v":0},{"$f":"'Gruppe (1)'!F23","v":0},{"$f":"'Gruppe (1)'!G23","v":0},{"$f":"'Gruppe (1)'!H23","v":0}]
[58,15,2,{"$f":"'Gruppe (2)'!B23","v":0},{"$f":"'Gruppe (2)'!C23","v":0},{"$f":"'Gruppe (2)'!D23","v":0},{"$f":"'Gruppe (2)'!E23","v":0},{"$f":"'Gruppe (2)'!F23","v":0},{"$f":"'Gruppe (2)'!G23","v":0},{"$f":"'Gruppe (2)'!H23","v":0}]
[59,15,3,{"$f":"'Gruppe (3)'!B23","v":0},{"$f":"'Gruppe (3)'!C23","v":0},{"$f":"'Gruppe (3)'!D23","v":0},{"$f":"'Gruppe (3)'!E23","v":0},{"$f":"'Gruppe (3)'!F23","v":0},{"$f":"'Gruppe (3)'!G23","v":0},{"$f":"'Gruppe (3)'!H23","v":0}]
[60,15,4,{"$f":"'Gruppe (4)'!B23","v":0},{"$f":"'Gruppe (4)'!C23","v":0},{"$f":"'Gruppe (4)'!D23","v":0},{"$f":"'Gruppe (4)'!E23","v":0},{"$f":"'Gruppe (4)'!F23","v":0},{"$f":"'Gruppe (4)'!G23","v":0},{"$f":"'Gruppe (4)'!H23","v":0}]
[61,16,1,{"$f":"'Gruppe (1)'!B24","v":11},{"$f":"'Gruppe (1)'!C24","v":0},{"$f":"'Gruppe (1)'!D24","v":0},{"$f":"'Gruppe (1)'!E24","v":0},{"$f":"'Gruppe (1)'!F24","v":0},{"$f":"'Gruppe (1)'!G24","v":0},{"$f":"'Gruppe (1)'!H24","v":0}]
[62,16,2,{"$f":"'Gruppe (2)'!B24","v":0},{"$f":"'Gruppe (2)'!C24","v":0},{"$f":"'Gruppe (2)'!D24","v":0},{"$f":"'Gruppe (2)'!E24","v":0},{"$f":"'Gruppe (2)'!F24","v":0},{"$f":"'Gruppe (2)'!G24","v":0},{"$f":"'Gruppe (2)'!H24","v":0}]
[63,16,3,{"$f":"'Gruppe (3)'!B24","v":0},{"$f":"'Gruppe (3)'!C24","v":0},{"$f":"'Gruppe (3)'!D24","v":0},{"$f":"'Gruppe (3)'!E24","v":0},{"$f":"'Gruppe (3)'!F24","v":0},{"$f":"'Gruppe (3)'!G24","v":0},{"$f":"'Gruppe (3)'!H24","v":0}]
[64,16,4,{"$f":"'Gruppe (4)'!B24","v":0},{"$f":"'Gruppe (4)'!C24","v":0},{"$f":"'Gruppe (4)'!D24","v":0},{"$f":"'Gruppe (4)'!E24","v":0},{"$f":"'Gruppe (4)'!F24","v":0},{"$f":"'Gruppe (4)'!G24","v":0},{"$f":"'Gruppe (4)'!H24","v":0}]
[65,17,1,{"$f":"'Gruppe (1)'!B25","v":11},{"$f":"'Gruppe (1)'!C25","v":0},{"$f":"'Gruppe (1)'!D25","v":0},{"$f":"'Gruppe (1)'!E25","v":0},{"$f":"'Gruppe (1)'!F25","v":0},{"$f":"'Gruppe (1)'!G25","v":0},{"$f":"'Gruppe (1)'!H25","v":0}]
[66,17,2,{"$f":"'Gruppe (2)'!B25","v":0},{"$f":"'Gruppe (2)'!C25","v":0},{"$f":"'Gruppe (2)'!D25","v":0},{"$f":"'Gruppe (2)'!E25","v":0},{"$f":"'Gruppe (2)'!F25","v":0},{"$f":"'Gruppe (2)'!G25","v":0},{"$f":"'Gruppe (2)'!H25","v":0}]
[67,17,3,{"$f":"'Gruppe (3)'!B25","v":0},{"$f":"'Gruppe (3)'!C25","v":0},{"$f":"'Gruppe (3)'!D25","v":0},{"$f":"'Gruppe (3)'!E25","v":0},{"$f":"'Gruppe (3)'!F25","v":0},{"$f":"'Gruppe (3)'!G25","v":0},{"$f":"'Gruppe (3)'!H25","v":0}]
[68,17,4,{"$f":"'Gruppe (4)'!B25","v":0},{"$f":"'Gruppe (4)'!C25","v":0},{"$f":"'Gruppe (4)'!D25","v":0},{"$f":"'Gruppe (4)'!E25","v":0},{"$f":"'Gruppe (4)'!F25","v":0},{"$f":"'Gruppe (4)'!G25","v":0},{"$f":"'Gruppe (4)'!H25","v":0}]
[69,18,1,{"$f":"'Gruppe (1)'!B26","v":11},{"$f":"'Gruppe (1)'!C26","v":0},{"$f":"'Gruppe (1)'!D26","v":0},{"$f":"'Gruppe (1)'!E26","v":0},{"$f":"'Gruppe (1)'!F26","v":0},{"$f":"'Gruppe (1)'!G26","v":0},{"$f":"'Gruppe (1)'!H26","v":0}]
[70,18,2,{"$f":"'Gruppe (2)'!B26","v":0},{"$f":"'Gruppe (2)'!C26","v":0},{"$f":"'Gruppe (2)'!D26","v":0},{"$f":"'Gruppe (2)'!E26","v":0},{"$f":"'Gruppe (2)'!F26","v":0},{"$f":"'Gruppe (2)'!G26","v":0},{"$f":"'Gruppe (2)'!H26","v":0}]
[71,18,3,{"$f":"'Gruppe (3)'!B26","v":0},{"$f":"'Gruppe (3)'!C26","v":0},{"$f":"'Gruppe (3)'!D26","v":0},{"$f":"'Gruppe (3)'!E26","v":0},{"$f":"'Gruppe (3)'!F26","v":0},{"$f":"'Gruppe (3)'!G26","v":0},{"$f":"'Gruppe (3)'!H26","v":0}]
[72,18,4,{"$f":"'Gruppe (4)'!B26","v":0},{"$f":"'Gruppe (4)'!C26","v":0},{"$f":"'Gruppe (4)'!D26","v":0},{"$f":"'Gruppe (4)'!E26","v":0},{"$f":"'Gruppe (4)'!F26","v":0},{"$f":"'Gruppe (4)'!G26","v":0},{"$f":"'Gruppe (4)'!H26","v":0}]
[73,19,1,{"$f":"'Gruppe (1)'!B27","v":11},{"$f":"'Gruppe (1)'!C27","v":0},{"$f":"'Gruppe (1)'!D27","v":0},{"$f":"'Gruppe (1)'!E27","v":0},{"$f":"'Gruppe (1)'!F27","v":0},{"$f":"'Gruppe (1)'!G27","v":0},{"$f":"'Gruppe (1)'!H27","v":0}]
[74,19,2,{"$f":"'Gruppe (2)'!B27","v":0},{"$f":"'Gruppe (2)'!C27","v":0},{"$f":"'Gruppe (2)'!D27","v":0},{"$f":"'Gruppe (2)'!E27","v":0},{"$f":"'Gruppe (2)'!F27","v":0},{"$f":"'Gruppe (2)'!G27","v":0},{"$f":"'Gruppe (2)'!H27","v":0}]
[75,19,3,{"$f":"'Gruppe (3)'!B27","v":0},{"$f":"'Gruppe (3)'!C27","v":0},{"$f":"'Gruppe (3)'!D27","v":0},{"$f":"'Gruppe (3)'!E27","v":0},{"$f":"'Gruppe (3)'!F27","v":0},{"$f":"'Gruppe (3)'!G27","v":0},{"$f":"'Gruppe (3)'!H27","v":0}]
[76,19,4,{"$f":"'Gruppe (4)'!B27","v":0},{"$f":"'Gruppe (4)'!C27","v":0},{"$f":"'Gruppe (4)'!D27","v":0},{"$f":"'Gruppe (4)'!E27","v":0},{"$f":"'Gruppe (4)'!F27","v":0},{"$f":"'Gruppe (4)'!G27","v":0},{"$f":"'Gruppe (4)'!H27","v":0}]
[77,20,1,{"$f":"'Gruppe (1)'!B28","v":11},{"$f":"'Gruppe (1)'!C28","v":0},{"$f":"'Gruppe (1)'!D28","v":0},{"$f":"'Gruppe (1)'!E28","v":0},{"$f":"'Gruppe (1)'!F28","v":0},{"$f":"'Gruppe (1)'!G28","v":0},{"$f":"'Gruppe (1)'!H28","v":0}]
[78,20,2,{"$f":"'Gruppe (2)'!B28","v":0},{"$f":"'Gruppe (2)'!C28","v":0},{"$f":"'Gruppe (2)'!D28","v":0},{"$f":"'Gruppe (2)'!E28","v":0},{"$f":"'Gruppe (2)'!F28","v":0},{"$f":"'Gruppe (2)'!G28","v":0},{"$f":"'Gruppe (2)'!H28","v":0}]
[79,20,3,{"$f":"'Gruppe (3)'!B28","v":0},{"$f":"'Gruppe (3)'!C28","v":0},{"$f":"'Gruppe (3)'!D28","v":0},{"$f":"'Gruppe (3)'!E28","v":0},{"$f":"'Gruppe (3)'!F28","v":0},{"$f":"'Gruppe (3)'!G28","v":0},{"$f":"'Gruppe (3)'!H28","v":0}]
[80,20,4,{"$f":"'Gruppe (4)'!B28","v":0},{"$f":"'Gruppe (4)'!C28","v":0},{"$f":"'Gruppe (4)'!D28","v":0},{"$f":"'Gruppe (4)'!E28","v":0},{"$f":"'Gruppe (4)'!F28","v":0},{"$f":"'Gruppe (4)'!G28","v":0},{"$f":"'Gruppe (4)'!H28","v":0}]
[81,21,1,{"$f":"'Gruppe (1)'!B29","v":11},{"$f":"'Gruppe (1)'!C29","v":0},{"$f":"'Gruppe (1)'!D29","v":0},{"$f":"'Gruppe (1)'!E29","v":0},{"$f":"'Gruppe (1)'!F29","v":0},{"$f":"'Gruppe (1)'!G29","v":0},{"$f":"'Gruppe (1)'!H29","v":0}]
[82,21,2,{"$f":"'Gruppe (2)'!B29","v":0},{"$f":"'Gruppe (2)'!C29","v":0},{"$f":"'Gruppe (2)'!D29","v":0},{"$f":"'Gruppe (2)'!E29","v":0},{"$f":"'Gruppe (2)'!F29","v":0},{"$f":"'Gruppe (2)'!G29","v":0},{"$f":"'Gruppe (2)'!H29","v":0}]
[83,21,3,{"$f":"'Gruppe (3)'!B29","v":0},{"$f":"'Gruppe (3)'!C29","v":0},{"$f":"'Gruppe (3)'!D29","v":0},{"$f":"'Gruppe (3)'!E29","v":0},{"$f":"'Gruppe (3)'!F29","v":0},{"$f":"'Gruppe (3)'!G29","v":0},{"$f":"'Gruppe (3)'!H29","v":0}]
[84,21,4,{"$f":"'Gruppe (4)'!B29","v":0},{"$f":"'Gruppe (4)'!C29","v":0},{"$f":"'Gruppe (4)'!D29","v":0},{"$f":"'Gruppe (4)'!E29","v":0},{"$f":"'Gruppe (4)'!F29","v":0},{"$f":"'Gruppe (4)'!G29","v":0},{"$f":"'Gruppe (4)'!H29","v":0}]
[85,22,1,{"$f":"'Gruppe (1)'!B30","v":11},{"$f":"'Gruppe (1)'!C30","v":0},{"$f":"'Gruppe (1)'!D30","v":0},{"$f":"'Gruppe (1)'!E30","v":0},{"$f":"'Gruppe (1)'!F30","v":0},{"$f":"'Gruppe (1)'!G30","v":0},{"$f":"'Gruppe (1)'!H30","v":0}]
[86,22,2,{"$f":"'Gruppe (2)'!B30","v":0},{"$f":"'Gruppe (2)'!C30","v":0},{"$f":"'Gruppe (2)'!D30","v":0},{"$f":"'Gruppe (2)'!E30","v":0},{"$f":"'Gruppe (2)'!F30","v":0},{"$f":"'Gruppe (2)'!G30","v":0},{"$f":"'Gruppe (2)'!H30","v":0}]
[87,22,3,{"$f":"'Gruppe (3)'!B30","v":0},{"$f":"'Gruppe (3)'!C30","v":0},{"$f":"'Gruppe (3)'!D30","v":0},{"$f":"'Gruppe (3)'!E30","v":0},{"$f":"'Gruppe (3)'!F30","v":0},{"$f":"'Gruppe (3)'!G30","v":0},{"$f":"'Gruppe (3)'!H30","v":0}]
[88,22,4,{"$f":"'Gruppe (4)'!B30","v":0},{"$f":"'Gruppe (4)'!C30","v":0},{"$f":"'Gruppe (4)'!D30","v":0},{"$f":"'Gruppe (4)'!E30","v":0},{"$f":"'Gruppe (4)'!F30","v":0},{"$f":"'Gruppe (4)'!G30","v":0},{"$f":"'Gruppe (4)'!H30","v":0}]
[89,23,1,{"$f":"'Gruppe (1)'!B31","v":11},{"$f":"'Gruppe (1)'!C31","v":0},{"$f":"'Gruppe (1)'!D31","v":0},{"$f":"'Gruppe (1)'!E31","v":0},{"$f":"'Gruppe (1)'!F31","v":0},{"$f":"'Gruppe (1)'!G31","v":0},{"$f":"'Gruppe (1)'!H31","v":0}]
[90,23,2,{"$f":"'Gruppe (2)'!B31","v":0},{"$f":"'Gruppe (2)'!C31","v":0},{"$f":"'Gruppe (2)'!D31","v":0},{"$f":"'Gruppe (2)'!E31","v":0},{"$f":"'Gruppe (2)'!F31","v":0},{"$f":"'Gruppe (2)'!G31","v":0},{"$f":"'Gruppe (2)'!H31","v":0}]
[91,23,3,{"$f":"'Gruppe (3)'!B31","v":0},{"$f":"'Gruppe (3)'!C31","v":0},{"$f":"'Gruppe (3)'!D31","v":0},{"$f":"'Gruppe (3)'!E31","v":0},{"$f":"'Gruppe (3)'!F31","v":0},{"$f":"'Gruppe (3)'!G31","v":0},{"$f":"'Gruppe (3)'!H31","v":0}]
[92,23,4,{"$f":"'Gruppe (4)'!B31","v":0},{"$f":"'Gruppe (4)'!C31","v":0},{"$f":"'Gruppe (4)'!D31","v":0},{"$f":"'Gruppe (4)'!E31","v":0},{"$f":"'Gruppe (4)'!F31","v":0},{"$f":"'Gruppe (4)'!G31","v":0},{"$f":"'Gruppe (4)'!H31","v":0}]
[93,24,1,{"$f":"'Gruppe (1)'!B32","v":11},{"$f":"'Gruppe (1)'!C32","v":0},{"$f":"'Gruppe (1)'!D32","v":0},{"$f":"'Gruppe (1)'!E32","v":0},{"$f":"'Gruppe (1)'!F32","v":0},{"$f":"'Gruppe (1)'!G32","v":0},{"$f":"'Gruppe (1)'!H32","v":0}]
[94,24,2,{"$f":"'Gruppe (2)'!B32","v":0},{"$f":"'Gruppe (2)'!C32","v":0},{"$f":"'Gruppe (2)'!D32","v":0},{"$f":"'Gruppe (2)'!E32","v":0},{"$f":"'Gruppe (2)'!F32","v":0},{"$f":"'Gruppe (2)'!G32","v":0},{"$f":"'Gruppe (2)'!H32","v":0}]
[95,24,3,{"$f":"'Gruppe (3)'!B32","v":0},{"$f":"'Gruppe (3)'!C32","v":0},{"$f":"'Gruppe (3)'!D32","v":0},{"$f":"'Gruppe (3)'!E32","v":0},{"$f":"'Gruppe (3)'!F32","v":0},{"$f":"'Gruppe (3)'!G32","v":0},{"$f":"'Gruppe (3)'!H32","v":0}]
[96,24,4,{"$f":"'Gruppe (4)'!B32","v":0},{"$f":"'Gruppe (4)'!C32","v":0},{"$f":"'Gruppe (4)'!D32","v":0},{"$f":"'Gruppe (4)'!E32","v":0},{"$f":"'Gruppe (4)'!F32","v":0},{"$f":"'Gruppe (4)'!G32","v":0},{"$f":"'Gruppe (4)'!H32","v":0}]
[97,25,1,{"$f":"'Gruppe (1)'!B33","v":11},{"$f":"'Gruppe (1)'!C33","v":0},{"$f":"'Gruppe (1)'!D33","v":0},{"$f":"'Gruppe (1)'!E33","v":0},{"$f":"'Gruppe (1)'!F33","v":0},{"$f":"'Gruppe (1)'!G33","v":0},{"$f":"'Gruppe (1)'!H33","v":0}]
[98,25,2,{"$f":"'Gruppe (2)'!B33","v":0},{"$f":"'Gruppe (2)'!C33","v":0},{"$f":"'Gruppe (2)'!D33","v":0},{"$f":"'Gruppe (2)'!E33","v":0},{"$f":"'Gruppe (2)'!F33","v":0},{"$f":"'Gruppe (2)'!G33","v":0},{"$f":"'Gruppe (2)'!H33","v":0}]
[99,25,3,{"$f":"'Gruppe (3)'!B33","v":0},{"$f":"'Gruppe (3)'!C33","v":0},{"$f":"'Gruppe (3)'!D33","v":0},{"$f":"'Gruppe (3)'!E33","v":0},{"$f":"'Gruppe (3)'!F33","v":0},{"$f":"'Gruppe (3)'!G33","v":0},{"$f":"'Gruppe (3)'!H33","v":0}]
[100,25,4,{"$f":"'Gruppe (4)'!B33","v":0},{"$f":"'Gruppe (4)'!C33","v":0},{"$f":"'Gruppe (4)'!D33","v":0},{"$f":"'Gruppe (4)'!E33","v":0},{"$f":"'Gruppe (4)'!F33","v":0},{"$f":"'Gruppe (4)'!G33","v":0},{"$f":"'Gruppe (4)'!H33","v":0}]
[101,26,1,{"$f":"'Gruppe (1)'!B34","v":11},{"$f":"'Gruppe (1)'!C34","v":0},{"$f":"'Gruppe (1)'!D34","v":0},{"$f":"'Gruppe (1)'!E34","v":0},{"$f":"'Gruppe (1)'!F34","v":0},{"$f":"'Gruppe (1)'!G34","v":0},{"$f":"'Gruppe (1)'!H34","v":0}]
[102,26,2,{"$f":"'Gruppe (2)'!B34","v":0},{"$f":"'Gruppe (2)'!C34","v":0},{"$f":"'Gruppe (2)'!D34","v":0},{"$f":"'Gruppe (2)'!E34","v":0},{"$f":"'Gruppe (2)'!F34","v":0},{"$f":"'Gruppe (2)'!G34","v":0},{"$f":"'Gruppe (2)'!H34","v":0}]
[103,26,3,{"$f":"'Gruppe (3)'!B34","v":0},{"$f":"'Gruppe (3)'!C34","v":0},{"$f":"'Gruppe (3)'!D34","v":0},{"$f":"'Gruppe (3)'!E34","v":0},{"$f":"'Gruppe (3)'!F34","v":0},{"$f":"'Gruppe (3)'!G34","v":0},{"$f":"'Gruppe (3)'!H34","v":0}]
[104,26,4,{"$f":"'Gruppe (4)'!B34","v":0},{"$f":"'Gruppe (4)'!C34","v":0},{"$f":"'Gruppe (4)'!D34","v":0},{"$f":"'Gruppe (4)'!E34","v":0},{"$f":"'Gruppe (4)'!F34","v":0},{"$f":"'Gruppe (4)'!G34","v":0},{"$f":"'Gruppe (4)'!H34","v":0}]
[105,27,1,{"$f":"'Gruppe (1)'!B35","v":11},{"$f":"'Gruppe (1)'!C35","v":0},{"$f":"'Gruppe (1)'!D35","v":0},{"$f":"'Gruppe (1)'!E35","v":0},{"$f":"'Gruppe (1)'!F35","v":0},{"$f":"'Gruppe (1)'!G35","v":0},{"$f":"'Gruppe (1)'!H35","v":0}]
[106,27,2,{"$f":"'Gruppe (2)'!B35","v":0},{"$f":"'Gruppe (2)'!C35","v":0},{"$f":"'Gruppe (2)'!D35","v":0},{"$f":"'Gruppe (2)'!E35","v":0},{"$f":"'Gruppe (2)'!F35","v":0},{"$f":"'Gruppe (2)'!G35","v":0},{"$f":"'Gruppe (2)'!H35","v":0}]
[107,27,3,{"$f":"'Gruppe (3)'!B35","v":0},{"$f":"'Gruppe (3)'!C35","v":0},{"$f":"'Gruppe (3)'!D35","v":0},{"$f":"'Gruppe (3)'!E35","v":0},{"$f":"'Gruppe (3)'!F35","v":0},{"$f":"'Gruppe (3)'!G35","v":0},{"$f":"'Gruppe (3)'!H35","v":0}]
[108,27,4,{"$f":"'Gruppe (4)'!B35","v":0},{"$f":"'Gruppe (4)'!C35","v":0},{"$f":"'Gruppe (4)'!D35","v":0},{"$f":"'Gruppe (4)'!E35","v":0},{"$f":"'Gruppe (4)'!F35","v":0},{"$f":"'Gruppe (4)'!G35","v":0},{"$f":"'Gruppe (4)'!H35","v":0}]
[109,28,1,{"$f":"'Gruppe (1)'!B36","v":11},{"$f":"'Gruppe (1)'!C36","v":0},{"$f":"'Gruppe (1)'!D36","v":0},{"$f":"'Gruppe (1)'!E36","v":0},{"$f":"'Gruppe (1)'!F36","v":0},{"$f":"'Gruppe (1)'!G36","v":0},{"$f":"'Gruppe (1)'!H36","v":0}]
[110,28,2,{"$f":"'Gruppe (2)'!B36","v":0},{"$f":"'Gruppe (2)'!C36","v":0},{"$f":"'Gruppe (2)'!D36","v":0},{"$f":"'Gruppe (2)'!E36","v":0},{"$f":"'Gruppe (2)'!F36","v":0},{"$f":"'Gruppe (2)'!G36","v":0},{"$f":"'Gruppe (2)'!H36","v":0}]
[111,28,3,{"$f":"'Gruppe (3)'!B36","v":0},{"$f":"'Gruppe (3)'!C36","v":0},{"$f":"'Gruppe (3)'!D36","v":0},{"$f":"'Gruppe (3)'!E36","v":0},{"$f":"'Gruppe (3)'!F36","v":0},{"$f":"'Gruppe (3)'!G36","v":0},{"$f":"'Gruppe (3)'!H36","v":0}]
[112,28,4,{"$f":"'Gruppe (4)'!B36","v":0},{"$f":"'Gruppe (4)'!C36","v":0},{"$f":"'Gruppe (4)'!D36","v":0},{"$f":"'Gruppe (4)'!E36","v":0},{"$f":"'Gruppe (4)'!F36","v":0},{"$f":"'Gruppe (4)'!G36","v":0},{"$f":"'Gruppe (4)'!H36","v":0}]
[113,29,1,{"$f":"'Gruppe (1)'!B37","v":11},{"$f":"'Gruppe (1)'!C37","v":0},{"$f":"'Gruppe (1)'!D37","v":0},{"$f":"'Gruppe (1)'!E37","v":0},{"$f":"'Gruppe (1)'!F37","v":0},{"$f":"'Gruppe (1)'!G37","v":0},{"$f":"'Gruppe (1)'!H37","v":0}]
[114,29,2,{"$f":"'Gruppe (2)'!B37","v":0},{"$f":"'Gruppe (2)'!C37","v":0},{"$f":"'Gruppe (2)'!D37","v":0},{"$f":"'Gruppe (2)'!E37","v":0},{"$f":"'Gruppe (2)'!F37","v":0},{"$f":"'Gruppe (2)'!G37","v":0},{"$f":"'Gruppe (2)'!H37","v":0}]
[115,29,3,{"$f":"'Gruppe (3)'!B37","v":0},{"$f":"'Gruppe (3)'!C37","v":0},{"$f":"'Gruppe (3)'!D37","v":0},{"$f":"'Gruppe (3)'!E37","v":0},{"$f":"'Gruppe (3)'!F37","v":0},{"$f":"'Gruppe (3)'!G37","v":0},{"$f":"'Gruppe (3)'!H37","v":0}]
[116,29,4,{"$f":"'Gruppe (4)'!B37","v":0},{"$f":"'Gruppe (4)'!C37","v":0},{"$f":"'Gruppe (4)'!D37","v":0},{"$f":"'Gruppe (4)'!E37","v":0},{"$f":"'Gruppe (4)'!F37","v":0},{"$f":"'Gruppe (4)'!G37","v":0},{"$f":"'Gruppe (4)'!H37","v":0}]
[117,30,1,{"$f":"'Gruppe (1)'!B38","v":11},{"$f":"'Gruppe (1)'!C38","v":0},{"$f":"'Gruppe (1)'!D38","v":0},{"$f":"'Gruppe (1)'!E38","v":0},{"$f":"'Gruppe (1)'!F38","v":0},{"$f":"'Gruppe (1)'!G38","v":0},{"$f":"'Gruppe (1)'!H38","v":0}]
[118,30,2,{"$f":"'Gruppe (2)'!B38","v":0},{"$f":"'Gruppe (2)'!C38","v":0},{"$f":"'Gruppe (2)'!D38","v":0},{"$f":"'Gruppe (2)'!E38","v":0},{"$f":"'Gruppe (2)'!F38","v":0},{"$f":"'Gruppe (2)'!G38","v":0},{"$f":"'Gruppe (2)'!H38","v":0}]
[119,30,3,{"$f":"'Gruppe (3)'!B38","v":0},{"$f":"'Gruppe (3)'!C38","v":0},{"$f":"'Gruppe (3)'!D38","v":0},{"$f":"'Gruppe (3)'!E38","v":0},{"$f":"'Gruppe (3)'!F38","v":0},{"$f":"'Gruppe (3)'!G38","v":0},{"$f":"'Gruppe (3)'!H38","v":0}]
[120,30,4,{"$f":"'Gruppe (4)'!B38","v":0},{"$f":"'Gruppe (4)'!C38","v":0},{"$f":"'Gruppe (4)'!D38","v":0},{"$f":"'Gruppe (4)'!E38","v":0},{"$f":"'Gruppe (4)'!F38","v":0},{"$f":"'Gruppe (4)'!G38","v":0},{"$f":"'Gruppe (4)'!H38","v":0}]
[121,31,1,{"$f":"'Gruppe (1)'!B39","v":0},{"$f":"'Gruppe (1)'!C39","v":0},{"$f":"'Gruppe (1)'!D39","v":0},{"$f":"'Gruppe (1)'!E39","v":0},{"$f":"'Gruppe (1)'!F39","v":0},{"$f":"'Gruppe (1)'!G39","v":0},{"$f":"'Gruppe (1)'!H39","v":0}]
[122,31,2,{"$f":"'Gruppe (2)'!B39","v":0},{"$f":"'Gruppe (2)'!C39","v":0},{"$f":"'Gruppe (2)'!D39","v":0},{"$f":"'Gruppe (2)'!E39","v":0},{"$f":"'Gruppe (2)'!F39","v":0},{"$f":"'Gruppe (2)'!G39","v":0},{"$f":"'Gruppe (2)'!H39","v":0}]
[123,31,3,{"$f":"'Gruppe (3)'!B39","v":0},{"$f":"'Gruppe (3)'!C39","v":0},{"$f":"'Gruppe (3)'!D39","v":0},{"$f":"'Gruppe (3)'!E39","v":0},{"$f":"'Gruppe (3)'!F39","v":0},{"$f":"'Gruppe (3)'!G39","v":0},{"$f":"'Gruppe (3)'!H39","v":0}]
[124,31,4,{"$f":"'Gruppe (4)'!B39","v":0},{"$f":"'Gruppe (4)'!C39","v":0},{"$f":"'Gruppe (4)'!D39","v":0},{"$f":"'Gruppe (4)'!E39","v":0},{"$f":"'Gruppe (4)'!F39","v":0},{"$f":"'Gruppe (4)'!G39","v":0},{"$f":"'Gruppe (4)'!H39","v":0}]
[125,32,1,{"$f":"'Gruppe (1)'!B40","v":0},{"$f":"'Gruppe (1)'!C40","v":0},{"$f":"'Gruppe (1)'!D40","v":0},{"$f":"'Gruppe (1)'!E40","v":0},{"$f":"'Gruppe (1)'!F40","v":0},{"$f":"'Gruppe (1)'!G40","v":0},{"$f":"'Gruppe (1)'!H40","v":0}]
[126,32,2,{"$f":"'Gruppe (2)'!B40","v":0},{"$f":"'Gruppe (2)'!C40","v":0},{"$f":"'Gruppe (2)'!D40","v":0},{"$f":"'Gruppe (2)'!E40","v":0},{"$f":"'Gruppe (2)'!F40","v":0},{"$f":"'Gruppe (2)'!G40","v":0},{"$f":"'Gruppe (2)'!H40","v":0}]
[127,32,3,{"$f":"'Gruppe (3)'!B40","v":0},{"$f":"'Gruppe (3)'!C40","v":0},{"$f":"'Gruppe (3)'!D40","v":0},{"$f":"'Gruppe (3)'!E40","v":0},{"$f":"'Gruppe (3)'!F40","v":0},{"$f":"'Gruppe (3)'!G40","v":0},{"$f":"'Gruppe (3)'!H40","v":0}]
[128,32,4,{"$f":"'Gruppe (4)'!B40","v":0},{"$f":"'Gruppe (4)'!C40","v":0},{"$f":"'Gruppe (4)'!D40","v":0},{"$f":"'Gruppe (4)'!E40","v":0},{"$f":"'Gruppe (4)'!F40","v":0},{"$f":"'Gruppe (4)'!G40","v":0},{"$f":"'Gruppe (4)'!H40","v":0}]
[129,33,1,{"$f":"'Gruppe (1)'!B41","v":0},{"$f":"'Gruppe (1)'!C41","v":0},{"$f":"'Gruppe (1)'!D41","v":0},{"$f":"'Gruppe (1)'!E41","v":0},{"$f":"'Gruppe (1)'!F41","v":0},{"$f":"'Gruppe (1)'!G41","v":0},{"$f":"'Gruppe (1)'!H41","v":0}]
[130,33,2,{"$f":"'Gruppe (2)'!B41","v":0},{"$f":"'Gruppe (2)'!C41","v":0},{"$f":"'Gruppe (2)'!D41","v":0},{"$f":"'Gruppe (2)'!E41","v":0},{"$f":"'Gruppe (2)'!F41","v":0},{"$f":"'Gruppe (2)'!G41","v":0},{"$f":"'Gruppe (2)'!H41","v":0}]
[131,33,3,{"$f":"'Gruppe (3)'!B41","v":0},{"$f":"'Gruppe (3)'!C41","v":0},{"$f":"'Gruppe (3)'!D41","v":0},{"$f":"'Gruppe (3)'!E41","v":0},{"$f":"'Gruppe (3)'!F41","v":0},{"$f":"'Gruppe (3)'!G41","v":0},{"$f":"'Gruppe (3)'!H41","v":0}]
[132,33,4,{"$f":"'Gruppe (4)'!B41","v":0},{"$f":"'Gruppe (4)'!C41","v":0},{"$f":"'Gruppe (4)'!D41","v":0},{"$f":"'Gruppe (4)'!E41","v":0},{"$f":"'Gruppe (4)'!F41","v":0},{"$f":"'Gruppe (4)'!G41","v":0},{"$f":"'Gruppe (4)'!H41","v":0}]
[133,34,1,{"$f":"'Gruppe (1)'!B42","v":0},{"$f":"'Gruppe (1)'!C42","v":0},{"$f":"'Gruppe (1)'!D42","v":0},{"$f":"'Gruppe (1)'!E42","v":0},{"$f":"'Gruppe (1)'!F42","v":0},{"$f":"'Gruppe (1)'!G42","v":0},{"$f":"'Gruppe (1)'!H42","v":0}]
[134,34,2,{"$f":"'Gruppe (2)'!B42","v":0},{"$f":"'Gruppe (2)'!C42","v":0},{"$f":"'Gruppe (2)'!D42","v":0},{"$f":"'Gruppe (2)'!E42","v":0},{"$f":"'Gruppe (2)'!F42","v":0},{"$f":"'Gruppe (2)'!G42","v":0},{"$f":"'Gruppe (2)'!H42","v":0}]
[135,34,3,{"$f":"'Gruppe (3)'!B42","v":0},{"$f":"'Gruppe (3)'!C42","v":0},{"$f":"'Gruppe (3)'!D42","v":0},{"$f":"'Gruppe (3)'!E42","v":0},{"$f":"'Gruppe (3)'!F42","v":0},{"$f":"'Gruppe (3)'!G42","v":0},{"$f":"'Gruppe (3)'!H42","v":0}]
[136,34,4,{"$f":"'Gruppe (4)'!B42","v":0},{"$f":"'Gruppe (4)'!C42","v":0},{"$f":"'Gruppe (4)'!D42","v":0},{"$f":"'Gruppe (4)'!E42","v":0},{"$f":"'Gruppe (4)'!F42","v":0},{"$f":"'Gruppe (4)'!G42","v":0},{"$f":"'Gruppe (4)'!H42","v":0}]
[137,35,1,{"$f":"'Gruppe (1)'!B43","v":0},{"$f":"'Gruppe (1)'!C43","v":0},{"$f":"'Gruppe (1)'!D43","v":0},{"$f":"'Gruppe (1)'!E43","v":0},{"$f":"'Gruppe (1)'!F43","v":0},{"$f":"'Gruppe (1)'!G43","v":0},{"$f":"'Gruppe (1)'!H43","v":0}]
[138,35,2,{"$f":"'Gruppe (2)'!B43","v":0},{"$f":"'Gruppe (2)'!C43","v":0},{"$f":"'Gruppe (2)'!D43","v":0},{"$f":"'Gruppe (2)'!E43","v":0},{"$f":"'Gruppe (2)'!F43","v":0},{"$f":"'Gruppe (2)'!G43","v":0},{"$f":"'Gruppe (2)'!H43","v":0}]
[139,35,3,{"$f":"'Gruppe (3)'!B43","v":0},{"$f":"'Gruppe (3)'!C43","v":0},{"$f":"'Gruppe (3)'!D43","v":0},{"$f":"'Gruppe (3)'!E43","v":0},{"$f":"'Gruppe (3)'!F43","v":0},{"$f":"'Gruppe (3)'!G43","v":0},{"$f":"'Gruppe (3)'!H43","v":0}]
[140,35,4,{"$f":"'Gruppe (4)'!B43","v":0},{"$f":"'Gruppe (4)'!C43","v":0},{"$f":"'Gruppe (4)'!D43","v":0},{"$f":"'Gruppe (4)'!E43","v":0},{"$f":"'Gruppe (4)'!F43","v":0},{"$f":"'Gruppe (4)'!G43","v":0},{"$f":"'Gruppe (4)'!H43","v":0}]
[141,36,1,{"$f":"'Gruppe (1)'!B44","v":0},{"$f":"'Gruppe (1)'!C44","v":0},{"$f":"'Gruppe (1)'!D44","v":0},{"$f":"'Gruppe (1)'!E44","v":0},{"$f":"'Gruppe (1)'!F44","v":0},{"$f":"'Gruppe (1)'!G44","v":0},{"$f":"'Gruppe (1)'!H44","v":0}]
[142,36,2,{"$f":"'Gruppe (2)'!B44","v":0},{"$f":"'Gruppe (2)'!C44","v":0},{"$f":"'Gruppe (2)'!D44","v":0},{"$f":"'Gruppe (2)'!E44","v":0},{"$f":"'Gruppe (2)'!F44","v":0},{"$f":"'Gruppe (2)'!G44","v":0},{"$f":"'Gruppe (2)'!H44","v":0}]
[143,36,3,{"$f":"'Gruppe (3)'!B44","v":0},{"$f":"'Gruppe (3)'!C44","v":0},{"$f":"'Gruppe (3)'!D44","v":0},{"$f":"'Gruppe (3)'!E44","v":0},{"$f":"'Gruppe (3)'!F44","v":0},{"$f":"'Gruppe (3)'!G44","v":0},{"$f":"'Gruppe (3)'!H44","v":0}]
[144,36,4,{"$f":"'Gruppe (4)'!B44","v":0},{"$f":"'Gruppe (4)'!C44","v":0},{"$f":"'Gruppe (4)'!D44","v":0},{"$f":"'Gruppe (4)'!E44","v":0},{"$f":"'Gruppe (4)'!F44","v":0},{"$f":"'Gruppe (4)'!G44","v":0},{"$f":"'Gruppe (4)'!H44","v":0}]
[145,37,1,{"$f":"'Gruppe (1)'!B45","v":0},{"$f":"'Gruppe (1)'!C45","v":0},{"$f":"'Gruppe (1)'!D45","v":0},{"$f":"'Gruppe (1)'!E45","v":0},{"$f":"'Gruppe (1)'!F45","v":0},{"$f":"'Gruppe (1)'!G45","v":0},{"$f":"'Gruppe (1)'!H45","v":0}]
[146,37,2,{"$f":"'Gruppe (2)'!B45","v":0},{"$f":"'Gruppe (2)'!C45","v":0},{"$f":"'Gruppe (2)'!D45","v":0},{"$f":"'Gruppe (2)'!E45","v":0},{"$f":"'Gruppe (2)'!F45","v":0},{"$f":"'Gruppe (2)'!G45","v":0},{"$f":"'Gruppe (2)'!H45","v":0}]
[147,37,3,{"$f":"'Gruppe (3)'!B45","v":0},{"$f":"'Gruppe (3)'!C45","v":0},{"$f":"'Gruppe (3)'!D45","v":0},{"$f":"'Gruppe (3)'!E45","v":0},{"$f":"'Gruppe (3)'!F45","v":0},{"$f":"'Gruppe (3)'!G45","v":0},{"$f":"'Gruppe (3)'!H45","v":0}]
[148,37,4,{"$f":"'Gruppe (4)'!B45","v":0},{"$f":"'Gruppe (4)'!C45","v":0},{"$f":"'Gruppe (4)'!D45","v":0},{"$f":"'Gruppe (4)'!E45","v":0},{"$f":"'Gruppe (4)'!F45","v":0},{"$f":"'Gruppe (4)'!G45","v":0},{"$f":"'Gruppe (4)'!H45","v":0}]
[149,38,1,{"$f":"'Gruppe (1)'!B46","v":0},{"$f":"'Gruppe (1)'!C46","v":0},{"$f":"'Gruppe (1)'!D46","v":0},{"$f":"'Gruppe (1)'!E46","v":0},{"$f":"'Gruppe (1)'!F46","v":0},{"$f":"'Gruppe (1)'!G46","v":0},{"$f":"'Gruppe (1)'!H46","v":0}]
[150,38,2,{"$f":"'Gruppe (2)'!B46","v":0},{"$f":"'Gruppe (2)'!C46","v":0},{"$f":"'Gruppe (2)'!D46","v":0},{"$f":"'Gruppe (2)'!E46","v":0},{"$f":"'Gruppe (2)'!F46","v":0},{"$f":"'Gruppe (2)'!G46","v":0},{"$f":"'Gruppe (2)'!H46","v":0}]
[151,38,3,{"$f":"'Gruppe (3)'!B46","v":0},{"$f":"'Gruppe (3)'!C46","v":0},{"$f":"'Gruppe (3)'!D46","v":0},{"$f":"'Gruppe (3)'!E46","v":0},{"$f":"'Gruppe (3)'!F46","v":0},{"$f":"'Gruppe (3)'!G46","v":0},{"$f":"'Gruppe (3)'!H46","v":0}]
[152,38,4,{"$f":"'Gruppe (4)'!B46","v":0},{"$f":"'Gruppe (4)'!C46","v":0},{"$f":"'Gruppe (4)'!D46","v":0},{"$f":"'Gruppe (4)'!E46","v":0},{"$f":"'Gruppe (4)'!F46","v":0},{"$f":"'Gruppe (4)'!G46","v":0},{"$f":"'Gruppe (4)'!H46","v":0}]
[153,39,1,{"$f":"'Gruppe (1)'!B47","v":0},{"$f":"'Gruppe (1)'!C47","v":0},{"$f":"'Gruppe (1)'!D47","v":0},{"$f":"'Gruppe (1)'!E47","v":0},{"$f":"'Gruppe (1)'!F47","v":0},{"$f":"'Gruppe (1)'!G47","v":0},{"$f":"'Gruppe (1)'!H47","v":0}]
[154,39,2,{"$f":"'Gruppe (2)'!B47","v":0},{"$f":"'Gruppe (2)'!C47","v":0},{"$f":"'Gruppe (2)'!D47","v":0},{"$f":"'Gruppe (2)'!E47","v":0},{"$f":"'Gruppe (2)'!F47","v":0},{"$f":"'Gruppe (2)'!G47","v":0},{"$f":"'Gruppe (2)'!H47","v":0}]
[155,39,3,{"$f":"'Gruppe (3)'!B47","v":0},{"$f":"'Gruppe (3)'!C47","v":0},{"$f":"'Gruppe (3)'!D47","v":0},{"$f":"'Gruppe (3)'!E47","v":0},{"$f":"'Gruppe (3)'!F47","v":0},{"$f":"'Gruppe (3)'!G47","v":0},{"$f":"'Gruppe (3)'!H47","v":0}]
[156,39,4,{"$f":"'Gruppe (4)'!B47","v":0},{"$f":"'Gruppe (4)'!C47","v":0},{"$f":"'Gruppe (4)'!D47","v":0},{"$f":"'Gruppe (4)'!E47","v":0},{"$f":"'Gruppe (4)'!F47","v":0},{"$f":"'Gruppe (4)'!G47","v":0},{"$f":"'Gruppe (4)'!H47","v":0}]
[157,40,1,{"$f":"'Gruppe (1)'!B48","v":0},{"$f":"'Gruppe (1)'!C48","v":0},{"$f":"'Gruppe (1)'!D48","v":0},{"$f":"'Gruppe (1)'!E48","v":0},{"$f":"'Gruppe (1)'!F48","v":0},{"$f":"'Gruppe (1)'!G48","v":0},{"$f":"'Gruppe (1)'!H48","v":0}]
[158,40,2,{"$f":"'Gruppe (2)'!B48","v":0},{"$f":"'Gruppe (2)'!C48","v":0},{"$f":"'Gruppe (2)'!D48","v":0},{"$f":"'Gruppe (2)'!E48","v":0},{"$f":"'Gruppe (2)'!F48","v":0},{"$f":"'Gruppe (2)'!G48","v":0},{"$f":"'Gruppe (2)'!H48","v":0}]
[159,40,3,{"$f":"'Gruppe (3)'!B48","v":0},{"$f":"'Gruppe (3)'!C48","v":0},{"$f":"'Gruppe (3)'!D48","v":0},{"$f":"'Gruppe (3)'!E48","v":0},{"$f":"'Gruppe (3)'!F48","v":0},{"$f":"'Gruppe (3)'!G48","v":0},{"$f":"'Gruppe (3)'!H48","v":0}]
[160,40,4,{"$f":"'Gruppe (4)'!B48","v":0},{"$f":"'Gruppe (4)'!C48","v":0},{"$f":"'Gruppe (4)'!D48","v":0},{"$f":"'Gruppe (4)'!E48","v":0},{"$f":"'Gruppe (4)'!F48","v":0},{"$f":"'Gruppe (4)'!G48","v":0},{"$f":"'Gruppe (4)'!H48","v":0}]
[161,41,1,{"$f":"'Gruppe (1)'!B49","v":0},{"$f":"'Gruppe (1)'!C49","v":0},{"$f":"'Gruppe (1)'!D49","v":0},{"$f":"'Gruppe (1)'!E49","v":0},{"$f":"'Gruppe (1)'!F49","v":0},{"$f":"'Gruppe (1)'!G49","v":0},{"$f":"'Gruppe (1)'!H49","v":0}]
[162,41,2,{"$f":"'Gruppe (2)'!B49","v":0},{"$f":"'Gruppe (2)'!C49","v":0},{"$f":"'Gruppe (2)'!D49","v":0},{"$f":"'Gruppe (2)'!E49","v":0},{"$f":"'Gruppe (2)'!F49","v":0},{"$f":"'Gruppe (2)'!G49","v":0},{"$f":"'Gruppe (2)'!H49","v":0}]
[163,41,3,{"$f":"'Gruppe (3)'!B49","v":0},{"$f":"'Gruppe (3)'!C49","v":0},{"$f":"'Gruppe (3)'!D49","v":0},{"$f":"'Gruppe (3)'!E49","v":0},{"$f":"'Gruppe (3)'!F49","v":0},{"$f":"'Gruppe (3)'!G49","v":0},{"$f":"'Gruppe (3)'!H49","v":0}]
[164,41,4,{"$f":"'Gruppe (4)'!B49","v":0},{"$f":"'Gruppe (4)'!C49","v":0},{"$f":"'Gruppe (4)'!D49","v":0},{"$f":"'Gruppe (4)'!E49","v":0},{"$f":"'Gruppe (4)'!F49","v":0},{"$f":"'Gruppe (4)'!G49","v":0},{"$f":"'Gruppe (4)'!H49","v":0}]
[165,42,1,{"$f":"'Gruppe (1)'!B50","v":0},{"$f":"'Gruppe (1)'!C50","v":0},{"$f":"'Gruppe (1)'!D50","v":0},{"$f":"'Gruppe (1)'!E50","v":0},{"$f":"'Gruppe (1)'!F50","v":0},{"$f":"'Gruppe (1)'!G50","v":0},{"$f":"'Gruppe (1)'!H50","v":0}]
[166,42,2,{"$f":"'Gruppe (2)'!B50","v":0},{"$f":"'Gruppe (2)'!C50","v":0},{"$f":"'Gruppe (2)'!D50","v":0},{"$f":"'Gruppe (2)'!E50","v":0},{"$f":"'Gruppe (2)'!F50","v":0},{"$f":"'Gruppe (2)'!G50","v":0},{"$f":"'Gruppe (2)'!H50","v":0}]
[167,42,3,{"$f":"'Gruppe (3)'!B50","v":0},{"$f":"'Gruppe (3)'!C50","v":0},{"$f":"'Gruppe (3)'!D50","v":0},{"$f":"'Gruppe (3)'!E50","v":0},{"$f":"'Gruppe (3)'!F50","v":0},{"$f":"'Gruppe (3)'!G50","v":0},{"$f":"'Gruppe (3)'!H50","v":0}]
[168,42,4,{"$f":"'Gruppe (4)'!B50","v":0},{"$f":"'Gruppe (4)'!C50","v":0},{"$f":"'Gruppe (4)'!D50","v":0},{"$f":"'Gruppe (4)'!E50","v":0},{"$f":"'Gruppe (4)'!F50","v":0},{"$f":"'Gruppe (4)'!G50","v":0},{"$f":"'Gruppe (4)'!H50","v":0}]
[169,43,1,{"$f":"'Gruppe (1)'!B51","v":0},{"$f":"'Gruppe (1)'!C51","v":0},{"$f":"'Gruppe (1)'!D51","v":0},{"$f":"'Gruppe (1)'!E51","v":0},{"$f":"'Gruppe (1)'!F51","v":0},{"$f":"'Gruppe (1)'!G51","v":0},{"$f":"'Gruppe (1)'!H51","v":0}]
[170,43,2,{"$f":"'Gruppe (2)'!B51","v":0},{"$f":"'Gruppe (2)'!C51","v":0},{"$f":"'Gruppe (2)'!D51","v":0},{"$f":"'Gruppe (2)'!E51","v":0},{"$f":"'Gruppe (2)'!F51","v":0},{"$f":"'Gruppe (2)'!G51","v":0},{"$f":"'Gruppe (2)'!H51","v":0}]
[171,43,3,{"$f":"'Gruppe (3)'!B51","v":0},{"$f":"'Gruppe (3)'!C51","v":0},{"$f":"'Gruppe (3)'!D51","v":0},{"$f":"'Gruppe (3)'!E51","v":0},{"$f":"'Gruppe (3)'!F51","v":0},{"$f":"'Gruppe (3)'!G51","v":0},{"$f":"'Gruppe (3)'!H51","v":0}]
[172,43,4,{"$f":"'Gruppe (4)'!B51","v":0},{"$f":"'Gruppe (4)'!C51","v":0},{"$f":"'Gruppe (4)'!D51","v":0},{"$f":"'Gruppe (4)'!E51","v":0},{"$f":"'Gruppe (4)'!F51","v":0},{"$f":"'Gruppe (4)'!G51","v":0},{"$f":"'Gruppe (4)'!H51","v":0}]
[173,44,1,{"$f":"'Gruppe (1)'!B52","v":0},{"$f":"'Gruppe (1)'!C52","v":0},{"$f":"'Gruppe (1)'!D52","v":0},{"$f":"'Gruppe (1)'!E52","v":0},{"$f":"'Gruppe (1)'!F52","v":0},{"$f":"'Gruppe (1)'!G52","v":0},{"$f":"'Gruppe (1)'!H52","v":0}]
[174,44,2,{"$f":"'Gruppe (2)'!B52","v":0},{"$f":"'Gruppe (2)'!C52","v":0},{"$f":"'Gruppe (2)'!D52","v":0},{"$f":"'Gruppe (2)'!E52","v":0},{"$f":"'Gruppe (2)'!F52","v":0},{"$f":"'Gruppe (2)'!G52","v":0},{"$f":"'Gruppe (2)'!H52","v":0}]
[175,44,3,{"$f":"'Gruppe (3)'!B52","v":0},{"$f":"'Gruppe (3)'!C52","v":0},{"$f":"'Gruppe (3)'!D52","v":0},{"$f":"'Gruppe (3)'!E52","v":0},{"$f":"'Gruppe (3)'!F52","v":0},{"$f":"'Gruppe (3)'!G52","v":0},{"$f":"'Gruppe (3)'!H52","v":0}]
[176,44,4,{"$f":"'Gruppe (4)'!B52","v":0},{"$f":"'Gruppe (4)'!C52","v":0},{"$f":"'Gruppe (4)'!D52","v":0},{"$f":"'Gruppe (4)'!E52","v":0},{"$f":"'Gruppe (4)'!F52","v":0},{"$f":"'Gruppe (4)'!G52","v":0},{"$f":"'Gruppe (4)'!H52","v":0}]
[177,45,1,{"$f":"'Gruppe (1)'!B53","v":0},{"$f":"'Gruppe (1)'!C53","v":0},{"$f":"'Gruppe (1)'!D53","v":0},{"$f":"'Gruppe (1)'!E53","v":0},{"$f":"'Gruppe (1)'!F53","v":0},{"$f":"'Gruppe (1)'!G53","v":0},{"$f":"'Gruppe (1)'!H53","v":0}]
[178,45,2,{"$f":"'Gruppe (2)'!B53","v":0},{"$f":"'Gruppe (2)'!C53","v":0},{"$f":"'Gruppe (2)'!D53","v":0},{"$f":"'Gruppe (2)'!E53","v":0},{"$f":"'Gruppe (2)'!F53","v":0},{"$f":"'Gruppe (2)'!G53","v":0},{"$f":"'Gruppe (2)'!H53","v":0}]
[179,45,3,{"$f":"'Gruppe (3)'!B53","v":0},{"$f":"'Gruppe (3)'!C53","v":0},{"$f":"'Gruppe (3)'!D53","v":0},{"$f":"'Gruppe (3)'!E53","v":0},{"$f":"'Gruppe (3)'!F53","v":0},{"$f":"'Gruppe (3)'!G53","v":0},{"$f":"'Gruppe (3)'!H53","v":0}]
[180,45,4,{"$f":"'Gruppe (4)'!B53","v":0},{"$f":"'Gruppe (4)'!C53","v":0},{"$f":"'Gruppe (4)'!D53","v":0},{"$f":"'Gruppe (4)'!E53","v":0},{"$f":"'Gruppe (4)'!F53","v":0},{"$f":"'Gruppe (4)'!G53","v":0},{"$f":"'Gruppe (4)'!H53","v":0}]
[181,46,1,{"$f":"'Gruppe (1)'!B59","v":0},{"$f":"'Gruppe (1)'!C59","v":0},{"$f":"'Gruppe (1)'!D59","v":0},{"$f":"'Gruppe (1)'!E59","v":0},{"$f":"'Gruppe (1)'!F59","v":0},{"$f":"'Gruppe (1)'!G59","v":0},{"$f":"'Gruppe (1)'!H59","v":0}]
[182,46,2,{"$f":"'Gruppe (2)'!B59","v":0},{"$f":"'Gruppe (2)'!C59","v":0},{"$f":"'Gruppe (2)'!D59","v":0},{"$f":"'Gruppe (2)'!E59","v":0},{"$f":"'Gruppe (2)'!F59","v":0},{"$f":"'Gruppe (2)'!G59","v":0},{"$f":"'Gruppe (2)'!H59","v":0}]
[183,46,3,{"$f":"'Gruppe (3)'!B59","v":0},{"$f":"'Gruppe (3)'!C59","v":0},{"$f":"'Gruppe (3)'!D59","v":0},{"$f":"'Gruppe (3)'!E59","v":0},{"$f":"'Gruppe (3)'!F59","v":0},{"$f":"'Gruppe (3)'!G59","v":0},{"$f":"'Gruppe (3)'!H59","v":0}]
[184,46,4,{"$f":"'Gruppe (4)'!B54","v":0},{"$f":"'Gruppe (4)'!C54","v":0},{"$f":"'Gruppe (4)'!D54","v":0},{"$f":"'Gruppe (4)'!E54","v":0},{"$f":"'Gruppe (4)'!F54","v":0},{"$f":"'Gruppe (4)'!G54","v":0},{"$f":"'Gruppe (4)'!H54","v":0}]
[185,47,1,{"$f":"'Gruppe (1)'!B60","v":0},{"$f":"'Gruppe (1)'!C60","v":0},{"$f":"'Gruppe (1)'!D60","v":0},{"$f":"'Gruppe (1)'!E60","v":0},{"$f":"'Gruppe (1)'!F60","v":0},{"$f":"'Gruppe (1)'!G60","v":0},{"$f":"'Gruppe (1)'!H60","v":0}]
[186,47,2,{"$f":"'Gruppe (2)'!B60","v":0},{"$f":"'Gruppe (2)'!C60","v":0},{"$f":"'Gruppe (2)'!D60","v":0},{"$f":"'Gruppe (2)'!E60","v":0},{"$f":"'Gruppe (2)'!F60","v":0},{"$f":"'Gruppe (2)'!G60","v":0},{"$f":"'Gruppe (2)'!H60","v":0}]
[187,47,3,{"$f":"'Gruppe (3)'!B60","v":0},{"$f":"'Gruppe (3)'!C60","v":0},{"$f":"'Gruppe (3)'!D60","v":0},{"$f":"'Gruppe (3)'!E60","v":0},{"$f":"'Gruppe (3)'!F60","v":0},{"$f":"'Gruppe (3)'!G60","v":0},{"$f":"'Gruppe (3)'!H60","v":0}]
[188,47,4,{"$f":"'Gruppe (4)'!B55","v":0},{"$f":"'Gruppe (4)'!C55","v":0},{"$f":"'Gruppe (4)'!D55","v":0},{"$f":"'Gruppe (4)'!E55","v":0},{"$f":"'Gruppe (4)'!F55","v":0},{"$f":"'Gruppe (4)'!G55","v":0},{"$f":"'Gruppe (4)'!H55","v":0}]
[189,48,1,{"$f":"'Gruppe (1)'!B61","v":0},{"$f":"'Gruppe (1)'!C61","v":0},{"$f":"'Gruppe (1)'!D61","v":0},{"$f":"'Gruppe (1)'!E61","v":0},{"$f":"'Gruppe (1)'!F61","v":0},{"$f":"'Gruppe (1)'!G61","v":0},{"$f":"'Gruppe (1)'!H61","v":0}]
[190,48,2,{"$f":"'Gruppe (2)'!B61","v":0},{"$f":"'Gruppe (2)'!C61","v":0},{"$f":"'Gruppe (2)'!D61","v":0},{"$f":"'Gruppe (2)'!E61","v":0},{"$f":"'Gruppe (2)'!F61","v":0},{"$f":"'Gruppe (2)'!G61","v":0},{"$f":"'Gruppe (2)'!H61","v":0}]
[191,48,3,{"$f":"'Gruppe (3)'!B61","v":0},{"$f":"'Gruppe (3)'!C61","v":0},{"$f":"'Gruppe (3)'!D61","v":0},{"$f":"'Gruppe (3)'!E61","v":0},{"$f":"'Gruppe (3)'!F61","v":0},{"$f":"'Gruppe (3)'!G61","v":0},{"$f":"'Gruppe (3)'!H61","v":0}]
[192,48,4,{"$f":"'Gruppe (4)'!B56","v":0},{"$f":"'Gruppe (4)'!C56","v":0},{"$f":"'Gruppe (4)'!D56","v":0},{"$f":"'Gruppe (4)'!E56","v":0},{"$f":"'Gruppe (4)'!F56","v":0},{"$f":"'Gruppe (4)'!G56","v":0},{"$f":"'Gruppe (4)'!H56","v":0}]
[193,49,1,{"$f":"'Gruppe (1)'!B62","v":0},{"$f":"'Gruppe (1)'!C62","v":0},{"$f":"'Gruppe (1)'!D62","v":0},{"$f":"'Gruppe (1)'!E62","v":0},{"$f":"'Gruppe (1)'!F62","v":0},{"$f":"'Gruppe (1)'!G62","v":0},{"$f":"'Gruppe (1)'!H62","v":0}]
[194,49,2,{"$f":"'Gruppe (2)'!B62","v":0},{"$f":"'Gruppe (2)'!C62","v":0},{"$f":"'Gruppe (2)'!D62","v":0},{"$f":"'Gruppe (2)'!E62","v":0},{"$f":"'Gruppe (2)'!F62","v":0},{"$f":"'Gruppe (2)'!G62","v":0},{"$f":"'Gruppe (2)'!H62","v":0}]
[195,49,3,{"$f":"'Gruppe (3)'!B62","v":0},{"$f":"'Gruppe (3)'!C62","v":0},{"$f":"'Gruppe (3)'!D62","v":0},{"$f":"'Gruppe (3)'!E62","v":0},{"$f":"'Gruppe (3)'!F62","v":0},{"$f":"'Gruppe (3)'!G62","v":0},{"$f":"'Gruppe (3)'!H62","v":0}]
[196,49,4,{"$f":"'Gruppe (4)'!B57","v":0},{"$f":"'Gruppe (4)'!C57","v":0},{"$f":"'Gruppe (4)'!D57","v":0},{"$f":"'Gruppe (4)'!E57","v":0},{"$f":"'Gruppe (4)'!F57","v":0},{"$f":"'Gruppe (4)'!G57","v":0},{"$f":"'Gruppe (4)'!H57","v":0}]
[197,50,1,{"$f":"'Gruppe (1)'!B63","v":0},{"$f":"'Gruppe (1)'!C63","v":0},{"$f":"'Gruppe (1)'!D63","v":0},{"$f":"'Gruppe (1)'!E63","v":0},{"$f":"'Gruppe (1)'!F63","v":0},{"$f":"'Gruppe (1)'!G63","v":0},{"$f":"'Gruppe (1)'!H63","v":0}]
[198,50,2,{"$f":"'Gruppe (2)'!B63","v":0},{"$f":"'Gruppe (2)'!C63","v":0},{"$f":"'Gruppe (2)'!D63","v":0},{"$f":"'Gruppe (2)'!E63","v":0},{"$f":"'Gruppe (2)'!F63","v":0},{"$f":"'Gruppe (2)'!G63","v":0},{"$f":"'Gruppe (2)'!H63","v":0}]
[199,50,3,{"$f":"'Gruppe (3)'!B63","v":0},{"$f":"'Gruppe (3)'!C63","v":0},{"$f":"'Gruppe (3)'!D63","v":0},{"$f":"'Gruppe (3)'!E63","v":0},{"$f":"'Gruppe (3)'!F63","v":0},{"$f":"'Gruppe (3)'!G63","v":0},{"$f":"'Gruppe (3)'!H63","v":0}]
[200,50,4,{"$f":"'Gruppe (4)'!B58","v":0},{"$f":"'Gruppe (4)'!C58","v":0},{"$f":"'Gruppe (4)'!D58","v":0},{"$f":"'Gruppe (4)'!E58","v":0},{"$f":"'Gruppe (4)'!F58","v":0},{"$f":"'Gruppe (4)'!G58","v":0},{"$f":"'Gruppe (4)'!H58","v":0}]

{"sheet":"Hinweis","index":4,"n_rows":3,"n_cols":1,"rows_kept":3,"cut":false,"hidden":false,"merged":[]}
["Veranstaltung"]
["Bitte erst die Einzelstartkarten abholen und bezahlen! (Kasse 1)"]
["Danach Tandem oder Mixed anmelden und bezahlen! (Kasse 2)"]

{"sheet":"Gruppe (1)","index":5,"n_rows":58,"n_cols":9,"rows_kept":58,"cut":false,"hidden":false,"merged":[[4,0,4,2],[2,3,2,8],[3,5,5,7]]}
["Deutscher Skatverband e.V."]
[]
["Landesverband:",null,"04  NRW","Gemeldete Teilnehmer hier erst nach Zufallszahl \"mischen!\""]
[null,null,null,null,null,"Einzel = 1, Tandem und Mixed fortlaufende Nummern 1, 2, 3, ... !"]
["Teilnehmermeldung zum ",null,null,{"$f":"Hinweis!A1","v":"Veranstaltung"}]
[]
["lfd.","VG","Name, Vorname","Verein","H","Einzel","Tandem","Mixed"]
["Nr.",11,null,null,"D"]
[1,11,null,null,null,null,null,null,{"$f":"RAND()","v":0.81858015976031406}]
[{"$f":"A9+4","v":5},11,null,null,null,null,null,null,{"$f":"RAND()","v":0.82470770560864148}]
[{"$f":"A10+4","v":9},11,null,null,null,null,null,null,0.64603647339687065]
[13,11,null,null,null,null,null,null,0.14174667462407542]
[17,11,null,null,null,null,null,null,0.85206173550624287]
[21,11,null,null,null,null,null,null,0.36333426137516101]
[25,11,null,null,null,null,null,null,0.10228121514093513]
[29,11,null,null,null,null,null,null,0.19161856426683876]
[33,11,null,null,null,null,null,null,0.90645804061113211]
[37,11,null,null,null,null,null,null,0.41358486253011695]
[41,11,null,null,null,null,null,null,0.96028405949778717]
[45,11,null,null,null,null,null,null,0.39994161800860273]
[49,11,null,null,null,null,null,null,1.9269830190398074E-2]
[53,11,null,null,null,null,null,null,0.37358436014983998]
[57,11,null,null,null,null,null,null,0.78403748165596221]
[61,11,null,null,null,null,null,null,0.91319648953288124]
[65,11,null,null,null,null,null,null,0.60746088427233824]
[69,11,null,null,null,null,null,null,0.18728481829277599]
[73,11,null,null,null,null,null,null,0.97589947518597575]
[77,11,null,null,null,null,null,null,0.11434742424191602]
[81,11,null,null,null,null,null,null,0.19620471274260687]
[85,11,null,null,null,null,null,null,0.37876072912027803]
[89,11,null,null,null,null,null,null,0.60465814403842943]
[93,11,null,null,null,null,null,null,0.1126208338186454]
[97,11,null,null,null,null,null,null,0.67326714522457576]
[101,11,null,null,null,null,null,null,0.68171434345376491]
[105,11,null,null,null,null,null,null,0.60515595035754155]
[109,11,null,null,null,null,null,null,0.78160826856098076]
[113,11,null,null,null,null,null,null,0.23142345126903818]
[117,11,null,null,null,null,null,null,0.47349881627306567]
[121,null,null,null,null,null,null,null,0.71367192471609187]
[125,null,null,null,null,null,null,null,0.62673573819333339]
[129,null,null,null,null,null,null,null,0.16253307747632262]
[133,null,null,null,null,null,null,null,0.43674477931425937]
[137,null,null,null,null,null,null,null,0.22384240457823423]
[141,null,null,null,null,null,null,null,0.68279908716323057]
[145,null,null,null,null,null,null,null,0.39240613804187729]
[149,null,null,null,null,null,null,null,0.91123308599611175]
[153,null,null,null,null,null,null,null,0.93149400462358445]
[157,null,null,null,null,null,null,null,0.32342598937115297]
[161,null,null,null,null,null,null,null,0.69268769639526817]
[165,null,null,null,null,null,null,null,0.89187142974174116]
[{"$f":"A50+4","v":169},null,null,null,null,null,null,null,5.8233292898051681E-2]
[173,null,null,null,null,null,null,null,0.6504799981270909]
[177,null,null,null,null,null,null,null,0.33472649468793358]
[181,null,null,null,null,null,null,null,0.46684586845175235]
[185,null,null,null,null,null,null,null,0.79314445417284363]
[189,null,null,null,null,null,null,null,0.5465489996985774]
[193,null,null,null,null,null,null,null,0.34677198766931205]
[197,null,null,null,null,null,null,null,0.34909557195805674]

{"sheet":"Gruppe (2)","index":6,"n_rows":58,"n_cols":9,"rows_kept":58,"cut":false,"hidden":false,"merged":[[4,0,4,2],[2,3,2,8],[3,5,5,7]]}
["Deutscher Skatverband e.V."]
[]
["Landesverband:",null,{"$f":"'Gruppe (1)'!C3","v":"04  NRW"},"Gemeldete Teilnehmer hier erst nach Zufallszahl \"mischen!\""]
[null,null,null,null,null,"Einzel = 1, Tandem und Mixed fortlaufende Nummern 1, 2, 3, ... !"]
["Teilnehmermeldung zum ",null,null,{"$f":"'Gruppe (1)'!D5","v":"Veranstaltung"}]
[]
["lfd.","VG","Name, Vorname","Verein","H","Einzel","Tandem","Mixed"]
["Nr.","40/41/48",null,null,"D"]
[2,null,null,null,null,null,null,null,{"$f":"RAND()","v":0.69576587625332054}]
[{"$f":"A9+4","v":6},null,null,null,null,null,null,null,0.82630908115167101]
[{"$f":"A10+4","v":10},null,null,null,null,null,null,null,0.69722339459463312]
[14,null,null,null,null,null,null,null,0.65574847007622739]
[18,null,null,null,null,null,null,null,0.5063880978569516]
[22,null,null,null,null,null,null,null,0.87840070404100834]
[26,null,null,null,null,null,null,null,0.63047078661712519]
[30,null,null,null,null,null,null,null,0.12799321433962207]
[34,null,null,null,null,null,null,null,0.61959363370062881]
[38,null,null,null,null,null,null,null,{"$f":"RAND()","v":0.76944443131411988}]
[42,null,null,null,null,null,null,null,0.15007170605337428]
[46,null,null,null,null,null,null,null,0.30871516736171556]
[50,null,null,null,null,null,null,null,0.35875979358004995]
[54,null,null,null,null,null,null,null,0.81783792006085809]
[58,null,null,null,null,null,null,null,0.48482713045527304]
[62,null,null,null,null,null,null,null,0.48192476027606901]
[66,null,null,null,null,null,null,null,0.82914553293295046]
[70,null,null,null,null,null,null,null,0.24088481188400446]
[74,null,null,null,null,null,null,null,0.2703232794868824]
[78,null,null,null,null,null,null,null,4.7701086070910503E-2]
[82,null,null,null,null,null,null,null,0.9132724459966326]
[86,null,null,null,null,null,null,null,9.9996984900607155E-2]
[90,null,null,null,null,null,null,null,0.57716648359764233]
[94,null,null,null,null,null,null,null,0.38376537238635533]
[98,null,null,null,null,null,null,null,0.23535157702627296]
[102,null,null,null,null,null,null,null,0.49255984627672444]
[106,null,null,null,null,null,null,null,0.97250051766211043]
[110,null,null,null,null,null,null,null,0.10106208374101644]
[114,null,null,null,null,null,null,null,0.81386243199918507]
[118,null,null,null,null,null,null,null,5.3851947718127513E-2]
[122,null,null,null,null,null,null,null,0.19183909080554029]
[126,null,null,null,null,null,null,null,0.54739141149352555]
[130,null,null,null,null,null,null,null,{"$f":"RAND()","v":0.45720795527697911}]
[134,null,null,null,null,null,null,null,0.55249312925389638]
[138,null,null,null,null,null,null,null,0.19723576684948751]
[142,null,null,null,null,null,null,null,0.23560856390407225]
[146,null,null,null,null,null,null,null,0.55257346733532198]
[150,null,null,null,null,null,null,null,0.71240272681037409]
[154,null,null,null,null,null,null,null,0.11879942500143104]
[158,null,null,null,null,null,null,null,0.72165615195936772]
[162,null,null,null,null,null,null,null,0.5563949508430448]
[166,null,null,null,null,null,null,null,0.5891592199125546]
[170,null,null,null,null,null,null,null,0.49785803937939244]
[174,null,null,null,null,null,null,null,0.5837189550433437]
[178,null,null,null,null,null,null,null,0.74412096957567264]
[182,null,null,null,null,null,null,null,9.4947762034365946E-2]
[186,null,null,null,null,null,null,null,0.73537672230975004]
[190,null,null,null,null,null,null,null,0.52128225958514718]
[194,null,null,null,null,null,null,null,0.95579309874359331]
[198,null,null,null,null,null,null,null,0.4537451731858132]

{"sheet":"Gruppe (3)","index":7,"n_rows":58,"n_cols":9,"rows_kept":58,"cut":false,"hidden":false,"merged":[[4,0,4,2],[2,3,2,8],[3,5,5,7]]}
["Deutscher Skatverband e.V."]
[]
["Landesverband:",null,{"$f":"'Gruppe (1)'!C3","v":"04  NRW"},"Gemeldete Teilnehmer hier erst nach Zufallszahl \"mischen!\""]
[null,null,null,null,null,"Einzel = 1, Tandem und Mixed fortlaufende Nummern 1, 2, 3, ... !"]
["Teilnehmermeldung zum ",null,null,{"$f":"'Gruppe (1)'!D5","v":"Veranstaltung"}]
[]
["lfd.","VG","Name, Vorname","Verein","H","Einzel","Tandem","Mixed"]
["Nr.","42/43/44",null,null,"D"]
[3,null,null,null,null,null,null,null,{"$f":"RAND()","v":0.87661445575341046}]
[{"$f":"A9+4","v":7},null,null,null,null,null,null,null,0.88932285357962804]
[{"$f":"A10+4","v":11},null,null,null,null,null,null,null,0.29986433234565657]
[15,null,null,null,null,null,null,null,0.46481446487171596]
[19,null,null,null,null,null,null,null,0.5194427464746193]
[23,null,null,null,null,null,null,null,8.003326431270541E-2]
[27,null,null,null,null,null,null,null,0.53161860497455193]
[31,null,null,null,null,null,null,null,{"$f":"RAND()","v":0.93310763963034693}]
[35,null,null,null,null,null,null,null,6.1071298616260261E-2]
[39,null,null,null,null,null,null,null,0.90389414921153033]
[43,null,null,null,null,null,null,null,0.35894545391536758]
[47,null,null,null,null,null,null,null,0.73862677852427383]
[51,null,null,null,null,null,null,null,0.84982283845726425]
[55,null,null,null,null,null,null,null,0.22940376740922841]
[59,null,null,null,null,null,null,null,{"$f":"RAND()","v":0.59252999216872515}]
[63,null,null,null,null,null,null,null,{"$f":"RAND()","v":0.72190979478567474}]
[67,null,null,null,null,null,null,null,0.30869175311271013]
[71,null,null,null,null,null,null,null,{"$f":"RAND()","v":0.79704935851106962}]
[75,null,null,null,null,null,null,null,0.32570585747502778]
[79,null,null,null,null,null,null,null,{"$f":"RAND()","v":0.29355125823045225}]
[83,null,null,null,null,null,null,null,{"$f":"RAND()","v":6.9788673749503927E-2}]
[87,null,null,null,null,null,null,null,{"$f":"RAND()","v":0.8735837579171325}]
[91,null,null,null,null,null,null,null,0.14055881796340497]
[95,null,null,null,null,null,null,null,0.74095127967717833]
[99,null,null,null,null,null,null,null,0.51779346319847963]
[103,null,null,null,null,null,null,null,0.89943703904687133]
[107,null,null,null,null,null,null,null,0.41881445160381381]
[111,null,null,null,null,null,null,null,0.17125865488764935]
[115,null,null,null,null,null,null,null,0.11600396899651078]
[119,null,null,null,null,null,null,null,0.20627139997867161]
[123,null,null,null,null,null,null,null,0.87528632819600027]
[127,null,null,null,null,null,null,null,0.45997296812283439]
[131,null,null,null,null,null,null,null,0.83831204884203869]
[135,null,null,null,null,null,null,null,0.21672937143529614]
[139,null,null,null,null,null,null,null,0.29177894782504266]
[143,null,null,null,null,null,null,null,0.71541499664302211]
[147,null,null,null,null,null,null,null,{"$f":"RAND()","v":0.76193550741376215}]
[151,null,null,null,null,null,null,null,0.42663909014106405]
[155,null,null,null,null,null,null,null,0.86107224113489944]
[159,null,null,null,null,null,null,null,0.87136626863254796]
[163,null,null,null,null,null,null,null,0.65627720587906591]
[167,null,null,null,null,null,null,null,0.47924994116701602]
[171,null,null,null,null,null,null,null,0.74656609177253452]
[175,null,null,null,null,null,null,null,0.69810692964242138]
[179,null,null,null,null,null,null,null,0.49266105171021257]
[183,null,null,null,null,null,null,null,0.4348893782373231]
[187,null,null,null,null,null,null,null,0.65729999157030339]
[191,null,null,null,null,null,null,null,0.74467429984413047]
[195,null,null,null,null,null,null,null,0.82099324766378345]
[199,null,null,null,null,null,null,null,0.6149322415527525]

{"sheet":"Gruppe (4)","index":8,"n_rows":58,"n_cols":9,"rows_kept":58,"cut":false,"hidden":false,"merged":[[4,0,4,2],[2,3,2,8],[3,5,5,7]]}
["Deutscher Skatverband e.V."]
[]
["Landesverband:",null,{"$f":"'Gruppe (1)'!C3","v":"04  NRW"},"Gemeldete Teilnehmer hier erst nach Zufallszahl \"mischen!\""]
[null,null,null,null,null,"Einzel = 1, Tandem und Mixed fortlaufende Nummern 1, 2, 3, ... !"]
["Teilnehmermeldung zum ",null,null,{"$f":"'Gruppe (1)'!D5","v":"Veranstaltung"}]
[]
["lfd.","VG","Name, Vorname","Verein","H","Einzel","Tandem","Mixed"]
["Nr.","45/47/49",null,null,"D"]
[4,null,null,null,null,null,null,null,{"$f":"RAND()","v":0.8005691541333112}]
[{"$f":"A9+4","v":8},null,null,null,null,null,null,null,0.82441937164046719]
[{"$f":"A10+4","v":12},null,null,null,null,null,null,null,0.20900987578250763]
[16,null,null,null,null,null,null,null,0.48866702872612267]
[20,null,null,null,null,null,null,null,0.12653336824276651]
[24,null,null,null,null,null,null,null,0.49701242374634924]
[28,null,null,null,null,null,null,null,0.9290405353177591]
[32,null,null,null,null,null,null,null,0.19895697975786086]
[36,null,null,null,null,null,null,null,0.46219657883148091]
[40,null,null,null,null,null,null,null,0.60141976801810626]
[44,null,null,null,null,null,null,null,0.54648981478284619]
[48,null,null,null,null,null,null,null,0.12494722911796097]
[52,null,null,null,null,null,null,null,0.24642350250395717]
[56,null,null,null,null,null,null,null,0.25390079869176196]
[60,null,null,null,null,null,null,null,9.7146298812827991E-3]
[64,null,null,null,null,null,null,null,0.7977700462053513]
[68,null,null,null,null,null,null,null,0.91527702248687182]
[72,null,null,null,null,null,null,null,8.1781960067631165E-2]
[76,null,null,null,null,null,null,null,0.75979967485565825]
[80,null,null,null,null,null,null,null,0.50094949504773223]
[84,null,null,null,null,null,null,null,0.54387975112626308]
[88,null,null,null,null,null,null,null,0.91664367734057195]
[92,null,null,null,null,null,null,null,0.18896296369407195]
[96,null,null,null,null,null,null,null,0.26032138104454827]
[100,null,null,null,null,null,null,null,0.22033380906048494]
[104,null,null,null,null,null,null,null,0.37401763001469246]
[108,null,null,null,null,null,null,null,7.273632890240056E-2]
[112,null,null,null,null,null,null,null,0.99966505310917642]
[116,null,null,null,null,null,null,null,0.10572359550380661]
[120,null,null,null,null,null,null,null,6.5327598751773297E-2]
[124,null,null,null,null,null,null,null,0.6006026083812146]
[128,null,null,null,null,null,null,null,0.51064232340365523]
[132,null,null,null,null,null,null,null,2.0587230200044937E-2]
[136,null,null,null,null,null,null,null,0.86349827225760956]
[140,null,null,null,null,null,null,null,0.83004109151019922]
[144,null,null,null,null,null,null,null,{"$f":"RAND()","v":0.72635335298376302}]
[148,null,null,null,null,null,null,null,0.94154994746451992]
[152,null,null,null,null,null,null,null,0.1777117526508617]
[156,null,null,null,null,null,null,null,0.18049977222108082]
[160,null,null,null,null,null,null,null,0.47325017143327031]
[164,null,null,null,null,null,null,null,6.7413875886446761E-2]
[168,null,null,null,null,null,null,null,0.39878330687148245]
[172,null,null,null,null,null,null,null,0.43521874226006974]
[176,null,null,null,null,null,null,null,0.20751553698566394]
[180,null,null,null,null,null,null,null,0.6329957206699538]
[184,null,null,null,null,null,null,null,0.83566362452328036]
[188,null,null,null,null,null,null,null,0.35759444319828471]
[192,null,null,null,null,null,null,null,0.86565575063719635]
[196,null,null,null,null,null,null,null,0.5224615527021671]
[200,null,null,null,null,null,null,null,0.70850242118828666]